{"text_format":"3","workbook":"xlsx","n_sheets":7,"sheets":["健診ｺｰｽ (ﾄﾞｯｸ)","2018変更案内　","spreedResult.","torikomi","Course","PD","CD"],"not_rendered":{"macros":1,"external_links":5,"defined_names":30},"read":"whole","date_system":"1900"}

{"sheet":"健診ｺｰｽ (ﾄﾞｯｸ)","index":0,"n_rows":97,"n_cols":11,"rows_kept":97,"hidden":true,"merged":[[3,0,3,2],[4,0,4,2],[5,0,6,0],[5,1,5,2],[6,1,6,2],[7,0,11,0],[7,1,7,2],[7,10,10,10],[8,1,8,2],[9,1,9,2],[10,1,10,2],[11,1,11,2],[12,1,12,2],[13,0,16,0],[13,1,13,2],[14,1,14,2],[15,1,15,2],[15,10,16,10],[16,1,16,2],[17,1,17,2],[18,0,23,0],[18,1,18,2],[19,1,19,2],[19,10,21,10],[20,1,20,2],[21,1,21,2],[22,1,22,2],[22,10,23,10],[23,1,23,2],[24,0,58,0],[24,1,24,2],[24,10,27,10],[25,1,25,2],[26,1,26,2],[27,1,27,2],[28,1,28,2],[28,10,30,10],[29,1,29,2],[30,1,30,2],[31,1,31,2],[31,10,33,10],[32,1,32,2],[33,1,33,2],[34,1,34,2],[35,1,35,2],[36,1,36,2],[37,1,37,2],[38,1,38,2],[38,10,41,10],[39,1,39,2],[40,1,40,2],[41,1,41,2],[42,1,42,2],[42,10,43,10],[43,1,43,2],[44,1,44,2],[44,10,45,10],[45,1,45,2],[46,1,46,2],[47,1,47,2],[48,1,48,2],[48,10,49,10],[49,1,49,2],[50,1,50,2],[51,1,51,2],[52,1,52,2],[52,10,54,10],[53,1,53,2],[54,1,54,2],[55,1,55,2],[56,1,56,2],[57,1,57,2],[58,1,58,2],[60,0,61,0],[60,1,60,2],[61,1,61,2],[63,1,63,2],[64,1,64,2],[65,1,65,2],[66,0,68,0],[66,1,66,2],[67,1,67,2],[68,1,68,2],[69,1,69,2],[70,1,70,2],[71,1,71,2],[72,0,73,0],[72,1,72,2],[72,10,73,10],[73,1,73,2],[74,1,74,2],[75,1,75,2],[76,1,76,2],[77,0,78,0],[77,1,77,2],[77,10,78,10],[78,1,78,2],[82,0,82,2],[83,1,83,2],[84,1,84,2],[85,0,86,0],[85,1,85,2],[86,1,86,2],[87,0,88,0],[87,1,87,2],[88,1,88,2],[90,0,90,2],[91,1,91,2],[92,1,92,2],[93,0,94,0],[93,1,93,2],[94,1,94,2],[95,0,96,0],[95,1,95,2],[96,1,96,2]]}
["別紙"]
["　　2018年度　人間ドック　項目一覧表"]
[{"$nulls":3},"新コース",null,"旧コース"]
["検　　査　　項　　目",null,null,"vﾄﾞｯｸ(新)\n人間ﾄﾞｯｸ学会指定項目準拠ｺｰｽ　+　追加検査項目","人間ﾄﾞｯｸ(学会指定ｺｰｽ)\n人間ﾄﾞｯｸ学会指定項目準拠ｺｰｽ","vﾄﾞｯｸ","Sﾄﾞｯｸ","Aﾄﾞｯｸ","Bﾄﾞｯｸ","ﾚﾃﾞｨｰｽﾄﾞｯｸ","病気との関係"]
["健　　診　　料　　金(税込）",null,null,{"v":77760,"d":"77,760"},{"v":39960,"d":"39,960"},{"v":83160,"d":"83,160"},{"v":47520,"d":"47,520"},{"v":35640,"d":"35,640"},{"v":29160,"d":"29,160"},{"v":47520,"d":"47,520"}]
["問診","既往歴の調査、自覚症状の調査、問診",null,"○","○","○","○","○","○","○"]
[null,"理学的所見（診察）",null,"○","○","○","○","○","○","○"]
["身体測定","身長",null,"○","○","○","○","○","○","○","肥満度(肥満・やせ）"]
[null,"体重",null,"○","○","○","○","○","○","○"]
[null,"肥満度（ＢＭＩ）",null,"○","○","○","○","○","○","○"]
[null,"腹囲",null,"○","○","○","○","○","○","○"]
[null,"視力検査（５ｍ視力）遠視力",null,"○","○","○","○","○","○","○","視力"]
["血圧測定","血圧測定（座位）",null,"○","○","○","○","○","○","○","高血圧、低血圧"]
["尿　検　査","蛋白",null,"○","○","○","○","○","○","○","腎臓病（腎炎、ネフローゼなど）、尿路系疾患"]
[null,"糖",null,"○","○","○","○","○","○","○","糖尿病"]
[null,"潜血",null,"○","○","○","○","○","○","○","腎臓病、尿路系の疾患"]
[null,"沈渣　(PH含む)",null,"●","●"]
["便潜血反応検査","ヒトヘモグロビン潜血反応２回法",null,"○","○","○","○","○","○","○","消化管出血、大腸ポリープ、大腸ガンなど"]
["血液学的検査","白血球数",null,"○","○","○","○","○","○","○","炎症、白血病など血液系の疾患、感染症など"]
[null,"赤血球数",null,"○","○","○","○","○","○","○","貧血など"]
[null,"ヘマトクリット",null,"○","○","○","○","○","○","○"]
[null,"ヘモグロビン",null,"○","○","○","○","○","○","○"]
[null,"血小板数",null,"○","○","○","○","○","○","○","血液系の疾患"]
[null,"血液像"]
["生化学検査","ＧＯＴ",null,"○","○","○","○","○","○","○","肝機能障害（肝炎・脂肪肝・肝硬変）など"]
[null,"ＧＰＴ",null,"○","○","○","○","○","○","○"]
[null,"γーＧＴＰ",null,"○","○","○","○","○","○","○"]
[null,"コリンエステラーゼ",null,"○",null,"○","○","○"]
[null,"ＴＰ（総蛋白）",null,"○","○","○","○","○","○",null,"栄養状態、肝機能障害など"]
[null,"Ａ／Ｇ比",null,"○",null,"○","○","○"]
[null,"アルブミン",null,"○","○","○","○","○","○","○"]
[null,"ＡＬ-Ｐ",null,"○","○","○","○","○",null,null,"肝、胆道系疾患"]
[null,"ＬＡＰ",null,"○",null,"○","○","○"]
[null,"総ビリルビン",null,"○","○","○","○","○","○"]
[null,"ＬＤＨ",null,"○",null,"○","○","○",null,null,"肝疾患、悪性腫瘍、心疾患など"]
[null,"ＨＢｓ抗原",null,"○","○","○","○","○","○","○","ウィルス性Ｂ型肝炎"]
[null,"ＨＢｓ抗体",null,"○",null,"○",{"$nulls":4},"ウィルス性Ｂ型肝炎抗体"]
[null,"ＨＣＶ抗体",null,"○",null,"○","○","○","○","○","ウィルス性Ｃ型肝炎"]
[null,"総コレステロール",null,"○","○","○","○","○","○","○","脂質異常症"]
[null,"中性脂肪",null,"○","○","○","○","○","○","○"]
[null,"ＨＤＬ-Ｃ",null,"○","○","○","○","○","○","○"]
[null,"ＬＤＬ-Ｃ",null,"○","○","○","○","○","○","○"]
[null,"空腹時血糖",null,"○","○","○","○","○","○","○","糖尿病"]
[null,"ＨｂＡ１ｃ",null,"○","○","○","○","○","○","○"]
[null,"ＢＵＮ（尿素窒素）",null,"○",null,"○","○","○",null,null,"腎機能障害"]
[null,"Ｃｒｅ（クレアチニン）eGFR",null,"○","○","○","○","○","○","○"]
[null,"尿酸",null,"○","○","○","○","○","○","○","高尿酸血症（痛風）・腎機能障害"]
[null,"アミラーゼ",null,"○",null,"○","○","○","○",null,"膵炎など"]
[null,"ＣＲＰ",null,"○","○","○","○","○",null,null,"リウマチ・炎症"]
[null,"ＲＡ",null,"○",null,"○","○","○"]
[null,"Ｃａ（カルシウム）",null,"○",null,"○","○",{"$nulls":3},"副甲状腺機能障害"]
[null,"ＩＰ（無機リン）",null,"○",null,"○","○",{"$nulls":3},"副甲状腺機能障害・腎機能障害"]
[null,"Ｆｅ（血清鉄）",null,"○",null,"○","○",{"$nulls":3},"貧血"]
[null,"ＴＩＢＣ（総鉄結合能）",null,"○",null,"○","○"]
[null,"ＵＩＢＣ（不飽和鉄結合能）",null,"○",null,"○","○"]
[null,"ＡＦＰ",null,"○",null,"○",{"$nulls":4},"腫瘍ﾏｰｶｰ（消化器系、肺がんなどに対し、"]
[null,"ＣＥＡ",null,"○",null,"○",{"$nulls":4},"その他検査とあわせて判断に役立つ）"]
[null,"ＰＳＡ　　　　　　男性のみ",{"$nulls":3},"○",{"$nulls":4},"前立腺肥大など"]
[null,"ＴＳＨ Ｆ-Ｔ3　Ｆ-Ｔ４",null,"○",null,"○",{"$nulls":4},"甲状腺の疾患"]
[null,"血液型",null,"●","●",{"$nulls":5},"血液型検査"]
["心電図","心電図安静",null,"○","○","○","○","○","○","○","狭心症、心筋梗塞、心肥大など心臓の疾患"]
[null,"心エコー",null,"○",null,"○",{"$nulls":4},"心筋症、心肥大、弁膜症など心臓の疾患"]
[null,"心拍数",null,"●","●"]
["胸部Ｘ線検査","直接撮影",null,"●2方向","●2方向","○","○","○","○","○","肺結核、肺がん、じん肺など呼吸器系の疾患と心肥大"]
["胃部Ｘ線検査","直接撮影10枚　*",null,"○","○","○","○","○","○","○","胃がん、胃潰瘍、十二指腸潰瘍"]
["超音波検査","腹部超音波　５臓器",null,"○","○","○","○","○","○","○","胆のう、肝臓、腎臓などの疾患（胆石、胆のう炎、肝硬変、腎結石など）"]
["ＣＴスキャン","頭部ＣＴ",null,"○",null,"○",{"$nulls":4},"脳梗塞、脳腫瘍など"]
[null,"腹部ＣＴ",null,"○",null,"○",{"$nulls":4},"肝臓、腎臓・胆のう・膵臓などの疾患"]
[null,"内臓脂肪面積",null,"○",null,"○",{"$nulls":4},"内臓脂肪の状態"]
["眼底検査","眼底写真（無散瞳/無接触/両眼）",null,"○","○","○","○","○","○","○","動脈硬化、高血圧、白内障、網膜はくりなど"]
["眼圧検査","眼圧検査（無散瞳/無接触/両眼）",null,"○","○","○","○","○","○","○","緑内障など"]
["肺機能検査","呼吸機能検査(ｽﾊﾟｲﾛﾒｰﾀ）",null,"○","●","○","○",{"$nulls":3},"ぜんそく、肺気腫、慢性気管支炎、じん肺など呼吸器系疾患"]
["聴　力　検　査","オージオメータ　1000Hz　4000Hz",null,"○","○","○","○","○","○","○","聴力障害"]
[null,"会　話　法"]
["喀痰検査","細胞診（蓄痰式）",null,"○",null,"○",{"$nulls":4},"肺がん"]
["骨密度検査","骨Ｘ線",null,"○",null,"○",{"$nulls":3},"○","骨粗鬆症"]
["子宮がん","子宮頸がん（細胞診）女性のみ",{"$nulls":3},"○",{"$nulls":3},"○","子宮がん"]
["乳がん","乳腺エコー　　　女性のみ　40歳未満",{"$nulls":3},"○",{"$nulls":3},"○","乳がんは 年令により乳腺エコーかマンモグラフィのどちらかの検査になります。\n"]
[null,"ﾏﾝﾓｸﾞﾗﾌｨ２方向　女性のみ　40歳以上",{"$nulls":3},"○",{"$nulls":3},"○"]
[null,"*胃部検査はバリウムから胃カメラに変更可能です。※差額2,160円(税込)が発生致します"]
[]
["オプション検査"]
["検　　査　　項　　目",null,null,"料金(税込)"]
["前立腺がん","ＰＳＡ　　　　　　男性のみ",null,{"v":3240,"d":"3,240"}]
["子宮がん","子宮頸がん（細胞診）女性のみ",null,{"v":5400,"d":"5,400"}]
["乳がん","乳腺エコー　　　女性のみ",null,{"v":3240,"d":"3,240"}]
[null,"ﾏﾝﾓｸﾞﾗﾌｨ２方向　女性のみ",null,{"v":6480,"d":"6,480"}]
["子宮がん＋乳がん","ﾚﾃﾞｨｰｽｾｯﾄﾌﾟﾗﾝ (乳腺ｴｺｰ)　女性のみ\n　乳腺ｴｺｰ+子宮がん+CA125(卵巣がん腫瘍ﾏｰｶｰ)",null,{"v":8640,"d":"8,640"}]
[null,"ﾏﾝﾓｸﾞﾗﾌｨ2方向（ﾏﾝﾓｸﾞﾗﾌｨ） 女性のみ\n　ﾏﾝﾓｸﾞﾗﾌｨ+子宮がん+CA125(卵巣がん腫瘍ﾏｰｶｰ)",null,{"v":11880,"d":"11,880"}]
["オプション検査"]
["検　　査　　項　　目",null,null,"料金(税込)"]
["前立腺がん","ＰＳＡ　　　　　　男性のみ",null,{"v":3240,"d":"3,240"}]
["子宮がん","子宮頸がん（細胞診）女性のみ",null,{"v":5400,"d":"5,400"}]
["乳がん","乳腺エコー　　　女性のみ",null,{"v":3240,"d":"3,240"}]
[null,"ﾏﾝﾓｸﾞﾗﾌｨ２方向　女性のみ",null,{"v":6480,"d":"6,480"}]
["子宮がん＋乳がん","ﾚﾃﾞｨｰｽｾｯﾄﾌﾟﾗﾝ (乳腺ｴｺｰ)　女性のみ\n　乳腺ｴｺｰ+子宮がん+CA125(卵巣がん腫瘍ﾏｰｶｰ)",null,{"v":8640,"d":"8,640"}]
[null,"ﾏﾝﾓｸﾞﾗﾌｨ2方向（ﾏﾝﾓｸﾞﾗﾌｨ） 女性のみ\n　ﾏﾝﾓｸﾞﾗﾌｨ+子宮がん+CA125(卵巣がん腫瘍ﾏｰｶｰ)",null,{"v":11880,"d":"11,880"}]

{"sheet":"2018変更案内　","index":1,"n_rows":52,"n_cols":7,"rows_kept":52,"hidden":true,"merged":[[0,6,0,8]]}
[{"$nulls":6},"2018-03-01"]
[]
[]
["健診ご担当者　様"]
{"$rows_empty":8}
[null,"　　　　　　　人間ドックのコース内容の変更について"]
{"$rows_empty":7}
[null,"  拝啓、毎々格別のご高配に預かり厚くお礼申し上げます。"]
[]
[null,"  平素は私ども芝健診ｾﾝﾀｰをご利用頂き誠にありがとうございます。さて、新年度を迎えるにあたりまして、"]
[null,"表記の件でご報告がございます。"]
[]
[null,"  この度、当センターの人間ドックにつきまして、検査項目の有用性と選択の簡便性の向上を目的として"]
[null,"コース内容の見直しを実施し、平成30年4月より新コース（5コースから2コース）に変更させて頂くこととなり"]
[null,"ました。誠に恐縮ではございますが、コース変更に伴い人間ドックの料金につきましても"]
[null,"一部改定させて頂きたく存じます。詳細につきましては別紙をご確認ください。"]
[]
[null,"  なお、変更後のコースにつきましては、公益社団法人日本人間ドック学会が定める指定項目を網羅"]
[null,"しております。"]
[]
[null,"  今後も役職員が一丸となり、更なる精度の向上、満足度の向上に努めてまいりますので、ご理解を"]
[null,"お願いしますと共に、引き続きご愛顧を賜りますようお願い申し上げます。"]
[]
[]
[]
[]
[{"$nulls":6},"敬具"]
[]
[]
[{"$nulls":6},"医療法人財団 南葛勤医協"]
[{"$nulls":6}," 芝健診センタ－"]
[{"$nulls":6},"  所長　林　幸子"]
[]
[{"$nulls":6},"〒105-0004 "]
[{"$nulls":6},"東京都港区新橋6-19-21"]
[]
[{"$nulls":6},"TEL 03(3431)7491"]
[{"$nulls":6},"FAX 03(5776)1631"]
[{"$nulls":6},"MAIL yoyaku@shiba-kenshin.jp"]

{"sheet":"spreedResult.","index":2,"n_rows":238,"n_cols":60,"rows_kept":238,"merged":[[1,2,1,6],[2,2,2,6],[3,2,3,6],[3,8,3,11],[4,2,4,6],[5,2,5,6],[6,2,6,6],[7,2,7,6],[7,8,7,11],[8,2,8,6],[9,2,9,6]]}
["お申込み用紙",null,"作成日",null,null,{"$f":"LastSaveTime()","v":"2021-03-05T10:55:31"},{"$nulls":10},"注意事項：",{"$nulls":29},"時間コード",null,"PD","CD",null,null,"有機溶剤健診",{"$nulls":5},"コース名称","コース"]
[null,"事業所様名 ",{"$nulls":14},"妊娠中の方（妊娠している可能性のある方も含む）は、安全性を考慮し、ご受診をお控え頂いております",{"$nulls":29},"08:00:00",11,{"$nulls":4},"特定化学物質検査",{"$nulls":5},"法令健診","09580"]
[null,"ご住所    　〒",{"$nulls":6},"お支払方法",{"$nulls":7},"健診当日に生理中の方の子宮頚がん検査は、中止か後日受診となります",{"$nulls":29},"08:30:00",12,null,"性別",null,null,"じん肺健診",{"$nulls":5},"入社健診(08)","09603"]
[{"$nulls":16},"外国語対応は一切行っておりません。通訳が必要となる際は、通訳者の同伴をお願い致します",{"$nulls":29},"09:00:00",13,null,"男",1,null,"石綿健診",{"$nulls":5},"生活習慣病(胃直接)","09616"]
[{"$nulls":16},"健診当日の高血圧・糖尿病等の常用薬の服用については主治医にご相談ください",{"$nulls":29},"09:30:00",14,null,"女",2,null,"高気圧業務健診",{"$nulls":5},"生活習慣病(胃なし)","09609"]
[null,"ご担当者     ",{"$nulls":14},"事前に送付させて頂く問診票の注意事項（食事の制限など）を厳守してください",{"$nulls":29},"10:00:00",15,{"$nulls":4},"電離放射健診",{"$nulls":5},"協会一般","09615"]
[null,"お電話番号  ",{"$nulls":6},"問診票/結果/請求書送付先",{"$nulls":7},"　　　　　（厳守頂けない場合、健診の一部を中止することがございます）",{"$nulls":29},"10:30:00",16,{"$nulls":4},"情報機器",{"$nulls":5},"協会一般(胃ｶﾒﾗ)","09618"]
[null,"FAX番号 　　",{"$nulls":14},"結果の送付まで2-3週間程度頂いております",{"$nulls":29},"11:00:00",17,"左記ご住所に送付",{"$nulls":9},"協会一般(胃なし)","09653"]
[null,"保険証記号　",{"$nulls":14},"ご予約のキャンセル、ご予約日及び時間のご変更などは、必ず前日までにご連絡ください。",{"$nulls":29},"11:30:00",18,"その他：下記に記載",{"$nulls":3},"会社様ご請求",{"$nulls":5},"協会一般＋付加","09617"]
[null,"保険者番号　",{"$nulls":14},"　　　　　ご連絡いただけない場合にはｷｬﾝｾﾙ料が発生する場合がございます。",{"$nulls":29},"14:00:00",23,{"$nulls":4},"当日個々にお支払",{"$nulls":5},"協会一般＋付加(胃ｶﾒﾗ)","09655"]
[{"$nulls":16},"本確定書にない一切の特別対応は致しかねますので事前にご了承ください",{"$nulls":18},"→ご参考まで",{"$nulls":10},"14:30:00",24,{"$nulls":4},"基本ｺｰｽ分はご請求/ｵﾌﾟｼｮﾝ分のみ当日お支払",{"$nulls":5},"協会一般＋付加(胃なし)","09666"]
["No.","健診予定日","時間帯","個人ID",null,"ｾｲ","ﾒｲ","性","名",null,"性別","生年月日","保険証番号",null,"本年度お年齢(自動出力)","コース",null,"ご請求金額","備考1","備考2",null,"確定受診ｺｰｽ","確定ｵﾌﾟｼｮﾝ",{"$nulls":9},"ご請求金額","当日お支払金額",null,"昨年受診ｺｰｽ","ｵﾌﾟｼｮﾝ",{"$nulls":9},"15:00:00",25,{"$nulls":4},"その他：下記に記載"]
[null,"第一希望日",{"$nulls":13},"1.定期健診","2.職業病健診",null,"溶剤による追加検査(有機溶剤/特定化学物質 健診をご希望の場合)がある場合は、溶剤名もこちらにご記入下さい。",{"$nulls":27},"15:30:00",26]
[{"$f":"ROW(A14)-13","v":1},{"$nulls":8},{"$f":"H14&\"　\"&I14","v":"　"},{"$nulls":3},{"$f":"DATEDIF(L14,\"2022/4/1\",\"Y\")","v":122},{"$f":"IF(N14=122,\"\",N14)","v":""},{"$nulls":6},{"$f":"IF(ISERROR(VLOOKUP($J14,INDIRECT($AX$1&\"!$E$2:$AH$800\"),14,0)),\"\",VLOOKUP($J14,INDIRECT($AX$1&\"!$E$2:$AH$800\"),14,0))","v":""},{"$f":"IF(ISERROR(SUBSTITUTE(X14,0,\"\")),\"\",SUBSTITUTE(X14,0,\"\"))","v":"       "},{"$f":"IF(ISERROR(CONCATENATE(Y14,\" \",Z14,,\" \",AA14,,\" \",AB14,,\" \",AC14,,\" \",AD14,,\" \",AE14,,\" \",AF14)),\"\",CONCATENATE(Y14,\" \",Z14,,\" \",AA14,,\" \",AB14,,\" \",AC14,,\" \",AD14,,\" \",AE14,,\" \",AF14))","v":"       "},{"$f":"IF(ISERROR(VLOOKUP($J14,INDIRECT($AX$1&\"!$E$2:$AH$800\"),15,0)),\"\",VLOOKUP($J14,INDIRECT($AX$1&\"!$E$2:$AH$800\"),15,0))","v":""},{"$f":"IF(ISERROR(VLOOKUP($J14,INDIRECT($AX$1&\"!$E$2:$AH$800\"),16,0)),\"\",VLOOKUP($J14,INDIRECT($AX$1&\"!$E$2:$AH$800\"),16,0))","v":""},{"$f":"IF(ISERROR(VLOOKUP($J14,INDIRECT($AX$1&\"!$E$2:$AH$800\"),17,0)),\"\",VLOOKUP($J14,INDIRECT($AX$1&\"!$E$2:$AH$800\"),17,0))","v":""},{"$f":"IF(ISERROR(VLOOKUP($J14,INDIRECT($AX$1&\"!$E$2:$AH$800\"),18,0)),\"\",VLOOKUP($J14,INDIRECT($AX$1&\"!$E$2:$AH$800\"),18,0))","v":""},{"$f":"IF(ISERROR(VLOOKUP($J14,INDIRECT($AX$1&\"!$E$2:$AH$800\"),19,0)),\"\",VLOOKUP($J14,INDIRECT($AX$1&\"!$E$2:$AH$800\"),19,0))","v":""},{"$f":"IF(ISERROR(VLOOKUP($J14,INDIRECT($AX$1&\"!$E$2:$AH$800\"),20,0)),\"\",VLOOKUP($J14,INDIRECT($AX$1&\"!$E$2:$AH$800\"),20,0))","v":""},{"$f":"IF(ISERROR(VLOOKUP($J14,INDIRECT($AX$1&\"!$E$2:$AH$800\"),21,0)),\"\",VLOOKUP($J14,INDIRECT($AX$1&\"!$E$2:$AH$800\"),21,0))","v":""},{"$f":"IF(ISERROR(VLOOKUP($J14,INDIRECT($AX$1&\"!$E$2:$AH$800\"),22,0)),\"\",VLOOKUP($J14,INDIRECT($AX$1&\"!$E$2:$AH$800\"),22,0))","v":""},{"$f":"IF(ISERROR(VLOOKUP($J14,INDIRECT($AX$1&\"!$E$2:$AH$800\"),30,0)),\"\",VLOOKUP($J14,INDIRECT($AX$1&\"!$E$2:$AH$800\"),30,0))","v":""},{"$f":"IF(ISERROR(VLOOKUP($J14,INDIRECT($AX$1&\"!$E$2:$AH$800\"),29,0)),\"\",VLOOKUP($J14,INDIRECT($AX$1&\"!$E$2:$AH$800\"),29,0))","v":""},null,{"$f":"IF(ISERROR(VLOOKUP($J14,INDIRECT($AW$1&\"!$E$2:$AH$800\"),14,0)),\"\",VLOOKUP($J14,INDIRECT($AW$1&\"!$E$2:$AH$800\"),14,0))","v":""},{"$f":"IF(ISERROR(SUBSTITUTE(AL14,0,\"\")),\"\",SUBSTITUTE(AL14,0,\"\"))","v":"             "},{"$f":"IF(ISERROR(CONCATENATE(AM14,\" \",AN14,,\" \",AO14,,\" \",AP14,,\" \",AQ14,,\" \",AR14,,\" \",AS14,,\" \",AT14,\" \",AU14,\" \",AV14,\" \",AW14,\" \",AX14,\" \",AY14,\" \",BA14)),\"\",CONCATENATE(AM14,\" \",AN14,,\" \",AO14,,\" \",AP14,,\" \",AQ14,,\" \",AR14,,\" \",AS14,,\" \",AT14,\" \",AU14,\" \",AV14,\" \",AW14,\" \",AX14,\" \",AY14,\" \",BA14))","v":"             "},{"$f":"IF(ISERROR(VLOOKUP($J14,INDIRECT($AW$1&\"!$E$2:$AH$800\"),15,0)),\"\",VLOOKUP($J14,INDIRECT($AW$1&\"!$E$2:$AH$800\"),15,0))","v":""},{"$f":"IF(ISERROR(VLOOKUP($J14,INDIRECT($AW$1&\"!$E$2:$AH$800\"),16,0)),\"\",VLOOKUP($J14,INDIRECT($AW$1&\"!$E$2:$AH$800\"),16,0))","v":""},{"$f":"IF(ISERROR(VLOOKUP($J14,INDIRECT($AW$1&\"!$E$2:$AH$800\"),17,0)),\"\",VLOOKUP($J14,INDIRECT($AW$1&\"!$E$2:$AH$800\"),17,0))","v":""},{"$f":"IF(ISERROR(VLOOKUP($J14,INDIRECT($AW$1&\"!$E$2:$AH$800\"),18,0)),\"\",VLOOKUP($J14,INDIRECT($AW$1&\"!$E$2:$AH$800\"),18,0))","v":""},{"$f":"IF(ISERROR(VLOOKUP($J14,INDIRECT($AW$1&\"!$E$2:$AH$800\"),19,0)),\"\",VLOOKUP($J14,INDIRECT($AW$1&\"!$E$2:$AH$800\"),19,0))","v":""},{"$f":"IF(ISERROR(VLOOKUP($J14,INDIRECT($AW$1&\"!$E$2:$AH$800\"),20,0)),\"\",VLOOKUP($J14,INDIRECT($AW$1&\"!$E$2:$AH$800\"),20,0))","v":""},{"$f":"IF(ISERROR(VLOOKUP($J14,INDIRECT($AW$1&\"!$E$2:$AH$800\"),21,0)),\"\",VLOOKUP($J14,INDIRECT($AW$1&\"!$E$2:$AH$800\"),21,0))","v":""},{"$f":"IF(ISERROR(VLOOKUP($J14,INDIRECT($AW$1&\"!$E$2:$AH$800\"),22,0)),\"\",VLOOKUP($J14,INDIRECT($AW$1&\"!$E$2:$AH$800\"),22,0))","v":""},{"$f":"IF(ISERROR(VLOOKUP($J14,INDIRECT($AW$1&\"!$E$2:$AH$800\"),23,0)),\"\",VLOOKUP($J14,INDIRECT($AW$1&\"!$E$2:$AH$800\"),23,0))","v":""},{"$f":"IF(ISERROR(VLOOKUP($J14,INDIRECT($AW$1&\"!$E$2:$AH$800\"),24,0)),\"\",VLOOKUP($J14,INDIRECT($AW$1&\"!$E$2:$AH$800\"),24,0))","v":""},{"$f":"IF(ISERROR(VLOOKUP($J14,INDIRECT($AW$1&\"!$E$2:$AH$800\"),25,0)),\"\",VLOOKUP($J14,INDIRECT($AW$1&\"!$E$2:$AH$800\"),25,0))","v":""},{"$f":"IF(ISERROR(VLOOKUP($J14,INDIRECT($AW$1&\"!$E$2:$AH$800\"),26,0)),\"\",VLOOKUP($J14,INDIRECT($AW$1&\"!$E$2:$AH$800\"),26,0))","v":""},{"$f":"IF(ISERROR(VLOOKUP($J14,INDIRECT($AW$1&\"!$E$2:$AH$800\"),27,0)),\"\",VLOOKUP($J14,INDIRECT($AW$1&\"!$E$2:$AH$800\"),27,0))","v":""},null,{"$f":"IF(ISERROR(VLOOKUP($J14,INDIRECT($AW$1&\"!$E$2:$AH$800\"),28,0)),\"\",VLOOKUP($J14,INDIRECT($AW$1&\"!$E$2:$AH$800\"),28,0))","v":""}]
[{"$f":"ROW(A15)-13","v":2},{"$nulls":8},"　",{"$nulls":3},{"$f":"DATEDIF(L15,\"2022/4/1\",\"Y\")","v":122},{"$f":"IF(N15=122,\"\",N15)","v":""},{"$nulls":6},"",{"$f":"IF(ISERROR(SUBSTITUTE(X15,0,\"\")),\"\",SUBSTITUTE(X15,0,\"\"))","v":"       "},{"$f":"IF(ISERROR(CONCATENATE(Y15,\" \",Z15,,\" \",AA15,,\" \",AB15,,\" \",AC15,,\" \",AD15,,\" \",AE15,,\" \",AF15)),\"\",CONCATENATE(Y15,\" \",Z15,,\" \",AA15,,\" \",AB15,,\" \",AC15,,\" \",AD15,,\" \",AE15,,\" \",AF15))","v":"       "},"","","","","","","","","","",null,"",{"$f":"IF(ISERROR(SUBSTITUTE(AL15,0,\"\")),\"\",SUBSTITUTE(AL15,0,\"\"))","v":"             "},{"$f":"IF(ISERROR(CONCATENATE(AM15,\" \",AN15,,\" \",AO15,,\" \",AP15,,\" \",AQ15,,\" \",AR15,,\" \",AS15,,\" \",AT15,\" \",AU15,\" \",AV15,\" \",AW15,\" \",AX15,\" \",AY15,\" \",BA15)),\"\",CONCATENATE(AM15,\" \",AN15,,\" \",AO15,,\" \",AP15,,\" \",AQ15,,\" \",AR15,,\" \",AS15,,\" \",AT15,\" \",AU15,\" \",AV15,\" \",AW15,\" \",AX15,\" \",AY15,\" \",BA15))","v":"             "},"","","","","","","","","","","","","",null,""]
[3,{"$nulls":8},"　",{"$nulls":3},122,"",{"$nulls":6},"",{"$f":"IF(ISERROR(SUBSTITUTE(X16,0,\"\")),\"\",SUBSTITUTE(X16,0,\"\"))","v":"       "},{"$f":"IF(ISERROR(CONCATENATE(Y16,\" \",Z16,,\" \",AA16,,\" \",AB16,,\" \",AC16,,\" \",AD16,,\" \",AE16,,\" \",AF16)),\"\",CONCATENATE(Y16,\" \",Z16,,\" \",AA16,,\" \",AB16,,\" \",AC16,,\" \",AD16,,\" \",AE16,,\" \",AF16))","v":"       "},"","","","","","","","","","",null,"",{"$f":"IF(ISERROR(SUBSTITUTE(AL16,0,\"\")),\"\",SUBSTITUTE(AL16,0,\"\"))","v":"             "},{"$f":"IF(ISERROR(CONCATENATE(AM16,\" \",AN16,,\" \",AO16,,\" \",AP16,,\" \",AQ16,,\" \",AR16,,\" \",AS16,,\" \",AT16,\" \",AU16,\" \",AV16,\" \",AW16,\" \",AX16,\" \",AY16,\" \",BA16)),\"\",CONCATENATE(AM16,\" \",AN16,,\" \",AO16,,\" \",AP16,,\" \",AQ16,,\" \",AR16,,\" \",AS16,,\" \",AT16,\" \",AU16,\" \",AV16,\" \",AW16,\" \",AX16,\" \",AY16,\" \",BA16))","v":"             "},"","","","","","","","","","","","","",null,""]
[4,{"$nulls":8},"　",{"$nulls":3},122,"",{"$nulls":6},"","       ","       ","","","","","","","","","","",null,"","             ","             ","","","","","","","","","","","","","",null,""]
[5,{"$nulls":8},"　",{"$nulls":3},122,"",{"$nulls":6},"","       ","       ","","","","","","","","","","",null,"","             ","             ","","","","","","","","","","","","","",null,""]
[6,{"$nulls":8},"　",{"$nulls":3},122,"",{"$nulls":6},"","       ","       ","","","","","","","","","","",null,"","             ","             ","","","","","","","","","","","","","",null,""]
[7,{"$nulls":8},"　",{"$nulls":3},122,"",{"$nulls":6},"","       ","       ","","","","","","","","","","",null,"","             ","             ","","","","","","","","","","","","","",null,""]
[8,{"$nulls":8},"　",{"$nulls":3},122,"",{"$nulls":6},"","       ","       ","","","","","","","","","","",null,"","             ","             ","","","","","","","","","","","","","",null,""]
[9,{"$nulls":8},"　",{"$nulls":3},122,"",{"$nulls":6},"","       ","       ","","","","","","","","","","",null,"","             ","             ","","","","","","","","","","","","","",null,""]
[10,{"$nulls":8},"　",{"$nulls":3},122,"",{"$nulls":6},"","       ","       ","","","","","","","","","","",null,"","             ","             ","","","","","","","","","","","","","",null,""]
[11,{"$nulls":8},"　",{"$nulls":3},122,"",{"$nulls":6},"","       ","       ","","","","","","","","","","",null,"","             ","             ","","","","","","","","","","","","","",null,""]
[12,{"$nulls":8},"　",{"$nulls":3},122,"",{"$nulls":6},"","       ","       ","","","","","","","","","","",null,"","             ","             ","","","","","","","","","","","","","",null,""]
[13,{"$nulls":8},"　",{"$nulls":3},122,"",{"$nulls":6},"","       ","       ","","","","","","","","","","",null,"","             ","             ","","","","","","","","","","","","","",null,""]
[14,{"$nulls":8},"　",{"$nulls":3},122,"",{"$nulls":6},"","       ","       ","","","","","","","","","","",null,"","             ","             ","","","","","","","","","","","","","",null,""]
[15,{"$nulls":8},"　",{"$nulls":3},122,"",{"$nulls":6},"","       ","       ","","","","","","","","","","",null,"","             ","             ","","","","","","","","","","","","","",null,""]
[16,{"$nulls":8},"　",{"$nulls":3},122,"",{"$nulls":6},"","       ","       ","","","","","","","","","","",null,"","             ","             ","","","","","","","","","","","","","",null,""]
[17,{"$nulls":8},"　",{"$nulls":3},122,"",{"$nulls":6},"","       ","       ","","","","","","","","","","",null,"","             ","             ","","","","","","","","","","","","","",null,""]
[18,{"$nulls":8},"　",{"$nulls":3},122,"",{"$nulls":6},"","       ","       ","","","","","","","","","","",null,"","             ","             ","","","","","","","","","","","","","",null,""]
[19,{"$nulls":8},"　",{"$nulls":3},122,"",{"$nulls":6},"","       ","       ","","","","","","","","","","",null,"","             ","             ","","","","","","","","","","","","","",null,""]
[20,{"$nulls":8},"　",{"$nulls":3},122,"",{"$nulls":6},"","       ","       ","","","","","","","","","","",null,"","             ","             ","","","","","","","","","","","","","",null,""]
[21,{"$nulls":8},"　",{"$nulls":3},122,"",{"$nulls":6},"","       ","       ","","","","","","","","","","",null,"","             ","             ","","","","","","","","","","","","","",null,""]
[22,{"$nulls":8},"　",{"$nulls":3},122,"",{"$nulls":6},"","       ","       ","","","","","","","","","","",null,"","             ","             ","","","","","","","","","","","","","",null,""]
[23,{"$nulls":8},{"$f":"H36&\"　\"&I36","v":"　"},{"$nulls":3},122,"",{"$nulls":6},"","       ","       ","","","","","","","","","","",null,"","             ","             ","","","","","","","","","","","","","",null,""]
[24,{"$nulls":8},"　",{"$nulls":3},122,"",{"$nulls":6},"","       ","       ","","","","","","","","","","",null,"","             ","             ","","","","","","","","","","","","","",null,""]
[25,{"$nulls":8},"　",{"$nulls":3},122,"",{"$nulls":6},"","       ","       ","","","","","","","","","","",null,"","             ","             ","","","","","","","","","","","","","",null,""]
[26,{"$nulls":8},"　",{"$nulls":3},122,"",{"$nulls":6},"","       ","       ","","","","","","","","","","",null,"","             ","             ","","","","","","","","","","","","","",null,""]
[27,{"$nulls":8},"　",{"$nulls":3},122,"",{"$nulls":6},"","       ","       ","","","","","","","","","","",null,"","             ","             ","","","","","","","","","","","","","",null,""]
[28,{"$nulls":8},"　",{"$nulls":3},122,"",{"$nulls":6},"","       ","       ","","","","","","","","","","",null,"","             ","             ","","","","","","","","","","","","","",null,""]
[29,{"$nulls":8},"　",{"$nulls":3},122,"",{"$nulls":6},"","       ","       ","","","","","","","","","","",null,"","             ","             ","","","","","","","","","","","","","",null,""]
[30,{"$nulls":8},"　",{"$nulls":3},122,"",{"$nulls":6},"","       ","       ","","","","","","","","","","",null,"","             ","             ","","","","","","","","","","","","","",null,""]
[31,{"$nulls":8},"　",{"$nulls":3},122,"",{"$nulls":6},"","       ","       ","","","","","","","","","","",null,"","             ","             ","","","","","","","","","","","","","",null,""]
[32,{"$nulls":8},"　",{"$nulls":3},122,"",{"$nulls":6},"","       ","       ","","","","","","","","","","",null,"","             ","             ","","","","","","","","","","","","","",null,""]
[33,{"$nulls":8},"　",{"$nulls":3},122,"",{"$nulls":6},"","       ","       ","","","","","","","","","","",null,"","             ","             ","","","","","","","","","","","","","",null,""]
[34,{"$nulls":8},"　",{"$nulls":3},122,"",{"$nulls":6},"","       ","       ","","","","","","","","","","",null,"","             ","             ","","","","","","","","","","","","","",null,""]
[35,{"$nulls":8},"　",{"$nulls":3},122,"",{"$nulls":6},"","       ","       ","","","","","","","","","","",null,"","             ","             ","","","","","","","","","","","","","",null,""]
[36,{"$nulls":8},"　",{"$nulls":3},122,"",{"$nulls":6},"","       ","       ","","","","","","","","","","",null,"","             ","             ","","","","","","","","","","","","","",null,""]
[37,{"$nulls":8},"　",{"$nulls":3},122,"",{"$nulls":6},"","       ","       ","","","","","","","","","","",null,"","             ","             ","","","","","","","","","","","","","",null,""]
[38,{"$nulls":8},"　",{"$nulls":3},122,"",{"$nulls":6},"","       ","       ","","","","","","","","","","",null,"","             ","             ","","","","","","","","","","","","","",null,""]
[{"$f":"ROW(A52)-13","v":39},{"$nulls":8},{"$f":"H52&\"　\"&I52","v":"　"},{"$nulls":3},122,"",{"$nulls":6},"",{"$f":"IF(ISERROR(SUBSTITUTE(X52,0,\"\")),\"\",SUBSTITUTE(X52,0,\"\"))","v":"       "},{"$f":"IF(ISERROR(CONCATENATE(Y52,\" \",Z52,,\" \",AA52,,\" \",AB52,,\" \",AC52,,\" \",AD52,,\" \",AE52,,\" \",AF52)),\"\",CONCATENATE(Y52,\" \",Z52,,\" \",AA52,,\" \",AB52,,\" \",AC52,,\" \",AD52,,\" \",AE52,,\" \",AF52))","v":"       "},"","","","","","","","","","",null,"",{"$f":"IF(ISERROR(SUBSTITUTE(AL52,0,\"\")),\"\",SUBSTITUTE(AL52,0,\"\"))","v":"             "},{"$f":"IF(ISERROR(CONCATENATE(AM52,\" \",AN52,,\" \",AO52,,\" \",AP52,,\" \",AQ52,,\" \",AR52,,\" \",AS52,,\" \",AT52,\" \",AU52,\" \",AV52,\" \",AW52,\" \",AX52,\" \",AY52,\" \",BA52)),\"\",CONCATENATE(AM52,\" \",AN52,,\" \",AO52,,\" \",AP52,,\" \",AQ52,,\" \",AR52,,\" \",AS52,,\" \",AT52,\" \",AU52,\" \",AV52,\" \",AW52,\" \",AX52,\" \",AY52,\" \",BA52))","v":"             "},"","","","","","","","","","","","","",null,""]
[40,{"$nulls":8},"　",{"$nulls":3},122,"",{"$nulls":6},"","       ","       ","","","","","","","","","","",null,"","             ","             ","","","","","","","","","","","","","",null,""]
[41,{"$nulls":8},"　",{"$nulls":3},122,"",{"$nulls":6},"","       ","       ","","","","","","","","","","",null,"","             ","             ","","","","","","","","","","","","","",null,""]
[42,{"$nulls":8},"　",{"$nulls":3},122,"",{"$nulls":6},"","       ","       ","","","","","","","","","","",null,"","             ","             ","","","","","","","","","","","","","",null,""]
[43,{"$nulls":8},"　",{"$nulls":3},122,"",{"$nulls":6},"","       ","       ","","","","","","","","","","",null,"","             ","             ","","","","","","","","","","","","","",null,""]
[44,{"$nulls":8},"　",{"$nulls":3},122,"",{"$nulls":6},"","       ","       ","","","","","","","","","","",null,"","             ","             ","","","","","","","","","","","","","",null,""]
[45,{"$nulls":8},"　",{"$nulls":3},122,"",{"$nulls":6},"","       ","       ","","","","","","","","","","",null,"","             ","             ","","","","","","","","","","","","","",null,""]
[46,{"$nulls":8},"　",{"$nulls":3},122,"",{"$nulls":6},"","       ","       ","","","","","","","","","","",null,"","             ","             ","","","","","","","","","","","","","",null,""]
[47,{"$nulls":8},"　",{"$nulls":3},122,"",{"$nulls":6},"","       ","       ","","","","","","","","","","",null,"","             ","             ","","","","","","","","","","","","","",null,""]
[48,{"$nulls":8},"　",{"$nulls":3},122,"",{"$nulls":6},"","       ","       ","","","","","","","","","","",null,"","             ","             ","","","","","","","","","","","","","",null,""]
[49,{"$nulls":8},"　",{"$nulls":3},122,"",{"$nulls":6},"","       ","       ","","","","","","","","","","",null,"","             ","             ","","","","","","","","","","","","","",null,""]
[50,{"$nulls":8},"　",{"$nulls":3},122,"",{"$nulls":6},"","       ","       ","","","","","","","","","","",null,"","             ","             ","","","","","","","","","","","","","",null,""]
[51,{"$nulls":8},"　",{"$nulls":3},122,"",{"$nulls":6},"","       ","       ","","","","","","","","","","",null,"","             ","             ","","","","","","","","","","","","","",null,""]
[52,{"$nulls":8},"　",{"$nulls":3},122,"",{"$nulls":6},"","       ","       ","","","","","","","","","","",null,"","             ","             ","","","","","","","","","","","","","",null,""]
[53,{"$nulls":8},"　",{"$nulls":3},122,"",{"$nulls":6},"","       ","       ","","","","","","","","","","",null,"","             ","             ","","","","","","","","","","","","","",null,""]
[54,{"$nulls":8},"　",{"$nulls":3},122,"",{"$nulls":6},"","       ","       ","","","","","","","","","","",null,"","             ","             ","","","","","","","","","","","","","",null,""]
[55,{"$nulls":8},"　",{"$nulls":3},122,"",{"$nulls":6},"","       ","       ","","","","","","","","","","",null,"","             ","             ","","","","","","","","","","","","","",null,""]
[56,{"$nulls":8},"　",{"$nulls":3},122,"",{"$nulls":6},"","       ","       ","","","","","","","","","","",null,"","             ","             ","","","","","","","","","","","","","",null,""]
[57,{"$nulls":8},"　",{"$nulls":3},122,"",{"$nulls":6},"","       ","       ","","","","","","","","","","",null,"","             ","             ","","","","","","","","","","","","","",null,""]
[58,{"$nulls":8},"　",{"$nulls":3},122,"",{"$nulls":6},"","       ","       ","","","","","","","","","","",null,"","             ","             ","","","","","","","","","","","","","",null,""]
[{"$f":"ROW(A72)-13","v":59},{"$nulls":8},{"$f":"H72&\"　\"&I72","v":"　"},{"$nulls":3},122,"",{"$nulls":6},"",{"$f":"IF(ISERROR(SUBSTITUTE(X72,0,\"\")),\"\",SUBSTITUTE(X72,0,\"\"))","v":"       "},{"$f":"IF(ISERROR(CONCATENATE(Y72,\" \",Z72,,\" \",AA72,,\" \",AB72,,\" \",AC72,,\" \",AD72,,\" \",AE72,,\" \",AF72)),\"\",CONCATENATE(Y72,\" \",Z72,,\" \",AA72,,\" \",AB72,,\" \",AC72,,\" \",AD72,,\" \",AE72,,\" \",AF72))","v":"       "},"","","","","","","","","","",null,"",{"$f":"IF(ISERROR(SUBSTITUTE(AL72,0,\"\")),\"\",SUBSTITUTE(AL72,0,\"\"))","v":"             "},{"$f":"IF(ISERROR(CONCATENATE(AM72,\" \",AN72,,\" \",AO72,,\" \",AP72,,\" \",AQ72,,\" \",AR72,,\" \",AS72,,\" \",AT72,\" \",AU72,\" \",AV72,\" \",AW72,\" \",AX72,\" \",AY72,\" \",BA72)),\"\",CONCATENATE(AM72,\" \",AN72,,\" \",AO72,,\" \",AP72,,\" \",AQ72,,\" \",AR72,,\" \",AS72,,\" \",AT72,\" \",AU72,\" \",AV72,\" \",AW72,\" \",AX72,\" \",AY72,\" \",BA72))","v":"             "},"","","","","","","","","","","","","",null,""]
[60,{"$nulls":8},"　",{"$nulls":3},122,"",{"$nulls":6},"","       ","       ","","","","","","","","","","",null,"","             ","             ","","","","","","","","","","","","","",null,""]
[61,{"$nulls":8},"　",{"$nulls":3},122,"",{"$nulls":6},"","       ","       ","","","","","","","","","","",null,"","             ","             ","","","","","","","","","","","","","",null,""]
[62,{"$nulls":8},"　",{"$nulls":3},122,"",{"$nulls":6},"","       ","       ","","","","","","","","","","",null,"","             ","             ","","","","","","","","","","","","","",null,""]
[63,{"$nulls":8},"　",{"$nulls":3},122,"",{"$nulls":6},"","       ","       ","","","","","","","","","","",null,"","             ","             ","","","","","","","","","","","","","",null,""]
[64,{"$nulls":8},"　",{"$nulls":3},122,"",{"$nulls":6},"","       ","       ","","","","","","","","","","",null,"","             ","             ","","","","","","","","","","","","","",null,""]
[65,{"$nulls":8},"　",{"$nulls":3},122,"",{"$nulls":6},{"$f":"IF(ISERROR(VLOOKUP($J78,INDIRECT($AX$1&\"!$E$2:$AH$800\"),14,0)),\"\",VLOOKUP($J78,INDIRECT($AX$1&\"!$E$2:$AH$800\"),14,0))","v":""},"       ","       ",{"$f":"IF(ISERROR(VLOOKUP($J78,INDIRECT($AX$1&\"!$E$2:$AH$800\"),15,0)),\"\",VLOOKUP($J78,INDIRECT($AX$1&\"!$E$2:$AH$800\"),15,0))","v":""},{"$f":"IF(ISERROR(VLOOKUP($J78,INDIRECT($AX$1&\"!$E$2:$AH$800\"),16,0)),\"\",VLOOKUP($J78,INDIRECT($AX$1&\"!$E$2:$AH$800\"),16,0))","v":""},{"$f":"IF(ISERROR(VLOOKUP($J78,INDIRECT($AX$1&\"!$E$2:$AH$800\"),17,0)),\"\",VLOOKUP($J78,INDIRECT($AX$1&\"!$E$2:$AH$800\"),17,0))","v":""},{"$f":"IF(ISERROR(VLOOKUP($J78,INDIRECT($AX$1&\"!$E$2:$AH$800\"),18,0)),\"\",VLOOKUP($J78,INDIRECT($AX$1&\"!$E$2:$AH$800\"),18,0))","v":""},{"$f":"IF(ISERROR(VLOOKUP($J78,INDIRECT($AX$1&\"!$E$2:$AH$800\"),19,0)),\"\",VLOOKUP($J78,INDIRECT($AX$1&\"!$E$2:$AH$800\"),19,0))","v":""},{"$f":"IF(ISERROR(VLOOKUP($J78,INDIRECT($AX$1&\"!$E$2:$AH$800\"),20,0)),\"\",VLOOKUP($J78,INDIRECT($AX$1&\"!$E$2:$AH$800\"),20,0))","v":""},{"$f":"IF(ISERROR(VLOOKUP($J78,INDIRECT($AX$1&\"!$E$2:$AH$800\"),21,0)),\"\",VLOOKUP($J78,INDIRECT($AX$1&\"!$E$2:$AH$800\"),21,0))","v":""},{"$f":"IF(ISERROR(VLOOKUP($J78,INDIRECT($AX$1&\"!$E$2:$AH$800\"),22,0)),\"\",VLOOKUP($J78,INDIRECT($AX$1&\"!$E$2:$AH$800\"),22,0))","v":""},{"$f":"IF(ISERROR(VLOOKUP($J78,INDIRECT($AX$1&\"!$E$2:$AH$800\"),30,0)),\"\",VLOOKUP($J78,INDIRECT($AX$1&\"!$E$2:$AH$800\"),30,0))","v":""},{"$f":"IF(ISERROR(VLOOKUP($J78,INDIRECT($AX$1&\"!$E$2:$AH$800\"),29,0)),\"\",VLOOKUP($J78,INDIRECT($AX$1&\"!$E$2:$AH$800\"),29,0))","v":""},null,{"$f":"IF(ISERROR(VLOOKUP($J78,INDIRECT($AW$1&\"!$E$2:$AH$800\"),14,0)),\"\",VLOOKUP($J78,INDIRECT($AW$1&\"!$E$2:$AH$800\"),14,0))","v":""},"             ","             ",{"$f":"IF(ISERROR(VLOOKUP($J78,INDIRECT($AW$1&\"!$E$2:$AH$800\"),15,0)),\"\",VLOOKUP($J78,INDIRECT($AW$1&\"!$E$2:$AH$800\"),15,0))","v":""},{"$f":"IF(ISERROR(VLOOKUP($J78,INDIRECT($AW$1&\"!$E$2:$AH$800\"),16,0)),\"\",VLOOKUP($J78,INDIRECT($AW$1&\"!$E$2:$AH$800\"),16,0))","v":""},{"$f":"IF(ISERROR(VLOOKUP($J78,INDIRECT($AW$1&\"!$E$2:$AH$800\"),17,0)),\"\",VLOOKUP($J78,INDIRECT($AW$1&\"!$E$2:$AH$800\"),17,0))","v":""},{"$f":"IF(ISERROR(VLOOKUP($J78,INDIRECT($AW$1&\"!$E$2:$AH$800\"),18,0)),\"\",VLOOKUP($J78,INDIRECT($AW$1&\"!$E$2:$AH$800\"),18,0))","v":""},{"$f":"IF(ISERROR(VLOOKUP($J78,INDIRECT($AW$1&\"!$E$2:$AH$800\"),19,0)),\"\",VLOOKUP($J78,INDIRECT($AW$1&\"!$E$2:$AH$800\"),19,0))","v":""},{"$f":"IF(ISERROR(VLOOKUP($J78,INDIRECT($AW$1&\"!$E$2:$AH$800\"),20,0)),\"\",VLOOKUP($J78,INDIRECT($AW$1&\"!$E$2:$AH$800\"),20,0))","v":""},{"$f":"IF(ISERROR(VLOOKUP($J78,INDIRECT($AW$1&\"!$E$2:$AH$800\"),21,0)),\"\",VLOOKUP($J78,INDIRECT($AW$1&\"!$E$2:$AH$800\"),21,0))","v":""},{"$f":"IF(ISERROR(VLOOKUP($J78,INDIRECT($AW$1&\"!$E$2:$AH$800\"),22,0)),\"\",VLOOKUP($J78,INDIRECT($AW$1&\"!$E$2:$AH$800\"),22,0))","v":""},{"$f":"IF(ISERROR(VLOOKUP($J78,INDIRECT($AW$1&\"!$E$2:$AH$800\"),23,0)),\"\",VLOOKUP($J78,INDIRECT($AW$1&\"!$E$2:$AH$800\"),23,0))","v":""},{"$f":"IF(ISERROR(VLOOKUP($J78,INDIRECT($AW$1&\"!$E$2:$AH$800\"),24,0)),\"\",VLOOKUP($J78,INDIRECT($AW$1&\"!$E$2:$AH$800\"),24,0))","v":""},{"$f":"IF(ISERROR(VLOOKUP($J78,INDIRECT($AW$1&\"!$E$2:$AH$800\"),25,0)),\"\",VLOOKUP($J78,INDIRECT($AW$1&\"!$E$2:$AH$800\"),25,0))","v":""},{"$f":"IF(ISERROR(VLOOKUP($J78,INDIRECT($AW$1&\"!$E$2:$AH$800\"),26,0)),\"\",VLOOKUP($J78,INDIRECT($AW$1&\"!$E$2:$AH$800\"),26,0))","v":""},{"$f":"IF(ISERROR(VLOOKUP($J78,INDIRECT($AW$1&\"!$E$2:$AH$800\"),27,0)),\"\",VLOOKUP($J78,INDIRECT($AW$1&\"!$E$2:$AH$800\"),27,0))","v":""},null,{"$f":"IF(ISERROR(VLOOKUP($J78,INDIRECT($AW$1&\"!$E$2:$AH$800\"),28,0)),\"\",VLOOKUP($J78,INDIRECT($AW$1&\"!$E$2:$AH$800\"),28,0))","v":""}]
[12,{"$nulls":8},"　",{"$nulls":3},{"$f":"DATEDIF(L79,\"2022/4/1\",\"Y\")","v":122},{"$f":"IF(N79=122,\"\",N79)","v":""},{"$nulls":6},"","       ","       ","","","","","","","","","","",null,"","             ","             ","","","","","","","","","","","","","",null,""]
[67,{"$nulls":8},"　",{"$nulls":3},122,"",{"$nulls":6},"","       ","       ","","","","","","","","","","",null,"","             ","             ","","","","","","","","","","","","","",null,""]
[68,{"$nulls":8},"　",{"$nulls":3},122,"",{"$nulls":6},"","       ","       ","","","","","","","","","","",null,"","             ","             ","","","","","","","","","","","","","",null,""]
[69,{"$nulls":8},"　",{"$nulls":3},122,"",{"$nulls":6},"","       ","       ","","","","","","","","","","",null,"","             ","             ","","","","","","","","","","","","","",null,""]
[70,{"$nulls":8},"　",{"$nulls":3},122,"",{"$nulls":6},"","       ","       ","","","","","","","","","","",null,"","             ","             ","","","","","","","","","","","","","",null,""]
[71,{"$nulls":8},"　",{"$nulls":3},122,"",{"$nulls":6},"","       ","       ","","","","","","","","","","",null,"","             ","             ","","","","","","","","","","","","","",null,""]
[72,{"$nulls":8},"　",{"$nulls":3},122,"",{"$nulls":6},"","       ","       ","","","","","","","","","","",null,"","             ","             ","","","","","","","","","","","","","",null,""]
[73,{"$nulls":8},"　",{"$nulls":3},122,"",{"$nulls":6},"","       ","       ","","","","","","","","","","",null,"","             ","             ","","","","","","","","","","","","","",null,""]
[74,{"$nulls":8},"　",{"$nulls":3},122,"",{"$nulls":6},"","       ","       ","","","","","","","","","","",null,"","             ","             ","","","","","","","","","","","","","",null,""]
[75,{"$nulls":8},"　",{"$nulls":3},122,"",{"$nulls":6},"","       ","       ","","","","","","","","","","",null,"","             ","             ","","","","","","","","","","","","","",null,""]
[76,{"$nulls":8},"　",{"$nulls":3},122,"",{"$nulls":6},"","       ","       ","","","","","","","","","","",null,"","             ","             ","","","","","","","","","","","","","",null,""]
[77,{"$nulls":8},"　",{"$nulls":3},122,"",{"$nulls":6},"","       ","       ","","","","","","","","","","",null,"","             ","             ","","","","","","","","","","","","","",null,""]
[{"$f":"ROW(A91)-13","v":78},{"$nulls":8},{"$f":"H91&\"　\"&I91","v":"　"},{"$nulls":3},122,"",{"$nulls":6},"",{"$f":"IF(ISERROR(SUBSTITUTE(X91,0,\"\")),\"\",SUBSTITUTE(X91,0,\"\"))","v":"       "},{"$f":"IF(ISERROR(CONCATENATE(Y91,\" \",Z91,,\" \",AA91,,\" \",AB91,,\" \",AC91,,\" \",AD91,,\" \",AE91,,\" \",AF91)),\"\",CONCATENATE(Y91,\" \",Z91,,\" \",AA91,,\" \",AB91,,\" \",AC91,,\" \",AD91,,\" \",AE91,,\" \",AF91))","v":"       "},"","","","","","","","","","",null,"",{"$f":"IF(ISERROR(SUBSTITUTE(AL91,0,\"\")),\"\",SUBSTITUTE(AL91,0,\"\"))","v":"             "},{"$f":"IF(ISERROR(CONCATENATE(AM91,\" \",AN91,,\" \",AO91,,\" \",AP91,,\" \",AQ91,,\" \",AR91,,\" \",AS91,,\" \",AT91,\" \",AU91,\" \",AV91,\" \",AW91,\" \",AX91,\" \",AY91,\" \",BA91)),\"\",CONCATENATE(AM91,\" \",AN91,,\" \",AO91,,\" \",AP91,,\" \",AQ91,,\" \",AR91,,\" \",AS91,,\" \",AT91,\" \",AU91,\" \",AV91,\" \",AW91,\" \",AX91,\" \",AY91,\" \",BA91))","v":"             "},"","","","","","","","","","","","","",null,""]
[79,{"$nulls":8},"　",{"$nulls":3},122,"",{"$nulls":6},"","       ","       ","","","","","","","","","","",null,"","             ","             ","","","","","","","","","","","","","",null,""]
[80,{"$nulls":8},"　",{"$nulls":3},122,"",{"$nulls":6},"","       ","       ","","","","","","","","","","",null,"","             ","             ","","","","","","","","","","","","","",null,""]
[81,{"$nulls":8},"　",{"$nulls":3},122,"",{"$nulls":6},"","       ","       ","","","","","","","","","","",null,"","             ","             ","","","","","","","","","","","","","",null,""]
[82,{"$nulls":8},"　",{"$nulls":3},122,"",{"$nulls":6},"","       ","       ","","","","","","","","","","",null,"","             ","             ","","","","","","","","","","","","","",null,""]
[83,{"$nulls":8},"　",{"$nulls":3},122,"",{"$nulls":6},"","       ","       ","","","","","","","","","","",null,"","             ","             ","","","","","","","","","","","","","",null,""]
[84,{"$nulls":8},"　",{"$nulls":3},122,"",{"$nulls":6},"","       ","       ","","","","","","","","","","",null,"","             ","             ","","","","","","","","","","","","","",null,""]
[12,{"$nulls":8},"　",{"$nulls":3},122,"",{"$nulls":6},"","       ","       ","","","","","","","","","","",null,"","             ","             ","","","","","","","","","","","","","",null,""]
[86,{"$nulls":8},"　",{"$nulls":3},122,"",{"$nulls":6},"","       ","       ","","","","","","","","","","",null,"","             ","             ","","","","","","","","","","","","","",null,""]
[87,{"$nulls":8},"　",{"$nulls":3},122,"",{"$nulls":6},"","       ","       ","","","","","","","","","","",null,"","             ","             ","","","","","","","","","","","","","",null,""]
[88,{"$nulls":8},"　",{"$nulls":3},122,"",{"$nulls":6},"","       ","       ","","","","","","","","","","",null,"","             ","             ","","","","","","","","","","","","","",null,""]
[89,{"$nulls":8},"　",{"$nulls":3},122,"",{"$nulls":6},"","       ","       ","","","","","","","","","","",null,"","             ","             ","","","","","","","","","","","","","",null,""]
[90,{"$nulls":8},"　",{"$nulls":3},122,"",{"$nulls":6},"","       ","       ","","","","","","","","","","",null,"","             ","             ","","","","","","","","","","","","","",null,""]
[91,{"$nulls":8},"　",{"$nulls":3},122,"",{"$nulls":6},"","       ","       ","","","","","","","","","","",null,"","             ","             ","","","","","","","","","","","","","",null,""]
[92,{"$nulls":8},"　",{"$nulls":3},122,"",{"$nulls":6},"","       ","       ","","","","","","","","","","",null,"","             ","             ","","","","","","","","","","","","","",null,""]
[93,{"$nulls":8},"　",{"$nulls":3},122,"",{"$nulls":6},"","       ","       ","","","","","","","","","","",null,"","             ","             ","","","","","","","","","","","","","",null,""]
[94,{"$nulls":8},"　",{"$nulls":3},122,"",{"$nulls":6},"","       ","       ","","","","","","","","","","",null,"","             ","             ","","","","","","","","","","","","","",null,""]
[95,{"$nulls":8},"　",{"$nulls":3},122,"",{"$nulls":6},"","       ","       ","","","","","","","","","","",null,"","             ","             ","","","","","","","","","","","","","",null,""]
[96,{"$nulls":8},"　",{"$nulls":3},122,"",{"$nulls":6},"","       ","       ","","","","","","","","","","",null,"","             ","             ","","","","","","","","","","","","","",null,""]
[97,{"$nulls":8},"　",{"$nulls":3},122,"",{"$nulls":6},"","       ","       ","","","","","","","","","","",null,"","             ","             ","","","","","","","","","","","","","",null,""]
[98,{"$nulls":8},"　",{"$nulls":3},122,"",{"$nulls":6},"","       ","       ","","","","","","","","","","",null,"","             ","             ","","","","","","","","","","","","","",null,""]
[99,{"$nulls":8},"　",{"$nulls":3},122,"",{"$nulls":6},"","       ","       ","","","","","","","","","","",null,"","             ","             ","","","","","","","","","","","","","",null,""]
[100,{"$nulls":8},"　",{"$nulls":3},122,"",{"$nulls":6},"","       ","       ","","","","","","","","","","",null,"","             ","             ","","","","","","","","","","","","","",null,""]
[101,{"$nulls":8},"　",{"$nulls":3},122,"",{"$nulls":6},"","       ","       ","","","","","","","","","","",null,"","             ","             ","","","","","","","","","","","","","",null,""]
[102,{"$nulls":8},"　",{"$nulls":3},122,"",{"$nulls":6},"","       ","       ","","","","","","","","","","",null,"","             ","             ","","","","","","","","","","","","","",null,""]
[103,{"$nulls":8},"　",{"$nulls":3},122,"",{"$nulls":6},"","       ","       ","","","","","","","","","","",null,"","             ","             ","","","","","","","","","","","","","",null,""]
[104,{"$nulls":8},"　",{"$nulls":3},122,"",{"$nulls":6},"","       ","       ","","","","","","","","","","",null,"","             ","             ","","","","","","","","","","","","","",null,""]
[105,{"$nulls":8},"　",{"$nulls":3},122,"",{"$nulls":6},"","       ","       ","","","","","","","","","","",null,"","             ","             ","","","","","","","","","","","","","",null,""]
[106,{"$nulls":8},"　",{"$nulls":3},122,"",{"$nulls":6},"","       ","       ","","","","","","","","","","",null,"","             ","             ","","","","","","","","","","","","","",null,""]
[107,{"$nulls":8},"　",{"$nulls":3},122,"",{"$nulls":6},"","       ","       ","","","","","","","","","","",null,"","             ","             ","","","","","","","","","","","","","",null,""]
[108,{"$nulls":8},"　",{"$nulls":3},122,"",{"$nulls":6},"","       ","       ","","","","","","","","","","",null,"","             ","             ","","","","","","","","","","","","","",null,""]
[109,{"$nulls":8},"　",{"$nulls":3},122,"",{"$nulls":6},"","       ","       ","","","","","","","","","","",null,"","             ","             ","","","","","","","","","","","","","",null,""]
[110,{"$nulls":8},"　",{"$nulls":3},122,"",{"$nulls":6},"","       ","       ","","","","","","","","","","",null,"","             ","             ","","","","","","","","","","","","","",null,""]
[111,{"$nulls":8},"　",{"$nulls":3},122,"",{"$nulls":6},"","       ","       ","","","","","","","","","","",null,"","             ","             ","","","","","","","","","","","","","",null,""]
[112,{"$nulls":8},"　",{"$nulls":3},122,"",{"$nulls":6},"","       ","       ","","","","","","","","","","",null,"","             ","             ","","","","","","","","","","","","","",null,""]
[113,{"$nulls":8},"　",{"$nulls":3},122,"",{"$nulls":6},"","       ","       ","","","","","","","","","","",null,"","             ","             ","","","","","","","","","","","","","",null,""]
[114,{"$nulls":8},"　",{"$nulls":3},122,"",{"$nulls":6},"","       ","       ","","","","","","","","","","",null,"","             ","             ","","","","","","","","","","","","","",null,""]
[115,{"$nulls":8},"　",{"$nulls":3},122,"",{"$nulls":6},"","       ","       ","","","","","","","","","","",null,"","             ","             ","","","","","","","","","","","","","",null,""]
[116,{"$nulls":8},"　",{"$nulls":3},122,"",{"$nulls":6},"","       ","       ","","","","","","","","","","",null,"","             ","             ","","","","","","","","","","","","","",null,""]
[117,{"$nulls":8},"　",{"$nulls":3},122,"",{"$nulls":6},"","       ","       ","","","","","","","","","","",null,"","             ","             ","","","","","","","","","","","","","",null,""]
[118,{"$nulls":8},"　",{"$nulls":3},122,"",{"$nulls":6},"","       ","       ","","","","","","","","","","",null,"","             ","             ","","","","","","","","","","","","","",null,""]
[119,{"$nulls":8},"　",{"$nulls":3},122,"",{"$nulls":6},"","       ","       ","","","","","","","","","","",null,"","             ","             ","","","","","","","","","","","","","",null,""]
[120,{"$nulls":8},"　",{"$nulls":3},122,"",{"$nulls":6},"","       ","       ","","","","","","","","","","",null,"","             ","             ","","","","","","","","","","","","","",null,""]
[121,{"$nulls":8},"　",{"$nulls":3},122,"",{"$nulls":6},"","       ","       ","","","","","","","","","","",null,"","             ","             ","","","","","","","","","","","","","",null,""]
[122,{"$nulls":8},"　",{"$nulls":3},122,"",{"$nulls":6},"","       ","       ","","","","","","","","","","",null,"","             ","             ","","","","","","","","","","","","","",null,""]
[{"$f":"ROW(A136)-13","v":123},{"$nulls":8},{"$f":"H136&\"　\"&I136","v":"　"},{"$nulls":3},122,"",{"$nulls":6},"",{"$f":"IF(ISERROR(SUBSTITUTE(X136,0,\"\")),\"\",SUBSTITUTE(X136,0,\"\"))","v":"       "},{"$f":"IF(ISERROR(CONCATENATE(Y136,\" \",Z136,,\" \",AA136,,\" \",AB136,,\" \",AC136,,\" \",AD136,,\" \",AE136,,\" \",AF136)),\"\",CONCATENATE(Y136,\" \",Z136,,\" \",AA136,,\" \",AB136,,\" \",AC136,,\" \",AD136,,\" \",AE136,,\" \",AF136))","v":"       "},"","","","","","","","","","",null,"",{"$f":"IF(ISERROR(SUBSTITUTE(AL136,0,\"\")),\"\",SUBSTITUTE(AL136,0,\"\"))","v":"             "},{"$f":"IF(ISERROR(CONCATENATE(AM136,\" \",AN136,,\" \",AO136,,\" \",AP136,,\" \",AQ136,,\" \",AR136,,\" \",AS136,,\" \",AT136,\" \",AU136,\" \",AV136,\" \",AW136,\" \",AX136,\" \",AY136,\" \",BA136)),\"\",CONCATENATE(AM136,\" \",AN136,,\" \",AO136,,\" \",AP136,,\" \",AQ136,,\" \",AR136,,\" \",AS136,,\" \",AT136,\" \",AU136,\" \",AV136,\" \",AW136,\" \",AX136,\" \",AY136,\" \",BA136))","v":"             "},"","","","","","","","","","","","","",null,""]
[124,{"$nulls":8},"　",{"$nulls":3},122,"",{"$nulls":6},"","       ","       ","","","","","","","","","","",null,"","             ","             ","","","","","","","","","","","","","",null,""]
[125,{"$nulls":8},"　",{"$nulls":3},122,"",{"$nulls":6},"","       ","       ","","","","","","","","","","",null,"","             ","             ","","","","","","","","","","","","","",null,""]
[126,{"$nulls":8},"　",{"$nulls":3},122,"",{"$nulls":6},"","       ","       ","","","","","","","","","","",null,"","             ","             ","","","","","","","","","","","","","",null,""]
[127,{"$nulls":8},"　",{"$nulls":3},122,"",{"$nulls":6},"","       ","       ","","","","","","","","","","",null,"","             ","             ","","","","","","","","","","","","","",null,""]
[128,{"$nulls":8},"　",{"$nulls":3},122,"",{"$nulls":6},"","       ","       ","","","","","","","","","","",null,"","             ","             ","","","","","","","","","","","","","",null,""]
[129,{"$nulls":8},"　",{"$nulls":3},122,"",{"$nulls":6},{"$f":"IF(ISERROR(VLOOKUP($J142,INDIRECT($AX$1&\"!$E$2:$AH$800\"),14,0)),\"\",VLOOKUP($J142,INDIRECT($AX$1&\"!$E$2:$AH$800\"),14,0))","v":""},"       ","       ",{"$f":"IF(ISERROR(VLOOKUP($J142,INDIRECT($AX$1&\"!$E$2:$AH$800\"),15,0)),\"\",VLOOKUP($J142,INDIRECT($AX$1&\"!$E$2:$AH$800\"),15,0))","v":""},{"$f":"IF(ISERROR(VLOOKUP($J142,INDIRECT($AX$1&\"!$E$2:$AH$800\"),16,0)),\"\",VLOOKUP($J142,INDIRECT($AX$1&\"!$E$2:$AH$800\"),16,0))","v":""},{"$f":"IF(ISERROR(VLOOKUP($J142,INDIRECT($AX$1&\"!$E$2:$AH$800\"),17,0)),\"\",VLOOKUP($J142,INDIRECT($AX$1&\"!$E$2:$AH$800\"),17,0))","v":""},{"$f":"IF(ISERROR(VLOOKUP($J142,INDIRECT($AX$1&\"!$E$2:$AH$800\"),18,0)),\"\",VLOOKUP($J142,INDIRECT($AX$1&\"!$E$2:$AH$800\"),18,0))","v":""},{"$f":"IF(ISERROR(VLOOKUP($J142,INDIRECT($AX$1&\"!$E$2:$AH$800\"),19,0)),\"\",VLOOKUP($J142,INDIRECT($AX$1&\"!$E$2:$AH$800\"),19,0))","v":""},{"$f":"IF(ISERROR(VLOOKUP($J142,INDIRECT($AX$1&\"!$E$2:$AH$800\"),20,0)),\"\",VLOOKUP($J142,INDIRECT($AX$1&\"!$E$2:$AH$800\"),20,0))","v":""},{"$f":"IF(ISERROR(VLOOKUP($J142,INDIRECT($AX$1&\"!$E$2:$AH$800\"),21,0)),\"\",VLOOKUP($J142,INDIRECT($AX$1&\"!$E$2:$AH$800\"),21,0))","v":""},{"$f":"IF(ISERROR(VLOOKUP($J142,INDIRECT($AX$1&\"!$E$2:$AH$800\"),22,0)),\"\",VLOOKUP($J142,INDIRECT($AX$1&\"!$E$2:$AH$800\"),22,0))","v":""},{"$f":"IF(ISERROR(VLOOKUP($J142,INDIRECT($AX$1&\"!$E$2:$AH$800\"),30,0)),\"\",VLOOKUP($J142,INDIRECT($AX$1&\"!$E$2:$AH$800\"),30,0))","v":""},{"$f":"IF(ISERROR(VLOOKUP($J142,INDIRECT($AX$1&\"!$E$2:$AH$800\"),29,0)),\"\",VLOOKUP($J142,INDIRECT($AX$1&\"!$E$2:$AH$800\"),29,0))","v":""},null,{"$f":"IF(ISERROR(VLOOKUP($J142,INDIRECT($AW$1&\"!$E$2:$AH$800\"),14,0)),\"\",VLOOKUP($J142,INDIRECT($AW$1&\"!$E$2:$AH$800\"),14,0))","v":""},"             ","             ",{"$f":"IF(ISERROR(VLOOKUP($J142,INDIRECT($AW$1&\"!$E$2:$AH$800\"),15,0)),\"\",VLOOKUP($J142,INDIRECT($AW$1&\"!$E$2:$AH$800\"),15,0))","v":""},{"$f":"IF(ISERROR(VLOOKUP($J142,INDIRECT($AW$1&\"!$E$2:$AH$800\"),16,0)),\"\",VLOOKUP($J142,INDIRECT($AW$1&\"!$E$2:$AH$800\"),16,0))","v":""},{"$f":"IF(ISERROR(VLOOKUP($J142,INDIRECT($AW$1&\"!$E$2:$AH$800\"),17,0)),\"\",VLOOKUP($J142,INDIRECT($AW$1&\"!$E$2:$AH$800\"),17,0))","v":""},{"$f":"IF(ISERROR(VLOOKUP($J142,INDIRECT($AW$1&\"!$E$2:$AH$800\"),18,0)),\"\",VLOOKUP($J142,INDIRECT($AW$1&\"!$E$2:$AH$800\"),18,0))","v":""},{"$f":"IF(ISERROR(VLOOKUP($J142,INDIRECT($AW$1&\"!$E$2:$AH$800\"),19,0)),\"\",VLOOKUP($J142,INDIRECT($AW$1&\"!$E$2:$AH$800\"),19,0))","v":""},{"$f":"IF(ISERROR(VLOOKUP($J142,INDIRECT($AW$1&\"!$E$2:$AH$800\"),20,0)),\"\",VLOOKUP($J142,INDIRECT($AW$1&\"!$E$2:$AH$800\"),20,0))","v":""},{"$f":"IF(ISERROR(VLOOKUP($J142,INDIRECT($AW$1&\"!$E$2:$AH$800\"),21,0)),\"\",VLOOKUP($J142,INDIRECT($AW$1&\"!$E$2:$AH$800\"),21,0))","v":""},{"$f":"IF(ISERROR(VLOOKUP($J142,INDIRECT($AW$1&\"!$E$2:$AH$800\"),22,0)),\"\",VLOOKUP($J142,INDIRECT($AW$1&\"!$E$2:$AH$800\"),22,0))","v":""},{"$f":"IF(ISERROR(VLOOKUP($J142,INDIRECT($AW$1&\"!$E$2:$AH$800\"),23,0)),\"\",VLOOKUP($J142,INDIRECT($AW$1&\"!$E$2:$AH$800\"),23,0))","v":""},{"$f":"IF(ISERROR(VLOOKUP($J142,INDIRECT($AW$1&\"!$E$2:$AH$800\"),24,0)),\"\",VLOOKUP($J142,INDIRECT($AW$1&\"!$E$2:$AH$800\"),24,0))","v":""},{"$f":"IF(ISERROR(VLOOKUP($J142,INDIRECT($AW$1&\"!$E$2:$AH$800\"),25,0)),\"\",VLOOKUP($J142,INDIRECT($AW$1&\"!$E$2:$AH$800\"),25,0))","v":""},{"$f":"IF(ISERROR(VLOOKUP($J142,INDIRECT($AW$1&\"!$E$2:$AH$800\"),26,0)),\"\",VLOOKUP($J142,INDIRECT($AW$1&\"!$E$2:$AH$800\"),26,0))","v":""},{"$f":"IF(ISERROR(VLOOKUP($J142,INDIRECT($AW$1&\"!$E$2:$AH$800\"),27,0)),\"\",VLOOKUP($J142,INDIRECT($AW$1&\"!$E$2:$AH$800\"),27,0))","v":""},null,{"$f":"IF(ISERROR(VLOOKUP($J142,INDIRECT($AW$1&\"!$E$2:$AH$800\"),28,0)),\"\",VLOOKUP($J142,INDIRECT($AW$1&\"!$E$2:$AH$800\"),28,0))","v":""}]
[12,{"$nulls":8},"　",{"$nulls":3},{"$f":"DATEDIF(L143,\"2022/4/1\",\"Y\")","v":122},{"$f":"IF(N143=122,\"\",N143)","v":""},{"$nulls":6},"","       ","       ","","","","","","","","","","",null,"","             ","             ","","","","","","","","","","","","","",null,""]
[131,{"$nulls":8},"　",{"$nulls":3},122,"",{"$nulls":6},"","       ","       ","","","","","","","","","","",null,"","             ","             ","","","","","","","","","","","","","",null,""]
[132,{"$nulls":8},"　",{"$nulls":3},122,"",{"$nulls":6},"","       ","       ","","","","","","","","","","",null,"","             ","             ","","","","","","","","","","","","","",null,""]
[133,{"$nulls":8},"　",{"$nulls":3},122,"",{"$nulls":6},"","       ","       ","","","","","","","","","","",null,"","             ","             ","","","","","","","","","","","","","",null,""]
[134,{"$nulls":8},"　",{"$nulls":3},122,"",{"$nulls":6},"","       ","       ","","","","","","","","","","",null,"","             ","             ","","","","","","","","","","","","","",null,""]
[135,{"$nulls":8},"　",{"$nulls":3},122,"",{"$nulls":6},"","       ","       ","","","","","","","","","","",null,"","             ","             ","","","","","","","","","","","","","",null,""]
[136,{"$nulls":8},"　",{"$nulls":3},122,"",{"$nulls":6},"","       ","       ","","","","","","","","","","",null,"","             ","             ","","","","","","","","","","","","","",null,""]
[137,{"$nulls":8},"　",{"$nulls":3},122,"",{"$nulls":6},"","       ","       ","","","","","","","","","","",null,"","             ","             ","","","","","","","","","","","","","",null,""]
[138,{"$nulls":8},"　",{"$nulls":3},122,"",{"$nulls":6},"","       ","       ","","","","","","","","","","",null,"","             ","             ","","","","","","","","","","","","","",null,""]
[139,{"$nulls":8},"　",{"$nulls":3},122,"",{"$nulls":6},"","       ","       ","","","","","","","","","","",null,"","             ","             ","","","","","","","","","","","","","",null,""]
[140,{"$nulls":8},"　",{"$nulls":3},122,"",{"$nulls":6},"","       ","       ","","","","","","","","","","",null,"","             ","             ","","","","","","","","","","","","","",null,""]
[141,{"$nulls":8},"　",{"$nulls":3},122,"",{"$nulls":6},"","       ","       ","","","","","","","","","","",null,"","             ","             ","","","","","","","","","","","","","",null,""]
[142,{"$nulls":8},"　",{"$nulls":3},122,"",{"$nulls":6},"","       ","       ","","","","","","","","","","",null,"","             ","             ","","","","","","","","","","","","","",null,""]
[143,{"$nulls":8},"　",{"$nulls":3},122,"",{"$nulls":6},"","       ","       ","","","","","","","","","","",null,"","             ","             ","","","","","","","","","","","","","",null,""]
[144,{"$nulls":8},"　",{"$nulls":3},122,"",{"$nulls":6},"","       ","       ","","","","","","","","","","",null,"","             ","             ","","","","","","","","","","","","","",null,""]
[145,{"$nulls":8},"　",{"$nulls":3},122,"",{"$nulls":6},"","       ","       ","","","","","","","","","","",null,"","             ","             ","","","","","","","","","","","","","",null,""]
[146,{"$nulls":8},"　",{"$nulls":3},122,"",{"$nulls":6},"","       ","       ","","","","","","","","","","",null,"","             ","             ","","","","","","","","","","","","","",null,""]
[147,{"$nulls":8},"　",{"$nulls":3},122,"",{"$nulls":6},"","       ","       ","","","","","","","","","","",null,"","             ","             ","","","","","","","","","","","","","",null,""]
[148,{"$nulls":8},"　",{"$nulls":3},122,"",{"$nulls":6},"","       ","       ","","","","","","","","","","",null,"","             ","             ","","","","","","","","","","","","","",null,""]
[149,{"$nulls":8},"　",{"$nulls":3},122,"",{"$nulls":6},"","       ","       ","","","","","","","","","","",null,"","             ","             ","","","","","","","","","","","","","",null,""]
[150,{"$nulls":8},"　",{"$nulls":3},122,"",{"$nulls":6},"","       ","       ","","","","","","","","","","",null,"","             ","             ","","","","","","","","","","","","","",null,""]
[151,{"$nulls":8},"　",{"$nulls":3},122,"",{"$nulls":6},"","       ","       ","","","","","","","","","","",null,"","             ","             ","","","","","","","","","","","","","",null,""]
[152,{"$nulls":8},"　",{"$nulls":3},122,"",{"$nulls":6},"","       ","       ","","","","","","","","","","",null,"","             ","             ","","","","","","","","","","","","","",null,""]
[153,{"$nulls":8},"　",{"$nulls":3},122,"",{"$nulls":6},"","       ","       ","","","","","","","","","","",null,"","             ","             ","","","","","","","","","","","","","",null,""]
[154,{"$nulls":8},"　",{"$nulls":3},122,"",{"$nulls":6},"","       ","       ","","","","","","","","","","",null,"","             ","             ","","","","","","","","","","","","","",null,""]
[155,{"$nulls":8},"　",{"$nulls":3},122,"",{"$nulls":6},"","       ","       ","","","","","","","","","","",null,"","             ","             ","","","","","","","","","","","","","",null,""]
[156,{"$nulls":8},"　",{"$nulls":3},122,"",{"$nulls":6},"","       ","       ","","","","","","","","","","",null,"","             ","             ","","","","","","","","","","","","","",null,""]
[157,{"$nulls":8},"　",{"$nulls":3},122,"",{"$nulls":6},"","       ","       ","","","","","","","","","","",null,"","             ","             ","","","","","","","","","","","","","",null,""]
[158,{"$nulls":8},"　",{"$nulls":3},122,"",{"$nulls":6},"","       ","       ","","","","","","","","","","",null,"","             ","             ","","","","","","","","","","","","","",null,""]
[159,{"$nulls":8},"　",{"$nulls":3},122,"",{"$nulls":6},"","       ","       ","","","","","","","","","","",null,"","             ","             ","","","","","","","","","","","","","",null,""]
[160,{"$nulls":8},"　",{"$nulls":3},122,"",{"$nulls":6},"","       ","       ","","","","","","","","","","",null,"","             ","             ","","","","","","","","","","","","","",null,""]
[161,{"$nulls":8},"　",{"$nulls":3},122,"",{"$nulls":6},"","       ","       ","","","","","","","","","","",null,"","             ","             ","","","","","","","","","","","","","",null,""]
[162,{"$nulls":8},"　",{"$nulls":3},122,"",{"$nulls":6},"","       ","       ","","","","","","","","","","",null,"","             ","             ","","","","","","","","","","","","","",null,""]
[163,{"$nulls":8},"　",{"$nulls":3},122,"",{"$nulls":6},"","       ","       ","","","","","","","","","","",null,"","             ","             ","","","","","","","","","","","","","",null,""]
[164,{"$nulls":8},"　",{"$nulls":3},122,"",{"$nulls":6},"","       ","       ","","","","","","","","","","",null,"","             ","             ","","","","","","","","","","","","","",null,""]
[165,{"$nulls":8},"　",{"$nulls":3},122,"",{"$nulls":6},"","       ","       ","","","","","","","","","","",null,"","             ","             ","","","","","","","","","","","","","",null,""]
[166,{"$nulls":8},"　",{"$nulls":3},122,"",{"$nulls":6},"","       ","       ","","","","","","","","","","",null,"","             ","             ","","","","","","","","","","","","","",null,""]
[167,{"$nulls":8},"　",{"$nulls":3},122,"",{"$nulls":6},"","       ","       ","","","","","","","","","","",null,"","             ","             ","","","","","","","","","","","","","",null,""]
[168,{"$nulls":8},"　",{"$nulls":3},122,"",{"$nulls":6},"","       ","       ","","","","","","","","","","",null,"","             ","             ","","","","","","","","","","","","","",null,""]
[169,{"$nulls":8},"　",{"$nulls":3},122,"",{"$nulls":6},"","       ","       ","","","","","","","","","","",null,"","             ","             ","","","","","","","","","","","","","",null,""]
[{"$f":"ROW(A183)-13","v":170},{"$nulls":8},{"$f":"H183&\"　\"&I183","v":"　"},{"$nulls":3},122,"",{"$nulls":6},"",{"$f":"IF(ISERROR(SUBSTITUTE(X183,0,\"\")),\"\",SUBSTITUTE(X183,0,\"\"))","v":"       "},{"$f":"IF(ISERROR(CONCATENATE(Y183,\" \",Z183,,\" \",AA183,,\" \",AB183,,\" \",AC183,,\" \",AD183,,\" \",AE183,,\" \",AF183)),\"\",CONCATENATE(Y183,\" \",Z183,,\" \",AA183,,\" \",AB183,,\" \",AC183,,\" \",AD183,,\" \",AE183,,\" \",AF183))","v":"       "},"","","","","","","","","","",null,"",{"$f":"IF(ISERROR(SUBSTITUTE(AL183,0,\"\")),\"\",SUBSTITUTE(AL183,0,\"\"))","v":"             "},{"$f":"IF(ISERROR(CONCATENATE(AM183,\" \",AN183,,\" \",AO183,,\" \",AP183,,\" \",AQ183,,\" \",AR183,,\" \",AS183,,\" \",AT183,\" \",AU183,\" \",AV183,\" \",AW183,\" \",AX183,\" \",AY183,\" \",BA183)),\"\",CONCATENATE(AM183,\" \",AN183,,\" \",AO183,,\" \",AP183,,\" \",AQ183,,\" \",AR183,,\" \",AS183,,\" \",AT183,\" \",AU183,\" \",AV183,\" \",AW183,\" \",AX183,\" \",AY183,\" \",BA183))","v":"             "},"","","","","","","","","","","","","",null,""]
[171,{"$nulls":8},"　",{"$nulls":3},122,"",{"$nulls":6},"","       ","       ","","","","","","","","","","",null,"","             ","             ","","","","","","","","","","","","","",null,""]
[172,{"$nulls":8},"　",{"$nulls":3},122,"",{"$nulls":6},"","       ","       ","","","","","","","","","","",null,"","             ","             ","","","","","","","","","","","","","",null,""]
[173,{"$nulls":8},"　",{"$nulls":3},122,"",{"$nulls":6},"","       ","       ","","","","","","","","","","",null,"","             ","             ","","","","","","","","","","","","","",null,""]
[174,{"$nulls":8},"　",{"$nulls":3},122,"",{"$nulls":6},"","       ","       ","","","","","","","","","","",null,"","             ","             ","","","","","","","","","","","","","",null,""]
[175,{"$nulls":8},"　",{"$nulls":3},122,"",{"$nulls":6},"","       ","       ","","","","","","","","","","",null,"","             ","             ","","","","","","","","","","","","","",null,""]
[176,{"$nulls":8},"　",{"$nulls":3},122,"",{"$nulls":6},"","       ","       ","","","","","","","","","","",null,"","             ","             ","","","","","","","","","","","","","",null,""]
[12,{"$nulls":8},"　",{"$nulls":3},122,"",{"$nulls":6},"","       ","       ","","","","","","","","","","",null,"","             ","             ","","","","","","","","","","","","","",null,""]
[178,{"$nulls":8},"　",{"$nulls":3},122,"",{"$nulls":6},"","       ","       ","","","","","","","","","","",null,"","             ","             ","","","","","","","","","","","","","",null,""]
[179,{"$nulls":8},"　",{"$nulls":3},122,"",{"$nulls":6},"","       ","       ","","","","","","","","","","",null,"","             ","             ","","","","","","","","","","","","","",null,""]
[180,{"$nulls":8},"　",{"$nulls":3},122,"",{"$nulls":6},"","       ","       ","","","","","","","","","","",null,"","             ","             ","","","","","","","","","","","","","",null,""]
[181,{"$nulls":8},"　",{"$nulls":3},122,"",{"$nulls":6},"","       ","       ","","","","","","","","","","",null,"","             ","             ","","","","","","","","","","","","","",null,""]
[182,{"$nulls":8},"　",{"$nulls":3},122,"",{"$nulls":6},"","       ","       ","","","","","","","","","","",null,"","             ","             ","","","","","","","","","","","","","",null,""]
[183,{"$nulls":8},"　",{"$nulls":3},122,"",{"$nulls":6},"","       ","       ","","","","","","","","","","",null,"","             ","             ","","","","","","","","","","","","","",null,""]
[184,{"$nulls":8},"　",{"$nulls":3},122,"",{"$nulls":6},"","       ","       ","","","","","","","","","","",null,"","             ","             ","","","","","","","","","","","","","",null,""]
[185,{"$nulls":8},"　",{"$nulls":3},122,"",{"$nulls":6},"","       ","       ","","","","","","","","","","",null,"","             ","             ","","","","","","","","","","","","","",null,""]
[186,{"$nulls":8},"　",{"$nulls":3},122,"",{"$nulls":6},"","       ","       ","","","","","","","","","","",null,"","             ","             ","","","","","","","","","","","","","",null,""]
[187,{"$nulls":8},"　",{"$nulls":3},122,"",{"$nulls":6},"","       ","       ","","","","","","","","","","",null,"","             ","             ","","","","","","","","","","","","","",null,""]
[188,{"$nulls":8},"　",{"$nulls":3},122,"",{"$nulls":6},"","       ","       ","","","","","","","","","","",null,"","             ","             ","","","","","","","","","","","","","",null,""]
[189,{"$nulls":8},"　",{"$nulls":3},122,"",{"$nulls":6},"","       ","       ","","","","","","","","","","",null,"","             ","             ","","","","","","","","","","","","","",null,""]
[190,{"$nulls":8},"　",{"$nulls":3},122,"",{"$nulls":6},"","       ","       ","","","","","","","","","","",null,"","             ","             ","","","","","","","","","","","","","",null,""]
[191,{"$nulls":8},"　",{"$nulls":3},122,"",{"$nulls":6},"","       ","       ","","","","","","","","","","",null,"","             ","             ","","","","","","","","","","","","","",null,""]
[192,{"$nulls":8},"　",{"$nulls":3},122,"",{"$nulls":6},"","       ","       ","","","","","","","","","","",null,"","             ","             ","","","","","","","","","","","","","",null,""]
[193,{"$nulls":8},"　",{"$nulls":3},122,"",{"$nulls":6},{"$f":"IF(ISERROR(VLOOKUP($J206,INDIRECT($AX$1&\"!$E$2:$AH$800\"),14,0)),\"\",VLOOKUP($J206,INDIRECT($AX$1&\"!$E$2:$AH$800\"),14,0))","v":""},"       ","       ",{"$f":"IF(ISERROR(VLOOKUP($J206,INDIRECT($AX$1&\"!$E$2:$AH$800\"),15,0)),\"\",VLOOKUP($J206,INDIRECT($AX$1&\"!$E$2:$AH$800\"),15,0))","v":""},{"$f":"IF(ISERROR(VLOOKUP($J206,INDIRECT($AX$1&\"!$E$2:$AH$800\"),16,0)),\"\",VLOOKUP($J206,INDIRECT($AX$1&\"!$E$2:$AH$800\"),16,0))","v":""},{"$f":"IF(ISERROR(VLOOKUP($J206,INDIRECT($AX$1&\"!$E$2:$AH$800\"),17,0)),\"\",VLOOKUP($J206,INDIRECT($AX$1&\"!$E$2:$AH$800\"),17,0))","v":""},{"$f":"IF(ISERROR(VLOOKUP($J206,INDIRECT($AX$1&\"!$E$2:$AH$800\"),18,0)),\"\",VLOOKUP($J206,INDIRECT($AX$1&\"!$E$2:$AH$800\"),18,0))","v":""},{"$f":"IF(ISERROR(VLOOKUP($J206,INDIRECT($AX$1&\"!$E$2:$AH$800\"),19,0)),\"\",VLOOKUP($J206,INDIRECT($AX$1&\"!$E$2:$AH$800\"),19,0))","v":""},{"$f":"IF(ISERROR(VLOOKUP($J206,INDIRECT($AX$1&\"!$E$2:$AH$800\"),20,0)),\"\",VLOOKUP($J206,INDIRECT($AX$1&\"!$E$2:$AH$800\"),20,0))","v":""},{"$f":"IF(ISERROR(VLOOKUP($J206,INDIRECT($AX$1&\"!$E$2:$AH$800\"),21,0)),\"\",VLOOKUP($J206,INDIRECT($AX$1&\"!$E$2:$AH$800\"),21,0))","v":""},{"$f":"IF(ISERROR(VLOOKUP($J206,INDIRECT($AX$1&\"!$E$2:$AH$800\"),22,0)),\"\",VLOOKUP($J206,INDIRECT($AX$1&\"!$E$2:$AH$800\"),22,0))","v":""},{"$f":"IF(ISERROR(VLOOKUP($J206,INDIRECT($AX$1&\"!$E$2:$AH$800\"),30,0)),\"\",VLOOKUP($J206,INDIRECT($AX$1&\"!$E$2:$AH$800\"),30,0))","v":""},{"$f":"IF(ISERROR(VLOOKUP($J206,INDIRECT($AX$1&\"!$E$2:$AH$800\"),29,0)),\"\",VLOOKUP($J206,INDIRECT($AX$1&\"!$E$2:$AH$800\"),29,0))","v":""},null,{"$f":"IF(ISERROR(VLOOKUP($J206,INDIRECT($AW$1&\"!$E$2:$AH$800\"),14,0)),\"\",VLOOKUP($J206,INDIRECT($AW$1&\"!$E$2:$AH$800\"),14,0))","v":""},"             ","             ",{"$f":"IF(ISERROR(VLOOKUP($J206,INDIRECT($AW$1&\"!$E$2:$AH$800\"),15,0)),\"\",VLOOKUP($J206,INDIRECT($AW$1&\"!$E$2:$AH$800\"),15,0))","v":""},{"$f":"IF(ISERROR(VLOOKUP($J206,INDIRECT($AW$1&\"!$E$2:$AH$800\"),16,0)),\"\",VLOOKUP($J206,INDIRECT($AW$1&\"!$E$2:$AH$800\"),16,0))","v":""},{"$f":"IF(ISERROR(VLOOKUP($J206,INDIRECT($AW$1&\"!$E$2:$AH$800\"),17,0)),\"\",VLOOKUP($J206,INDIRECT($AW$1&\"!$E$2:$AH$800\"),17,0))","v":""},{"$f":"IF(ISERROR(VLOOKUP($J206,INDIRECT($AW$1&\"!$E$2:$AH$800\"),18,0)),\"\",VLOOKUP($J206,INDIRECT($AW$1&\"!$E$2:$AH$800\"),18,0))","v":""},{"$f":"IF(ISERROR(VLOOKUP($J206,INDIRECT($AW$1&\"!$E$2:$AH$800\"),19,0)),\"\",VLOOKUP($J206,INDIRECT($AW$1&\"!$E$2:$AH$800\"),19,0))","v":""},{"$f":"IF(ISERROR(VLOOKUP($J206,INDIRECT($AW$1&\"!$E$2:$AH$800\"),20,0)),\"\",VLOOKUP($J206,INDIRECT($AW$1&\"!$E$2:$AH$800\"),20,0))","v":""},{"$f":"IF(ISERROR(VLOOKUP($J206,INDIRECT($AW$1&\"!$E$2:$AH$800\"),21,0)),\"\",VLOOKUP($J206,INDIRECT($AW$1&\"!$E$2:$AH$800\"),21,0))","v":""},{"$f":"IF(ISERROR(VLOOKUP($J206,INDIRECT($AW$1&\"!$E$2:$AH$800\"),22,0)),\"\",VLOOKUP($J206,INDIRECT($AW$1&\"!$E$2:$AH$800\"),22,0))","v":""},{"$f":"IF(ISERROR(VLOOKUP($J206,INDIRECT($AW$1&\"!$E$2:$AH$800\"),23,0)),\"\",VLOOKUP($J206,INDIRECT($AW$1&\"!$E$2:$AH$800\"),23,0))","v":""},{"$f":"IF(ISERROR(VLOOKUP($J206,INDIRECT($AW$1&\"!$E$2:$AH$800\"),24,0)),\"\",VLOOKUP($J206,INDIRECT($AW$1&\"!$E$2:$AH$800\"),24,0))","v":""},{"$f":"IF(ISERROR(VLOOKUP($J206,INDIRECT($AW$1&\"!$E$2:$AH$800\"),25,0)),\"\",VLOOKUP($J206,INDIRECT($AW$1&\"!$E$2:$AH$800\"),25,0))","v":""},{"$f":"IF(ISERROR(VLOOKUP($J206,INDIRECT($AW$1&\"!$E$2:$AH$800\"),26,0)),\"\",VLOOKUP($J206,INDIRECT($AW$1&\"!$E$2:$AH$800\"),26,0))","v":""},{"$f":"IF(ISERROR(VLOOKUP($J206,INDIRECT($AW$1&\"!$E$2:$AH$800\"),27,0)),\"\",VLOOKUP($J206,INDIRECT($AW$1&\"!$E$2:$AH$800\"),27,0))","v":""},null,{"$f":"IF(ISERROR(VLOOKUP($J206,INDIRECT($AW$1&\"!$E$2:$AH$800\"),28,0)),\"\",VLOOKUP($J206,INDIRECT($AW$1&\"!$E$2:$AH$800\"),28,0))","v":""}]
[194,{"$nulls":8},"　",{"$nulls":3},{"$f":"DATEDIF(L207,\"2022/4/1\",\"Y\")","v":122},{"$f":"IF(N207=122,\"\",N207)","v":""},{"$nulls":6},"","       ","       ","","","","","","","","","","",null,"","             ","             ","","","","","","","","","","","","","",null,""]
[195,{"$nulls":8},"　",{"$nulls":3},122,"",{"$nulls":6},"","       ","       ","","","","","","","","","","",null,"","             ","             ","","","","","","","","","","","","","",null,""]
[196,{"$nulls":8},"　",{"$nulls":3},122,"",{"$nulls":6},"","       ","       ","","","","","","","","","","",null,"","             ","             ","","","","","","","","","","","","","",null,""]
[197,{"$nulls":8},"　",{"$nulls":3},122,"",{"$nulls":6},"","       ","       ","","","","","","","","","","",null,"","             ","             ","","","","","","","","","","","","","",null,""]
[198,{"$nulls":8},"　",{"$nulls":3},122,"",{"$nulls":6},"","       ","       ","","","","","","","","","","",null,"","             ","             ","","","","","","","","","","","","","",null,""]
[199,{"$nulls":8},"　",{"$nulls":3},122,"",{"$nulls":6},"","       ","       ","","","","","","","","","","",null,"","             ","             ","","","","","","","","","","","","","",null,""]
[200,{"$nulls":8},"　",{"$nulls":3},122,"",{"$nulls":6},"","       ","       ","","","","","","","","","","",null,"","             ","             ","","","","","","","","","","","","","",null,""]
[201,{"$nulls":8},"　",{"$nulls":3},122,"",{"$nulls":6},"","       ","       ","","","","","","","","","","",null,"","             ","             ","","","","","","","","","","","","","",null,""]
[202,{"$nulls":8},"　",{"$nulls":3},122,"",{"$nulls":6},"","       ","       ","","","","","","","","","","",null,"","             ","             ","","","","","","","","","","","","","",null,""]
[203,{"$nulls":8},"　",{"$nulls":3},122,"",{"$nulls":6},"","       ","       ","","","","","","","","","","",null,"","             ","             ","","","","","","","","","","","","","",null,""]
[204,{"$nulls":8},"　",{"$nulls":3},122,"",{"$nulls":6},"","       ","       ","","","","","","","","","","",null,"","             ","             ","","","","","","","","","","","","","",null,""]
[205,{"$nulls":8},"　",{"$nulls":3},122,"",{"$nulls":6},"","       ","       ","","","","","","","","","","",null,"","             ","             ","","","","","","","","","","","","","",null,""]
[206,{"$nulls":8},"　",{"$nulls":3},122,"",{"$nulls":6},"","       ","       ","","","","","","","","","","",null,"","             ","             ","","","","","","","","","","","","","",null,""]
[207,{"$nulls":8},"　",{"$nulls":3},122,"",{"$nulls":6},"","       ","       ","","","","","","","","","","",null,"","             ","             ","","","","","","","","","","","","","",null,""]
[208,{"$nulls":8},"　",{"$nulls":3},122,"",{"$nulls":6},"","       ","       ","","","","","","","","","","",null,"","             ","             ","","","","","","","","","","","","","",null,""]
[209,{"$nulls":8},"　",{"$nulls":3},122,"",{"$nulls":6},"","       ","       ","","","","","","","","","","",null,"","             ","             ","","","","","","","","","","","","","",null,""]
[210,{"$nulls":8},"　",{"$nulls":3},122,"",{"$nulls":6},"","       ","       ","","","","","","","","","","",null,"","             ","             ","","","","","","","","","","","","","",null,""]
[211,{"$nulls":8},"　",{"$nulls":3},122,"",{"$nulls":6},"","       ","       ","","","","","","","","","","",null,"","             ","             ","","","","","","","","","","","","","",null,""]
[212,{"$nulls":8},"　",{"$nulls":3},122,"",{"$nulls":6},"","       ","       ","","","","","","","","","","",null,"","             ","             ","","","","","","","","","","","","","",null,""]
[213,{"$nulls":8},"　",{"$nulls":3},122,"",{"$nulls":6},"","       ","       ","","","","","","","","","","",null,"","             ","             ","","","","","","","","","","","","","",null,""]
[214,{"$nulls":8},"　",{"$nulls":3},122,"",{"$nulls":6},"","       ","       ","","","","","","","","","","",null,"","             ","             ","","","","","","","","","","","","","",null,""]
[215,{"$nulls":8},"　",{"$nulls":3},122,"",{"$nulls":6},"","       ","       ","","","","","","","","","","",null,"","             ","             ","","","","","","","","","","","","","",null,""]
[216,{"$nulls":8},"　",{"$nulls":3},122,"",{"$nulls":6},"","       ","       ","","","","","","","","","","",null,"","             ","             ","","","","","","","","","","","","","",null,""]
[217,{"$nulls":8},"　",{"$nulls":3},122,"",{"$nulls":6},"","       ","       ","","","","","","","","","","",null,"","             ","             ","","","","","","","","","","","","","",null,""]
[218,{"$nulls":8},"　",{"$nulls":3},122,"",{"$nulls":6},"","       ","       ","","","","","","","","","","",null,"","             ","             ","","","","","","","","","","","","","",null,""]
[219,{"$nulls":8},"　",{"$nulls":3},122,"",{"$nulls":6},"","       ","       ","","","","","","","","","","",null,"","             ","             ","","","","","","","","","","","","","",null,""]
[220,{"$nulls":8},"　",{"$nulls":3},122,"",{"$nulls":6},"","       ","       ","","","","","","","","","","",null,"","             ","             ","","","","","","","","","","","","","",null,""]
[221,{"$nulls":8},"　",{"$nulls":3},122,"",{"$nulls":6},"","       ","       ","","","","","","","","","","",null,"","             ","             ","","","","","","","","","","","","","",null,""]
[222,{"$nulls":8},"　",{"$nulls":3},122,"",{"$nulls":6},"","       ","       ","","","","","","","","","","",null,"","             ","             ","","","","","","","","","","","","","",null,""]
[223,{"$nulls":8},"　",{"$nulls":3},122,"",{"$nulls":6},"","       ","       ","","","","","","","","","","",null,"","             ","             ","","","","","","","","","","","","","",null,""]
[224,{"$nulls":8},"　",{"$nulls":3},122,"",{"$nulls":6},"","       ","       ","","","","","","","","","","",null,"","             ","             ","","","","","","","","","","","","","",null,""]
[225,{"$nulls":8},"　",{"$nulls":3},122,"",{"$nulls":6},"","       ","       ","","","","","","","","","","",null,"","             ","             ","","","","","","","","","","","","","",null,""]

{"sheet":"torikomi","index":3,"n_rows":262,"n_cols":53,"rows_kept":262,"hidden":true}
[]
[null,"予約日_西暦8桁","時間帯","契約コード(親番)","契約コード(枝番)","団体ｺｰﾄﾞ(親)","団体ｺｰﾄﾞ(枝)","コースコード","個人番号_ｼｽﾃﾑ桁数適用","カナ氏名","漢字氏名","性別","生年月日_西暦8桁","所属ｺｰﾄﾞ","所属内番号","保険者番号","保険証記号","保険証番号","送付先区分","自宅_郵便番号","自宅_住所１","自宅_住所2","自宅_ＴＥＬ","協会健保整理番号","受診券整理番号","受診券有効期限","追加項目①","追加・削除区分①","追加項目②","追加・削除区分②","追加項目③","追加・削除区分③","追加項目④","追加・削除区分④","追加項目⑤","追加・削除区分⑤","追加項目⑥","追加・削除区分⑥","追加項目⑦","追加・削除区分⑦","追加項目⑧","追加・削除区分⑧","追加項目⑨","追加・削除区分⑨","追加項目⑩","追加・削除区分⑩","予約時ｺﾒﾝﾄ","属性要素4(分会)","属性要素5(群)","連絡先_郵便番号","連絡先_住所１","連絡先_住所２","連絡先_TEL"]
[null,{"$f":"IF(spreedResult.!B14<>\"\",TEXT(spreedResult.!B14,\"YYYY\")&TEXT(spreedResult.!B14,\"MM\")&TEXT(spreedResult.!B14,\"DD\"),\"\")","v":""},{"$f":"IF(spreedResult.!C14<>\"\",VLOOKUP(spreedResult.!C14,spreedResult.!AU2:AV13,2,0),\"\")","v":""},{"$nulls":4},{"$f":"IF(spreedResult.!P14<>\"\",VLOOKUP(spreedResult.!P14,Course!$A$2:$B$612,2,0),\"\")","v":""},null,{"$f":"CONCATENATE(TRIM(ASC(spreedResult.!F14)),\" \",TRIM(ASC(spreedResult.!G14)))","v":" "},{"$f":"CONCATENATE(TRIM(spreedResult.!H14),\"　\",TRIM(spreedResult.!I14))","v":"　"},{"$f":"IFERROR(VLOOKUP(spreedResult.!K14,spreedResult.!$AX$4:$AY$5,2,0),\"\")","v":""},{"$f":"IF(spreedResult.!L14<>\"\",TEXT(spreedResult.!L14,\"YYYY\")&TEXT(spreedResult.!L14,\"MM\")&TEXT(spreedResult.!L14,\"DD\"),\"\")","v":""},{"$nulls":4},{"$f":"IF(spreedResult.!M14<>\"\",spreedResult.!M14,\"\")","v":""},{"$f":"IF(spreedResult.!H14<>\"\",IF(spreedResult.!$I$8=\"左記ご住所に送付\",\"2\",\"\"),\"\")","v":""},{"$nulls":8},{"$f":"IF(ISNUMBER(AA3),\"1\",\"\")","v":""},null,{"$f":"IF(ISNUMBER(AC3),\"1\",\"\")","v":""},null,{"$f":"IF(ISNUMBER(AE3),\"1\",\"\")","v":""},null,{"$f":"IF(ISNUMBER(AG3),\"1\",\"\")","v":""},null,{"$f":"IF(ISNUMBER(AI3),\"1\",\"\")","v":""},null,{"$f":"IF(ISNUMBER(AK3),\"1\",\"\")","v":""},null,{"$f":"IF(ISNUMBER(AM3),\"1\",\"\")","v":""},null,{"$f":"IF(ISNUMBER(AO3),\"1\",\"\")","v":""},null,{"$f":"IF(ISNUMBER(AQ3),\"1\",\"\")","v":""},null,{"$f":"IF(ISNUMBER(AS3),\"1\",\"\")","v":""}]
[null,{"$f":"IF(spreedResult.!B15<>\"\",TEXT(spreedResult.!B15,\"YYYY\")&TEXT(spreedResult.!B15,\"MM\")&TEXT(spreedResult.!B15,\"DD\"),\"\")","v":""},{"$f":"IF(spreedResult.!C15<>\"\",VLOOKUP(spreedResult.!C15,spreedResult.!$AU$2:$AV$12,2,0),\"\")","v":""},{"$nulls":4},{"$f":"IF(spreedResult.!P15<>\"\",VLOOKUP(spreedResult.!P15,Course!$A$2:$B$612,2,0),\"\")","v":""},null,{"$f":"CONCATENATE(TRIM(ASC(spreedResult.!F15)),\" \",TRIM(ASC(spreedResult.!G15)))","v":" "},{"$f":"CONCATENATE(TRIM(spreedResult.!H15),\"　\",TRIM(spreedResult.!I15))","v":"　"},{"$f":"IFERROR(VLOOKUP(spreedResult.!K15,spreedResult.!$AX$4:$AY$5,2,0),\"\")","v":""},{"$f":"IF(spreedResult.!L15<>\"\",TEXT(spreedResult.!L15,\"YYYY\")&TEXT(spreedResult.!L15,\"MM\")&TEXT(spreedResult.!L15,\"DD\"),\"\")","v":""},{"$nulls":4},{"$f":"IF(spreedResult.!M15<>\"\",spreedResult.!M15,\"\")","v":""},{"$f":"IF(spreedResult.!H15<>\"\",IF(spreedResult.!$I$8=\"左記ご住所に送付\",\"2\",\"\"),\"\")","v":""},{"$nulls":8},{"$f":"IF(ISNUMBER(AA4),\"1\",\"\")","v":""},null,{"$f":"IF(ISNUMBER(AC4),\"1\",\"\")","v":""},null,{"$f":"IF(ISNUMBER(AE4),\"1\",\"\")","v":""},null,{"$f":"IF(ISNUMBER(AG4),\"1\",\"\")","v":""},null,{"$f":"IF(ISNUMBER(AI4),\"1\",\"\")","v":""},null,{"$f":"IF(ISNUMBER(AK4),\"1\",\"\")","v":""},null,{"$f":"IF(ISNUMBER(AM4),\"1\",\"\")","v":""},null,{"$f":"IF(ISNUMBER(AO4),\"1\",\"\")","v":""},null,{"$f":"IF(ISNUMBER(AQ4),\"1\",\"\")","v":""},null,{"$f":"IF(ISNUMBER(AS4),\"1\",\"\")","v":""}]
[null,{"$f":"IF(spreedResult.!B16<>\"\",TEXT(spreedResult.!B16,\"YYYY\")&TEXT(spreedResult.!B16,\"MM\")&TEXT(spreedResult.!B16,\"DD\"),\"\")","v":""},{"$f":"IF(spreedResult.!C16<>\"\",VLOOKUP(spreedResult.!C16,spreedResult.!$AU$2:$AV$12,2,0),\"\")","v":""},{"$nulls":4},{"$f":"IF(spreedResult.!P16<>\"\",VLOOKUP(spreedResult.!P16,Course!$A$2:$B$612,2,0),\"\")","v":""},null,{"$f":"CONCATENATE(TRIM(ASC(spreedResult.!F16)),\" \",TRIM(ASC(spreedResult.!G16)))","v":" "},{"$f":"CONCATENATE(TRIM(spreedResult.!H16),\"　\",TRIM(spreedResult.!I16))","v":"　"},{"$f":"IFERROR(VLOOKUP(spreedResult.!K16,spreedResult.!$AX$4:$AY$5,2,0),\"\")","v":""},{"$f":"IF(spreedResult.!L16<>\"\",TEXT(spreedResult.!L16,\"YYYY\")&TEXT(spreedResult.!L16,\"MM\")&TEXT(spreedResult.!L16,\"DD\"),\"\")","v":""},{"$nulls":4},{"$f":"IF(spreedResult.!M16<>\"\",spreedResult.!M16,\"\")","v":""},{"$f":"IF(spreedResult.!H16<>\"\",IF(spreedResult.!$I$8=\"左記ご住所に送付\",\"2\",\"\"),\"\")","v":""},{"$nulls":8},{"$f":"IF(ISNUMBER(AA5),\"1\",\"\")","v":""},null,{"$f":"IF(ISNUMBER(AC5),\"1\",\"\")","v":""},null,{"$f":"IF(ISNUMBER(AE5),\"1\",\"\")","v":""},null,{"$f":"IF(ISNUMBER(AG5),\"1\",\"\")","v":""},null,{"$f":"IF(ISNUMBER(AI5),\"1\",\"\")","v":""},null,{"$f":"IF(ISNUMBER(AK5),\"1\",\"\")","v":""},null,{"$f":"IF(ISNUMBER(AM5),\"1\",\"\")","v":""},null,{"$f":"IF(ISNUMBER(AO5),\"1\",\"\")","v":""},null,{"$f":"IF(ISNUMBER(AQ5),\"1\",\"\")","v":""},null,{"$f":"IF(ISNUMBER(AS5),\"1\",\"\")","v":""}]
[null,{"$f":"IF(spreedResult.!B17<>\"\",TEXT(spreedResult.!B17,\"YYYY\")&TEXT(spreedResult.!B17,\"MM\")&TEXT(spreedResult.!B17,\"DD\"),\"\")","v":""},{"$f":"IF(spreedResult.!C17<>\"\",VLOOKUP(spreedResult.!C17,spreedResult.!$AU$2:$AV$12,2,0),\"\")","v":""},{"$nulls":4},{"$f":"IF(spreedResult.!P17<>\"\",VLOOKUP(spreedResult.!P17,Course!$A$2:$B$612,2,0),\"\")","v":""},null,{"$f":"CONCATENATE(TRIM(ASC(spreedResult.!F17)),\" \",TRIM(ASC(spreedResult.!G17)))","v":" "},{"$f":"CONCATENATE(TRIM(spreedResult.!H17),\"　\",TRIM(spreedResult.!I17))","v":"　"},{"$f":"IFERROR(VLOOKUP(spreedResult.!K17,spreedResult.!$AX$4:$AY$5,2,0),\"\")","v":""},{"$f":"IF(spreedResult.!L17<>\"\",TEXT(spreedResult.!L17,\"YYYY\")&TEXT(spreedResult.!L17,\"MM\")&TEXT(spreedResult.!L17,\"DD\"),\"\")","v":""},{"$nulls":4},{"$f":"IF(spreedResult.!M17<>\"\",spreedResult.!M17,\"\")","v":""},{"$f":"IF(spreedResult.!H17<>\"\",IF(spreedResult.!$I$8=\"左記ご住所に送付\",\"2\",\"\"),\"\")","v":""},{"$nulls":8},"",null,"",null,"",null,"",null,"",null,"",null,"",null,"",null,"",null,""]
[null,{"$f":"IF(spreedResult.!B18<>\"\",TEXT(spreedResult.!B18,\"YYYY\")&TEXT(spreedResult.!B18,\"MM\")&TEXT(spreedResult.!B18,\"DD\"),\"\")","v":""},{"$f":"IF(spreedResult.!C18<>\"\",VLOOKUP(spreedResult.!C18,spreedResult.!$AU$2:$AV$12,2,0),\"\")","v":""},{"$nulls":4},{"$f":"IF(spreedResult.!P18<>\"\",VLOOKUP(spreedResult.!P18,Course!$A$2:$B$612,2,0),\"\")","v":""},null,{"$f":"CONCATENATE(TRIM(ASC(spreedResult.!F18)),\" \",TRIM(ASC(spreedResult.!G18)))","v":" "},{"$f":"CONCATENATE(TRIM(spreedResult.!H18),\"　\",TRIM(spreedResult.!I18))","v":"　"},{"$f":"IFERROR(VLOOKUP(spreedResult.!K18,spreedResult.!$AX$4:$AY$5,2,0),\"\")","v":""},{"$f":"IF(spreedResult.!L18<>\"\",TEXT(spreedResult.!L18,\"YYYY\")&TEXT(spreedResult.!L18,\"MM\")&TEXT(spreedResult.!L18,\"DD\"),\"\")","v":""},{"$nulls":4},{"$f":"IF(spreedResult.!M18<>\"\",spreedResult.!M18,\"\")","v":""},{"$f":"IF(spreedResult.!H18<>\"\",IF(spreedResult.!$I$8=\"左記ご住所に送付\",\"2\",\"\"),\"\")","v":""},{"$nulls":8},"",null,"",null,"",null,"",null,"",null,"",null,"",null,"",null,"",null,""]
[null,{"$f":"IF(spreedResult.!B19<>\"\",TEXT(spreedResult.!B19,\"YYYY\")&TEXT(spreedResult.!B19,\"MM\")&TEXT(spreedResult.!B19,\"DD\"),\"\")","v":""},{"$f":"IF(spreedResult.!C19<>\"\",VLOOKUP(spreedResult.!C19,spreedResult.!$AU$2:$AV$12,2,0),\"\")","v":""},{"$nulls":4},{"$f":"IF(spreedResult.!P19<>\"\",VLOOKUP(spreedResult.!P19,Course!$A$2:$B$612,2,0),\"\")","v":""},null,{"$f":"CONCATENATE(TRIM(ASC(spreedResult.!F19)),\" \",TRIM(ASC(spreedResult.!G19)))","v":" "},{"$f":"CONCATENATE(TRIM(spreedResult.!H19),\"　\",TRIM(spreedResult.!I19))","v":"　"},{"$f":"IFERROR(VLOOKUP(spreedResult.!K19,spreedResult.!$AX$4:$AY$5,2,0),\"\")","v":""},{"$f":"IF(spreedResult.!L19<>\"\",TEXT(spreedResult.!L19,\"YYYY\")&TEXT(spreedResult.!L19,\"MM\")&TEXT(spreedResult.!L19,\"DD\"),\"\")","v":""},{"$nulls":4},{"$f":"IF(spreedResult.!M19<>\"\",spreedResult.!M19,\"\")","v":""},{"$f":"IF(spreedResult.!H19<>\"\",IF(spreedResult.!$I$8=\"左記ご住所に送付\",\"2\",\"\"),\"\")","v":""},{"$nulls":8},"",null,"",null,"",null,"",null,"",null,"",null,"",null,"",null,"",null,""]
[null,{"$f":"IF(spreedResult.!B20<>\"\",TEXT(spreedResult.!B20,\"YYYY\")&TEXT(spreedResult.!B20,\"MM\")&TEXT(spreedResult.!B20,\"DD\"),\"\")","v":""},{"$f":"IF(spreedResult.!C20<>\"\",VLOOKUP(spreedResult.!C20,spreedResult.!$AU$2:$AV$12,2,0),\"\")","v":""},{"$nulls":4},{"$f":"IF(spreedResult.!P20<>\"\",VLOOKUP(spreedResult.!P20,Course!$A$2:$B$612,2,0),\"\")","v":""},null,{"$f":"CONCATENATE(TRIM(ASC(spreedResult.!F20)),\" \",TRIM(ASC(spreedResult.!G20)))","v":" "},{"$f":"CONCATENATE(TRIM(spreedResult.!H20),\"　\",TRIM(spreedResult.!I20))","v":"　"},{"$f":"IFERROR(VLOOKUP(spreedResult.!K20,spreedResult.!$AX$4:$AY$5,2,0),\"\")","v":""},{"$f":"IF(spreedResult.!L20<>\"\",TEXT(spreedResult.!L20,\"YYYY\")&TEXT(spreedResult.!L20,\"MM\")&TEXT(spreedResult.!L20,\"DD\"),\"\")","v":""},{"$nulls":4},{"$f":"IF(spreedResult.!M20<>\"\",spreedResult.!M20,\"\")","v":""},{"$f":"IF(spreedResult.!H20<>\"\",IF(spreedResult.!$I$8=\"左記ご住所に送付\",\"2\",\"\"),\"\")","v":""},{"$nulls":8},{"$f":"IF(ISNUMBER(AA9),\"1\",\"\")","v":""},null,{"$f":"IF(ISNUMBER(AC9),\"1\",\"\")","v":""},null,{"$f":"IF(ISNUMBER(AE9),\"1\",\"\")","v":""},null,{"$f":"IF(ISNUMBER(AG9),\"1\",\"\")","v":""},null,{"$f":"IF(ISNUMBER(AI9),\"1\",\"\")","v":""},null,{"$f":"IF(ISNUMBER(AK9),\"1\",\"\")","v":""},null,{"$f":"IF(ISNUMBER(AM9),\"1\",\"\")","v":""},null,{"$f":"IF(ISNUMBER(AO9),\"1\",\"\")","v":""},null,{"$f":"IF(ISNUMBER(AQ9),\"1\",\"\")","v":""},null,{"$f":"IF(ISNUMBER(AS9),\"1\",\"\")","v":""}]
[null,{"$f":"IF(spreedResult.!B21<>\"\",TEXT(spreedResult.!B21,\"YYYY\")&TEXT(spreedResult.!B21,\"MM\")&TEXT(spreedResult.!B21,\"DD\"),\"\")","v":""},{"$f":"IF(spreedResult.!C21<>\"\",VLOOKUP(spreedResult.!C21,spreedResult.!$AU$2:$AV$12,2,0),\"\")","v":""},{"$nulls":4},{"$f":"IF(spreedResult.!P21<>\"\",VLOOKUP(spreedResult.!P21,Course!$A$2:$B$612,2,0),\"\")","v":""},null,{"$f":"CONCATENATE(TRIM(ASC(spreedResult.!F21)),\" \",TRIM(ASC(spreedResult.!G21)))","v":" "},{"$f":"CONCATENATE(TRIM(spreedResult.!H21),\"　\",TRIM(spreedResult.!I21))","v":"　"},{"$f":"IFERROR(VLOOKUP(spreedResult.!K21,spreedResult.!$AX$4:$AY$5,2,0),\"\")","v":""},{"$f":"IF(spreedResult.!L21<>\"\",TEXT(spreedResult.!L21,\"YYYY\")&TEXT(spreedResult.!L21,\"MM\")&TEXT(spreedResult.!L21,\"DD\"),\"\")","v":""},{"$nulls":4},{"$f":"IF(spreedResult.!M21<>\"\",spreedResult.!M21,\"\")","v":""},{"$f":"IF(spreedResult.!H21<>\"\",IF(spreedResult.!$I$8=\"左記ご住所に送付\",\"2\",\"\"),\"\")","v":""},{"$nulls":8},"",null,"",null,"",null,"",null,"",null,"",null,"",null,"",null,"",null,""]
[null,{"$f":"IF(spreedResult.!B22<>\"\",TEXT(spreedResult.!B22,\"YYYY\")&TEXT(spreedResult.!B22,\"MM\")&TEXT(spreedResult.!B22,\"DD\"),\"\")","v":""},{"$f":"IF(spreedResult.!C22<>\"\",VLOOKUP(spreedResult.!C22,spreedResult.!$AU$2:$AV$12,2,0),\"\")","v":""},{"$nulls":4},{"$f":"IF(spreedResult.!P22<>\"\",VLOOKUP(spreedResult.!P22,Course!$A$2:$B$612,2,0),\"\")","v":""},null,{"$f":"CONCATENATE(TRIM(ASC(spreedResult.!F22)),\" \",TRIM(ASC(spreedResult.!G22)))","v":" "},{"$f":"CONCATENATE(TRIM(spreedResult.!H22),\"　\",TRIM(spreedResult.!I22))","v":"　"},{"$f":"IFERROR(VLOOKUP(spreedResult.!K22,spreedResult.!$AX$4:$AY$5,2,0),\"\")","v":""},{"$f":"IF(spreedResult.!L22<>\"\",TEXT(spreedResult.!L22,\"YYYY\")&TEXT(spreedResult.!L22,\"MM\")&TEXT(spreedResult.!L22,\"DD\"),\"\")","v":""},{"$nulls":4},{"$f":"IF(spreedResult.!M22<>\"\",spreedResult.!M22,\"\")","v":""},{"$f":"IF(spreedResult.!H22<>\"\",IF(spreedResult.!$I$8=\"左記ご住所に送付\",\"2\",\"\"),\"\")","v":""},{"$nulls":8},"",null,"",null,"",null,"",null,"",null,"",null,"",null,"",null,"",null,""]
[null,{"$f":"IF(spreedResult.!B23<>\"\",TEXT(spreedResult.!B23,\"YYYY\")&TEXT(spreedResult.!B23,\"MM\")&TEXT(spreedResult.!B23,\"DD\"),\"\")","v":""},{"$f":"IF(spreedResult.!C23<>\"\",VLOOKUP(spreedResult.!C23,spreedResult.!$AU$2:$AV$12,2,0),\"\")","v":""},{"$nulls":4},{"$f":"IF(spreedResult.!P23<>\"\",VLOOKUP(spreedResult.!P23,Course!$A$2:$B$612,2,0),\"\")","v":""},null,{"$f":"CONCATENATE(TRIM(ASC(spreedResult.!F23)),\" \",TRIM(ASC(spreedResult.!G23)))","v":" "},{"$f":"CONCATENATE(TRIM(spreedResult.!H23),\"　\",TRIM(spreedResult.!I23))","v":"　"},{"$f":"IFERROR(VLOOKUP(spreedResult.!K23,spreedResult.!$AX$4:$AY$5,2,0),\"\")","v":""},{"$f":"IF(spreedResult.!L23<>\"\",TEXT(spreedResult.!L23,\"YYYY\")&TEXT(spreedResult.!L23,\"MM\")&TEXT(spreedResult.!L23,\"DD\"),\"\")","v":""},{"$nulls":4},{"$f":"IF(spreedResult.!M23<>\"\",spreedResult.!M23,\"\")","v":""},{"$f":"IF(spreedResult.!H23<>\"\",IF(spreedResult.!$I$8=\"左記ご住所に送付\",\"2\",\"\"),\"\")","v":""},{"$nulls":8},"",null,"",null,"",null,"",null,"",null,"",null,"",null,"",null,"",null,""]
[null,{"$f":"IF(spreedResult.!B24<>\"\",TEXT(spreedResult.!B24,\"YYYY\")&TEXT(spreedResult.!B24,\"MM\")&TEXT(spreedResult.!B24,\"DD\"),\"\")","v":""},{"$f":"IF(spreedResult.!C24<>\"\",VLOOKUP(spreedResult.!C24,spreedResult.!$AU$2:$AV$12,2,0),\"\")","v":""},{"$nulls":4},{"$f":"IF(spreedResult.!P24<>\"\",VLOOKUP(spreedResult.!P24,Course!$A$2:$B$612,2,0),\"\")","v":""},null,{"$f":"CONCATENATE(TRIM(ASC(spreedResult.!F24)),\" \",TRIM(ASC(spreedResult.!G24)))","v":" "},{"$f":"CONCATENATE(TRIM(spreedResult.!H24),\"　\",TRIM(spreedResult.!I24))","v":"　"},{"$f":"IFERROR(VLOOKUP(spreedResult.!K24,spreedResult.!$AX$4:$AY$5,2,0),\"\")","v":""},{"$f":"IF(spreedResult.!L24<>\"\",TEXT(spreedResult.!L24,\"YYYY\")&TEXT(spreedResult.!L24,\"MM\")&TEXT(spreedResult.!L24,\"DD\"),\"\")","v":""},{"$nulls":4},{"$f":"IF(spreedResult.!M24<>\"\",spreedResult.!M24,\"\")","v":""},{"$f":"IF(spreedResult.!H24<>\"\",IF(spreedResult.!$I$8=\"左記ご住所に送付\",\"2\",\"\"),\"\")","v":""},{"$nulls":8},"",null,"",null,"",null,"",null,"",null,"",null,"",null,"",null,"",null,""]
[null,{"$f":"IF(spreedResult.!B25<>\"\",TEXT(spreedResult.!B25,\"YYYY\")&TEXT(spreedResult.!B25,\"MM\")&TEXT(spreedResult.!B25,\"DD\"),\"\")","v":""},{"$f":"IF(spreedResult.!C25<>\"\",VLOOKUP(spreedResult.!C25,spreedResult.!$AU$2:$AV$12,2,0),\"\")","v":""},{"$nulls":4},{"$f":"IF(spreedResult.!P25<>\"\",VLOOKUP(spreedResult.!P25,Course!$A$2:$B$612,2,0),\"\")","v":""},null,{"$f":"CONCATENATE(TRIM(ASC(spreedResult.!F25)),\" \",TRIM(ASC(spreedResult.!G25)))","v":" "},{"$f":"CONCATENATE(TRIM(spreedResult.!H25),\"　\",TRIM(spreedResult.!I25))","v":"　"},{"$f":"IFERROR(VLOOKUP(spreedResult.!K25,spreedResult.!$AX$4:$AY$5,2,0),\"\")","v":""},{"$f":"IF(spreedResult.!L25<>\"\",TEXT(spreedResult.!L25,\"YYYY\")&TEXT(spreedResult.!L25,\"MM\")&TEXT(spreedResult.!L25,\"DD\"),\"\")","v":""},{"$nulls":4},{"$f":"IF(spreedResult.!M25<>\"\",spreedResult.!M25,\"\")","v":""},{"$f":"IF(spreedResult.!H25<>\"\",IF(spreedResult.!$I$8=\"左記ご住所に送付\",\"2\",\"\"),\"\")","v":""},{"$nulls":8},"",null,"",null,"",null,"",null,"",null,"",null,"",null,"",null,"",null,""]
[null,{"$f":"IF(spreedResult.!B26<>\"\",TEXT(spreedResult.!B26,\"YYYY\")&TEXT(spreedResult.!B26,\"MM\")&TEXT(spreedResult.!B26,\"DD\"),\"\")","v":""},{"$f":"IF(spreedResult.!C26<>\"\",VLOOKUP(spreedResult.!C26,spreedResult.!$AU$2:$AV$12,2,0),\"\")","v":""},{"$nulls":4},{"$f":"IF(spreedResult.!P26<>\"\",VLOOKUP(spreedResult.!P26,Course!$A$2:$B$612,2,0),\"\")","v":""},null,{"$f":"CONCATENATE(TRIM(ASC(spreedResult.!F26)),\" \",TRIM(ASC(spreedResult.!G26)))","v":" "},{"$f":"CONCATENATE(TRIM(spreedResult.!H26),\"　\",TRIM(spreedResult.!I26))","v":"　"},{"$f":"IFERROR(VLOOKUP(spreedResult.!K26,spreedResult.!$AX$4:$AY$5,2,0),\"\")","v":""},{"$f":"IF(spreedResult.!L26<>\"\",TEXT(spreedResult.!L26,\"YYYY\")&TEXT(spreedResult.!L26,\"MM\")&TEXT(spreedResult.!L26,\"DD\"),\"\")","v":""},{"$nulls":4},{"$f":"IF(spreedResult.!M26<>\"\",spreedResult.!M26,\"\")","v":""},{"$f":"IF(spreedResult.!H26<>\"\",IF(spreedResult.!$I$8=\"左記ご住所に送付\",\"2\",\"\"),\"\")","v":""},{"$nulls":8},"",null,"",null,"",null,"",null,"",null,"",null,"",null,"",null,"",null,""]
[null,{"$f":"IF(spreedResult.!B27<>\"\",TEXT(spreedResult.!B27,\"YYYY\")&TEXT(spreedResult.!B27,\"MM\")&TEXT(spreedResult.!B27,\"DD\"),\"\")","v":""},{"$f":"IF(spreedResult.!C27<>\"\",VLOOKUP(spreedResult.!C27,spreedResult.!$AU$2:$AV$12,2,0),\"\")","v":""},{"$nulls":4},{"$f":"IF(spreedResult.!P27<>\"\",VLOOKUP(spreedResult.!P27,Course!$A$2:$B$612,2,0),\"\")","v":""},null,{"$f":"CONCATENATE(TRIM(ASC(spreedResult.!F27)),\" \",TRIM(ASC(spreedResult.!G27)))","v":" "},{"$f":"CONCATENATE(TRIM(spreedResult.!H27),\"　\",TRIM(spreedResult.!I27))","v":"　"},{"$f":"IFERROR(VLOOKUP(spreedResult.!K27,spreedResult.!$AX$4:$AY$5,2,0),\"\")","v":""},{"$f":"IF(spreedResult.!L27<>\"\",TEXT(spreedResult.!L27,\"YYYY\")&TEXT(spreedResult.!L27,\"MM\")&TEXT(spreedResult.!L27,\"DD\"),\"\")","v":""},null,null,{"$f":"IF(spreedResult.!$F27<>\"\",spreedResult.!$C$10,\"\")","v":""},{"$f":"IF(spreedResult.!$F27<>\"\",spreedResult.!$C$9,\"\")","v":""},{"$f":"IF(spreedResult.!M27<>\"\",spreedResult.!M27,\"\")","v":""},{"$f":"IF(spreedResult.!H27<>\"\",IF(spreedResult.!$I$8=\"左記ご住所に送付\",\"2\",\"\"),\"\")","v":""},{"$nulls":8},"",null,"",null,"",null,"",null,"",null,"",null,"",null,"",null,"",null,""]
[null,{"$f":"IF(spreedResult.!B28<>\"\",TEXT(spreedResult.!B28,\"YYYY\")&TEXT(spreedResult.!B28,\"MM\")&TEXT(spreedResult.!B28,\"DD\"),\"\")","v":""},{"$f":"IF(spreedResult.!C28<>\"\",VLOOKUP(spreedResult.!C28,spreedResult.!$AU$2:$AV$12,2,0),\"\")","v":""},{"$nulls":4},{"$f":"IF(spreedResult.!P28<>\"\",VLOOKUP(spreedResult.!P28,Course!$A$2:$B$612,2,0),\"\")","v":""},null,{"$f":"CONCATENATE(TRIM(ASC(spreedResult.!F28)),\" \",TRIM(ASC(spreedResult.!G28)))","v":" "},{"$f":"CONCATENATE(TRIM(spreedResult.!H28),\"　\",TRIM(spreedResult.!I28))","v":"　"},{"$f":"IFERROR(VLOOKUP(spreedResult.!K28,spreedResult.!$AX$4:$AY$5,2,0),\"\")","v":""},{"$f":"IF(spreedResult.!L28<>\"\",TEXT(spreedResult.!L28,\"YYYY\")&TEXT(spreedResult.!L28,\"MM\")&TEXT(spreedResult.!L28,\"DD\"),\"\")","v":""},null,null,{"$f":"IF(spreedResult.!$F28<>\"\",spreedResult.!$C$10,\"\")","v":""},{"$f":"IF(spreedResult.!$F28<>\"\",spreedResult.!$C$9,\"\")","v":""},{"$f":"IF(spreedResult.!M28<>\"\",spreedResult.!M28,\"\")","v":""},{"$f":"IF(spreedResult.!H28<>\"\",IF(spreedResult.!$I$8=\"左記ご住所に送付\",\"2\",\"\"),\"\")","v":""},{"$nulls":8},"",null,"",null,"",null,"",null,"",null,"",null,"",null,"",null,"",null,""]
[null,{"$f":"IF(spreedResult.!B29<>\"\",TEXT(spreedResult.!B29,\"YYYY\")&TEXT(spreedResult.!B29,\"MM\")&TEXT(spreedResult.!B29,\"DD\"),\"\")","v":""},{"$f":"IF(spreedResult.!C29<>\"\",VLOOKUP(spreedResult.!C29,spreedResult.!$AU$2:$AV$12,2,0),\"\")","v":""},{"$nulls":4},{"$f":"IF(spreedResult.!P29<>\"\",VLOOKUP(spreedResult.!P29,Course!$A$2:$B$612,2,0),\"\")","v":""},null,{"$f":"CONCATENATE(TRIM(ASC(spreedResult.!F29)),\" \",TRIM(ASC(spreedResult.!G29)))","v":" "},{"$f":"CONCATENATE(TRIM(spreedResult.!H29),\"　\",TRIM(spreedResult.!I29))","v":"　"},{"$f":"IFERROR(VLOOKUP(spreedResult.!K29,spreedResult.!$AX$4:$AY$5,2,0),\"\")","v":""},{"$f":"IF(spreedResult.!L29<>\"\",TEXT(spreedResult.!L29,\"YYYY\")&TEXT(spreedResult.!L29,\"MM\")&TEXT(spreedResult.!L29,\"DD\"),\"\")","v":""},null,null,{"$f":"IF(spreedResult.!$F29<>\"\",spreedResult.!$C$10,\"\")","v":""},{"$f":"IF(spreedResult.!$F29<>\"\",spreedResult.!$C$9,\"\")","v":""},{"$f":"IF(spreedResult.!M29<>\"\",spreedResult.!M29,\"\")","v":""},{"$f":"IF(spreedResult.!H29<>\"\",IF(spreedResult.!$I$8=\"左記ご住所に送付\",\"2\",\"\"),\"\")","v":""},{"$nulls":8},"",null,"",null,"",null,"",null,"",null,"",null,"",null,"",null,"",null,""]
[null,{"$f":"IF(spreedResult.!B30<>\"\",TEXT(spreedResult.!B30,\"YYYY\")&TEXT(spreedResult.!B30,\"MM\")&TEXT(spreedResult.!B30,\"DD\"),\"\")","v":""},{"$f":"IF(spreedResult.!C30<>\"\",VLOOKUP(spreedResult.!C30,spreedResult.!$AU$2:$AV$12,2,0),\"\")","v":""},{"$nulls":4},{"$f":"IF(spreedResult.!P30<>\"\",VLOOKUP(spreedResult.!P30,Course!$A$2:$B$612,2,0),\"\")","v":""},null,{"$f":"CONCATENATE(TRIM(ASC(spreedResult.!F30)),\" \",TRIM(ASC(spreedResult.!G30)))","v":" "},{"$f":"CONCATENATE(TRIM(spreedResult.!H30),\"　\",TRIM(spreedResult.!I30))","v":"　"},{"$f":"IFERROR(VLOOKUP(spreedResult.!K30,spreedResult.!$AX$4:$AY$5,2,0),\"\")","v":""},{"$f":"IF(spreedResult.!L30<>\"\",TEXT(spreedResult.!L30,\"YYYY\")&TEXT(spreedResult.!L30,\"MM\")&TEXT(spreedResult.!L30,\"DD\"),\"\")","v":""},null,null,{"$f":"IF(spreedResult.!$F30<>\"\",spreedResult.!$C$10,\"\")","v":""},{"$f":"IF(spreedResult.!$F30<>\"\",spreedResult.!$C$9,\"\")","v":""},{"$f":"IF(spreedResult.!M30<>\"\",spreedResult.!M30,\"\")","v":""},{"$f":"IF(spreedResult.!H30<>\"\",IF(spreedResult.!$I$8=\"左記ご住所に送付\",\"2\",\"\"),\"\")","v":""},{"$nulls":8},"",null,"",null,"",null,"",null,"",null,"",null,"",null,"",null,"",null,""]
[null,{"$f":"IF(spreedResult.!B31<>\"\",TEXT(spreedResult.!B31,\"YYYY\")&TEXT(spreedResult.!B31,\"MM\")&TEXT(spreedResult.!B31,\"DD\"),\"\")","v":""},{"$f":"IF(spreedResult.!C31<>\"\",VLOOKUP(spreedResult.!C31,spreedResult.!$AU$2:$AV$12,2,0),\"\")","v":""},{"$nulls":4},{"$f":"IF(spreedResult.!P31<>\"\",VLOOKUP(spreedResult.!P31,Course!$A$2:$B$612,2,0),\"\")","v":""},null,{"$f":"CONCATENATE(TRIM(ASC(spreedResult.!F31)),\" \",TRIM(ASC(spreedResult.!G31)))","v":" "},{"$f":"CONCATENATE(TRIM(spreedResult.!H31),\"　\",TRIM(spreedResult.!I31))","v":"　"},{"$f":"IFERROR(VLOOKUP(spreedResult.!K31,spreedResult.!$AX$4:$AY$5,2,0),\"\")","v":""},{"$f":"IF(spreedResult.!L31<>\"\",TEXT(spreedResult.!L31,\"YYYY\")&TEXT(spreedResult.!L31,\"MM\")&TEXT(spreedResult.!L31,\"DD\"),\"\")","v":""},null,null,{"$f":"IF(spreedResult.!$F31<>\"\",spreedResult.!$C$10,\"\")","v":""},{"$f":"IF(spreedResult.!$F31<>\"\",spreedResult.!$C$9,\"\")","v":""},{"$f":"IF(spreedResult.!M31<>\"\",spreedResult.!M31,\"\")","v":""},{"$f":"IF(spreedResult.!H31<>\"\",IF(spreedResult.!$I$8=\"左記ご住所に送付\",\"2\",\"\"),\"\")","v":""},{"$nulls":8},"",null,"",null,"",null,"",null,"",null,"",null,"",null,"",null,"",null,""]
[null,{"$f":"IF(spreedResult.!B32<>\"\",TEXT(spreedResult.!B32,\"YYYY\")&TEXT(spreedResult.!B32,\"MM\")&TEXT(spreedResult.!B32,\"DD\"),\"\")","v":""},{"$f":"IF(spreedResult.!C32<>\"\",VLOOKUP(spreedResult.!C32,spreedResult.!$AU$2:$AV$12,2,0),\"\")","v":""},{"$nulls":4},{"$f":"IF(spreedResult.!P32<>\"\",VLOOKUP(spreedResult.!P32,Course!$A$2:$B$612,2,0),\"\")","v":""},null,{"$f":"CONCATENATE(TRIM(ASC(spreedResult.!F32)),\" \",TRIM(ASC(spreedResult.!G32)))","v":" "},{"$f":"CONCATENATE(TRIM(spreedResult.!H32),\"　\",TRIM(spreedResult.!I32))","v":"　"},{"$f":"IFERROR(VLOOKUP(spreedResult.!K32,spreedResult.!$AX$4:$AY$5,2,0),\"\")","v":""},{"$f":"IF(spreedResult.!L32<>\"\",TEXT(spreedResult.!L32,\"YYYY\")&TEXT(spreedResult.!L32,\"MM\")&TEXT(spreedResult.!L32,\"DD\"),\"\")","v":""},null,null,{"$f":"IF(spreedResult.!$F32<>\"\",spreedResult.!$C$10,\"\")","v":""},{"$f":"IF(spreedResult.!$F32<>\"\",spreedResult.!$C$9,\"\")","v":""},{"$f":"IF(spreedResult.!M32<>\"\",spreedResult.!M32,\"\")","v":""},{"$f":"IF(spreedResult.!H32<>\"\",IF(spreedResult.!$I$8=\"左記ご住所に送付\",\"2\",\"\"),\"\")","v":""},{"$nulls":8},"",null,"",null,"",null,"",null,"",null,"",null,"",null,"",null,"",null,""]
[null,{"$f":"IF(spreedResult.!B33<>\"\",TEXT(spreedResult.!B33,\"YYYY\")&TEXT(spreedResult.!B33,\"MM\")&TEXT(spreedResult.!B33,\"DD\"),\"\")","v":""},{"$f":"IF(spreedResult.!C33<>\"\",VLOOKUP(spreedResult.!C33,spreedResult.!$AU$2:$AV$12,2,0),\"\")","v":""},{"$nulls":4},{"$f":"IF(spreedResult.!P33<>\"\",VLOOKUP(spreedResult.!P33,Course!$A$2:$B$612,2,0),\"\")","v":""},null,{"$f":"CONCATENATE(TRIM(ASC(spreedResult.!F33)),\" \",TRIM(ASC(spreedResult.!G33)))","v":" "},{"$f":"CONCATENATE(TRIM(spreedResult.!H33),\"　\",TRIM(spreedResult.!I33))","v":"　"},{"$f":"IFERROR(VLOOKUP(spreedResult.!K33,spreedResult.!$AX$4:$AY$5,2,0),\"\")","v":""},{"$f":"IF(spreedResult.!L33<>\"\",TEXT(spreedResult.!L33,\"YYYY\")&TEXT(spreedResult.!L33,\"MM\")&TEXT(spreedResult.!L33,\"DD\"),\"\")","v":""},null,null,{"$f":"IF(spreedResult.!$F33<>\"\",spreedResult.!$C$10,\"\")","v":""},{"$f":"IF(spreedResult.!$F33<>\"\",spreedResult.!$C$9,\"\")","v":""},{"$f":"IF(spreedResult.!M33<>\"\",spreedResult.!M33,\"\")","v":""},{"$f":"IF(spreedResult.!H33<>\"\",IF(spreedResult.!$I$8=\"左記ご住所に送付\",\"2\",\"\"),\"\")","v":""},{"$nulls":8},"",null,"",null,"",null,"",null,"",null,"",null,"",null,"",null,"",null,""]
[null,{"$f":"IF(spreedResult.!B34<>\"\",TEXT(spreedResult.!B34,\"YYYY\")&TEXT(spreedResult.!B34,\"MM\")&TEXT(spreedResult.!B34,\"DD\"),\"\")","v":""},{"$f":"IF(spreedResult.!C34<>\"\",VLOOKUP(spreedResult.!C34,spreedResult.!$AU$2:$AV$12,2,0),\"\")","v":""},{"$nulls":4},{"$f":"IF(spreedResult.!P34<>\"\",VLOOKUP(spreedResult.!P34,Course!$A$2:$B$612,2,0),\"\")","v":""},null,{"$f":"CONCATENATE(TRIM(ASC(spreedResult.!F34)),\" \",TRIM(ASC(spreedResult.!G34)))","v":" "},{"$f":"CONCATENATE(TRIM(spreedResult.!H34),\"　\",TRIM(spreedResult.!I34))","v":"　"},{"$f":"IFERROR(VLOOKUP(spreedResult.!K34,spreedResult.!$AX$4:$AY$5,2,0),\"\")","v":""},{"$f":"IF(spreedResult.!L34<>\"\",TEXT(spreedResult.!L34,\"YYYY\")&TEXT(spreedResult.!L34,\"MM\")&TEXT(spreedResult.!L34,\"DD\"),\"\")","v":""},null,null,{"$f":"IF(spreedResult.!$F34<>\"\",spreedResult.!$C$10,\"\")","v":""},{"$f":"IF(spreedResult.!$F34<>\"\",spreedResult.!$C$9,\"\")","v":""},{"$f":"IF(spreedResult.!M34<>\"\",spreedResult.!M34,\"\")","v":""},{"$f":"IF(spreedResult.!H34<>\"\",IF(spreedResult.!$I$8=\"左記ご住所に送付\",\"2\",\"\"),\"\")","v":""},{"$nulls":8},"",null,"",null,"",null,"",null,"",null,"",null,"",null,"",null,"",null,""]
[null,{"$f":"IF(spreedResult.!B35<>\"\",TEXT(spreedResult.!B35,\"YYYY\")&TEXT(spreedResult.!B35,\"MM\")&TEXT(spreedResult.!B35,\"DD\"),\"\")","v":""},{"$f":"IF(spreedResult.!C35<>\"\",VLOOKUP(spreedResult.!C35,spreedResult.!$AU$2:$AV$12,2,0),\"\")","v":""},{"$nulls":4},{"$f":"IF(spreedResult.!P35<>\"\",VLOOKUP(spreedResult.!P35,Course!$A$2:$B$612,2,0),\"\")","v":""},null,{"$f":"CONCATENATE(TRIM(ASC(spreedResult.!F35)),\" \",TRIM(ASC(spreedResult.!G35)))","v":" "},{"$f":"CONCATENATE(TRIM(spreedResult.!H35),\"　\",TRIM(spreedResult.!I35))","v":"　"},{"$f":"IFERROR(VLOOKUP(spreedResult.!K35,spreedResult.!$AX$4:$AY$5,2,0),\"\")","v":""},{"$f":"IF(spreedResult.!L35<>\"\",TEXT(spreedResult.!L35,\"YYYY\")&TEXT(spreedResult.!L35,\"MM\")&TEXT(spreedResult.!L35,\"DD\"),\"\")","v":""},null,null,{"$f":"IF(spreedResult.!$F35<>\"\",spreedResult.!$C$10,\"\")","v":""},{"$f":"IF(spreedResult.!$F35<>\"\",spreedResult.!$C$9,\"\")","v":""},{"$f":"IF(spreedResult.!M35<>\"\",spreedResult.!M35,\"\")","v":""},{"$f":"IF(spreedResult.!H35<>\"\",IF(spreedResult.!$I$8=\"左記ご住所に送付\",\"2\",\"\"),\"\")","v":""},{"$nulls":8},"",null,"",null,"",null,"",null,"",null,"",null,"",null,"",null,"",null,""]
[null,{"$f":"IF(spreedResult.!B36<>\"\",TEXT(spreedResult.!B36,\"YYYY\")&TEXT(spreedResult.!B36,\"MM\")&TEXT(spreedResult.!B36,\"DD\"),\"\")","v":""},{"$f":"IF(spreedResult.!C36<>\"\",VLOOKUP(spreedResult.!C36,spreedResult.!$AU$2:$AV$12,2,0),\"\")","v":""},{"$nulls":4},{"$f":"IF(spreedResult.!P36<>\"\",VLOOKUP(spreedResult.!P36,Course!$A$2:$B$612,2,0),\"\")","v":""},null,{"$f":"CONCATENATE(TRIM(ASC(spreedResult.!F36)),\" \",TRIM(ASC(spreedResult.!G36)))","v":" "},{"$f":"CONCATENATE(TRIM(spreedResult.!H36),\"　\",TRIM(spreedResult.!I36))","v":"　"},{"$f":"IFERROR(VLOOKUP(spreedResult.!K36,spreedResult.!$AX$4:$AY$5,2,0),\"\")","v":""},{"$f":"IF(spreedResult.!L36<>\"\",TEXT(spreedResult.!L36,\"YYYY\")&TEXT(spreedResult.!L36,\"MM\")&TEXT(spreedResult.!L36,\"DD\"),\"\")","v":""},null,null,{"$f":"IF(spreedResult.!$F36<>\"\",spreedResult.!$C$10,\"\")","v":""},{"$f":"IF(spreedResult.!$F36<>\"\",spreedResult.!$C$9,\"\")","v":""},{"$f":"IF(spreedResult.!M36<>\"\",spreedResult.!M36,\"\")","v":""},{"$f":"IF(spreedResult.!H36<>\"\",IF(spreedResult.!$I$8=\"左記ご住所に送付\",\"2\",\"\"),\"\")","v":""},{"$nulls":8},"",null,"",null,"",null,"",null,"",null,"",null,"",null,"",null,"",null,""]
[null,{"$f":"IF(spreedResult.!B37<>\"\",TEXT(spreedResult.!B37,\"YYYY\")&TEXT(spreedResult.!B37,\"MM\")&TEXT(spreedResult.!B37,\"DD\"),\"\")","v":""},{"$f":"IF(spreedResult.!C37<>\"\",VLOOKUP(spreedResult.!C37,spreedResult.!$AU$2:$AV$12,2,0),\"\")","v":""},{"$nulls":4},{"$f":"IF(spreedResult.!P37<>\"\",VLOOKUP(spreedResult.!P37,Course!$A$2:$B$612,2,0),\"\")","v":""},null,{"$f":"CONCATENATE(TRIM(ASC(spreedResult.!F37)),\" \",TRIM(ASC(spreedResult.!G37)))","v":" "},{"$f":"CONCATENATE(TRIM(spreedResult.!H37),\"　\",TRIM(spreedResult.!I37))","v":"　"},{"$f":"IFERROR(VLOOKUP(spreedResult.!K37,spreedResult.!$AX$4:$AY$5,2,0),\"\")","v":""},{"$f":"IF(spreedResult.!L37<>\"\",TEXT(spreedResult.!L37,\"YYYY\")&TEXT(spreedResult.!L37,\"MM\")&TEXT(spreedResult.!L37,\"DD\"),\"\")","v":""},null,null,{"$f":"IF(spreedResult.!$F37<>\"\",spreedResult.!$C$10,\"\")","v":""},{"$f":"IF(spreedResult.!$F37<>\"\",spreedResult.!$C$9,\"\")","v":""},{"$f":"IF(spreedResult.!M37<>\"\",spreedResult.!M37,\"\")","v":""},{"$f":"IF(spreedResult.!H37<>\"\",IF(spreedResult.!$I$8=\"左記ご住所に送付\",\"2\",\"\"),\"\")","v":""},{"$nulls":8},"",null,"",null,"",null,"",null,"",null,"",null,"",null,"",null,"",null,""]
[null,{"$f":"IF(spreedResult.!B38<>\"\",TEXT(spreedResult.!B38,\"YYYY\")&TEXT(spreedResult.!B38,\"MM\")&TEXT(spreedResult.!B38,\"DD\"),\"\")","v":""},{"$f":"IF(spreedResult.!C38<>\"\",VLOOKUP(spreedResult.!C38,spreedResult.!$AU$2:$AV$12,2,0),\"\")","v":""},{"$nulls":4},{"$f":"IF(spreedResult.!P38<>\"\",VLOOKUP(spreedResult.!P38,Course!$A$2:$B$612,2,0),\"\")","v":""},null,{"$f":"CONCATENATE(TRIM(ASC(spreedResult.!F38)),\" \",TRIM(ASC(spreedResult.!G38)))","v":" "},{"$f":"CONCATENATE(TRIM(spreedResult.!H38),\"　\",TRIM(spreedResult.!I38))","v":"　"},{"$f":"IFERROR(VLOOKUP(spreedResult.!K38,spreedResult.!$AX$4:$AY$5,2,0),\"\")","v":""},{"$f":"IF(spreedResult.!L38<>\"\",TEXT(spreedResult.!L38,\"YYYY\")&TEXT(spreedResult.!L38,\"MM\")&TEXT(spreedResult.!L38,\"DD\"),\"\")","v":""},null,null,{"$f":"IF(spreedResult.!$F38<>\"\",spreedResult.!$C$10,\"\")","v":""},{"$f":"IF(spreedResult.!$F38<>\"\",spreedResult.!$C$9,\"\")","v":""},{"$f":"IF(spreedResult.!M38<>\"\",spreedResult.!M38,\"\")","v":""},{"$f":"IF(spreedResult.!H38<>\"\",IF(spreedResult.!$I$8=\"左記ご住所に送付\",\"2\",\"\"),\"\")","v":""},{"$nulls":8},"",null,"",null,"",null,"",null,"",null,"",null,"",null,"",null,"",null,""]
[null,{"$f":"IF(spreedResult.!B39<>\"\",TEXT(spreedResult.!B39,\"YYYY\")&TEXT(spreedResult.!B39,\"MM\")&TEXT(spreedResult.!B39,\"DD\"),\"\")","v":""},{"$f":"IF(spreedResult.!C39<>\"\",VLOOKUP(spreedResult.!C39,spreedResult.!$AU$2:$AV$12,2,0),\"\")","v":""},{"$nulls":4},{"$f":"IF(spreedResult.!P39<>\"\",VLOOKUP(spreedResult.!P39,Course!$A$2:$B$612,2,0),\"\")","v":""},null,{"$f":"CONCATENATE(TRIM(ASC(spreedResult.!F39)),\" \",TRIM(ASC(spreedResult.!G39)))","v":" "},{"$f":"CONCATENATE(TRIM(spreedResult.!H39),\"　\",TRIM(spreedResult.!I39))","v":"　"},{"$f":"IFERROR(VLOOKUP(spreedResult.!K39,spreedResult.!$AX$4:$AY$5,2,0),\"\")","v":""},{"$f":"IF(spreedResult.!L39<>\"\",TEXT(spreedResult.!L39,\"YYYY\")&TEXT(spreedResult.!L39,\"MM\")&TEXT(spreedResult.!L39,\"DD\"),\"\")","v":""},null,null,{"$f":"IF(spreedResult.!$F39<>\"\",spreedResult.!$C$10,\"\")","v":""},{"$f":"IF(spreedResult.!$F39<>\"\",spreedResult.!$C$9,\"\")","v":""},{"$f":"IF(spreedResult.!M39<>\"\",spreedResult.!M39,\"\")","v":""},{"$f":"IF(spreedResult.!H39<>\"\",IF(spreedResult.!$I$8=\"左記ご住所に送付\",\"2\",\"\"),\"\")","v":""},{"$nulls":8},"",null,"",null,"",null,"",null,"",null,"",null,"",null,"",null,"",null,""]
[null,{"$f":"IF(spreedResult.!B40<>\"\",TEXT(spreedResult.!B40,\"YYYY\")&TEXT(spreedResult.!B40,\"MM\")&TEXT(spreedResult.!B40,\"DD\"),\"\")","v":""},{"$f":"IF(spreedResult.!C40<>\"\",VLOOKUP(spreedResult.!C40,spreedResult.!$AU$2:$AV$12,2,0),\"\")","v":""},{"$nulls":4},{"$f":"IF(spreedResult.!P40<>\"\",VLOOKUP(spreedResult.!P40,Course!$A$2:$B$612,2,0),\"\")","v":""},null,{"$f":"CONCATENATE(TRIM(ASC(spreedResult.!F40)),\" \",TRIM(ASC(spreedResult.!G40)))","v":" "},{"$f":"CONCATENATE(TRIM(spreedResult.!H40),\"　\",TRIM(spreedResult.!I40))","v":"　"},{"$f":"IFERROR(VLOOKUP(spreedResult.!K40,spreedResult.!$AX$4:$AY$5,2,0),\"\")","v":""},{"$f":"IF(spreedResult.!L40<>\"\",TEXT(spreedResult.!L40,\"YYYY\")&TEXT(spreedResult.!L40,\"MM\")&TEXT(spreedResult.!L40,\"DD\"),\"\")","v":""},null,null,{"$f":"IF(spreedResult.!$F40<>\"\",spreedResult.!$C$10,\"\")","v":""},{"$f":"IF(spreedResult.!$F40<>\"\",spreedResult.!$C$9,\"\")","v":""},{"$f":"IF(spreedResult.!M40<>\"\",spreedResult.!M40,\"\")","v":""},{"$f":"IF(spreedResult.!H40<>\"\",IF(spreedResult.!$I$8=\"左記ご住所に送付\",\"2\",\"\"),\"\")","v":""},{"$nulls":8},"",null,"",null,"",null,"",null,"",null,"",null,"",null,"",null,"",null,""]
[null,{"$f":"IF(spreedResult.!B41<>\"\",TEXT(spreedResult.!B41,\"YYYY\")&TEXT(spreedResult.!B41,\"MM\")&TEXT(spreedResult.!B41,\"DD\"),\"\")","v":""},{"$f":"IF(spreedResult.!C41<>\"\",VLOOKUP(spreedResult.!C41,spreedResult.!$AU$2:$AV$12,2,0),\"\")","v":""},{"$nulls":4},{"$f":"IF(spreedResult.!P41<>\"\",VLOOKUP(spreedResult.!P41,Course!$A$2:$B$612,2,0),\"\")","v":""},null,{"$f":"CONCATENATE(TRIM(ASC(spreedResult.!F41)),\" \",TRIM(ASC(spreedResult.!G41)))","v":" "},{"$f":"CONCATENATE(TRIM(spreedResult.!H41),\"　\",TRIM(spreedResult.!I41))","v":"　"},{"$f":"IFERROR(VLOOKUP(spreedResult.!K41,spreedResult.!$AX$4:$AY$5,2,0),\"\")","v":""},{"$f":"IF(spreedResult.!L41<>\"\",TEXT(spreedResult.!L41,\"YYYY\")&TEXT(spreedResult.!L41,\"MM\")&TEXT(spreedResult.!L41,\"DD\"),\"\")","v":""},null,null,{"$f":"IF(spreedResult.!$F41<>\"\",spreedResult.!$C$10,\"\")","v":""},{"$f":"IF(spreedResult.!$F41<>\"\",spreedResult.!$C$9,\"\")","v":""},{"$f":"IF(spreedResult.!M41<>\"\",spreedResult.!M41,\"\")","v":""},{"$f":"IF(spreedResult.!H41<>\"\",IF(spreedResult.!$I$8=\"左記ご住所に送付\",\"2\",\"\"),\"\")","v":""},{"$nulls":8},"",null,"",null,"",null,"",null,"",null,"",null,"",null,"",null,"",null,""]
[null,{"$f":"IF(spreedResult.!B42<>\"\",TEXT(spreedResult.!B42,\"YYYY\")&TEXT(spreedResult.!B42,\"MM\")&TEXT(spreedResult.!B42,\"DD\"),\"\")","v":""},{"$f":"IF(spreedResult.!C42<>\"\",VLOOKUP(spreedResult.!C42,spreedResult.!$AU$2:$AV$12,2,0),\"\")","v":""},{"$nulls":4},{"$f":"IF(spreedResult.!P42<>\"\",VLOOKUP(spreedResult.!P42,Course!$A$2:$B$612,2,0),\"\")","v":""},null,{"$f":"CONCATENATE(TRIM(ASC(spreedResult.!F42)),\" \",TRIM(ASC(spreedResult.!G42)))","v":" "},{"$f":"CONCATENATE(TRIM(spreedResult.!H42),\"　\",TRIM(spreedResult.!I42))","v":"　"},{"$f":"IFERROR(VLOOKUP(spreedResult.!K42,spreedResult.!$AX$4:$AY$5,2,0),\"\")","v":""},{"$f":"IF(spreedResult.!L42<>\"\",TEXT(spreedResult.!L42,\"YYYY\")&TEXT(spreedResult.!L42,\"MM\")&TEXT(spreedResult.!L42,\"DD\"),\"\")","v":""},null,null,{"$f":"IF(spreedResult.!$F42<>\"\",spreedResult.!$C$10,\"\")","v":""},{"$f":"IF(spreedResult.!$F42<>\"\",spreedResult.!$C$9,\"\")","v":""},{"$f":"IF(spreedResult.!M42<>\"\",spreedResult.!M42,\"\")","v":""},{"$f":"IF(spreedResult.!H42<>\"\",IF(spreedResult.!$I$8=\"左記ご住所に送付\",\"2\",\"\"),\"\")","v":""},{"$nulls":8},"",null,"",null,"",null,"",null,"",null,"",null,"",null,"",null,"",null,""]
[null,{"$f":"IF(spreedResult.!B43<>\"\",TEXT(spreedResult.!B43,\"YYYY\")&TEXT(spreedResult.!B43,\"MM\")&TEXT(spreedResult.!B43,\"DD\"),\"\")","v":""},{"$f":"IF(spreedResult.!C43<>\"\",VLOOKUP(spreedResult.!C43,spreedResult.!$AU$2:$AV$12,2,0),\"\")","v":""},{"$nulls":4},{"$f":"IF(spreedResult.!P43<>\"\",VLOOKUP(spreedResult.!P43,Course!$A$2:$B$612,2,0),\"\")","v":""},null,{"$f":"CONCATENATE(TRIM(ASC(spreedResult.!F43)),\" \",TRIM(ASC(spreedResult.!G43)))","v":" "},{"$f":"CONCATENATE(TRIM(spreedResult.!H43),\"　\",TRIM(spreedResult.!I43))","v":"　"},{"$f":"IFERROR(VLOOKUP(spreedResult.!K43,spreedResult.!$AX$4:$AY$5,2,0),\"\")","v":""},{"$f":"IF(spreedResult.!L43<>\"\",TEXT(spreedResult.!L43,\"YYYY\")&TEXT(spreedResult.!L43,\"MM\")&TEXT(spreedResult.!L43,\"DD\"),\"\")","v":""},null,null,{"$f":"IF(spreedResult.!$F43<>\"\",spreedResult.!$C$10,\"\")","v":""},{"$f":"IF(spreedResult.!$F43<>\"\",spreedResult.!$C$9,\"\")","v":""},{"$f":"IF(spreedResult.!M43<>\"\",spreedResult.!M43,\"\")","v":""},{"$f":"IF(spreedResult.!H43<>\"\",IF(spreedResult.!$I$8=\"左記ご住所に送付\",\"2\",\"\"),\"\")","v":""},{"$nulls":8},"",null,"",null,"",null,"",null,"",null,"",null,"",null,"",null,"",null,""]
[null,{"$f":"IF(spreedResult.!B44<>\"\",TEXT(spreedResult.!B44,\"YYYY\")&TEXT(spreedResult.!B44,\"MM\")&TEXT(spreedResult.!B44,\"DD\"),\"\")","v":""},{"$f":"IF(spreedResult.!C44<>\"\",VLOOKUP(spreedResult.!C44,spreedResult.!$AU$2:$AV$12,2,0),\"\")","v":""},{"$nulls":4},{"$f":"IF(spreedResult.!P44<>\"\",VLOOKUP(spreedResult.!P44,Course!$A$2:$B$612,2,0),\"\")","v":""},null,{"$f":"CONCATENATE(TRIM(ASC(spreedResult.!F44)),\" \",TRIM(ASC(spreedResult.!G44)))","v":" "},{"$f":"CONCATENATE(TRIM(spreedResult.!H44),\"　\",TRIM(spreedResult.!I44))","v":"　"},{"$f":"IFERROR(VLOOKUP(spreedResult.!K44,spreedResult.!$AX$4:$AY$5,2,0),\"\")","v":""},{"$f":"IF(spreedResult.!L44<>\"\",TEXT(spreedResult.!L44,\"YYYY\")&TEXT(spreedResult.!L44,\"MM\")&TEXT(spreedResult.!L44,\"DD\"),\"\")","v":""},null,null,{"$f":"IF(spreedResult.!$F44<>\"\",spreedResult.!$C$10,\"\")","v":""},{"$f":"IF(spreedResult.!$F44<>\"\",spreedResult.!$C$9,\"\")","v":""},{"$f":"IF(spreedResult.!M44<>\"\",spreedResult.!M44,\"\")","v":""},{"$f":"IF(spreedResult.!H44<>\"\",IF(spreedResult.!$I$8=\"左記ご住所に送付\",\"2\",\"\"),\"\")","v":""},{"$nulls":8},"",null,"",null,"",null,"",null,"",null,"",null,"",null,"",null,"",null,""]
[null,{"$f":"IF(spreedResult.!B45<>\"\",TEXT(spreedResult.!B45,\"YYYY\")&TEXT(spreedResult.!B45,\"MM\")&TEXT(spreedResult.!B45,\"DD\"),\"\")","v":""},{"$f":"IF(spreedResult.!C45<>\"\",VLOOKUP(spreedResult.!C45,spreedResult.!$AU$2:$AV$12,2,0),\"\")","v":""},{"$nulls":4},{"$f":"IF(spreedResult.!P45<>\"\",VLOOKUP(spreedResult.!P45,Course!$A$2:$B$612,2,0),\"\")","v":""},null,{"$f":"CONCATENATE(TRIM(ASC(spreedResult.!F45)),\" \",TRIM(ASC(spreedResult.!G45)))","v":" "},{"$f":"CONCATENATE(TRIM(spreedResult.!H45),\"　\",TRIM(spreedResult.!I45))","v":"　"},{"$f":"IFERROR(VLOOKUP(spreedResult.!K45,spreedResult.!$AX$4:$AY$5,2,0),\"\")","v":""},{"$f":"IF(spreedResult.!L45<>\"\",TEXT(spreedResult.!L45,\"YYYY\")&TEXT(spreedResult.!L45,\"MM\")&TEXT(spreedResult.!L45,\"DD\"),\"\")","v":""},null,null,{"$f":"IF(spreedResult.!$F45<>\"\",spreedResult.!$C$10,\"\")","v":""},{"$f":"IF(spreedResult.!$F45<>\"\",spreedResult.!$C$9,\"\")","v":""},{"$f":"IF(spreedResult.!M45<>\"\",spreedResult.!M45,\"\")","v":""},{"$f":"IF(spreedResult.!H45<>\"\",IF(spreedResult.!$I$8=\"左記ご住所に送付\",\"2\",\"\"),\"\")","v":""},{"$nulls":8},"",null,"",null,"",null,"",null,"",null,"",null,"",null,"",null,"",null,""]
[null,{"$f":"IF(spreedResult.!B46<>\"\",TEXT(spreedResult.!B46,\"YYYY\")&TEXT(spreedResult.!B46,\"MM\")&TEXT(spreedResult.!B46,\"DD\"),\"\")","v":""},{"$f":"IF(spreedResult.!C46<>\"\",VLOOKUP(spreedResult.!C46,spreedResult.!$AU$2:$AV$12,2,0),\"\")","v":""},{"$nulls":4},{"$f":"IF(spreedResult.!P46<>\"\",VLOOKUP(spreedResult.!P46,Course!$A$2:$B$612,2,0),\"\")","v":""},null,{"$f":"CONCATENATE(TRIM(ASC(spreedResult.!F46)),\" \",TRIM(ASC(spreedResult.!G46)))","v":" "},{"$f":"CONCATENATE(TRIM(spreedResult.!H46),\"　\",TRIM(spreedResult.!I46))","v":"　"},{"$f":"IFERROR(VLOOKUP(spreedResult.!K46,spreedResult.!$AX$4:$AY$5,2,0),\"\")","v":""},{"$f":"IF(spreedResult.!L46<>\"\",TEXT(spreedResult.!L46,\"YYYY\")&TEXT(spreedResult.!L46,\"MM\")&TEXT(spreedResult.!L46,\"DD\"),\"\")","v":""},null,null,{"$f":"IF(spreedResult.!$F46<>\"\",spreedResult.!$C$10,\"\")","v":""},{"$f":"IF(spreedResult.!$F46<>\"\",spreedResult.!$C$9,\"\")","v":""},{"$f":"IF(spreedResult.!M46<>\"\",spreedResult.!M46,\"\")","v":""},{"$f":"IF(spreedResult.!H46<>\"\",IF(spreedResult.!$I$8=\"左記ご住所に送付\",\"2\",\"\"),\"\")","v":""},{"$nulls":8},"",null,"",null,"",null,"",null,"",null,"",null,"",null,"",null,"",null,""]
[null,{"$f":"IF(spreedResult.!B47<>\"\",TEXT(spreedResult.!B47,\"YYYY\")&TEXT(spreedResult.!B47,\"MM\")&TEXT(spreedResult.!B47,\"DD\"),\"\")","v":""},{"$f":"IF(spreedResult.!C47<>\"\",VLOOKUP(spreedResult.!C47,spreedResult.!$AU$2:$AV$12,2,0),\"\")","v":""},{"$nulls":4},{"$f":"IF(spreedResult.!P47<>\"\",VLOOKUP(spreedResult.!P47,Course!$A$2:$B$612,2,0),\"\")","v":""},null,{"$f":"CONCATENATE(TRIM(ASC(spreedResult.!F47)),\" \",TRIM(ASC(spreedResult.!G47)))","v":" "},{"$f":"CONCATENATE(TRIM(spreedResult.!H47),\"　\",TRIM(spreedResult.!I47))","v":"　"},{"$f":"IFERROR(VLOOKUP(spreedResult.!K47,spreedResult.!$AX$4:$AY$5,2,0),\"\")","v":""},{"$f":"IF(spreedResult.!L47<>\"\",TEXT(spreedResult.!L47,\"YYYY\")&TEXT(spreedResult.!L47,\"MM\")&TEXT(spreedResult.!L47,\"DD\"),\"\")","v":""},null,null,{"$f":"IF(spreedResult.!$F47<>\"\",spreedResult.!$C$10,\"\")","v":""},{"$f":"IF(spreedResult.!$F47<>\"\",spreedResult.!$C$9,\"\")","v":""},{"$f":"IF(spreedResult.!M47<>\"\",spreedResult.!M47,\"\")","v":""},{"$f":"IF(spreedResult.!H47<>\"\",IF(spreedResult.!$I$8=\"左記ご住所に送付\",\"2\",\"\"),\"\")","v":""},{"$nulls":8},"",null,"",null,"",null,"",null,"",null,"",null,"",null,"",null,"",null,""]
[null,{"$f":"IF(spreedResult.!B48<>\"\",TEXT(spreedResult.!B48,\"YYYY\")&TEXT(spreedResult.!B48,\"MM\")&TEXT(spreedResult.!B48,\"DD\"),\"\")","v":""},{"$f":"IF(spreedResult.!C48<>\"\",VLOOKUP(spreedResult.!C48,spreedResult.!$AU$2:$AV$12,2,0),\"\")","v":""},{"$nulls":4},{"$f":"IF(spreedResult.!P48<>\"\",VLOOKUP(spreedResult.!P48,Course!$A$2:$B$612,2,0),\"\")","v":""},null,{"$f":"CONCATENATE(TRIM(ASC(spreedResult.!F48)),\" \",TRIM(ASC(spreedResult.!G48)))","v":" "},{"$f":"CONCATENATE(TRIM(spreedResult.!H48),\"　\",TRIM(spreedResult.!I48))","v":"　"},{"$f":"IFERROR(VLOOKUP(spreedResult.!K48,spreedResult.!$AX$4:$AY$5,2,0),\"\")","v":""},{"$f":"IF(spreedResult.!L48<>\"\",TEXT(spreedResult.!L48,\"YYYY\")&TEXT(spreedResult.!L48,\"MM\")&TEXT(spreedResult.!L48,\"DD\"),\"\")","v":""},null,null,{"$f":"IF(spreedResult.!$F48<>\"\",spreedResult.!$C$10,\"\")","v":""},{"$f":"IF(spreedResult.!$F48<>\"\",spreedResult.!$C$9,\"\")","v":""},{"$f":"IF(spreedResult.!M48<>\"\",spreedResult.!M48,\"\")","v":""},{"$f":"IF(spreedResult.!H48<>\"\",IF(spreedResult.!$I$8=\"左記ご住所に送付\",\"2\",\"\"),\"\")","v":""},{"$nulls":8},"",null,"",null,"",null,"",null,"",null,"",null,"",null,"",null,"",null,""]
[null,{"$f":"IF(spreedResult.!B49<>\"\",TEXT(spreedResult.!B49,\"YYYY\")&TEXT(spreedResult.!B49,\"MM\")&TEXT(spreedResult.!B49,\"DD\"),\"\")","v":""},{"$f":"IF(spreedResult.!C49<>\"\",VLOOKUP(spreedResult.!C49,spreedResult.!$AU$2:$AV$12,2,0),\"\")","v":""},{"$nulls":4},{"$f":"IF(spreedResult.!P49<>\"\",VLOOKUP(spreedResult.!P49,Course!$A$2:$B$612,2,0),\"\")","v":""},null,{"$f":"CONCATENATE(TRIM(ASC(spreedResult.!F49)),\" \",TRIM(ASC(spreedResult.!G49)))","v":" "},{"$f":"CONCATENATE(TRIM(spreedResult.!H49),\"　\",TRIM(spreedResult.!I49))","v":"　"},{"$f":"IFERROR(VLOOKUP(spreedResult.!K49,spreedResult.!$AX$4:$AY$5,2,0),\"\")","v":""},{"$f":"IF(spreedResult.!L49<>\"\",TEXT(spreedResult.!L49,\"YYYY\")&TEXT(spreedResult.!L49,\"MM\")&TEXT(spreedResult.!L49,\"DD\"),\"\")","v":""},null,null,{"$f":"IF(spreedResult.!$F49<>\"\",spreedResult.!$C$10,\"\")","v":""},{"$f":"IF(spreedResult.!$F49<>\"\",spreedResult.!$C$9,\"\")","v":""},{"$f":"IF(spreedResult.!M49<>\"\",spreedResult.!M49,\"\")","v":""},{"$f":"IF(spreedResult.!H49<>\"\",IF(spreedResult.!$I$8=\"左記ご住所に送付\",\"2\",\"\"),\"\")","v":""},{"$nulls":8},"",null,"",null,"",null,"",null,"",null,"",null,"",null,"",null,"",null,""]
[null,{"$f":"IF(spreedResult.!B50<>\"\",TEXT(spreedResult.!B50,\"YYYY\")&TEXT(spreedResult.!B50,\"MM\")&TEXT(spreedResult.!B50,\"DD\"),\"\")","v":""},{"$f":"IF(spreedResult.!C50<>\"\",VLOOKUP(spreedResult.!C50,spreedResult.!$AU$2:$AV$12,2,0),\"\")","v":""},{"$nulls":4},{"$f":"IF(spreedResult.!P50<>\"\",VLOOKUP(spreedResult.!P50,Course!$A$2:$B$612,2,0),\"\")","v":""},null,{"$f":"CONCATENATE(TRIM(ASC(spreedResult.!F50)),\" \",TRIM(ASC(spreedResult.!G50)))","v":" "},{"$f":"CONCATENATE(TRIM(spreedResult.!H50),\"　\",TRIM(spreedResult.!I50))","v":"　"},{"$f":"IFERROR(VLOOKUP(spreedResult.!K50,spreedResult.!$AX$4:$AY$5,2,0),\"\")","v":""},{"$f":"IF(spreedResult.!L50<>\"\",TEXT(spreedResult.!L50,\"YYYY\")&TEXT(spreedResult.!L50,\"MM\")&TEXT(spreedResult.!L50,\"DD\"),\"\")","v":""},null,null,{"$f":"IF(spreedResult.!$F50<>\"\",spreedResult.!$C$10,\"\")","v":""},{"$f":"IF(spreedResult.!$F50<>\"\",spreedResult.!$C$9,\"\")","v":""},{"$f":"IF(spreedResult.!M50<>\"\",spreedResult.!M50,\"\")","v":""},{"$f":"IF(spreedResult.!H50<>\"\",IF(spreedResult.!$I$8=\"左記ご住所に送付\",\"2\",\"\"),\"\")","v":""},{"$nulls":8},"",null,"",null,"",null,"",null,"",null,"",null,"",null,"",null,"",null,""]
[null,{"$f":"IF(spreedResult.!B51<>\"\",TEXT(spreedResult.!B51,\"YYYY\")&TEXT(spreedResult.!B51,\"MM\")&TEXT(spreedResult.!B51,\"DD\"),\"\")","v":""},{"$f":"IF(spreedResult.!C51<>\"\",VLOOKUP(spreedResult.!C51,spreedResult.!$AU$2:$AV$12,2,0),\"\")","v":""},{"$nulls":4},{"$f":"IF(spreedResult.!P51<>\"\",VLOOKUP(spreedResult.!P51,Course!$A$2:$B$612,2,0),\"\")","v":""},null,{"$f":"CONCATENATE(TRIM(ASC(spreedResult.!F51)),\" \",TRIM(ASC(spreedResult.!G51)))","v":" "},{"$f":"CONCATENATE(TRIM(spreedResult.!H51),\"　\",TRIM(spreedResult.!I51))","v":"　"},{"$f":"IFERROR(VLOOKUP(spreedResult.!K51,spreedResult.!$AX$4:$AY$5,2,0),\"\")","v":""},{"$f":"IF(spreedResult.!L51<>\"\",TEXT(spreedResult.!L51,\"YYYY\")&TEXT(spreedResult.!L51,\"MM\")&TEXT(spreedResult.!L51,\"DD\"),\"\")","v":""},null,null,{"$f":"IF(spreedResult.!$F51<>\"\",spreedResult.!$C$10,\"\")","v":""},{"$f":"IF(spreedResult.!$F51<>\"\",spreedResult.!$C$9,\"\")","v":""},{"$f":"IF(spreedResult.!M51<>\"\",spreedResult.!M51,\"\")","v":""},{"$f":"IF(spreedResult.!H51<>\"\",IF(spreedResult.!$I$8=\"左記ご住所に送付\",\"2\",\"\"),\"\")","v":""},{"$nulls":8},"",null,"",null,"",null,"",null,"",null,"",null,"",null,"",null,"",null,""]
[null,{"$f":"IF(spreedResult.!B52<>\"\",TEXT(spreedResult.!B52,\"YYYY\")&TEXT(spreedResult.!B52,\"MM\")&TEXT(spreedResult.!B52,\"DD\"),\"\")","v":""},{"$f":"IF(spreedResult.!C52<>\"\",VLOOKUP(spreedResult.!C52,spreedResult.!$AU$2:$AV$12,2,0),\"\")","v":""},{"$nulls":4},{"$f":"IF(spreedResult.!P52<>\"\",VLOOKUP(spreedResult.!P52,Course!$A$2:$B$612,2,0),\"\")","v":""},null,{"$f":"CONCATENATE(TRIM(ASC(spreedResult.!F52)),\" \",TRIM(ASC(spreedResult.!G52)))","v":" "},{"$f":"CONCATENATE(TRIM(spreedResult.!H52),\"　\",TRIM(spreedResult.!I52))","v":"　"},{"$f":"IFERROR(VLOOKUP(spreedResult.!K52,spreedResult.!$AX$4:$AY$5,2,0),\"\")","v":""},{"$f":"IF(spreedResult.!L52<>\"\",TEXT(spreedResult.!L52,\"YYYY\")&TEXT(spreedResult.!L52,\"MM\")&TEXT(spreedResult.!L52,\"DD\"),\"\")","v":""},null,null,{"$f":"IF(spreedResult.!$F52<>\"\",spreedResult.!$C$10,\"\")","v":""},{"$f":"IF(spreedResult.!$F52<>\"\",spreedResult.!$C$9,\"\")","v":""},{"$f":"IF(spreedResult.!M52<>\"\",spreedResult.!M52,\"\")","v":""},{"$f":"IF(spreedResult.!H52<>\"\",IF(spreedResult.!$I$8=\"左記ご住所に送付\",\"2\",\"\"),\"\")","v":""},{"$nulls":8},"",null,"",null,"",null,"",null,"",null,"",null,"",null,"",null,"",null,""]
[null,{"$f":"IF(spreedResult.!B53<>\"\",TEXT(spreedResult.!B53,\"YYYY\")&TEXT(spreedResult.!B53,\"MM\")&TEXT(spreedResult.!B53,\"DD\"),\"\")","v":""},{"$f":"IF(spreedResult.!C53<>\"\",VLOOKUP(spreedResult.!C53,spreedResult.!$AU$2:$AV$12,2,0),\"\")","v":""},{"$nulls":4},{"$f":"IF(spreedResult.!P53<>\"\",VLOOKUP(spreedResult.!P53,Course!$A$2:$B$612,2,0),\"\")","v":""},null,{"$f":"CONCATENATE(TRIM(ASC(spreedResult.!F53)),\" \",TRIM(ASC(spreedResult.!G53)))","v":" "},{"$f":"CONCATENATE(TRIM(spreedResult.!H53),\"　\",TRIM(spreedResult.!I53))","v":"　"},{"$f":"IFERROR(VLOOKUP(spreedResult.!K53,spreedResult.!$AX$4:$AY$5,2,0),\"\")","v":""},{"$f":"IF(spreedResult.!L53<>\"\",TEXT(spreedResult.!L53,\"YYYY\")&TEXT(spreedResult.!L53,\"MM\")&TEXT(spreedResult.!L53,\"DD\"),\"\")","v":""},null,null,{"$f":"IF(spreedResult.!$F53<>\"\",spreedResult.!$C$10,\"\")","v":""},{"$f":"IF(spreedResult.!$F53<>\"\",spreedResult.!$C$9,\"\")","v":""},{"$f":"IF(spreedResult.!M53<>\"\",spreedResult.!M53,\"\")","v":""},{"$f":"IF(spreedResult.!H53<>\"\",IF(spreedResult.!$I$8=\"左記ご住所に送付\",\"2\",\"\"),\"\")","v":""},{"$nulls":8},"",null,"",null,"",null,"",null,"",null,"",null,"",null,"",null,"",null,""]
[null,{"$f":"IF(spreedResult.!B54<>\"\",TEXT(spreedResult.!B54,\"YYYY\")&TEXT(spreedResult.!B54,\"MM\")&TEXT(spreedResult.!B54,\"DD\"),\"\")","v":""},{"$f":"IF(spreedResult.!C54<>\"\",VLOOKUP(spreedResult.!C54,spreedResult.!$AU$2:$AV$12,2,0),\"\")","v":""},{"$nulls":4},{"$f":"IF(spreedResult.!P54<>\"\",VLOOKUP(spreedResult.!P54,Course!$A$2:$B$612,2,0),\"\")","v":""},null,{"$f":"CONCATENATE(TRIM(ASC(spreedResult.!F54)),\" \",TRIM(ASC(spreedResult.!G54)))","v":" "},{"$f":"CONCATENATE(TRIM(spreedResult.!H54),\"　\",TRIM(spreedResult.!I54))","v":"　"},{"$f":"IFERROR(VLOOKUP(spreedResult.!K54,spreedResult.!$AX$4:$AY$5,2,0),\"\")","v":""},{"$f":"IF(spreedResult.!L54<>\"\",TEXT(spreedResult.!L54,\"YYYY\")&TEXT(spreedResult.!L54,\"MM\")&TEXT(spreedResult.!L54,\"DD\"),\"\")","v":""},null,null,{"$f":"IF(spreedResult.!$F54<>\"\",spreedResult.!$C$10,\"\")","v":""},{"$f":"IF(spreedResult.!$F54<>\"\",spreedResult.!$C$9,\"\")","v":""},{"$f":"IF(spreedResult.!M54<>\"\",spreedResult.!M54,\"\")","v":""},{"$f":"IF(spreedResult.!H54<>\"\",IF(spreedResult.!$I$8=\"左記ご住所に送付\",\"2\",\"\"),\"\")","v":""},{"$nulls":8},"",null,"",null,"",null,"",null,"",null,"",null,"",null,"",null,"",null,""]
[null,{"$f":"IF(spreedResult.!B55<>\"\",TEXT(spreedResult.!B55,\"YYYY\")&TEXT(spreedResult.!B55,\"MM\")&TEXT(spreedResult.!B55,\"DD\"),\"\")","v":""},{"$f":"IF(spreedResult.!C55<>\"\",VLOOKUP(spreedResult.!C55,spreedResult.!$AU$2:$AV$12,2,0),\"\")","v":""},{"$nulls":4},{"$f":"IF(spreedResult.!P55<>\"\",VLOOKUP(spreedResult.!P55,Course!$A$2:$B$612,2,0),\"\")","v":""},null,{"$f":"CONCATENATE(TRIM(ASC(spreedResult.!F55)),\" \",TRIM(ASC(spreedResult.!G55)))","v":" "},{"$f":"CONCATENATE(TRIM(spreedResult.!H55),\"　\",TRIM(spreedResult.!I55))","v":"　"},{"$f":"IFERROR(VLOOKUP(spreedResult.!K55,spreedResult.!$AX$4:$AY$5,2,0),\"\")","v":""},{"$f":"IF(spreedResult.!L55<>\"\",TEXT(spreedResult.!L55,\"YYYY\")&TEXT(spreedResult.!L55,\"MM\")&TEXT(spreedResult.!L55,\"DD\"),\"\")","v":""},null,null,{"$f":"IF(spreedResult.!$F55<>\"\",spreedResult.!$C$10,\"\")","v":""},{"$f":"IF(spreedResult.!$F55<>\"\",spreedResult.!$C$9,\"\")","v":""},{"$f":"IF(spreedResult.!M55<>\"\",spreedResult.!M55,\"\")","v":""},{"$f":"IF(spreedResult.!H55<>\"\",IF(spreedResult.!$I$8=\"左記ご住所に送付\",\"2\",\"\"),\"\")","v":""},{"$nulls":8},"",null,"",null,"",null,"",null,"",null,"",null,"",null,"",null,"",null,""]
[null,{"$f":"IF(spreedResult.!B56<>\"\",TEXT(spreedResult.!B56,\"YYYY\")&TEXT(spreedResult.!B56,\"MM\")&TEXT(spreedResult.!B56,\"DD\"),\"\")","v":""},{"$f":"IF(spreedResult.!C56<>\"\",VLOOKUP(spreedResult.!C56,spreedResult.!$AU$2:$AV$12,2,0),\"\")","v":""},{"$nulls":4},{"$f":"IF(spreedResult.!P56<>\"\",VLOOKUP(spreedResult.!P56,Course!$A$2:$B$612,2,0),\"\")","v":""},null,{"$f":"CONCATENATE(TRIM(ASC(spreedResult.!F56)),\" \",TRIM(ASC(spreedResult.!G56)))","v":" "},{"$f":"CONCATENATE(TRIM(spreedResult.!H56),\"　\",TRIM(spreedResult.!I56))","v":"　"},{"$f":"IFERROR(VLOOKUP(spreedResult.!K56,spreedResult.!$AX$4:$AY$5,2,0),\"\")","v":""},{"$f":"IF(spreedResult.!L56<>\"\",TEXT(spreedResult.!L56,\"YYYY\")&TEXT(spreedResult.!L56,\"MM\")&TEXT(spreedResult.!L56,\"DD\"),\"\")","v":""},null,null,{"$f":"IF(spreedResult.!$F56<>\"\",spreedResult.!$C$10,\"\")","v":""},{"$f":"IF(spreedResult.!$F56<>\"\",spreedResult.!$C$9,\"\")","v":""},{"$f":"IF(spreedResult.!M56<>\"\",spreedResult.!M56,\"\")","v":""},{"$f":"IF(spreedResult.!H56<>\"\",IF(spreedResult.!$I$8=\"左記ご住所に送付\",\"2\",\"\"),\"\")","v":""},{"$nulls":8},"",null,"",null,"",null,"",null,"",null,"",null,"",null,"",null,"",null,""]
[null,{"$f":"IF(spreedResult.!B57<>\"\",TEXT(spreedResult.!B57,\"YYYY\")&TEXT(spreedResult.!B57,\"MM\")&TEXT(spreedResult.!B57,\"DD\"),\"\")","v":""},{"$f":"IF(spreedResult.!C57<>\"\",VLOOKUP(spreedResult.!C57,spreedResult.!$AU$2:$AV$12,2,0),\"\")","v":""},{"$nulls":4},{"$f":"IF(spreedResult.!P57<>\"\",VLOOKUP(spreedResult.!P57,Course!$A$2:$B$612,2,0),\"\")","v":""},null,{"$f":"CONCATENATE(TRIM(ASC(spreedResult.!F57)),\" \",TRIM(ASC(spreedResult.!G57)))","v":" "},{"$f":"CONCATENATE(TRIM(spreedResult.!H57),\"　\",TRIM(spreedResult.!I57))","v":"　"},{"$f":"IFERROR(VLOOKUP(spreedResult.!K57,spreedResult.!$AX$4:$AY$5,2,0),\"\")","v":""},{"$f":"IF(spreedResult.!L57<>\"\",TEXT(spreedResult.!L57,\"YYYY\")&TEXT(spreedResult.!L57,\"MM\")&TEXT(spreedResult.!L57,\"DD\"),\"\")","v":""},null,null,{"$f":"IF(spreedResult.!$F57<>\"\",spreedResult.!$C$10,\"\")","v":""},{"$f":"IF(spreedResult.!$F57<>\"\",spreedResult.!$C$9,\"\")","v":""},{"$f":"IF(spreedResult.!M57<>\"\",spreedResult.!M57,\"\")","v":""},{"$f":"IF(spreedResult.!H57<>\"\",IF(spreedResult.!$I$8=\"左記ご住所に送付\",\"2\",\"\"),\"\")","v":""},{"$nulls":8},"",null,"",null,"",null,"",null,"",null,"",null,"",null,"",null,"",null,""]
[null,{"$f":"IF(spreedResult.!B58<>\"\",TEXT(spreedResult.!B58,\"YYYY\")&TEXT(spreedResult.!B58,\"MM\")&TEXT(spreedResult.!B58,\"DD\"),\"\")","v":""},{"$f":"IF(spreedResult.!C58<>\"\",VLOOKUP(spreedResult.!C58,spreedResult.!$AU$2:$AV$12,2,0),\"\")","v":""},{"$nulls":4},{"$f":"IF(spreedResult.!P58<>\"\",VLOOKUP(spreedResult.!P58,Course!$A$2:$B$612,2,0),\"\")","v":""},null,{"$f":"CONCATENATE(TRIM(ASC(spreedResult.!F58)),\" \",TRIM(ASC(spreedResult.!G58)))","v":" "},{"$f":"CONCATENATE(TRIM(spreedResult.!H58),\"　\",TRIM(spreedResult.!I58))","v":"　"},{"$f":"IFERROR(VLOOKUP(spreedResult.!K58,spreedResult.!$AX$4:$AY$5,2,0),\"\")","v":""},{"$f":"IF(spreedResult.!L58<>\"\",TEXT(spreedResult.!L58,\"YYYY\")&TEXT(spreedResult.!L58,\"MM\")&TEXT(spreedResult.!L58,\"DD\"),\"\")","v":""},null,null,{"$f":"IF(spreedResult.!$F58<>\"\",spreedResult.!$C$10,\"\")","v":""},{"$f":"IF(spreedResult.!$F58<>\"\",spreedResult.!$C$9,\"\")","v":""},{"$f":"IF(spreedResult.!M58<>\"\",spreedResult.!M58,\"\")","v":""},{"$f":"IF(spreedResult.!H58<>\"\",IF(spreedResult.!$I$8=\"左記ご住所に送付\",\"2\",\"\"),\"\")","v":""},{"$nulls":8},"",null,"",null,"",null,"",null,"",null,"",null,"",null,"",null,"",null,""]
[null,{"$f":"IF(spreedResult.!B59<>\"\",TEXT(spreedResult.!B59,\"YYYY\")&TEXT(spreedResult.!B59,\"MM\")&TEXT(spreedResult.!B59,\"DD\"),\"\")","v":""},{"$f":"IF(spreedResult.!C59<>\"\",VLOOKUP(spreedResult.!C59,spreedResult.!$AU$2:$AV$12,2,0),\"\")","v":""},{"$nulls":4},{"$f":"IF(spreedResult.!P59<>\"\",VLOOKUP(spreedResult.!P59,Course!$A$2:$B$612,2,0),\"\")","v":""},null,{"$f":"CONCATENATE(TRIM(ASC(spreedResult.!F59)),\" \",TRIM(ASC(spreedResult.!G59)))","v":" "},{"$f":"CONCATENATE(TRIM(spreedResult.!H59),\"　\",TRIM(spreedResult.!I59))","v":"　"},{"$f":"IFERROR(VLOOKUP(spreedResult.!K59,spreedResult.!$AX$4:$AY$5,2,0),\"\")","v":""},{"$f":"IF(spreedResult.!L59<>\"\",TEXT(spreedResult.!L59,\"YYYY\")&TEXT(spreedResult.!L59,\"MM\")&TEXT(spreedResult.!L59,\"DD\"),\"\")","v":""},null,null,{"$f":"IF(spreedResult.!$F59<>\"\",spreedResult.!$C$10,\"\")","v":""},{"$f":"IF(spreedResult.!$F59<>\"\",spreedResult.!$C$9,\"\")","v":""},{"$f":"IF(spreedResult.!M59<>\"\",spreedResult.!M59,\"\")","v":""},{"$f":"IF(spreedResult.!H59<>\"\",IF(spreedResult.!$I$8=\"左記ご住所に送付\",\"2\",\"\"),\"\")","v":""},{"$nulls":8},"",null,"",null,"",null,"",null,"",null,"",null,"",null,"",null,"",null,""]
[null,{"$f":"IF(spreedResult.!B60<>\"\",TEXT(spreedResult.!B60,\"YYYY\")&TEXT(spreedResult.!B60,\"MM\")&TEXT(spreedResult.!B60,\"DD\"),\"\")","v":""},{"$f":"IF(spreedResult.!C60<>\"\",VLOOKUP(spreedResult.!C60,spreedResult.!$AU$2:$AV$12,2,0),\"\")","v":""},{"$nulls":4},{"$f":"IF(spreedResult.!P60<>\"\",VLOOKUP(spreedResult.!P60,Course!$A$2:$B$612,2,0),\"\")","v":""},null,{"$f":"CONCATENATE(TRIM(ASC(spreedResult.!F60)),\" \",TRIM(ASC(spreedResult.!G60)))","v":" "},{"$f":"CONCATENATE(TRIM(spreedResult.!H60),\"　\",TRIM(spreedResult.!I60))","v":"　"},{"$f":"IFERROR(VLOOKUP(spreedResult.!K60,spreedResult.!$AX$4:$AY$5,2,0),\"\")","v":""},{"$f":"IF(spreedResult.!L60<>\"\",TEXT(spreedResult.!L60,\"YYYY\")&TEXT(spreedResult.!L60,\"MM\")&TEXT(spreedResult.!L60,\"DD\"),\"\")","v":""},null,null,{"$f":"IF(spreedResult.!$F60<>\"\",spreedResult.!$C$10,\"\")","v":""},{"$f":"IF(spreedResult.!$F60<>\"\",spreedResult.!$C$9,\"\")","v":""},{"$f":"IF(spreedResult.!M60<>\"\",spreedResult.!M60,\"\")","v":""},{"$f":"IF(spreedResult.!H60<>\"\",IF(spreedResult.!$I$8=\"左記ご住所に送付\",\"2\",\"\"),\"\")","v":""},{"$nulls":8},"",null,"",null,"",null,"",null,"",null,"",null,"",null,"",null,"",null,""]
[null,{"$f":"IF(spreedResult.!B61<>\"\",TEXT(spreedResult.!B61,\"YYYY\")&TEXT(spreedResult.!B61,\"MM\")&TEXT(spreedResult.!B61,\"DD\"),\"\")","v":""},{"$f":"IF(spreedResult.!C61<>\"\",VLOOKUP(spreedResult.!C61,spreedResult.!$AU$2:$AV$12,2,0),\"\")","v":""},{"$nulls":4},{"$f":"IF(spreedResult.!P61<>\"\",VLOOKUP(spreedResult.!P61,Course!$A$2:$B$612,2,0),\"\")","v":""},null,{"$f":"CONCATENATE(TRIM(ASC(spreedResult.!F61)),\" \",TRIM(ASC(spreedResult.!G61)))","v":" "},{"$f":"CONCATENATE(TRIM(spreedResult.!H61),\"　\",TRIM(spreedResult.!I61))","v":"　"},{"$f":"IFERROR(VLOOKUP(spreedResult.!K61,spreedResult.!$AX$4:$AY$5,2,0),\"\")","v":""},{"$f":"IF(spreedResult.!L61<>\"\",TEXT(spreedResult.!L61,\"YYYY\")&TEXT(spreedResult.!L61,\"MM\")&TEXT(spreedResult.!L61,\"DD\"),\"\")","v":""},null,null,{"$f":"IF(spreedResult.!$F61<>\"\",spreedResult.!$C$10,\"\")","v":""},{"$f":"IF(spreedResult.!$F61<>\"\",spreedResult.!$C$9,\"\")","v":""},{"$f":"IF(spreedResult.!M61<>\"\",spreedResult.!M61,\"\")","v":""},{"$f":"IF(spreedResult.!H61<>\"\",IF(spreedResult.!$I$8=\"左記ご住所に送付\",\"2\",\"\"),\"\")","v":""},{"$nulls":8},"",null,"",null,"",null,"",null,"",null,"",null,"",null,"",null,"",null,""]
[null,{"$f":"IF(spreedResult.!B62<>\"\",TEXT(spreedResult.!B62,\"YYYY\")&TEXT(spreedResult.!B62,\"MM\")&TEXT(spreedResult.!B62,\"DD\"),\"\")","v":""},{"$f":"IF(spreedResult.!C62<>\"\",VLOOKUP(spreedResult.!C62,spreedResult.!$AU$2:$AV$12,2,0),\"\")","v":""},{"$nulls":4},{"$f":"IF(spreedResult.!P62<>\"\",VLOOKUP(spreedResult.!P62,Course!$A$2:$B$612,2,0),\"\")","v":""},null,{"$f":"CONCATENATE(TRIM(ASC(spreedResult.!F62)),\" \",TRIM(ASC(spreedResult.!G62)))","v":" "},{"$f":"CONCATENATE(TRIM(spreedResult.!H62),\"　\",TRIM(spreedResult.!I62))","v":"　"},{"$f":"IFERROR(VLOOKUP(spreedResult.!K62,spreedResult.!$AX$4:$AY$5,2,0),\"\")","v":""},{"$f":"IF(spreedResult.!L62<>\"\",TEXT(spreedResult.!L62,\"YYYY\")&TEXT(spreedResult.!L62,\"MM\")&TEXT(spreedResult.!L62,\"DD\"),\"\")","v":""},null,null,{"$f":"IF(spreedResult.!$F62<>\"\",spreedResult.!$C$10,\"\")","v":""},{"$f":"IF(spreedResult.!$F62<>\"\",spreedResult.!$C$9,\"\")","v":""},{"$f":"IF(spreedResult.!M62<>\"\",spreedResult.!M62,\"\")","v":""},{"$f":"IF(spreedResult.!H62<>\"\",IF(spreedResult.!$I$8=\"左記ご住所に送付\",\"2\",\"\"),\"\")","v":""},{"$nulls":8},"",null,"",null,"",null,"",null,"",null,"",null,"",null,"",null,"",null,""]
[null,{"$f":"IF(spreedResult.!B63<>\"\",TEXT(spreedResult.!B63,\"YYYY\")&TEXT(spreedResult.!B63,\"MM\")&TEXT(spreedResult.!B63,\"DD\"),\"\")","v":""},{"$f":"IF(spreedResult.!C63<>\"\",VLOOKUP(spreedResult.!C63,spreedResult.!$AU$2:$AV$12,2,0),\"\")","v":""},{"$nulls":4},{"$f":"IF(spreedResult.!P63<>\"\",VLOOKUP(spreedResult.!P63,Course!$A$2:$B$612,2,0),\"\")","v":""},null,{"$f":"CONCATENATE(TRIM(ASC(spreedResult.!F63)),\" \",TRIM(ASC(spreedResult.!G63)))","v":" "},{"$f":"CONCATENATE(TRIM(spreedResult.!H63),\"　\",TRIM(spreedResult.!I63))","v":"　"},{"$f":"IFERROR(VLOOKUP(spreedResult.!K63,spreedResult.!$AX$4:$AY$5,2,0),\"\")","v":""},{"$f":"IF(spreedResult.!L63<>\"\",TEXT(spreedResult.!L63,\"YYYY\")&TEXT(spreedResult.!L63,\"MM\")&TEXT(spreedResult.!L63,\"DD\"),\"\")","v":""},null,null,{"$f":"IF(spreedResult.!$F63<>\"\",spreedResult.!$C$10,\"\")","v":""},{"$f":"IF(spreedResult.!$F63<>\"\",spreedResult.!$C$9,\"\")","v":""},{"$f":"IF(spreedResult.!M63<>\"\",spreedResult.!M63,\"\")","v":""},{"$f":"IF(spreedResult.!H63<>\"\",IF(spreedResult.!$I$8=\"左記ご住所に送付\",\"2\",\"\"),\"\")","v":""},{"$nulls":8},"",null,"",null,"",null,"",null,"",null,"",null,"",null,"",null,"",null,""]
[null,{"$f":"IF(spreedResult.!B64<>\"\",TEXT(spreedResult.!B64,\"YYYY\")&TEXT(spreedResult.!B64,\"MM\")&TEXT(spreedResult.!B64,\"DD\"),\"\")","v":""},{"$f":"IF(spreedResult.!C64<>\"\",VLOOKUP(spreedResult.!C64,spreedResult.!$AU$2:$AV$12,2,0),\"\")","v":""},{"$nulls":4},{"$f":"IF(spreedResult.!P64<>\"\",VLOOKUP(spreedResult.!P64,Course!$A$2:$B$612,2,0),\"\")","v":""},null,{"$f":"CONCATENATE(TRIM(ASC(spreedResult.!F64)),\" \",TRIM(ASC(spreedResult.!G64)))","v":" "},{"$f":"CONCATENATE(TRIM(spreedResult.!H64),\"　\",TRIM(spreedResult.!I64))","v":"　"},{"$f":"IFERROR(VLOOKUP(spreedResult.!K64,spreedResult.!$AX$4:$AY$5,2,0),\"\")","v":""},{"$f":"IF(spreedResult.!L64<>\"\",TEXT(spreedResult.!L64,\"YYYY\")&TEXT(spreedResult.!L64,\"MM\")&TEXT(spreedResult.!L64,\"DD\"),\"\")","v":""},null,null,{"$f":"IF(spreedResult.!$F64<>\"\",spreedResult.!$C$10,\"\")","v":""},{"$f":"IF(spreedResult.!$F64<>\"\",spreedResult.!$C$9,\"\")","v":""},{"$f":"IF(spreedResult.!M64<>\"\",spreedResult.!M64,\"\")","v":""},{"$f":"IF(spreedResult.!H64<>\"\",IF(spreedResult.!$I$8=\"左記ご住所に送付\",\"2\",\"\"),\"\")","v":""},{"$nulls":8},"",null,"",null,"",null,"",null,"",null,"",null,"",null,"",null,"",null,""]
[null,{"$f":"IF(spreedResult.!B65<>\"\",TEXT(spreedResult.!B65,\"YYYY\")&TEXT(spreedResult.!B65,\"MM\")&TEXT(spreedResult.!B65,\"DD\"),\"\")","v":""},{"$f":"IF(spreedResult.!C65<>\"\",VLOOKUP(spreedResult.!C65,spreedResult.!$AU$2:$AV$12,2,0),\"\")","v":""},{"$nulls":4},{"$f":"IF(spreedResult.!P65<>\"\",VLOOKUP(spreedResult.!P65,Course!$A$2:$B$612,2,0),\"\")","v":""},null,{"$f":"CONCATENATE(TRIM(ASC(spreedResult.!F65)),\" \",TRIM(ASC(spreedResult.!G65)))","v":" "},{"$f":"CONCATENATE(TRIM(spreedResult.!H65),\"　\",TRIM(spreedResult.!I65))","v":"　"},{"$f":"IFERROR(VLOOKUP(spreedResult.!K65,spreedResult.!$AX$4:$AY$5,2,0),\"\")","v":""},{"$f":"IF(spreedResult.!L65<>\"\",TEXT(spreedResult.!L65,\"YYYY\")&TEXT(spreedResult.!L65,\"MM\")&TEXT(spreedResult.!L65,\"DD\"),\"\")","v":""},null,null,{"$f":"IF(spreedResult.!$F65<>\"\",spreedResult.!$C$10,\"\")","v":""},{"$f":"IF(spreedResult.!$F65<>\"\",spreedResult.!$C$9,\"\")","v":""},{"$f":"IF(spreedResult.!M65<>\"\",spreedResult.!M65,\"\")","v":""},{"$f":"IF(spreedResult.!H65<>\"\",IF(spreedResult.!$I$8=\"左記ご住所に送付\",\"2\",\"\"),\"\")","v":""},{"$nulls":8},"",null,"",null,"",null,"",null,"",null,"",null,"",null,"",null,"",null,""]
[null,{"$f":"IF(spreedResult.!B66<>\"\",TEXT(spreedResult.!B66,\"YYYY\")&TEXT(spreedResult.!B66,\"MM\")&TEXT(spreedResult.!B66,\"DD\"),\"\")","v":""},{"$f":"IF(spreedResult.!C66<>\"\",VLOOKUP(spreedResult.!C66,spreedResult.!$AU$2:$AV$12,2,0),\"\")","v":""},{"$nulls":4},{"$f":"IF(spreedResult.!P66<>\"\",VLOOKUP(spreedResult.!P66,Course!$A$2:$B$612,2,0),\"\")","v":""},null,{"$f":"CONCATENATE(TRIM(ASC(spreedResult.!F66)),\" \",TRIM(ASC(spreedResult.!G66)))","v":" "},{"$f":"CONCATENATE(TRIM(spreedResult.!H66),\"　\",TRIM(spreedResult.!I66))","v":"　"},{"$f":"IFERROR(VLOOKUP(spreedResult.!K66,spreedResult.!$AX$4:$AY$5,2,0),\"\")","v":""},{"$f":"IF(spreedResult.!L66<>\"\",TEXT(spreedResult.!L66,\"YYYY\")&TEXT(spreedResult.!L66,\"MM\")&TEXT(spreedResult.!L66,\"DD\"),\"\")","v":""},null,null,{"$f":"IF(spreedResult.!$F66<>\"\",spreedResult.!$C$10,\"\")","v":""},{"$f":"IF(spreedResult.!$F66<>\"\",spreedResult.!$C$9,\"\")","v":""},{"$f":"IF(spreedResult.!M66<>\"\",spreedResult.!M66,\"\")","v":""},{"$f":"IF(spreedResult.!H66<>\"\",IF(spreedResult.!$I$8=\"左記ご住所に送付\",\"2\",\"\"),\"\")","v":""},{"$nulls":8},"",null,"",null,"",null,"",null,"",null,"",null,"",null,"",null,"",null,""]
[null,{"$f":"IF(spreedResult.!B67<>\"\",TEXT(spreedResult.!B67,\"YYYY\")&TEXT(spreedResult.!B67,\"MM\")&TEXT(spreedResult.!B67,\"DD\"),\"\")","v":""},{"$f":"IF(spreedResult.!C67<>\"\",VLOOKUP(spreedResult.!C67,spreedResult.!$AU$2:$AV$12,2,0),\"\")","v":""},{"$nulls":4},{"$f":"IF(spreedResult.!P67<>\"\",VLOOKUP(spreedResult.!P67,Course!$A$2:$B$612,2,0),\"\")","v":""},null,{"$f":"CONCATENATE(TRIM(ASC(spreedResult.!F67)),\" \",TRIM(ASC(spreedResult.!G67)))","v":" "},{"$f":"CONCATENATE(TRIM(spreedResult.!H67),\"　\",TRIM(spreedResult.!I67))","v":"　"},{"$f":"IFERROR(VLOOKUP(spreedResult.!K67,spreedResult.!$AX$4:$AY$5,2,0),\"\")","v":""},{"$f":"IF(spreedResult.!L67<>\"\",TEXT(spreedResult.!L67,\"YYYY\")&TEXT(spreedResult.!L67,\"MM\")&TEXT(spreedResult.!L67,\"DD\"),\"\")","v":""},null,null,{"$f":"IF(spreedResult.!$F67<>\"\",spreedResult.!$C$10,\"\")","v":""},{"$f":"IF(spreedResult.!$F67<>\"\",spreedResult.!$C$9,\"\")","v":""},{"$f":"IF(spreedResult.!M67<>\"\",spreedResult.!M67,\"\")","v":""},{"$f":"IF(spreedResult.!H67<>\"\",IF(spreedResult.!$I$8=\"左記ご住所に送付\",\"2\",\"\"),\"\")","v":""},{"$nulls":8},"",null,"",null,"",null,"",null,"",null,"",null,"",null,"",null,"",null,""]
[null,{"$f":"IF(spreedResult.!B68<>\"\",TEXT(spreedResult.!B68,\"YYYY\")&TEXT(spreedResult.!B68,\"MM\")&TEXT(spreedResult.!B68,\"DD\"),\"\")","v":""},{"$f":"IF(spreedResult.!C68<>\"\",VLOOKUP(spreedResult.!C68,spreedResult.!$AU$2:$AV$12,2,0),\"\")","v":""},{"$nulls":4},{"$f":"IF(spreedResult.!P68<>\"\",VLOOKUP(spreedResult.!P68,Course!$A$2:$B$612,2,0),\"\")","v":""},null,{"$f":"CONCATENATE(TRIM(ASC(spreedResult.!F68)),\" \",TRIM(ASC(spreedResult.!G68)))","v":" "},{"$f":"CONCATENATE(TRIM(spreedResult.!H68),\"　\",TRIM(spreedResult.!I68))","v":"　"},{"$f":"IFERROR(VLOOKUP(spreedResult.!K68,spreedResult.!$AX$4:$AY$5,2,0),\"\")","v":""},{"$f":"IF(spreedResult.!L68<>\"\",TEXT(spreedResult.!L68,\"YYYY\")&TEXT(spreedResult.!L68,\"MM\")&TEXT(spreedResult.!L68,\"DD\"),\"\")","v":""},null,null,{"$f":"IF(spreedResult.!$F68<>\"\",spreedResult.!$C$10,\"\")","v":""},{"$f":"IF(spreedResult.!$F68<>\"\",spreedResult.!$C$9,\"\")","v":""},{"$f":"IF(spreedResult.!M68<>\"\",spreedResult.!M68,\"\")","v":""},{"$f":"IF(spreedResult.!H68<>\"\",IF(spreedResult.!$I$8=\"左記ご住所に送付\",\"2\",\"\"),\"\")","v":""},{"$nulls":8},"",null,"",null,"",null,"",null,"",null,"",null,"",null,"",null,"",null,""]
[null,{"$f":"IF(spreedResult.!B69<>\"\",TEXT(spreedResult.!B69,\"YYYY\")&TEXT(spreedResult.!B69,\"MM\")&TEXT(spreedResult.!B69,\"DD\"),\"\")","v":""},{"$f":"IF(spreedResult.!C69<>\"\",VLOOKUP(spreedResult.!C69,spreedResult.!$AU$2:$AV$12,2,0),\"\")","v":""},{"$nulls":4},{"$f":"IF(spreedResult.!P69<>\"\",VLOOKUP(spreedResult.!P69,Course!$A$2:$B$612,2,0),\"\")","v":""},null,{"$f":"CONCATENATE(TRIM(ASC(spreedResult.!F69)),\" \",TRIM(ASC(spreedResult.!G69)))","v":" "},{"$f":"CONCATENATE(TRIM(spreedResult.!H69),\"　\",TRIM(spreedResult.!I69))","v":"　"},{"$f":"IFERROR(VLOOKUP(spreedResult.!K69,spreedResult.!$AX$4:$AY$5,2,0),\"\")","v":""},{"$f":"IF(spreedResult.!L69<>\"\",TEXT(spreedResult.!L69,\"YYYY\")&TEXT(spreedResult.!L69,\"MM\")&TEXT(spreedResult.!L69,\"DD\"),\"\")","v":""},null,null,{"$f":"IF(spreedResult.!$F69<>\"\",spreedResult.!$C$10,\"\")","v":""},{"$f":"IF(spreedResult.!$F69<>\"\",spreedResult.!$C$9,\"\")","v":""},{"$f":"IF(spreedResult.!M69<>\"\",spreedResult.!M69,\"\")","v":""},{"$f":"IF(spreedResult.!H69<>\"\",IF(spreedResult.!$I$8=\"左記ご住所に送付\",\"2\",\"\"),\"\")","v":""},{"$nulls":8},"",null,"",null,"",null,"",null,"",null,"",null,"",null,"",null,"",null,""]
[null,{"$f":"IF(spreedResult.!B70<>\"\",TEXT(spreedResult.!B70,\"YYYY\")&TEXT(spreedResult.!B70,\"MM\")&TEXT(spreedResult.!B70,\"DD\"),\"\")","v":""},{"$f":"IF(spreedResult.!C70<>\"\",VLOOKUP(spreedResult.!C70,spreedResult.!$AU$2:$AV$12,2,0),\"\")","v":""},{"$nulls":4},{"$f":"IF(spreedResult.!P70<>\"\",VLOOKUP(spreedResult.!P70,Course!$A$2:$B$612,2,0),\"\")","v":""},null,{"$f":"CONCATENATE(TRIM(ASC(spreedResult.!F70)),\" \",TRIM(ASC(spreedResult.!G70)))","v":" "},{"$f":"CONCATENATE(TRIM(spreedResult.!H70),\"　\",TRIM(spreedResult.!I70))","v":"　"},{"$f":"IFERROR(VLOOKUP(spreedResult.!K70,spreedResult.!$AX$4:$AY$5,2,0),\"\")","v":""},{"$f":"IF(spreedResult.!L70<>\"\",TEXT(spreedResult.!L70,\"YYYY\")&TEXT(spreedResult.!L70,\"MM\")&TEXT(spreedResult.!L70,\"DD\"),\"\")","v":""},null,null,{"$f":"IF(spreedResult.!$F70<>\"\",spreedResult.!$C$10,\"\")","v":""},{"$f":"IF(spreedResult.!$F70<>\"\",spreedResult.!$C$9,\"\")","v":""},{"$f":"IF(spreedResult.!M70<>\"\",spreedResult.!M70,\"\")","v":""},{"$f":"IF(spreedResult.!H70<>\"\",IF(spreedResult.!$I$8=\"左記ご住所に送付\",\"2\",\"\"),\"\")","v":""},{"$nulls":8},"",null,"",null,"",null,"",null,"",null,"",null,"",null,"",null,"",null,""]
[null,{"$f":"IF(spreedResult.!B71<>\"\",TEXT(spreedResult.!B71,\"YYYY\")&TEXT(spreedResult.!B71,\"MM\")&TEXT(spreedResult.!B71,\"DD\"),\"\")","v":""},{"$f":"IF(spreedResult.!C71<>\"\",VLOOKUP(spreedResult.!C71,spreedResult.!$AU$2:$AV$12,2,0),\"\")","v":""},{"$nulls":4},{"$f":"IF(spreedResult.!P71<>\"\",VLOOKUP(spreedResult.!P71,Course!$A$2:$B$612,2,0),\"\")","v":""},null,{"$f":"CONCATENATE(TRIM(ASC(spreedResult.!F71)),\" \",TRIM(ASC(spreedResult.!G71)))","v":" "},{"$f":"CONCATENATE(TRIM(spreedResult.!H71),\"　\",TRIM(spreedResult.!I71))","v":"　"},{"$f":"IFERROR(VLOOKUP(spreedResult.!K71,spreedResult.!$AX$4:$AY$5,2,0),\"\")","v":""},{"$f":"IF(spreedResult.!L71<>\"\",TEXT(spreedResult.!L71,\"YYYY\")&TEXT(spreedResult.!L71,\"MM\")&TEXT(spreedResult.!L71,\"DD\"),\"\")","v":""},null,null,{"$f":"IF(spreedResult.!$F71<>\"\",spreedResult.!$C$10,\"\")","v":""},{"$f":"IF(spreedResult.!$F71<>\"\",spreedResult.!$C$9,\"\")","v":""},{"$f":"IF(spreedResult.!M71<>\"\",spreedResult.!M71,\"\")","v":""},{"$f":"IF(spreedResult.!H71<>\"\",IF(spreedResult.!$I$8=\"左記ご住所に送付\",\"2\",\"\"),\"\")","v":""},{"$nulls":8},"",null,"",null,"",null,"",null,"",null,"",null,"",null,"",null,"",null,""]
[null,{"$f":"IF(spreedResult.!B72<>\"\",TEXT(spreedResult.!B72,\"YYYY\")&TEXT(spreedResult.!B72,\"MM\")&TEXT(spreedResult.!B72,\"DD\"),\"\")","v":""},{"$f":"IF(spreedResult.!C72<>\"\",VLOOKUP(spreedResult.!C72,spreedResult.!$AU$2:$AV$12,2,0),\"\")","v":""},{"$nulls":4},{"$f":"IF(spreedResult.!P72<>\"\",VLOOKUP(spreedResult.!P72,Course!$A$2:$B$612,2,0),\"\")","v":""},null,{"$f":"CONCATENATE(TRIM(ASC(spreedResult.!F72)),\" \",TRIM(ASC(spreedResult.!G72)))","v":" "},{"$f":"CONCATENATE(TRIM(spreedResult.!H72),\"　\",TRIM(spreedResult.!I72))","v":"　"},{"$f":"IFERROR(VLOOKUP(spreedResult.!K72,spreedResult.!$AX$4:$AY$5,2,0),\"\")","v":""},{"$f":"IF(spreedResult.!L72<>\"\",TEXT(spreedResult.!L72,\"YYYY\")&TEXT(spreedResult.!L72,\"MM\")&TEXT(spreedResult.!L72,\"DD\"),\"\")","v":""},null,null,{"$f":"IF(spreedResult.!$F72<>\"\",spreedResult.!$C$10,\"\")","v":""},{"$f":"IF(spreedResult.!$F72<>\"\",spreedResult.!$C$9,\"\")","v":""},{"$f":"IF(spreedResult.!M72<>\"\",spreedResult.!M72,\"\")","v":""},{"$f":"IF(spreedResult.!H72<>\"\",IF(spreedResult.!$I$8=\"左記ご住所に送付\",\"2\",\"\"),\"\")","v":""},{"$nulls":8},"",null,"",null,"",null,"",null,"",null,"",null,"",null,"",null,"",null,""]
[null,{"$f":"IF(spreedResult.!B73<>\"\",TEXT(spreedResult.!B73,\"YYYY\")&TEXT(spreedResult.!B73,\"MM\")&TEXT(spreedResult.!B73,\"DD\"),\"\")","v":""},{"$f":"IF(spreedResult.!C73<>\"\",VLOOKUP(spreedResult.!C73,spreedResult.!$AU$2:$AV$12,2,0),\"\")","v":""},{"$nulls":4},{"$f":"IF(spreedResult.!P73<>\"\",VLOOKUP(spreedResult.!P73,Course!$A$2:$B$612,2,0),\"\")","v":""},null,{"$f":"CONCATENATE(TRIM(ASC(spreedResult.!F73)),\" \",TRIM(ASC(spreedResult.!G73)))","v":" "},{"$f":"CONCATENATE(TRIM(spreedResult.!H73),\"　\",TRIM(spreedResult.!I73))","v":"　"},{"$f":"IFERROR(VLOOKUP(spreedResult.!K73,spreedResult.!$AX$4:$AY$5,2,0),\"\")","v":""},{"$f":"IF(spreedResult.!L73<>\"\",TEXT(spreedResult.!L73,\"YYYY\")&TEXT(spreedResult.!L73,\"MM\")&TEXT(spreedResult.!L73,\"DD\"),\"\")","v":""},null,null,{"$f":"IF(spreedResult.!$F73<>\"\",spreedResult.!$C$10,\"\")","v":""},{"$f":"IF(spreedResult.!$F73<>\"\",spreedResult.!$C$9,\"\")","v":""},{"$f":"IF(spreedResult.!M73<>\"\",spreedResult.!M73,\"\")","v":""},{"$f":"IF(spreedResult.!H73<>\"\",IF(spreedResult.!$I$8=\"左記ご住所に送付\",\"2\",\"\"),\"\")","v":""},{"$nulls":8},"",null,"",null,"",null,"",null,"",null,"",null,"",null,"",null,"",null,""]
[null,{"$f":"IF(spreedResult.!B74<>\"\",TEXT(spreedResult.!B74,\"YYYY\")&TEXT(spreedResult.!B74,\"MM\")&TEXT(spreedResult.!B74,\"DD\"),\"\")","v":""},{"$f":"IF(spreedResult.!C74<>\"\",VLOOKUP(spreedResult.!C74,spreedResult.!$AU$2:$AV$12,2,0),\"\")","v":""},{"$nulls":4},{"$f":"IF(spreedResult.!P74<>\"\",VLOOKUP(spreedResult.!P74,Course!$A$2:$B$612,2,0),\"\")","v":""},null,{"$f":"CONCATENATE(TRIM(ASC(spreedResult.!F74)),\" \",TRIM(ASC(spreedResult.!G74)))","v":" "},{"$f":"CONCATENATE(TRIM(spreedResult.!H74),\"　\",TRIM(spreedResult.!I74))","v":"　"},{"$f":"IFERROR(VLOOKUP(spreedResult.!K74,spreedResult.!$AX$4:$AY$5,2,0),\"\")","v":""},{"$f":"IF(spreedResult.!L74<>\"\",TEXT(spreedResult.!L74,\"YYYY\")&TEXT(spreedResult.!L74,\"MM\")&TEXT(spreedResult.!L74,\"DD\"),\"\")","v":""},null,null,{"$f":"IF(spreedResult.!$F74<>\"\",spreedResult.!$C$10,\"\")","v":""},{"$f":"IF(spreedResult.!$F74<>\"\",spreedResult.!$C$9,\"\")","v":""},{"$f":"IF(spreedResult.!M74<>\"\",spreedResult.!M74,\"\")","v":""},{"$f":"IF(spreedResult.!H74<>\"\",IF(spreedResult.!$I$8=\"左記ご住所に送付\",\"2\",\"\"),\"\")","v":""},{"$nulls":8},"",null,"",null,"",null,"",null,"",null,"",null,"",null,"",null,"",null,""]
[null,{"$f":"IF(spreedResult.!B75<>\"\",TEXT(spreedResult.!B75,\"YYYY\")&TEXT(spreedResult.!B75,\"MM\")&TEXT(spreedResult.!B75,\"DD\"),\"\")","v":""},{"$f":"IF(spreedResult.!C75<>\"\",VLOOKUP(spreedResult.!C75,spreedResult.!$AU$2:$AV$12,2,0),\"\")","v":""},{"$nulls":4},{"$f":"IF(spreedResult.!P75<>\"\",VLOOKUP(spreedResult.!P75,Course!$A$2:$B$612,2,0),\"\")","v":""},null,{"$f":"CONCATENATE(TRIM(ASC(spreedResult.!F75)),\" \",TRIM(ASC(spreedResult.!G75)))","v":" "},{"$f":"CONCATENATE(TRIM(spreedResult.!H75),\"　\",TRIM(spreedResult.!I75))","v":"　"},{"$f":"IFERROR(VLOOKUP(spreedResult.!K75,spreedResult.!$AX$4:$AY$5,2,0),\"\")","v":""},{"$f":"IF(spreedResult.!L75<>\"\",TEXT(spreedResult.!L75,\"YYYY\")&TEXT(spreedResult.!L75,\"MM\")&TEXT(spreedResult.!L75,\"DD\"),\"\")","v":""},null,null,{"$f":"IF(spreedResult.!$F75<>\"\",spreedResult.!$C$10,\"\")","v":""},{"$f":"IF(spreedResult.!$F75<>\"\",spreedResult.!$C$9,\"\")","v":""},{"$f":"IF(spreedResult.!M75<>\"\",spreedResult.!M75,\"\")","v":""},{"$f":"IF(spreedResult.!H75<>\"\",IF(spreedResult.!$I$8=\"左記ご住所に送付\",\"2\",\"\"),\"\")","v":""},{"$nulls":8},"",null,"",null,"",null,"",null,"",null,"",null,"",null,"",null,"",null,""]
[null,{"$f":"IF(spreedResult.!B76<>\"\",TEXT(spreedResult.!B76,\"YYYY\")&TEXT(spreedResult.!B76,\"MM\")&TEXT(spreedResult.!B76,\"DD\"),\"\")","v":""},{"$f":"IF(spreedResult.!C76<>\"\",VLOOKUP(spreedResult.!C76,spreedResult.!$AU$2:$AV$12,2,0),\"\")","v":""},{"$nulls":4},{"$f":"IF(spreedResult.!P76<>\"\",VLOOKUP(spreedResult.!P76,Course!$A$2:$B$612,2,0),\"\")","v":""},null,{"$f":"CONCATENATE(TRIM(ASC(spreedResult.!F76)),\" \",TRIM(ASC(spreedResult.!G76)))","v":" "},{"$f":"CONCATENATE(TRIM(spreedResult.!H76),\"　\",TRIM(spreedResult.!I76))","v":"　"},{"$f":"IFERROR(VLOOKUP(spreedResult.!K76,spreedResult.!$AX$4:$AY$5,2,0),\"\")","v":""},{"$f":"IF(spreedResult.!L76<>\"\",TEXT(spreedResult.!L76,\"YYYY\")&TEXT(spreedResult.!L76,\"MM\")&TEXT(spreedResult.!L76,\"DD\"),\"\")","v":""},null,null,{"$f":"IF(spreedResult.!$F76<>\"\",spreedResult.!$C$10,\"\")","v":""},{"$f":"IF(spreedResult.!$F76<>\"\",spreedResult.!$C$9,\"\")","v":""},{"$f":"IF(spreedResult.!M76<>\"\",spreedResult.!M76,\"\")","v":""},{"$f":"IF(spreedResult.!H76<>\"\",IF(spreedResult.!$I$8=\"左記ご住所に送付\",\"2\",\"\"),\"\")","v":""},{"$nulls":8},"",null,"",null,"",null,"",null,"",null,"",null,"",null,"",null,"",null,""]
[null,{"$f":"IF(spreedResult.!B77<>\"\",TEXT(spreedResult.!B77,\"YYYY\")&TEXT(spreedResult.!B77,\"MM\")&TEXT(spreedResult.!B77,\"DD\"),\"\")","v":""},{"$f":"IF(spreedResult.!C77<>\"\",VLOOKUP(spreedResult.!C77,spreedResult.!$AU$2:$AV$12,2,0),\"\")","v":""},{"$nulls":4},{"$f":"IF(spreedResult.!P77<>\"\",VLOOKUP(spreedResult.!P77,Course!$A$2:$B$612,2,0),\"\")","v":""},null,{"$f":"CONCATENATE(TRIM(ASC(spreedResult.!F77)),\" \",TRIM(ASC(spreedResult.!G77)))","v":" "},{"$f":"CONCATENATE(TRIM(spreedResult.!H77),\"　\",TRIM(spreedResult.!I77))","v":"　"},{"$f":"IFERROR(VLOOKUP(spreedResult.!K77,spreedResult.!$AX$4:$AY$5,2,0),\"\")","v":""},{"$f":"IF(spreedResult.!L77<>\"\",TEXT(spreedResult.!L77,\"YYYY\")&TEXT(spreedResult.!L77,\"MM\")&TEXT(spreedResult.!L77,\"DD\"),\"\")","v":""},null,null,{"$f":"IF(spreedResult.!$F77<>\"\",spreedResult.!$C$10,\"\")","v":""},{"$f":"IF(spreedResult.!$F77<>\"\",spreedResult.!$C$9,\"\")","v":""},{"$f":"IF(spreedResult.!M77<>\"\",spreedResult.!M77,\"\")","v":""},{"$f":"IF(spreedResult.!H77<>\"\",IF(spreedResult.!$I$8=\"左記ご住所に送付\",\"2\",\"\"),\"\")","v":""},{"$nulls":8},"",null,"",null,"",null,"",null,"",null,"",null,"",null,"",null,"",null,""]
[null,{"$f":"IF(spreedResult.!B78<>\"\",TEXT(spreedResult.!B78,\"YYYY\")&TEXT(spreedResult.!B78,\"MM\")&TEXT(spreedResult.!B78,\"DD\"),\"\")","v":""},{"$f":"IF(spreedResult.!C78<>\"\",VLOOKUP(spreedResult.!C78,spreedResult.!$AU$2:$AV$12,2,0),\"\")","v":""},{"$nulls":4},{"$f":"IF(spreedResult.!P78<>\"\",VLOOKUP(spreedResult.!P78,Course!$A$2:$B$612,2,0),\"\")","v":""},null,{"$f":"CONCATENATE(TRIM(ASC(spreedResult.!F78)),\" \",TRIM(ASC(spreedResult.!G78)))","v":" "},{"$f":"CONCATENATE(TRIM(spreedResult.!H78),\"　\",TRIM(spreedResult.!I78))","v":"　"},{"$f":"IFERROR(VLOOKUP(spreedResult.!K78,spreedResult.!$AX$4:$AY$5,2,0),\"\")","v":""},{"$f":"IF(spreedResult.!L78<>\"\",TEXT(spreedResult.!L78,\"YYYY\")&TEXT(spreedResult.!L78,\"MM\")&TEXT(spreedResult.!L78,\"DD\"),\"\")","v":""},null,null,{"$f":"IF(spreedResult.!$F78<>\"\",spreedResult.!$C$10,\"\")","v":""},{"$f":"IF(spreedResult.!$F78<>\"\",spreedResult.!$C$9,\"\")","v":""},{"$f":"IF(spreedResult.!M78<>\"\",spreedResult.!M78,\"\")","v":""},{"$f":"IF(spreedResult.!H78<>\"\",IF(spreedResult.!$I$8=\"左記ご住所に送付\",\"2\",\"\"),\"\")","v":""},{"$nulls":8},"",null,"",null,"",null,"",null,"",null,"",null,"",null,"",null,"",null,""]
[null,{"$f":"IF(spreedResult.!B79<>\"\",TEXT(spreedResult.!B79,\"YYYY\")&TEXT(spreedResult.!B79,\"MM\")&TEXT(spreedResult.!B79,\"DD\"),\"\")","v":""},{"$f":"IF(spreedResult.!C79<>\"\",VLOOKUP(spreedResult.!C79,spreedResult.!$AU$2:$AV$12,2,0),\"\")","v":""},{"$nulls":4},{"$f":"IF(spreedResult.!P79<>\"\",VLOOKUP(spreedResult.!P79,Course!$A$2:$B$612,2,0),\"\")","v":""},null,{"$f":"CONCATENATE(TRIM(ASC(spreedResult.!F79)),\" \",TRIM(ASC(spreedResult.!G79)))","v":" "},{"$f":"CONCATENATE(TRIM(spreedResult.!H79),\"　\",TRIM(spreedResult.!I79))","v":"　"},{"$f":"IFERROR(VLOOKUP(spreedResult.!K79,spreedResult.!$AX$4:$AY$5,2,0),\"\")","v":""},{"$f":"IF(spreedResult.!L79<>\"\",TEXT(spreedResult.!L79,\"YYYY\")&TEXT(spreedResult.!L79,\"MM\")&TEXT(spreedResult.!L79,\"DD\"),\"\")","v":""},null,null,{"$f":"IF(spreedResult.!$F79<>\"\",spreedResult.!$C$10,\"\")","v":""},{"$f":"IF(spreedResult.!$F79<>\"\",spreedResult.!$C$9,\"\")","v":""},{"$f":"IF(spreedResult.!M79<>\"\",spreedResult.!M79,\"\")","v":""},{"$f":"IF(spreedResult.!H79<>\"\",IF(spreedResult.!$I$8=\"左記ご住所に送付\",\"2\",\"\"),\"\")","v":""},{"$nulls":8},"",null,"",null,"",null,"",null,"",null,"",null,"",null,"",null,"",null,""]
[null,{"$f":"IF(spreedResult.!B80<>\"\",TEXT(spreedResult.!B80,\"YYYY\")&TEXT(spreedResult.!B80,\"MM\")&TEXT(spreedResult.!B80,\"DD\"),\"\")","v":""},{"$f":"IF(spreedResult.!C80<>\"\",VLOOKUP(spreedResult.!C80,spreedResult.!$AU$2:$AV$12,2,0),\"\")","v":""},{"$nulls":4},{"$f":"IF(spreedResult.!P80<>\"\",VLOOKUP(spreedResult.!P80,Course!$A$2:$B$612,2,0),\"\")","v":""},null,{"$f":"CONCATENATE(TRIM(ASC(spreedResult.!F80)),\" \",TRIM(ASC(spreedResult.!G80)))","v":" "},{"$f":"CONCATENATE(TRIM(spreedResult.!H80),\"　\",TRIM(spreedResult.!I80))","v":"　"},{"$f":"IFERROR(VLOOKUP(spreedResult.!K80,spreedResult.!$AX$4:$AY$5,2,0),\"\")","v":""},{"$f":"IF(spreedResult.!L80<>\"\",TEXT(spreedResult.!L80,\"YYYY\")&TEXT(spreedResult.!L80,\"MM\")&TEXT(spreedResult.!L80,\"DD\"),\"\")","v":""},null,null,{"$f":"IF(spreedResult.!$F80<>\"\",spreedResult.!$C$10,\"\")","v":""},{"$f":"IF(spreedResult.!$F80<>\"\",spreedResult.!$C$9,\"\")","v":""},{"$f":"IF(spreedResult.!M80<>\"\",spreedResult.!M80,\"\")","v":""},{"$f":"IF(spreedResult.!H80<>\"\",IF(spreedResult.!$I$8=\"左記ご住所に送付\",\"2\",\"\"),\"\")","v":""},{"$nulls":8},"",null,"",null,"",null,"",null,"",null,"",null,"",null,"",null,"",null,""]
[null,{"$f":"IF(spreedResult.!B81<>\"\",TEXT(spreedResult.!B81,\"YYYY\")&TEXT(spreedResult.!B81,\"MM\")&TEXT(spreedResult.!B81,\"DD\"),\"\")","v":""},{"$f":"IF(spreedResult.!C81<>\"\",VLOOKUP(spreedResult.!C81,spreedResult.!$AU$2:$AV$12,2,0),\"\")","v":""},{"$nulls":4},{"$f":"IF(spreedResult.!P81<>\"\",VLOOKUP(spreedResult.!P81,Course!$A$2:$B$612,2,0),\"\")","v":""},null,{"$f":"CONCATENATE(TRIM(ASC(spreedResult.!F81)),\" \",TRIM(ASC(spreedResult.!G81)))","v":" "},{"$f":"CONCATENATE(TRIM(spreedResult.!H81),\"　\",TRIM(spreedResult.!I81))","v":"　"},{"$f":"IFERROR(VLOOKUP(spreedResult.!K81,spreedResult.!$AX$4:$AY$5,2,0),\"\")","v":""},{"$f":"IF(spreedResult.!L81<>\"\",TEXT(spreedResult.!L81,\"YYYY\")&TEXT(spreedResult.!L81,\"MM\")&TEXT(spreedResult.!L81,\"DD\"),\"\")","v":""},null,null,{"$f":"IF(spreedResult.!$F81<>\"\",spreedResult.!$C$10,\"\")","v":""},{"$f":"IF(spreedResult.!$F81<>\"\",spreedResult.!$C$9,\"\")","v":""},{"$f":"IF(spreedResult.!M81<>\"\",spreedResult.!M81,\"\")","v":""},{"$f":"IF(spreedResult.!H81<>\"\",IF(spreedResult.!$I$8=\"左記ご住所に送付\",\"2\",\"\"),\"\")","v":""},{"$nulls":8},"",null,"",null,"",null,"",null,"",null,"",null,"",null,"",null,"",null,""]
[null,{"$f":"IF(spreedResult.!B82<>\"\",TEXT(spreedResult.!B82,\"YYYY\")&TEXT(spreedResult.!B82,\"MM\")&TEXT(spreedResult.!B82,\"DD\"),\"\")","v":""},{"$f":"IF(spreedResult.!C82<>\"\",VLOOKUP(spreedResult.!C82,spreedResult.!$AU$2:$AV$12,2,0),\"\")","v":""},{"$nulls":4},{"$f":"IF(spreedResult.!P82<>\"\",VLOOKUP(spreedResult.!P82,Course!$A$2:$B$612,2,0),\"\")","v":""},null,{"$f":"CONCATENATE(TRIM(ASC(spreedResult.!F82)),\" \",TRIM(ASC(spreedResult.!G82)))","v":" "},{"$f":"CONCATENATE(TRIM(spreedResult.!H82),\"　\",TRIM(spreedResult.!I82))","v":"　"},{"$f":"IFERROR(VLOOKUP(spreedResult.!K82,spreedResult.!$AX$4:$AY$5,2,0),\"\")","v":""},{"$f":"IF(spreedResult.!L82<>\"\",TEXT(spreedResult.!L82,\"YYYY\")&TEXT(spreedResult.!L82,\"MM\")&TEXT(spreedResult.!L82,\"DD\"),\"\")","v":""},null,null,{"$f":"IF(spreedResult.!$F82<>\"\",spreedResult.!$C$10,\"\")","v":""},{"$f":"IF(spreedResult.!$F82<>\"\",spreedResult.!$C$9,\"\")","v":""},{"$f":"IF(spreedResult.!M82<>\"\",spreedResult.!M82,\"\")","v":""},{"$f":"IF(spreedResult.!H82<>\"\",IF(spreedResult.!$I$8=\"左記ご住所に送付\",\"2\",\"\"),\"\")","v":""},{"$nulls":8},"",null,"",null,"",null,"",null,"",null,"",null,"",null,"",null,"",null,""]
[null,{"$f":"IF(spreedResult.!B83<>\"\",TEXT(spreedResult.!B83,\"YYYY\")&TEXT(spreedResult.!B83,\"MM\")&TEXT(spreedResult.!B83,\"DD\"),\"\")","v":""},{"$f":"IF(spreedResult.!C83<>\"\",VLOOKUP(spreedResult.!C83,spreedResult.!$AU$2:$AV$12,2,0),\"\")","v":""},{"$nulls":4},{"$f":"IF(spreedResult.!P83<>\"\",VLOOKUP(spreedResult.!P83,Course!$A$2:$B$612,2,0),\"\")","v":""},null,{"$f":"CONCATENATE(TRIM(ASC(spreedResult.!F83)),\" \",TRIM(ASC(spreedResult.!G83)))","v":" "},{"$f":"CONCATENATE(TRIM(spreedResult.!H83),\"　\",TRIM(spreedResult.!I83))","v":"　"},{"$f":"IFERROR(VLOOKUP(spreedResult.!K83,spreedResult.!$AX$4:$AY$5,2,0),\"\")","v":""},{"$f":"IF(spreedResult.!L83<>\"\",TEXT(spreedResult.!L83,\"YYYY\")&TEXT(spreedResult.!L83,\"MM\")&TEXT(spreedResult.!L83,\"DD\"),\"\")","v":""},null,null,{"$f":"IF(spreedResult.!$F83<>\"\",spreedResult.!$C$10,\"\")","v":""},{"$f":"IF(spreedResult.!$F83<>\"\",spreedResult.!$C$9,\"\")","v":""},{"$f":"IF(spreedResult.!M83<>\"\",spreedResult.!M83,\"\")","v":""},{"$f":"IF(spreedResult.!H83<>\"\",IF(spreedResult.!$I$8=\"左記ご住所に送付\",\"2\",\"\"),\"\")","v":""},{"$nulls":8},"",null,"",null,"",null,"",null,"",null,"",null,"",null,"",null,"",null,""]
[null,{"$f":"IF(spreedResult.!B84<>\"\",TEXT(spreedResult.!B84,\"YYYY\")&TEXT(spreedResult.!B84,\"MM\")&TEXT(spreedResult.!B84,\"DD\"),\"\")","v":""},{"$f":"IF(spreedResult.!C84<>\"\",VLOOKUP(spreedResult.!C84,spreedResult.!$AU$2:$AV$12,2,0),\"\")","v":""},{"$nulls":4},{"$f":"IF(spreedResult.!P84<>\"\",VLOOKUP(spreedResult.!P84,Course!$A$2:$B$612,2,0),\"\")","v":""},null,{"$f":"CONCATENATE(TRIM(ASC(spreedResult.!F84)),\" \",TRIM(ASC(spreedResult.!G84)))","v":" "},{"$f":"CONCATENATE(TRIM(spreedResult.!H84),\"　\",TRIM(spreedResult.!I84))","v":"　"},{"$f":"IFERROR(VLOOKUP(spreedResult.!K84,spreedResult.!$AX$4:$AY$5,2,0),\"\")","v":""},{"$f":"IF(spreedResult.!L84<>\"\",TEXT(spreedResult.!L84,\"YYYY\")&TEXT(spreedResult.!L84,\"MM\")&TEXT(spreedResult.!L84,\"DD\"),\"\")","v":""},null,null,{"$f":"IF(spreedResult.!$F84<>\"\",spreedResult.!$C$10,\"\")","v":""},{"$f":"IF(spreedResult.!$F84<>\"\",spreedResult.!$C$9,\"\")","v":""},{"$f":"IF(spreedResult.!M84<>\"\",spreedResult.!M84,\"\")","v":""},{"$f":"IF(spreedResult.!H84<>\"\",IF(spreedResult.!$I$8=\"左記ご住所に送付\",\"2\",\"\"),\"\")","v":""},{"$nulls":8},{"$f":"IF(ISNUMBER(AA73),\"1\",\"\")","v":""},null,{"$f":"IF(ISNUMBER(AC73),\"1\",\"\")","v":""},null,{"$f":"IF(ISNUMBER(AE73),\"1\",\"\")","v":""},null,{"$f":"IF(ISNUMBER(AG73),\"1\",\"\")","v":""},null,{"$f":"IF(ISNUMBER(AI73),\"1\",\"\")","v":""},null,{"$f":"IF(ISNUMBER(AK73),\"1\",\"\")","v":""},null,{"$f":"IF(ISNUMBER(AM73),\"1\",\"\")","v":""},null,{"$f":"IF(ISNUMBER(AO73),\"1\",\"\")","v":""},null,{"$f":"IF(ISNUMBER(AQ73),\"1\",\"\")","v":""},null,{"$f":"IF(ISNUMBER(AS73),\"1\",\"\")","v":""}]
[null,{"$f":"IF(spreedResult.!B85<>\"\",TEXT(spreedResult.!B85,\"YYYY\")&TEXT(spreedResult.!B85,\"MM\")&TEXT(spreedResult.!B85,\"DD\"),\"\")","v":""},{"$f":"IF(spreedResult.!C85<>\"\",VLOOKUP(spreedResult.!C85,spreedResult.!$AU$2:$AV$12,2,0),\"\")","v":""},{"$nulls":4},{"$f":"IF(spreedResult.!P85<>\"\",VLOOKUP(spreedResult.!P85,Course!$A$2:$B$612,2,0),\"\")","v":""},null,{"$f":"CONCATENATE(TRIM(ASC(spreedResult.!F85)),\" \",TRIM(ASC(spreedResult.!G85)))","v":" "},{"$f":"CONCATENATE(TRIM(spreedResult.!H85),\"　\",TRIM(spreedResult.!I85))","v":"　"},{"$f":"IFERROR(VLOOKUP(spreedResult.!K85,spreedResult.!$AX$4:$AY$5,2,0),\"\")","v":""},{"$f":"IF(spreedResult.!L85<>\"\",TEXT(spreedResult.!L85,\"YYYY\")&TEXT(spreedResult.!L85,\"MM\")&TEXT(spreedResult.!L85,\"DD\"),\"\")","v":""},null,null,{"$f":"IF(spreedResult.!$F85<>\"\",spreedResult.!$C$10,\"\")","v":""},{"$f":"IF(spreedResult.!$F85<>\"\",spreedResult.!$C$9,\"\")","v":""},{"$f":"IF(spreedResult.!M85<>\"\",spreedResult.!M85,\"\")","v":""},{"$f":"IF(spreedResult.!H85<>\"\",IF(spreedResult.!$I$8=\"左記ご住所に送付\",\"2\",\"\"),\"\")","v":""},{"$nulls":8},"",null,"",null,"",null,"",null,"",null,"",null,"",null,"",null,"",null,""]
[null,{"$f":"IF(spreedResult.!B86<>\"\",TEXT(spreedResult.!B86,\"YYYY\")&TEXT(spreedResult.!B86,\"MM\")&TEXT(spreedResult.!B86,\"DD\"),\"\")","v":""},{"$f":"IF(spreedResult.!C86<>\"\",VLOOKUP(spreedResult.!C86,spreedResult.!$AU$2:$AV$12,2,0),\"\")","v":""},{"$nulls":4},{"$f":"IF(spreedResult.!P86<>\"\",VLOOKUP(spreedResult.!P86,Course!$A$2:$B$612,2,0),\"\")","v":""},null,{"$f":"CONCATENATE(TRIM(ASC(spreedResult.!F86)),\" \",TRIM(ASC(spreedResult.!G86)))","v":" "},{"$f":"CONCATENATE(TRIM(spreedResult.!H86),\"　\",TRIM(spreedResult.!I86))","v":"　"},{"$f":"IFERROR(VLOOKUP(spreedResult.!K86,spreedResult.!$AX$4:$AY$5,2,0),\"\")","v":""},{"$f":"IF(spreedResult.!L86<>\"\",TEXT(spreedResult.!L86,\"YYYY\")&TEXT(spreedResult.!L86,\"MM\")&TEXT(spreedResult.!L86,\"DD\"),\"\")","v":""},null,null,{"$f":"IF(spreedResult.!$F86<>\"\",spreedResult.!$C$10,\"\")","v":""},{"$f":"IF(spreedResult.!$F86<>\"\",spreedResult.!$C$9,\"\")","v":""},{"$f":"IF(spreedResult.!M86<>\"\",spreedResult.!M86,\"\")","v":""},{"$f":"IF(spreedResult.!H86<>\"\",IF(spreedResult.!$I$8=\"左記ご住所に送付\",\"2\",\"\"),\"\")","v":""},{"$nulls":8},"",null,"",null,"",null,"",null,"",null,"",null,"",null,"",null,"",null,""]
[null,{"$f":"IF(spreedResult.!B87<>\"\",TEXT(spreedResult.!B87,\"YYYY\")&TEXT(spreedResult.!B87,\"MM\")&TEXT(spreedResult.!B87,\"DD\"),\"\")","v":""},{"$f":"IF(spreedResult.!C87<>\"\",VLOOKUP(spreedResult.!C87,spreedResult.!$AU$2:$AV$12,2,0),\"\")","v":""},{"$nulls":4},{"$f":"IF(spreedResult.!P87<>\"\",VLOOKUP(spreedResult.!P87,Course!$A$2:$B$612,2,0),\"\")","v":""},null,{"$f":"CONCATENATE(TRIM(ASC(spreedResult.!F87)),\" \",TRIM(ASC(spreedResult.!G87)))","v":" "},{"$f":"CONCATENATE(TRIM(spreedResult.!H87),\"　\",TRIM(spreedResult.!I87))","v":"　"},{"$f":"IFERROR(VLOOKUP(spreedResult.!K87,spreedResult.!$AX$4:$AY$5,2,0),\"\")","v":""},{"$f":"IF(spreedResult.!L87<>\"\",TEXT(spreedResult.!L87,\"YYYY\")&TEXT(spreedResult.!L87,\"MM\")&TEXT(spreedResult.!L87,\"DD\"),\"\")","v":""},null,null,{"$f":"IF(spreedResult.!$F87<>\"\",spreedResult.!$C$10,\"\")","v":""},{"$f":"IF(spreedResult.!$F87<>\"\",spreedResult.!$C$9,\"\")","v":""},{"$f":"IF(spreedResult.!M87<>\"\",spreedResult.!M87,\"\")","v":""},{"$f":"IF(spreedResult.!H87<>\"\",IF(spreedResult.!$I$8=\"左記ご住所に送付\",\"2\",\"\"),\"\")","v":""},{"$nulls":8},"",null,"",null,"",null,"",null,"",null,"",null,"",null,"",null,"",null,""]
[null,{"$f":"IF(spreedResult.!B88<>\"\",TEXT(spreedResult.!B88,\"YYYY\")&TEXT(spreedResult.!B88,\"MM\")&TEXT(spreedResult.!B88,\"DD\"),\"\")","v":""},{"$f":"IF(spreedResult.!C88<>\"\",VLOOKUP(spreedResult.!C88,spreedResult.!$AU$2:$AV$12,2,0),\"\")","v":""},{"$nulls":4},{"$f":"IF(spreedResult.!P88<>\"\",VLOOKUP(spreedResult.!P88,Course!$A$2:$B$612,2,0),\"\")","v":""},null,{"$f":"CONCATENATE(TRIM(ASC(spreedResult.!F88)),\" \",TRIM(ASC(spreedResult.!G88)))","v":" "},{"$f":"CONCATENATE(TRIM(spreedResult.!H88),\"　\",TRIM(spreedResult.!I88))","v":"　"},{"$f":"IFERROR(VLOOKUP(spreedResult.!K88,spreedResult.!$AX$4:$AY$5,2,0),\"\")","v":""},{"$f":"IF(spreedResult.!L88<>\"\",TEXT(spreedResult.!L88,\"YYYY\")&TEXT(spreedResult.!L88,\"MM\")&TEXT(spreedResult.!L88,\"DD\"),\"\")","v":""},null,null,{"$f":"IF(spreedResult.!$F88<>\"\",spreedResult.!$C$10,\"\")","v":""},{"$f":"IF(spreedResult.!$F88<>\"\",spreedResult.!$C$9,\"\")","v":""},{"$f":"IF(spreedResult.!M88<>\"\",spreedResult.!M88,\"\")","v":""},{"$f":"IF(spreedResult.!H88<>\"\",IF(spreedResult.!$I$8=\"左記ご住所に送付\",\"2\",\"\"),\"\")","v":""},{"$nulls":8},"",null,"",null,"",null,"",null,"",null,"",null,"",null,"",null,"",null,""]
[null,{"$f":"IF(spreedResult.!B89<>\"\",TEXT(spreedResult.!B89,\"YYYY\")&TEXT(spreedResult.!B89,\"MM\")&TEXT(spreedResult.!B89,\"DD\"),\"\")","v":""},{"$f":"IF(spreedResult.!C89<>\"\",VLOOKUP(spreedResult.!C89,spreedResult.!$AU$2:$AV$12,2,0),\"\")","v":""},{"$nulls":4},{"$f":"IF(spreedResult.!P89<>\"\",VLOOKUP(spreedResult.!P89,Course!$A$2:$B$612,2,0),\"\")","v":""},null,{"$f":"CONCATENATE(TRIM(ASC(spreedResult.!F89)),\" \",TRIM(ASC(spreedResult.!G89)))","v":" "},{"$f":"CONCATENATE(TRIM(spreedResult.!H89),\"　\",TRIM(spreedResult.!I89))","v":"　"},{"$f":"IFERROR(VLOOKUP(spreedResult.!K89,spreedResult.!$AX$4:$AY$5,2,0),\"\")","v":""},{"$f":"IF(spreedResult.!L89<>\"\",TEXT(spreedResult.!L89,\"YYYY\")&TEXT(spreedResult.!L89,\"MM\")&TEXT(spreedResult.!L89,\"DD\"),\"\")","v":""},null,null,{"$f":"IF(spreedResult.!$F89<>\"\",spreedResult.!$C$10,\"\")","v":""},{"$f":"IF(spreedResult.!$F89<>\"\",spreedResult.!$C$9,\"\")","v":""},{"$f":"IF(spreedResult.!M89<>\"\",spreedResult.!M89,\"\")","v":""},{"$f":"IF(spreedResult.!H89<>\"\",IF(spreedResult.!$I$8=\"左記ご住所に送付\",\"2\",\"\"),\"\")","v":""},{"$nulls":8},"",null,"",null,"",null,"",null,"",null,"",null,"",null,"",null,"",null,""]
[null,{"$f":"IF(spreedResult.!B90<>\"\",TEXT(spreedResult.!B90,\"YYYY\")&TEXT(spreedResult.!B90,\"MM\")&TEXT(spreedResult.!B90,\"DD\"),\"\")","v":""},{"$f":"IF(spreedResult.!C90<>\"\",VLOOKUP(spreedResult.!C90,spreedResult.!$AU$2:$AV$12,2,0),\"\")","v":""},{"$nulls":4},{"$f":"IF(spreedResult.!P90<>\"\",VLOOKUP(spreedResult.!P90,Course!$A$2:$B$612,2,0),\"\")","v":""},null,{"$f":"CONCATENATE(TRIM(ASC(spreedResult.!F90)),\" \",TRIM(ASC(spreedResult.!G90)))","v":" "},{"$f":"CONCATENATE(TRIM(spreedResult.!H90),\"　\",TRIM(spreedResult.!I90))","v":"　"},{"$f":"IFERROR(VLOOKUP(spreedResult.!K90,spreedResult.!$AX$4:$AY$5,2,0),\"\")","v":""},{"$f":"IF(spreedResult.!L90<>\"\",TEXT(spreedResult.!L90,\"YYYY\")&TEXT(spreedResult.!L90,\"MM\")&TEXT(spreedResult.!L90,\"DD\"),\"\")","v":""},null,null,{"$f":"IF(spreedResult.!$F90<>\"\",spreedResult.!$C$10,\"\")","v":""},{"$f":"IF(spreedResult.!$F90<>\"\",spreedResult.!$C$9,\"\")","v":""},{"$f":"IF(spreedResult.!M90<>\"\",spreedResult.!M90,\"\")","v":""},{"$f":"IF(spreedResult.!H90<>\"\",IF(spreedResult.!$I$8=\"左記ご住所に送付\",\"2\",\"\"),\"\")","v":""},{"$nulls":8},"",null,"",null,"",null,"",null,"",null,"",null,"",null,"",null,"",null,""]
[null,{"$f":"IF(spreedResult.!B91<>\"\",TEXT(spreedResult.!B91,\"YYYY\")&TEXT(spreedResult.!B91,\"MM\")&TEXT(spreedResult.!B91,\"DD\"),\"\")","v":""},{"$f":"IF(spreedResult.!C91<>\"\",VLOOKUP(spreedResult.!C91,spreedResult.!$AU$2:$AV$12,2,0),\"\")","v":""},{"$nulls":4},{"$f":"IF(spreedResult.!P91<>\"\",VLOOKUP(spreedResult.!P91,Course!$A$2:$B$612,2,0),\"\")","v":""},null,{"$f":"CONCATENATE(TRIM(ASC(spreedResult.!F91)),\" \",TRIM(ASC(spreedResult.!G91)))","v":" "},{"$f":"CONCATENATE(TRIM(spreedResult.!H91),\"　\",TRIM(spreedResult.!I91))","v":"　"},{"$f":"IFERROR(VLOOKUP(spreedResult.!K91,spreedResult.!$AX$4:$AY$5,2,0),\"\")","v":""},{"$f":"IF(spreedResult.!L91<>\"\",TEXT(spreedResult.!L91,\"YYYY\")&TEXT(spreedResult.!L91,\"MM\")&TEXT(spreedResult.!L91,\"DD\"),\"\")","v":""},null,null,{"$f":"IF(spreedResult.!$F91<>\"\",spreedResult.!$C$10,\"\")","v":""},{"$f":"IF(spreedResult.!$F91<>\"\",spreedResult.!$C$9,\"\")","v":""},{"$f":"IF(spreedResult.!M91<>\"\",spreedResult.!M91,\"\")","v":""},{"$f":"IF(spreedResult.!H91<>\"\",IF(spreedResult.!$I$8=\"左記ご住所に送付\",\"2\",\"\"),\"\")","v":""},{"$nulls":8},"",null,"",null,"",null,"",null,"",null,"",null,"",null,"",null,"",null,""]
[null,{"$f":"IF(spreedResult.!B92<>\"\",TEXT(spreedResult.!B92,\"YYYY\")&TEXT(spreedResult.!B92,\"MM\")&TEXT(spreedResult.!B92,\"DD\"),\"\")","v":""},{"$f":"IF(spreedResult.!C92<>\"\",VLOOKUP(spreedResult.!C92,spreedResult.!$AU$2:$AV$12,2,0),\"\")","v":""},{"$nulls":4},{"$f":"IF(spreedResult.!P92<>\"\",VLOOKUP(spreedResult.!P92,Course!$A$2:$B$612,2,0),\"\")","v":""},null,{"$f":"CONCATENATE(TRIM(ASC(spreedResult.!F92)),\" \",TRIM(ASC(spreedResult.!G92)))","v":" "},{"$f":"CONCATENATE(TRIM(spreedResult.!H92),\"　\",TRIM(spreedResult.!I92))","v":"　"},{"$f":"IFERROR(VLOOKUP(spreedResult.!K92,spreedResult.!$AX$4:$AY$5,2,0),\"\")","v":""},{"$f":"IF(spreedResult.!L92<>\"\",TEXT(spreedResult.!L92,\"YYYY\")&TEXT(spreedResult.!L92,\"MM\")&TEXT(spreedResult.!L92,\"DD\"),\"\")","v":""},null,null,{"$f":"IF(spreedResult.!$F92<>\"\",spreedResult.!$C$10,\"\")","v":""},{"$f":"IF(spreedResult.!$F92<>\"\",spreedResult.!$C$9,\"\")","v":""},{"$f":"IF(spreedResult.!M92<>\"\",spreedResult.!M92,\"\")","v":""},{"$f":"IF(spreedResult.!H92<>\"\",IF(spreedResult.!$I$8=\"左記ご住所に送付\",\"2\",\"\"),\"\")","v":""},{"$nulls":8},"",null,"",null,"",null,"",null,"",null,"",null,"",null,"",null,"",null,""]
[null,{"$f":"IF(spreedResult.!B93<>\"\",TEXT(spreedResult.!B93,\"YYYY\")&TEXT(spreedResult.!B93,\"MM\")&TEXT(spreedResult.!B93,\"DD\"),\"\")","v":""},{"$f":"IF(spreedResult.!C93<>\"\",VLOOKUP(spreedResult.!C93,spreedResult.!$AU$2:$AV$12,2,0),\"\")","v":""},{"$nulls":4},{"$f":"IF(spreedResult.!P93<>\"\",VLOOKUP(spreedResult.!P93,Course!$A$2:$B$612,2,0),\"\")","v":""},null,{"$f":"CONCATENATE(TRIM(ASC(spreedResult.!F93)),\" \",TRIM(ASC(spreedResult.!G93)))","v":" "},{"$f":"CONCATENATE(TRIM(spreedResult.!H93),\"　\",TRIM(spreedResult.!I93))","v":"　"},{"$f":"IFERROR(VLOOKUP(spreedResult.!K93,spreedResult.!$AX$4:$AY$5,2,0),\"\")","v":""},{"$f":"IF(spreedResult.!L93<>\"\",TEXT(spreedResult.!L93,\"YYYY\")&TEXT(spreedResult.!L93,\"MM\")&TEXT(spreedResult.!L93,\"DD\"),\"\")","v":""},null,null,{"$f":"IF(spreedResult.!$F93<>\"\",spreedResult.!$C$10,\"\")","v":""},{"$f":"IF(spreedResult.!$F93<>\"\",spreedResult.!$C$9,\"\")","v":""},{"$f":"IF(spreedResult.!M93<>\"\",spreedResult.!M93,\"\")","v":""},{"$f":"IF(spreedResult.!H93<>\"\",IF(spreedResult.!$I$8=\"左記ご住所に送付\",\"2\",\"\"),\"\")","v":""},{"$nulls":8},"",null,"",null,"",null,"",null,"",null,"",null,"",null,"",null,"",null,""]
[null,{"$f":"IF(spreedResult.!B94<>\"\",TEXT(spreedResult.!B94,\"YYYY\")&TEXT(spreedResult.!B94,\"MM\")&TEXT(spreedResult.!B94,\"DD\"),\"\")","v":""},{"$f":"IF(spreedResult.!C94<>\"\",VLOOKUP(spreedResult.!C94,spreedResult.!$AU$2:$AV$12,2,0),\"\")","v":""},{"$nulls":4},{"$f":"IF(spreedResult.!P94<>\"\",VLOOKUP(spreedResult.!P94,Course!$A$2:$B$612,2,0),\"\")","v":""},null,{"$f":"CONCATENATE(TRIM(ASC(spreedResult.!F94)),\" \",TRIM(ASC(spreedResult.!G94)))","v":" "},{"$f":"CONCATENATE(TRIM(spreedResult.!H94),\"　\",TRIM(spreedResult.!I94))","v":"　"},{"$f":"IFERROR(VLOOKUP(spreedResult.!K94,spreedResult.!$AX$4:$AY$5,2,0),\"\")","v":""},{"$f":"IF(spreedResult.!L94<>\"\",TEXT(spreedResult.!L94,\"YYYY\")&TEXT(spreedResult.!L94,\"MM\")&TEXT(spreedResult.!L94,\"DD\"),\"\")","v":""},null,null,{"$f":"IF(spreedResult.!$F94<>\"\",spreedResult.!$C$10,\"\")","v":""},{"$f":"IF(spreedResult.!$F94<>\"\",spreedResult.!$C$9,\"\")","v":""},{"$f":"IF(spreedResult.!M94<>\"\",spreedResult.!M94,\"\")","v":""},{"$f":"IF(spreedResult.!H94<>\"\",IF(spreedResult.!$I$8=\"左記ご住所に送付\",\"2\",\"\"),\"\")","v":""},{"$nulls":8},"",null,"",null,"",null,"",null,"",null,"",null,"",null,"",null,"",null,""]
[null,{"$f":"IF(spreedResult.!B95<>\"\",TEXT(spreedResult.!B95,\"YYYY\")&TEXT(spreedResult.!B95,\"MM\")&TEXT(spreedResult.!B95,\"DD\"),\"\")","v":""},{"$f":"IF(spreedResult.!C95<>\"\",VLOOKUP(spreedResult.!C95,spreedResult.!$AU$2:$AV$12,2,0),\"\")","v":""},{"$nulls":4},{"$f":"IF(spreedResult.!P95<>\"\",VLOOKUP(spreedResult.!P95,Course!$A$2:$B$612,2,0),\"\")","v":""},null,{"$f":"CONCATENATE(TRIM(ASC(spreedResult.!F95)),\" \",TRIM(ASC(spreedResult.!G95)))","v":" "},{"$f":"CONCATENATE(TRIM(spreedResult.!H95),\"　\",TRIM(spreedResult.!I95))","v":"　"},{"$f":"IFERROR(VLOOKUP(spreedResult.!K95,spreedResult.!$AX$4:$AY$5,2,0),\"\")","v":""},{"$f":"IF(spreedResult.!L95<>\"\",TEXT(spreedResult.!L95,\"YYYY\")&TEXT(spreedResult.!L95,\"MM\")&TEXT(spreedResult.!L95,\"DD\"),\"\")","v":""},null,null,{"$f":"IF(spreedResult.!$F95<>\"\",spreedResult.!$C$10,\"\")","v":""},{"$f":"IF(spreedResult.!$F95<>\"\",spreedResult.!$C$9,\"\")","v":""},{"$f":"IF(spreedResult.!M95<>\"\",spreedResult.!M95,\"\")","v":""},{"$f":"IF(spreedResult.!H95<>\"\",IF(spreedResult.!$I$8=\"左記ご住所に送付\",\"2\",\"\"),\"\")","v":""},{"$nulls":8},"",null,"",null,"",null,"",null,"",null,"",null,"",null,"",null,"",null,""]
[null,{"$f":"IF(spreedResult.!B96<>\"\",TEXT(spreedResult.!B96,\"YYYY\")&TEXT(spreedResult.!B96,\"MM\")&TEXT(spreedResult.!B96,\"DD\"),\"\")","v":""},{"$f":"IF(spreedResult.!C96<>\"\",VLOOKUP(spreedResult.!C96,spreedResult.!$AU$2:$AV$12,2,0),\"\")","v":""},{"$nulls":4},{"$f":"IF(spreedResult.!P96<>\"\",VLOOKUP(spreedResult.!P96,Course!$A$2:$B$612,2,0),\"\")","v":""},null,{"$f":"CONCATENATE(TRIM(ASC(spreedResult.!F96)),\" \",TRIM(ASC(spreedResult.!G96)))","v":" "},{"$f":"CONCATENATE(TRIM(spreedResult.!H96),\"　\",TRIM(spreedResult.!I96))","v":"　"},{"$f":"IFERROR(VLOOKUP(spreedResult.!K96,spreedResult.!$AX$4:$AY$5,2,0),\"\")","v":""},{"$f":"IF(spreedResult.!L96<>\"\",TEXT(spreedResult.!L96,\"YYYY\")&TEXT(spreedResult.!L96,\"MM\")&TEXT(spreedResult.!L96,\"DD\"),\"\")","v":""},null,null,{"$f":"IF(spreedResult.!$F96<>\"\",spreedResult.!$C$10,\"\")","v":""},{"$f":"IF(spreedResult.!$F96<>\"\",spreedResult.!$C$9,\"\")","v":""},{"$f":"IF(spreedResult.!M96<>\"\",spreedResult.!M96,\"\")","v":""},{"$f":"IF(spreedResult.!H96<>\"\",IF(spreedResult.!$I$8=\"左記ご住所に送付\",\"2\",\"\"),\"\")","v":""},{"$nulls":8},"",null,"",null,"",null,"",null,"",null,"",null,"",null,"",null,"",null,""]
[null,{"$f":"IF(spreedResult.!B97<>\"\",TEXT(spreedResult.!B97,\"YYYY\")&TEXT(spreedResult.!B97,\"MM\")&TEXT(spreedResult.!B97,\"DD\"),\"\")","v":""},{"$f":"IF(spreedResult.!C97<>\"\",VLOOKUP(spreedResult.!C97,spreedResult.!$AU$2:$AV$12,2,0),\"\")","v":""},{"$nulls":4},{"$f":"IF(spreedResult.!P97<>\"\",VLOOKUP(spreedResult.!P97,Course!$A$2:$B$612,2,0),\"\")","v":""},null,{"$f":"CONCATENATE(TRIM(ASC(spreedResult.!F97)),\" \",TRIM(ASC(spreedResult.!G97)))","v":" "},{"$f":"CONCATENATE(TRIM(spreedResult.!H97),\"　\",TRIM(spreedResult.!I97))","v":"　"},{"$f":"IFERROR(VLOOKUP(spreedResult.!K97,spreedResult.!$AX$4:$AY$5,2,0),\"\")","v":""},{"$f":"IF(spreedResult.!L97<>\"\",TEXT(spreedResult.!L97,\"YYYY\")&TEXT(spreedResult.!L97,\"MM\")&TEXT(spreedResult.!L97,\"DD\"),\"\")","v":""},null,null,{"$f":"IF(spreedResult.!$F97<>\"\",spreedResult.!$C$10,\"\")","v":""},{"$f":"IF(spreedResult.!$F97<>\"\",spreedResult.!$C$9,\"\")","v":""},{"$f":"IF(spreedResult.!M97<>\"\",spreedResult.!M97,\"\")","v":""},{"$f":"IF(spreedResult.!H97<>\"\",IF(spreedResult.!$I$8=\"左記ご住所に送付\",\"2\",\"\"),\"\")","v":""},{"$nulls":8},"",null,"",null,"",null,"",null,"",null,"",null,"",null,"",null,"",null,""]
[null,{"$f":"IF(spreedResult.!B98<>\"\",TEXT(spreedResult.!B98,\"YYYY\")&TEXT(spreedResult.!B98,\"MM\")&TEXT(spreedResult.!B98,\"DD\"),\"\")","v":""},{"$f":"IF(spreedResult.!C98<>\"\",VLOOKUP(spreedResult.!C98,spreedResult.!$AU$2:$AV$12,2,0),\"\")","v":""},{"$nulls":4},{"$f":"IF(spreedResult.!P98<>\"\",VLOOKUP(spreedResult.!P98,Course!$A$2:$B$612,2,0),\"\")","v":""},null,{"$f":"CONCATENATE(TRIM(ASC(spreedResult.!F98)),\" \",TRIM(ASC(spreedResult.!G98)))","v":" "},{"$f":"CONCATENATE(TRIM(spreedResult.!H98),\"　\",TRIM(spreedResult.!I98))","v":"　"},{"$f":"IFERROR(VLOOKUP(spreedResult.!K98,spreedResult.!$AX$4:$AY$5,2,0),\"\")","v":""},{"$f":"IF(spreedResult.!L98<>\"\",TEXT(spreedResult.!L98,\"YYYY\")&TEXT(spreedResult.!L98,\"MM\")&TEXT(spreedResult.!L98,\"DD\"),\"\")","v":""},null,null,{"$f":"IF(spreedResult.!$F98<>\"\",spreedResult.!$C$10,\"\")","v":""},{"$f":"IF(spreedResult.!$F98<>\"\",spreedResult.!$C$9,\"\")","v":""},{"$f":"IF(spreedResult.!M98<>\"\",spreedResult.!M98,\"\")","v":""},{"$f":"IF(spreedResult.!H98<>\"\",IF(spreedResult.!$I$8=\"左記ご住所に送付\",\"2\",\"\"),\"\")","v":""},{"$nulls":8},"",null,"",null,"",null,"",null,"",null,"",null,"",null,"",null,"",null,""]
[null,{"$f":"IF(spreedResult.!B99<>\"\",TEXT(spreedResult.!B99,\"YYYY\")&TEXT(spreedResult.!B99,\"MM\")&TEXT(spreedResult.!B99,\"DD\"),\"\")","v":""},{"$f":"IF(spreedResult.!C99<>\"\",VLOOKUP(spreedResult.!C99,spreedResult.!$AU$2:$AV$12,2,0),\"\")","v":""},{"$nulls":4},{"$f":"IF(spreedResult.!P99<>\"\",VLOOKUP(spreedResult.!P99,Course!$A$2:$B$612,2,0),\"\")","v":""},null,{"$f":"CONCATENATE(TRIM(ASC(spreedResult.!F99)),\" \",TRIM(ASC(spreedResult.!G99)))","v":" "},{"$f":"CONCATENATE(TRIM(spreedResult.!H99),\"　\",TRIM(spreedResult.!I99))","v":"　"},{"$f":"IFERROR(VLOOKUP(spreedResult.!K99,spreedResult.!$AX$4:$AY$5,2,0),\"\")","v":""},{"$f":"IF(spreedResult.!L99<>\"\",TEXT(spreedResult.!L99,\"YYYY\")&TEXT(spreedResult.!L99,\"MM\")&TEXT(spreedResult.!L99,\"DD\"),\"\")","v":""},null,null,{"$f":"IF(spreedResult.!$F99<>\"\",spreedResult.!$C$10,\"\")","v":""},{"$f":"IF(spreedResult.!$F99<>\"\",spreedResult.!$C$9,\"\")","v":""},{"$f":"IF(spreedResult.!M99<>\"\",spreedResult.!M99,\"\")","v":""},{"$f":"IF(spreedResult.!H99<>\"\",IF(spreedResult.!$I$8=\"左記ご住所に送付\",\"2\",\"\"),\"\")","v":""},{"$nulls":8},"",null,"",null,"",null,"",null,"",null,"",null,"",null,"",null,"",null,""]
[null,{"$f":"IF(spreedResult.!B100<>\"\",TEXT(spreedResult.!B100,\"YYYY\")&TEXT(spreedResult.!B100,\"MM\")&TEXT(spreedResult.!B100,\"DD\"),\"\")","v":""},{"$f":"IF(spreedResult.!C100<>\"\",VLOOKUP(spreedResult.!C100,spreedResult.!$AU$2:$AV$12,2,0),\"\")","v":""},{"$nulls":4},{"$f":"IF(spreedResult.!P100<>\"\",VLOOKUP(spreedResult.!P100,Course!$A$2:$B$612,2,0),\"\")","v":""},null,{"$f":"CONCATENATE(TRIM(ASC(spreedResult.!F100)),\" \",TRIM(ASC(spreedResult.!G100)))","v":" "},{"$f":"CONCATENATE(TRIM(spreedResult.!H100),\"　\",TRIM(spreedResult.!I100))","v":"　"},{"$f":"IFERROR(VLOOKUP(spreedResult.!K100,spreedResult.!$AX$4:$AY$5,2,0),\"\")","v":""},{"$f":"IF(spreedResult.!L100<>\"\",TEXT(spreedResult.!L100,\"YYYY\")&TEXT(spreedResult.!L100,\"MM\")&TEXT(spreedResult.!L100,\"DD\"),\"\")","v":""},null,null,{"$f":"IF(spreedResult.!$F100<>\"\",spreedResult.!$C$10,\"\")","v":""},{"$f":"IF(spreedResult.!$F100<>\"\",spreedResult.!$C$9,\"\")","v":""},{"$f":"IF(spreedResult.!M100<>\"\",spreedResult.!M100,\"\")","v":""},{"$f":"IF(spreedResult.!H100<>\"\",IF(spreedResult.!$I$8=\"左記ご住所に送付\",\"2\",\"\"),\"\")","v":""},{"$nulls":8},"",null,"",null,"",null,"",null,"",null,"",null,"",null,"",null,"",null,""]
[null,{"$f":"IF(spreedResult.!B101<>\"\",TEXT(spreedResult.!B101,\"YYYY\")&TEXT(spreedResult.!B101,\"MM\")&TEXT(spreedResult.!B101,\"DD\"),\"\")","v":""},{"$f":"IF(spreedResult.!C101<>\"\",VLOOKUP(spreedResult.!C101,spreedResult.!$AU$2:$AV$12,2,0),\"\")","v":""},{"$nulls":4},{"$f":"IF(spreedResult.!P101<>\"\",VLOOKUP(spreedResult.!P101,Course!$A$2:$B$612,2,0),\"\")","v":""},null,{"$f":"CONCATENATE(TRIM(ASC(spreedResult.!F101)),\" \",TRIM(ASC(spreedResult.!G101)))","v":" "},{"$f":"CONCATENATE(TRIM(spreedResult.!H101),\"　\",TRIM(spreedResult.!I101))","v":"　"},{"$f":"IFERROR(VLOOKUP(spreedResult.!K101,spreedResult.!$AX$4:$AY$5,2,0),\"\")","v":""},{"$f":"IF(spreedResult.!L101<>\"\",TEXT(spreedResult.!L101,\"YYYY\")&TEXT(spreedResult.!L101,\"MM\")&TEXT(spreedResult.!L101,\"DD\"),\"\")","v":""},null,null,{"$f":"IF(spreedResult.!$F101<>\"\",spreedResult.!$C$10,\"\")","v":""},{"$f":"IF(spreedResult.!$F101<>\"\",spreedResult.!$C$9,\"\")","v":""},{"$f":"IF(spreedResult.!M101<>\"\",spreedResult.!M101,\"\")","v":""},{"$f":"IF(spreedResult.!H101<>\"\",IF(spreedResult.!$I$8=\"左記ご住所に送付\",\"2\",\"\"),\"\")","v":""},{"$nulls":8},"",null,"",null,"",null,"",null,"",null,"",null,"",null,"",null,"",null,""]
[null,{"$f":"IF(spreedResult.!B102<>\"\",TEXT(spreedResult.!B102,\"YYYY\")&TEXT(spreedResult.!B102,\"MM\")&TEXT(spreedResult.!B102,\"DD\"),\"\")","v":""},{"$f":"IF(spreedResult.!C102<>\"\",VLOOKUP(spreedResult.!C102,spreedResult.!$AU$2:$AV$12,2,0),\"\")","v":""},{"$nulls":4},{"$f":"IF(spreedResult.!P102<>\"\",VLOOKUP(spreedResult.!P102,Course!$A$2:$B$612,2,0),\"\")","v":""},null,{"$f":"CONCATENATE(TRIM(ASC(spreedResult.!F102)),\" \",TRIM(ASC(spreedResult.!G102)))","v":" "},{"$f":"CONCATENATE(TRIM(spreedResult.!H102),\"　\",TRIM(spreedResult.!I102))","v":"　"},{"$f":"IFERROR(VLOOKUP(spreedResult.!K102,spreedResult.!$AX$4:$AY$5,2,0),\"\")","v":""},{"$f":"IF(spreedResult.!L102<>\"\",TEXT(spreedResult.!L102,\"YYYY\")&TEXT(spreedResult.!L102,\"MM\")&TEXT(spreedResult.!L102,\"DD\"),\"\")","v":""},null,null,{"$f":"IF(spreedResult.!$F102<>\"\",spreedResult.!$C$10,\"\")","v":""},{"$f":"IF(spreedResult.!$F102<>\"\",spreedResult.!$C$9,\"\")","v":""},{"$f":"IF(spreedResult.!M102<>\"\",spreedResult.!M102,\"\")","v":""},{"$f":"IF(spreedResult.!H102<>\"\",IF(spreedResult.!$I$8=\"左記ご住所に送付\",\"2\",\"\"),\"\")","v":""},{"$nulls":8},"",null,"",null,"",null,"",null,"",null,"",null,"",null,"",null,"",null,""]
[null,{"$f":"IF(spreedResult.!B103<>\"\",TEXT(spreedResult.!B103,\"YYYY\")&TEXT(spreedResult.!B103,\"MM\")&TEXT(spreedResult.!B103,\"DD\"),\"\")","v":""},{"$f":"IF(spreedResult.!C103<>\"\",VLOOKUP(spreedResult.!C103,spreedResult.!$AU$2:$AV$12,2,0),\"\")","v":""},{"$nulls":4},{"$f":"IF(spreedResult.!P103<>\"\",VLOOKUP(spreedResult.!P103,Course!$A$2:$B$612,2,0),\"\")","v":""},null,{"$f":"CONCATENATE(TRIM(ASC(spreedResult.!F103)),\" \",TRIM(ASC(spreedResult.!G103)))","v":" "},{"$f":"CONCATENATE(TRIM(spreedResult.!H103),\"　\",TRIM(spreedResult.!I103))","v":"　"},{"$f":"IFERROR(VLOOKUP(spreedResult.!K103,spreedResult.!$AX$4:$AY$5,2,0),\"\")","v":""},{"$f":"IF(spreedResult.!L103<>\"\",TEXT(spreedResult.!L103,\"YYYY\")&TEXT(spreedResult.!L103,\"MM\")&TEXT(spreedResult.!L103,\"DD\"),\"\")","v":""},null,null,{"$f":"IF(spreedResult.!$F103<>\"\",spreedResult.!$C$10,\"\")","v":""},{"$f":"IF(spreedResult.!$F103<>\"\",spreedResult.!$C$9,\"\")","v":""},{"$f":"IF(spreedResult.!M103<>\"\",spreedResult.!M103,\"\")","v":""},{"$f":"IF(spreedResult.!H103<>\"\",IF(spreedResult.!$I$8=\"左記ご住所に送付\",\"2\",\"\"),\"\")","v":""},{"$nulls":8},"",null,"",null,"",null,"",null,"",null,"",null,"",null,"",null,"",null,""]
[null,{"$f":"IF(spreedResult.!B104<>\"\",TEXT(spreedResult.!B104,\"YYYY\")&TEXT(spreedResult.!B104,\"MM\")&TEXT(spreedResult.!B104,\"DD\"),\"\")","v":""},{"$f":"IF(spreedResult.!C104<>\"\",VLOOKUP(spreedResult.!C104,spreedResult.!$AU$2:$AV$12,2,0),\"\")","v":""},{"$nulls":4},{"$f":"IF(spreedResult.!P104<>\"\",VLOOKUP(spreedResult.!P104,Course!$A$2:$B$612,2,0),\"\")","v":""},null,{"$f":"CONCATENATE(TRIM(ASC(spreedResult.!F104)),\" \",TRIM(ASC(spreedResult.!G104)))","v":" "},{"$f":"CONCATENATE(TRIM(spreedResult.!H104),\"　\",TRIM(spreedResult.!I104))","v":"　"},{"$f":"IFERROR(VLOOKUP(spreedResult.!K104,spreedResult.!$AX$4:$AY$5,2,0),\"\")","v":""},{"$f":"IF(spreedResult.!L104<>\"\",TEXT(spreedResult.!L104,\"YYYY\")&TEXT(spreedResult.!L104,\"MM\")&TEXT(spreedResult.!L104,\"DD\"),\"\")","v":""},null,null,{"$f":"IF(spreedResult.!$F104<>\"\",spreedResult.!$C$10,\"\")","v":""},{"$f":"IF(spreedResult.!$F104<>\"\",spreedResult.!$C$9,\"\")","v":""},{"$f":"IF(spreedResult.!M104<>\"\",spreedResult.!M104,\"\")","v":""},{"$f":"IF(spreedResult.!H104<>\"\",IF(spreedResult.!$I$8=\"左記ご住所に送付\",\"2\",\"\"),\"\")","v":""},{"$nulls":8},"",null,"",null,"",null,"",null,"",null,"",null,"",null,"",null,"",null,""]
[null,{"$f":"IF(spreedResult.!B105<>\"\",TEXT(spreedResult.!B105,\"YYYY\")&TEXT(spreedResult.!B105,\"MM\")&TEXT(spreedResult.!B105,\"DD\"),\"\")","v":""},{"$f":"IF(spreedResult.!C105<>\"\",VLOOKUP(spreedResult.!C105,spreedResult.!$AU$2:$AV$12,2,0),\"\")","v":""},{"$nulls":4},{"$f":"IF(spreedResult.!P105<>\"\",VLOOKUP(spreedResult.!P105,Course!$A$2:$B$612,2,0),\"\")","v":""},null,{"$f":"CONCATENATE(TRIM(ASC(spreedResult.!F105)),\" \",TRIM(ASC(spreedResult.!G105)))","v":" "},{"$f":"CONCATENATE(TRIM(spreedResult.!H105),\"　\",TRIM(spreedResult.!I105))","v":"　"},{"$f":"IFERROR(VLOOKUP(spreedResult.!K105,spreedResult.!$AX$4:$AY$5,2,0),\"\")","v":""},{"$f":"IF(spreedResult.!L105<>\"\",TEXT(spreedResult.!L105,\"YYYY\")&TEXT(spreedResult.!L105,\"MM\")&TEXT(spreedResult.!L105,\"DD\"),\"\")","v":""},null,null,{"$f":"IF(spreedResult.!$F105<>\"\",spreedResult.!$C$10,\"\")","v":""},{"$f":"IF(spreedResult.!$F105<>\"\",spreedResult.!$C$9,\"\")","v":""},{"$f":"IF(spreedResult.!M105<>\"\",spreedResult.!M105,\"\")","v":""},{"$f":"IF(spreedResult.!H105<>\"\",IF(spreedResult.!$I$8=\"左記ご住所に送付\",\"2\",\"\"),\"\")","v":""},{"$nulls":8},"",null,"",null,"",null,"",null,"",null,"",null,"",null,"",null,"",null,""]
[null,{"$f":"IF(spreedResult.!B106<>\"\",TEXT(spreedResult.!B106,\"YYYY\")&TEXT(spreedResult.!B106,\"MM\")&TEXT(spreedResult.!B106,\"DD\"),\"\")","v":""},{"$f":"IF(spreedResult.!C106<>\"\",VLOOKUP(spreedResult.!C106,spreedResult.!$AU$2:$AV$12,2,0),\"\")","v":""},{"$nulls":4},{"$f":"IF(spreedResult.!P106<>\"\",VLOOKUP(spreedResult.!P106,Course!$A$2:$B$612,2,0),\"\")","v":""},null,{"$f":"CONCATENATE(TRIM(ASC(spreedResult.!F106)),\" \",TRIM(ASC(spreedResult.!G106)))","v":" "},{"$f":"CONCATENATE(TRIM(spreedResult.!H106),\"　\",TRIM(spreedResult.!I106))","v":"　"},{"$f":"IFERROR(VLOOKUP(spreedResult.!K106,spreedResult.!$AX$4:$AY$5,2,0),\"\")","v":""},{"$f":"IF(spreedResult.!L106<>\"\",TEXT(spreedResult.!L106,\"YYYY\")&TEXT(spreedResult.!L106,\"MM\")&TEXT(spreedResult.!L106,\"DD\"),\"\")","v":""},null,null,{"$f":"IF(spreedResult.!$F106<>\"\",spreedResult.!$C$10,\"\")","v":""},{"$f":"IF(spreedResult.!$F106<>\"\",spreedResult.!$C$9,\"\")","v":""},{"$f":"IF(spreedResult.!M106<>\"\",spreedResult.!M106,\"\")","v":""},{"$f":"IF(spreedResult.!H106<>\"\",IF(spreedResult.!$I$8=\"左記ご住所に送付\",\"2\",\"\"),\"\")","v":""},{"$nulls":8},"",null,"",null,"",null,"",null,"",null,"",null,"",null,"",null,"",null,""]
[null,{"$f":"IF(spreedResult.!B107<>\"\",TEXT(spreedResult.!B107,\"YYYY\")&TEXT(spreedResult.!B107,\"MM\")&TEXT(spreedResult.!B107,\"DD\"),\"\")","v":""},{"$f":"IF(spreedResult.!C107<>\"\",VLOOKUP(spreedResult.!C107,spreedResult.!$AU$2:$AV$12,2,0),\"\")","v":""},{"$nulls":4},{"$f":"IF(spreedResult.!P107<>\"\",VLOOKUP(spreedResult.!P107,Course!$A$2:$B$612,2,0),\"\")","v":""},null,{"$f":"CONCATENATE(TRIM(ASC(spreedResult.!F107)),\" \",TRIM(ASC(spreedResult.!G107)))","v":" "},{"$f":"CONCATENATE(TRIM(spreedResult.!H107),\"　\",TRIM(spreedResult.!I107))","v":"　"},{"$f":"IFERROR(VLOOKUP(spreedResult.!K107,spreedResult.!$AX$4:$AY$5,2,0),\"\")","v":""},{"$f":"IF(spreedResult.!L107<>\"\",TEXT(spreedResult.!L107,\"YYYY\")&TEXT(spreedResult.!L107,\"MM\")&TEXT(spreedResult.!L107,\"DD\"),\"\")","v":""},null,null,{"$f":"IF(spreedResult.!$F107<>\"\",spreedResult.!$C$10,\"\")","v":""},{"$f":"IF(spreedResult.!$F107<>\"\",spreedResult.!$C$9,\"\")","v":""},{"$f":"IF(spreedResult.!M107<>\"\",spreedResult.!M107,\"\")","v":""},{"$f":"IF(spreedResult.!H107<>\"\",IF(spreedResult.!$I$8=\"左記ご住所に送付\",\"2\",\"\"),\"\")","v":""},{"$nulls":8},"",null,"",null,"",null,"",null,"",null,"",null,"",null,"",null,"",null,""]
[null,{"$f":"IF(spreedResult.!B108<>\"\",TEXT(spreedResult.!B108,\"YYYY\")&TEXT(spreedResult.!B108,\"MM\")&TEXT(spreedResult.!B108,\"DD\"),\"\")","v":""},{"$f":"IF(spreedResult.!C108<>\"\",VLOOKUP(spreedResult.!C108,spreedResult.!$AU$2:$AV$12,2,0),\"\")","v":""},{"$nulls":4},{"$f":"IF(spreedResult.!P108<>\"\",VLOOKUP(spreedResult.!P108,Course!$A$2:$B$612,2,0),\"\")","v":""},null,{"$f":"CONCATENATE(TRIM(ASC(spreedResult.!F108)),\" \",TRIM(ASC(spreedResult.!G108)))","v":" "},{"$f":"CONCATENATE(TRIM(spreedResult.!H108),\"　\",TRIM(spreedResult.!I108))","v":"　"},{"$f":"IFERROR(VLOOKUP(spreedResult.!K108,spreedResult.!$AX$4:$AY$5,2,0),\"\")","v":""},{"$f":"IF(spreedResult.!L108<>\"\",TEXT(spreedResult.!L108,\"YYYY\")&TEXT(spreedResult.!L108,\"MM\")&TEXT(spreedResult.!L108,\"DD\"),\"\")","v":""},null,null,{"$f":"IF(spreedResult.!$F108<>\"\",spreedResult.!$C$10,\"\")","v":""},{"$f":"IF(spreedResult.!$F108<>\"\",spreedResult.!$C$9,\"\")","v":""},{"$f":"IF(spreedResult.!M108<>\"\",spreedResult.!M108,\"\")","v":""},{"$f":"IF(spreedResult.!H108<>\"\",IF(spreedResult.!$I$8=\"左記ご住所に送付\",\"2\",\"\"),\"\")","v":""},{"$nulls":8},"",null,"",null,"",null,"",null,"",null,"",null,"",null,"",null,"",null,""]
[null,{"$f":"IF(spreedResult.!B109<>\"\",TEXT(spreedResult.!B109,\"YYYY\")&TEXT(spreedResult.!B109,\"MM\")&TEXT(spreedResult.!B109,\"DD\"),\"\")","v":""},{"$f":"IF(spreedResult.!C109<>\"\",VLOOKUP(spreedResult.!C109,spreedResult.!$AU$2:$AV$12,2,0),\"\")","v":""},{"$nulls":4},{"$f":"IF(spreedResult.!P109<>\"\",VLOOKUP(spreedResult.!P109,Course!$A$2:$B$612,2,0),\"\")","v":""},null,{"$f":"CONCATENATE(TRIM(ASC(spreedResult.!F109)),\" \",TRIM(ASC(spreedResult.!G109)))","v":" "},{"$f":"CONCATENATE(TRIM(spreedResult.!H109),\"　\",TRIM(spreedResult.!I109))","v":"　"},{"$f":"IFERROR(VLOOKUP(spreedResult.!K109,spreedResult.!$AX$4:$AY$5,2,0),\"\")","v":""},{"$f":"IF(spreedResult.!L109<>\"\",TEXT(spreedResult.!L109,\"YYYY\")&TEXT(spreedResult.!L109,\"MM\")&TEXT(spreedResult.!L109,\"DD\"),\"\")","v":""},null,null,{"$f":"IF(spreedResult.!$F109<>\"\",spreedResult.!$C$10,\"\")","v":""},{"$f":"IF(spreedResult.!$F109<>\"\",spreedResult.!$C$9,\"\")","v":""},{"$f":"IF(spreedResult.!M109<>\"\",spreedResult.!M109,\"\")","v":""},{"$f":"IF(spreedResult.!H109<>\"\",IF(spreedResult.!$I$8=\"左記ご住所に送付\",\"2\",\"\"),\"\")","v":""},{"$nulls":8},"",null,"",null,"",null,"",null,"",null,"",null,"",null,"",null,"",null,""]
[null,{"$f":"IF(spreedResult.!B110<>\"\",TEXT(spreedResult.!B110,\"YYYY\")&TEXT(spreedResult.!B110,\"MM\")&TEXT(spreedResult.!B110,\"DD\"),\"\")","v":""},{"$f":"IF(spreedResult.!C110<>\"\",VLOOKUP(spreedResult.!C110,spreedResult.!$AU$2:$AV$12,2,0),\"\")","v":""},{"$nulls":4},{"$f":"IF(spreedResult.!P110<>\"\",VLOOKUP(spreedResult.!P110,Course!$A$2:$B$612,2,0),\"\")","v":""},null,{"$f":"CONCATENATE(TRIM(ASC(spreedResult.!F110)),\" \",TRIM(ASC(spreedResult.!G110)))","v":" "},{"$f":"CONCATENATE(TRIM(spreedResult.!H110),\"　\",TRIM(spreedResult.!I110))","v":"　"},{"$f":"IFERROR(VLOOKUP(spreedResult.!K110,spreedResult.!$AX$4:$AY$5,2,0),\"\")","v":""},{"$f":"IF(spreedResult.!L110<>\"\",TEXT(spreedResult.!L110,\"YYYY\")&TEXT(spreedResult.!L110,\"MM\")&TEXT(spreedResult.!L110,\"DD\"),\"\")","v":""},null,null,{"$f":"IF(spreedResult.!$F110<>\"\",spreedResult.!$C$10,\"\")","v":""},{"$f":"IF(spreedResult.!$F110<>\"\",spreedResult.!$C$9,\"\")","v":""},{"$f":"IF(spreedResult.!M110<>\"\",spreedResult.!M110,\"\")","v":""},{"$f":"IF(spreedResult.!H110<>\"\",IF(spreedResult.!$I$8=\"左記ご住所に送付\",\"2\",\"\"),\"\")","v":""},{"$nulls":8},"",null,"",null,"",null,"",null,"",null,"",null,"",null,"",null,"",null,""]
[null,{"$f":"IF(spreedResult.!B111<>\"\",TEXT(spreedResult.!B111,\"YYYY\")&TEXT(spreedResult.!B111,\"MM\")&TEXT(spreedResult.!B111,\"DD\"),\"\")","v":""},{"$f":"IF(spreedResult.!C111<>\"\",VLOOKUP(spreedResult.!C111,spreedResult.!$AU$2:$AV$12,2,0),\"\")","v":""},{"$nulls":4},{"$f":"IF(spreedResult.!P111<>\"\",VLOOKUP(spreedResult.!P111,Course!$A$2:$B$612,2,0),\"\")","v":""},null,{"$f":"CONCATENATE(TRIM(ASC(spreedResult.!F111)),\" \",TRIM(ASC(spreedResult.!G111)))","v":" "},{"$f":"CONCATENATE(TRIM(spreedResult.!H111),\"　\",TRIM(spreedResult.!I111))","v":"　"},{"$f":"IFERROR(VLOOKUP(spreedResult.!K111,spreedResult.!$AX$4:$AY$5,2,0),\"\")","v":""},{"$f":"IF(spreedResult.!L111<>\"\",TEXT(spreedResult.!L111,\"YYYY\")&TEXT(spreedResult.!L111,\"MM\")&TEXT(spreedResult.!L111,\"DD\"),\"\")","v":""},null,null,{"$f":"IF(spreedResult.!$F111<>\"\",spreedResult.!$C$10,\"\")","v":""},{"$f":"IF(spreedResult.!$F111<>\"\",spreedResult.!$C$9,\"\")","v":""},{"$f":"IF(spreedResult.!M111<>\"\",spreedResult.!M111,\"\")","v":""},{"$f":"IF(spreedResult.!H111<>\"\",IF(spreedResult.!$I$8=\"左記ご住所に送付\",\"2\",\"\"),\"\")","v":""},{"$nulls":8},"",null,"",null,"",null,"",null,"",null,"",null,"",null,"",null,"",null,""]
[null,{"$f":"IF(spreedResult.!B112<>\"\",TEXT(spreedResult.!B112,\"YYYY\")&TEXT(spreedResult.!B112,\"MM\")&TEXT(spreedResult.!B112,\"DD\"),\"\")","v":""},{"$f":"IF(spreedResult.!C112<>\"\",VLOOKUP(spreedResult.!C112,spreedResult.!$AU$2:$AV$12,2,0),\"\")","v":""},{"$nulls":4},{"$f":"IF(spreedResult.!P112<>\"\",VLOOKUP(spreedResult.!P112,Course!$A$2:$B$612,2,0),\"\")","v":""},null,{"$f":"CONCATENATE(TRIM(ASC(spreedResult.!F112)),\" \",TRIM(ASC(spreedResult.!G112)))","v":" "},{"$f":"CONCATENATE(TRIM(spreedResult.!H112),\"　\",TRIM(spreedResult.!I112))","v":"　"},{"$f":"IFERROR(VLOOKUP(spreedResult.!K112,spreedResult.!$AX$4:$AY$5,2,0),\"\")","v":""},{"$f":"IF(spreedResult.!L112<>\"\",TEXT(spreedResult.!L112,\"YYYY\")&TEXT(spreedResult.!L112,\"MM\")&TEXT(spreedResult.!L112,\"DD\"),\"\")","v":""},null,null,{"$f":"IF(spreedResult.!$F112<>\"\",spreedResult.!$C$10,\"\")","v":""},{"$f":"IF(spreedResult.!$F112<>\"\",spreedResult.!$C$9,\"\")","v":""},{"$f":"IF(spreedResult.!M112<>\"\",spreedResult.!M112,\"\")","v":""},{"$f":"IF(spreedResult.!H112<>\"\",IF(spreedResult.!$I$8=\"左記ご住所に送付\",\"2\",\"\"),\"\")","v":""},{"$nulls":8},"",null,"",null,"",null,"",null,"",null,"",null,"",null,"",null,"",null,""]
[null,{"$f":"IF(spreedResult.!B113<>\"\",TEXT(spreedResult.!B113,\"YYYY\")&TEXT(spreedResult.!B113,\"MM\")&TEXT(spreedResult.!B113,\"DD\"),\"\")","v":""},{"$f":"IF(spreedResult.!C113<>\"\",VLOOKUP(spreedResult.!C113,spreedResult.!$AU$2:$AV$12,2,0),\"\")","v":""},{"$nulls":4},{"$f":"IF(spreedResult.!P113<>\"\",VLOOKUP(spreedResult.!P113,Course!$A$2:$B$612,2,0),\"\")","v":""},null,{"$f":"CONCATENATE(TRIM(ASC(spreedResult.!F113)),\" \",TRIM(ASC(spreedResult.!G113)))","v":" "},{"$f":"CONCATENATE(TRIM(spreedResult.!H113),\"　\",TRIM(spreedResult.!I113))","v":"　"},{"$f":"IFERROR(VLOOKUP(spreedResult.!K113,spreedResult.!$AX$4:$AY$5,2,0),\"\")","v":""},{"$f":"IF(spreedResult.!L113<>\"\",TEXT(spreedResult.!L113,\"YYYY\")&TEXT(spreedResult.!L113,\"MM\")&TEXT(spreedResult.!L113,\"DD\"),\"\")","v":""},null,null,{"$f":"IF(spreedResult.!$F113<>\"\",spreedResult.!$C$10,\"\")","v":""},{"$f":"IF(spreedResult.!$F113<>\"\",spreedResult.!$C$9,\"\")","v":""},{"$f":"IF(spreedResult.!M113<>\"\",spreedResult.!M113,\"\")","v":""},{"$f":"IF(spreedResult.!H113<>\"\",IF(spreedResult.!$I$8=\"左記ご住所に送付\",\"2\",\"\"),\"\")","v":""},{"$nulls":8},"",null,"",null,"",null,"",null,"",null,"",null,"",null,"",null,"",null,""]
[null,{"$f":"IF(spreedResult.!B114<>\"\",TEXT(spreedResult.!B114,\"YYYY\")&TEXT(spreedResult.!B114,\"MM\")&TEXT(spreedResult.!B114,\"DD\"),\"\")","v":""},{"$f":"IF(spreedResult.!C114<>\"\",VLOOKUP(spreedResult.!C114,spreedResult.!$AU$2:$AV$12,2,0),\"\")","v":""},{"$nulls":4},{"$f":"IF(spreedResult.!P114<>\"\",VLOOKUP(spreedResult.!P114,Course!$A$2:$B$612,2,0),\"\")","v":""},null,{"$f":"CONCATENATE(TRIM(ASC(spreedResult.!F114)),\" \",TRIM(ASC(spreedResult.!G114)))","v":" "},{"$f":"CONCATENATE(TRIM(spreedResult.!H114),\"　\",TRIM(spreedResult.!I114))","v":"　"},{"$f":"IFERROR(VLOOKUP(spreedResult.!K114,spreedResult.!$AX$4:$AY$5,2,0),\"\")","v":""},{"$f":"IF(spreedResult.!L114<>\"\",TEXT(spreedResult.!L114,\"YYYY\")&TEXT(spreedResult.!L114,\"MM\")&TEXT(spreedResult.!L114,\"DD\"),\"\")","v":""},null,null,{"$f":"IF(spreedResult.!$F114<>\"\",spreedResult.!$C$10,\"\")","v":""},{"$f":"IF(spreedResult.!$F114<>\"\",spreedResult.!$C$9,\"\")","v":""},{"$f":"IF(spreedResult.!M114<>\"\",spreedResult.!M114,\"\")","v":""},{"$f":"IF(spreedResult.!H114<>\"\",IF(spreedResult.!$I$8=\"左記ご住所に送付\",\"2\",\"\"),\"\")","v":""},{"$nulls":8},"",null,"",null,"",null,"",null,"",null,"",null,"",null,"",null,"",null,""]
[null,{"$f":"IF(spreedResult.!B115<>\"\",TEXT(spreedResult.!B115,\"YYYY\")&TEXT(spreedResult.!B115,\"MM\")&TEXT(spreedResult.!B115,\"DD\"),\"\")","v":""},{"$f":"IF(spreedResult.!C115<>\"\",VLOOKUP(spreedResult.!C115,spreedResult.!$AU$2:$AV$12,2,0),\"\")","v":""},{"$nulls":4},{"$f":"IF(spreedResult.!P115<>\"\",VLOOKUP(spreedResult.!P115,Course!$A$2:$B$612,2,0),\"\")","v":""},null,{"$f":"CONCATENATE(TRIM(ASC(spreedResult.!F115)),\" \",TRIM(ASC(spreedResult.!G115)))","v":" "},{"$f":"CONCATENATE(TRIM(spreedResult.!H115),\"　\",TRIM(spreedResult.!I115))","v":"　"},{"$f":"IFERROR(VLOOKUP(spreedResult.!K115,spreedResult.!$AX$4:$AY$5,2,0),\"\")","v":""},{"$f":"IF(spreedResult.!L115<>\"\",TEXT(spreedResult.!L115,\"YYYY\")&TEXT(spreedResult.!L115,\"MM\")&TEXT(spreedResult.!L115,\"DD\"),\"\")","v":""},null,null,{"$f":"IF(spreedResult.!$F115<>\"\",spreedResult.!$C$10,\"\")","v":""},{"$f":"IF(spreedResult.!$F115<>\"\",spreedResult.!$C$9,\"\")","v":""},{"$f":"IF(spreedResult.!M115<>\"\",spreedResult.!M115,\"\")","v":""},{"$f":"IF(spreedResult.!H115<>\"\",IF(spreedResult.!$I$8=\"左記ご住所に送付\",\"2\",\"\"),\"\")","v":""},{"$nulls":8},"",null,"",null,"",null,"",null,"",null,"",null,"",null,"",null,"",null,""]
[null,{"$f":"IF(spreedResult.!B116<>\"\",TEXT(spreedResult.!B116,\"YYYY\")&TEXT(spreedResult.!B116,\"MM\")&TEXT(spreedResult.!B116,\"DD\"),\"\")","v":""},{"$f":"IF(spreedResult.!C116<>\"\",VLOOKUP(spreedResult.!C116,spreedResult.!$AU$2:$AV$12,2,0),\"\")","v":""},{"$nulls":4},{"$f":"IF(spreedResult.!P116<>\"\",VLOOKUP(spreedResult.!P116,Course!$A$2:$B$612,2,0),\"\")","v":""},null,{"$f":"CONCATENATE(TRIM(ASC(spreedResult.!F116)),\" \",TRIM(ASC(spreedResult.!G116)))","v":" "},{"$f":"CONCATENATE(TRIM(spreedResult.!H116),\"　\",TRIM(spreedResult.!I116))","v":"　"},{"$f":"IFERROR(VLOOKUP(spreedResult.!K116,spreedResult.!$AX$4:$AY$5,2,0),\"\")","v":""},{"$f":"IF(spreedResult.!L116<>\"\",TEXT(spreedResult.!L116,\"YYYY\")&TEXT(spreedResult.!L116,\"MM\")&TEXT(spreedResult.!L116,\"DD\"),\"\")","v":""},null,null,{"$f":"IF(spreedResult.!$F116<>\"\",spreedResult.!$C$10,\"\")","v":""},{"$f":"IF(spreedResult.!$F116<>\"\",spreedResult.!$C$9,\"\")","v":""},{"$f":"IF(spreedResult.!M116<>\"\",spreedResult.!M116,\"\")","v":""},{"$f":"IF(spreedResult.!H116<>\"\",IF(spreedResult.!$I$8=\"左記ご住所に送付\",\"2\",\"\"),\"\")","v":""},{"$nulls":8},"",null,"",null,"",null,"",null,"",null,"",null,"",null,"",null,"",null,""]
[null,{"$f":"IF(spreedResult.!B117<>\"\",TEXT(spreedResult.!B117,\"YYYY\")&TEXT(spreedResult.!B117,\"MM\")&TEXT(spreedResult.!B117,\"DD\"),\"\")","v":""},{"$f":"IF(spreedResult.!C117<>\"\",VLOOKUP(spreedResult.!C117,spreedResult.!$AU$2:$AV$12,2,0),\"\")","v":""},{"$nulls":4},{"$f":"IF(spreedResult.!P117<>\"\",VLOOKUP(spreedResult.!P117,Course!$A$2:$B$612,2,0),\"\")","v":""},null,{"$f":"CONCATENATE(TRIM(ASC(spreedResult.!F117)),\" \",TRIM(ASC(spreedResult.!G117)))","v":" "},{"$f":"CONCATENATE(TRIM(spreedResult.!H117),\"　\",TRIM(spreedResult.!I117))","v":"　"},{"$f":"IFERROR(VLOOKUP(spreedResult.!K117,spreedResult.!$AX$4:$AY$5,2,0),\"\")","v":""},{"$f":"IF(spreedResult.!L117<>\"\",TEXT(spreedResult.!L117,\"YYYY\")&TEXT(spreedResult.!L117,\"MM\")&TEXT(spreedResult.!L117,\"DD\"),\"\")","v":""},null,null,{"$f":"IF(spreedResult.!$F117<>\"\",spreedResult.!$C$10,\"\")","v":""},{"$f":"IF(spreedResult.!$F117<>\"\",spreedResult.!$C$9,\"\")","v":""},{"$f":"IF(spreedResult.!M117<>\"\",spreedResult.!M117,\"\")","v":""},{"$f":"IF(spreedResult.!H117<>\"\",IF(spreedResult.!$I$8=\"左記ご住所に送付\",\"2\",\"\"),\"\")","v":""},{"$nulls":8},"",null,"",null,"",null,"",null,"",null,"",null,"",null,"",null,"",null,""]
[null,{"$f":"IF(spreedResult.!B118<>\"\",TEXT(spreedResult.!B118,\"YYYY\")&TEXT(spreedResult.!B118,\"MM\")&TEXT(spreedResult.!B118,\"DD\"),\"\")","v":""},{"$f":"IF(spreedResult.!C118<>\"\",VLOOKUP(spreedResult.!C118,spreedResult.!$AU$2:$AV$12,2,0),\"\")","v":""},{"$nulls":4},{"$f":"IF(spreedResult.!P118<>\"\",VLOOKUP(spreedResult.!P118,Course!$A$2:$B$612,2,0),\"\")","v":""},null,{"$f":"CONCATENATE(TRIM(ASC(spreedResult.!F118)),\" \",TRIM(ASC(spreedResult.!G118)))","v":" "},{"$f":"CONCATENATE(TRIM(spreedResult.!H118),\"　\",TRIM(spreedResult.!I118))","v":"　"},{"$f":"IFERROR(VLOOKUP(spreedResult.!K118,spreedResult.!$AX$4:$AY$5,2,0),\"\")","v":""},{"$f":"IF(spreedResult.!L118<>\"\",TEXT(spreedResult.!L118,\"YYYY\")&TEXT(spreedResult.!L118,\"MM\")&TEXT(spreedResult.!L118,\"DD\"),\"\")","v":""},null,null,{"$f":"IF(spreedResult.!$F118<>\"\",spreedResult.!$C$10,\"\")","v":""},{"$f":"IF(spreedResult.!$F118<>\"\",spreedResult.!$C$9,\"\")","v":""},{"$f":"IF(spreedResult.!M118<>\"\",spreedResult.!M118,\"\")","v":""},{"$f":"IF(spreedResult.!H118<>\"\",IF(spreedResult.!$I$8=\"左記ご住所に送付\",\"2\",\"\"),\"\")","v":""},{"$nulls":8},"",null,"",null,"",null,"",null,"",null,"",null,"",null,"",null,"",null,""]
[null,{"$f":"IF(spreedResult.!B119<>\"\",TEXT(spreedResult.!B119,\"YYYY\")&TEXT(spreedResult.!B119,\"MM\")&TEXT(spreedResult.!B119,\"DD\"),\"\")","v":""},{"$f":"IF(spreedResult.!C119<>\"\",VLOOKUP(spreedResult.!C119,spreedResult.!$AU$2:$AV$12,2,0),\"\")","v":""},{"$nulls":4},{"$f":"IF(spreedResult.!P119<>\"\",VLOOKUP(spreedResult.!P119,Course!$A$2:$B$612,2,0),\"\")","v":""},null,{"$f":"CONCATENATE(TRIM(ASC(spreedResult.!F119)),\" \",TRIM(ASC(spreedResult.!G119)))","v":" "},{"$f":"CONCATENATE(TRIM(spreedResult.!H119),\"　\",TRIM(spreedResult.!I119))","v":"　"},{"$f":"IFERROR(VLOOKUP(spreedResult.!K119,spreedResult.!$AX$4:$AY$5,2,0),\"\")","v":""},{"$f":"IF(spreedResult.!L119<>\"\",TEXT(spreedResult.!L119,\"YYYY\")&TEXT(spreedResult.!L119,\"MM\")&TEXT(spreedResult.!L119,\"DD\"),\"\")","v":""},null,null,{"$f":"IF(spreedResult.!$F119<>\"\",spreedResult.!$C$10,\"\")","v":""},{"$f":"IF(spreedResult.!$F119<>\"\",spreedResult.!$C$9,\"\")","v":""},{"$f":"IF(spreedResult.!M119<>\"\",spreedResult.!M119,\"\")","v":""},{"$f":"IF(spreedResult.!H119<>\"\",IF(spreedResult.!$I$8=\"左記ご住所に送付\",\"2\",\"\"),\"\")","v":""},{"$nulls":8},"",null,"",null,"",null,"",null,"",null,"",null,"",null,"",null,"",null,""]
[null,{"$f":"IF(spreedResult.!B120<>\"\",TEXT(spreedResult.!B120,\"YYYY\")&TEXT(spreedResult.!B120,\"MM\")&TEXT(spreedResult.!B120,\"DD\"),\"\")","v":""},{"$f":"IF(spreedResult.!C120<>\"\",VLOOKUP(spreedResult.!C120,spreedResult.!$AU$2:$AV$12,2,0),\"\")","v":""},{"$nulls":4},{"$f":"IF(spreedResult.!P120<>\"\",VLOOKUP(spreedResult.!P120,Course!$A$2:$B$612,2,0),\"\")","v":""},null,{"$f":"CONCATENATE(TRIM(ASC(spreedResult.!F120)),\" \",TRIM(ASC(spreedResult.!G120)))","v":" "},{"$f":"CONCATENATE(TRIM(spreedResult.!H120),\"　\",TRIM(spreedResult.!I120))","v":"　"},{"$f":"IFERROR(VLOOKUP(spreedResult.!K120,spreedResult.!$AX$4:$AY$5,2,0),\"\")","v":""},{"$f":"IF(spreedResult.!L120<>\"\",TEXT(spreedResult.!L120,\"YYYY\")&TEXT(spreedResult.!L120,\"MM\")&TEXT(spreedResult.!L120,\"DD\"),\"\")","v":""},null,null,{"$f":"IF(spreedResult.!$F120<>\"\",spreedResult.!$C$10,\"\")","v":""},{"$f":"IF(spreedResult.!$F120<>\"\",spreedResult.!$C$9,\"\")","v":""},{"$f":"IF(spreedResult.!M120<>\"\",spreedResult.!M120,\"\")","v":""},{"$f":"IF(spreedResult.!H120<>\"\",IF(spreedResult.!$I$8=\"左記ご住所に送付\",\"2\",\"\"),\"\")","v":""},{"$nulls":8},"",null,"",null,"",null,"",null,"",null,"",null,"",null,"",null,"",null,""]
[null,{"$f":"IF(spreedResult.!B121<>\"\",TEXT(spreedResult.!B121,\"YYYY\")&TEXT(spreedResult.!B121,\"MM\")&TEXT(spreedResult.!B121,\"DD\"),\"\")","v":""},{"$f":"IF(spreedResult.!C121<>\"\",VLOOKUP(spreedResult.!C121,spreedResult.!$AU$2:$AV$12,2,0),\"\")","v":""},{"$nulls":4},{"$f":"IF(spreedResult.!P121<>\"\",VLOOKUP(spreedResult.!P121,Course!$A$2:$B$612,2,0),\"\")","v":""},null,{"$f":"CONCATENATE(TRIM(ASC(spreedResult.!F121)),\" \",TRIM(ASC(spreedResult.!G121)))","v":" "},{"$f":"CONCATENATE(TRIM(spreedResult.!H121),\"　\",TRIM(spreedResult.!I121))","v":"　"},{"$f":"IFERROR(VLOOKUP(spreedResult.!K121,spreedResult.!$AX$4:$AY$5,2,0),\"\")","v":""},{"$f":"IF(spreedResult.!L121<>\"\",TEXT(spreedResult.!L121,\"YYYY\")&TEXT(spreedResult.!L121,\"MM\")&TEXT(spreedResult.!L121,\"DD\"),\"\")","v":""},null,null,{"$f":"IF(spreedResult.!$F121<>\"\",spreedResult.!$C$10,\"\")","v":""},{"$f":"IF(spreedResult.!$F121<>\"\",spreedResult.!$C$9,\"\")","v":""},{"$f":"IF(spreedResult.!M121<>\"\",spreedResult.!M121,\"\")","v":""},{"$f":"IF(spreedResult.!H121<>\"\",IF(spreedResult.!$I$8=\"左記ご住所に送付\",\"2\",\"\"),\"\")","v":""},{"$nulls":8},"",null,"",null,"",null,"",null,"",null,"",null,"",null,"",null,"",null,""]
[null,{"$f":"IF(spreedResult.!B122<>\"\",TEXT(spreedResult.!B122,\"YYYY\")&TEXT(spreedResult.!B122,\"MM\")&TEXT(spreedResult.!B122,\"DD\"),\"\")","v":""},{"$f":"IF(spreedResult.!C122<>\"\",VLOOKUP(spreedResult.!C122,spreedResult.!$AU$2:$AV$12,2,0),\"\")","v":""},{"$nulls":4},{"$f":"IF(spreedResult.!P122<>\"\",VLOOKUP(spreedResult.!P122,Course!$A$2:$B$612,2,0),\"\")","v":""},null,{"$f":"CONCATENATE(TRIM(ASC(spreedResult.!F122)),\" \",TRIM(ASC(spreedResult.!G122)))","v":" "},{"$f":"CONCATENATE(TRIM(spreedResult.!H122),\"　\",TRIM(spreedResult.!I122))","v":"　"},{"$f":"IFERROR(VLOOKUP(spreedResult.!K122,spreedResult.!$AX$4:$AY$5,2,0),\"\")","v":""},{"$f":"IF(spreedResult.!L122<>\"\",TEXT(spreedResult.!L122,\"YYYY\")&TEXT(spreedResult.!L122,\"MM\")&TEXT(spreedResult.!L122,\"DD\"),\"\")","v":""},null,null,{"$f":"IF(spreedResult.!$F122<>\"\",spreedResult.!$C$10,\"\")","v":""},{"$f":"IF(spreedResult.!$F122<>\"\",spreedResult.!$C$9,\"\")","v":""},{"$f":"IF(spreedResult.!M122<>\"\",spreedResult.!M122,\"\")","v":""},{"$f":"IF(spreedResult.!H122<>\"\",IF(spreedResult.!$I$8=\"左記ご住所に送付\",\"2\",\"\"),\"\")","v":""},{"$nulls":8},"",null,"",null,"",null,"",null,"",null,"",null,"",null,"",null,"",null,""]
[null,{"$f":"IF(spreedResult.!B123<>\"\",TEXT(spreedResult.!B123,\"YYYY\")&TEXT(spreedResult.!B123,\"MM\")&TEXT(spreedResult.!B123,\"DD\"),\"\")","v":""},{"$f":"IF(spreedResult.!C123<>\"\",VLOOKUP(spreedResult.!C123,spreedResult.!$AU$2:$AV$12,2,0),\"\")","v":""},{"$nulls":4},{"$f":"IF(spreedResult.!P123<>\"\",VLOOKUP(spreedResult.!P123,Course!$A$2:$B$612,2,0),\"\")","v":""},null,{"$f":"CONCATENATE(TRIM(ASC(spreedResult.!F123)),\" \",TRIM(ASC(spreedResult.!G123)))","v":" "},{"$f":"CONCATENATE(TRIM(spreedResult.!H123),\"　\",TRIM(spreedResult.!I123))","v":"　"},{"$f":"IFERROR(VLOOKUP(spreedResult.!K123,spreedResult.!$AX$4:$AY$5,2,0),\"\")","v":""},{"$f":"IF(spreedResult.!L123<>\"\",TEXT(spreedResult.!L123,\"YYYY\")&TEXT(spreedResult.!L123,\"MM\")&TEXT(spreedResult.!L123,\"DD\"),\"\")","v":""},null,null,{"$f":"IF(spreedResult.!$F123<>\"\",spreedResult.!$C$10,\"\")","v":""},{"$f":"IF(spreedResult.!$F123<>\"\",spreedResult.!$C$9,\"\")","v":""},{"$f":"IF(spreedResult.!M123<>\"\",spreedResult.!M123,\"\")","v":""},{"$f":"IF(spreedResult.!H123<>\"\",IF(spreedResult.!$I$8=\"左記ご住所に送付\",\"2\",\"\"),\"\")","v":""},{"$nulls":8},"",null,"",null,"",null,"",null,"",null,"",null,"",null,"",null,"",null,""]
[null,{"$f":"IF(spreedResult.!B124<>\"\",TEXT(spreedResult.!B124,\"YYYY\")&TEXT(spreedResult.!B124,\"MM\")&TEXT(spreedResult.!B124,\"DD\"),\"\")","v":""},{"$f":"IF(spreedResult.!C124<>\"\",VLOOKUP(spreedResult.!C124,spreedResult.!$AU$2:$AV$12,2,0),\"\")","v":""},{"$nulls":4},{"$f":"IF(spreedResult.!P124<>\"\",VLOOKUP(spreedResult.!P124,Course!$A$2:$B$612,2,0),\"\")","v":""},null,{"$f":"CONCATENATE(TRIM(ASC(spreedResult.!F124)),\" \",TRIM(ASC(spreedResult.!G124)))","v":" "},{"$f":"CONCATENATE(TRIM(spreedResult.!H124),\"　\",TRIM(spreedResult.!I124))","v":"　"},{"$f":"IFERROR(VLOOKUP(spreedResult.!K124,spreedResult.!$AX$4:$AY$5,2,0),\"\")","v":""},{"$f":"IF(spreedResult.!L124<>\"\",TEXT(spreedResult.!L124,\"YYYY\")&TEXT(spreedResult.!L124,\"MM\")&TEXT(spreedResult.!L124,\"DD\"),\"\")","v":""},null,null,{"$f":"IF(spreedResult.!$F124<>\"\",spreedResult.!$C$10,\"\")","v":""},{"$f":"IF(spreedResult.!$F124<>\"\",spreedResult.!$C$9,\"\")","v":""},{"$f":"IF(spreedResult.!M124<>\"\",spreedResult.!M124,\"\")","v":""},{"$f":"IF(spreedResult.!H124<>\"\",IF(spreedResult.!$I$8=\"左記ご住所に送付\",\"2\",\"\"),\"\")","v":""},{"$nulls":8},"",null,"",null,"",null,"",null,"",null,"",null,"",null,"",null,"",null,""]
[null,{"$f":"IF(spreedResult.!B125<>\"\",TEXT(spreedResult.!B125,\"YYYY\")&TEXT(spreedResult.!B125,\"MM\")&TEXT(spreedResult.!B125,\"DD\"),\"\")","v":""},{"$f":"IF(spreedResult.!C125<>\"\",VLOOKUP(spreedResult.!C125,spreedResult.!$AU$2:$AV$12,2,0),\"\")","v":""},{"$nulls":4},{"$f":"IF(spreedResult.!P125<>\"\",VLOOKUP(spreedResult.!P125,Course!$A$2:$B$612,2,0),\"\")","v":""},null,{"$f":"CONCATENATE(TRIM(ASC(spreedResult.!F125)),\" \",TRIM(ASC(spreedResult.!G125)))","v":" "},{"$f":"CONCATENATE(TRIM(spreedResult.!H125),\"　\",TRIM(spreedResult.!I125))","v":"　"},{"$f":"IFERROR(VLOOKUP(spreedResult.!K125,spreedResult.!$AX$4:$AY$5,2,0),\"\")","v":""},{"$f":"IF(spreedResult.!L125<>\"\",TEXT(spreedResult.!L125,\"YYYY\")&TEXT(spreedResult.!L125,\"MM\")&TEXT(spreedResult.!L125,\"DD\"),\"\")","v":""},null,null,{"$f":"IF(spreedResult.!$F125<>\"\",spreedResult.!$C$10,\"\")","v":""},{"$f":"IF(spreedResult.!$F125<>\"\",spreedResult.!$C$9,\"\")","v":""},{"$f":"IF(spreedResult.!M125<>\"\",spreedResult.!M125,\"\")","v":""},{"$f":"IF(spreedResult.!H125<>\"\",IF(spreedResult.!$I$8=\"左記ご住所に送付\",\"2\",\"\"),\"\")","v":""},{"$nulls":8},"",null,"",null,"",null,"",null,"",null,"",null,"",null,"",null,"",null,""]
[null,{"$f":"IF(spreedResult.!B126<>\"\",TEXT(spreedResult.!B126,\"YYYY\")&TEXT(spreedResult.!B126,\"MM\")&TEXT(spreedResult.!B126,\"DD\"),\"\")","v":""},{"$f":"IF(spreedResult.!C126<>\"\",VLOOKUP(spreedResult.!C126,spreedResult.!$AU$2:$AV$12,2,0),\"\")","v":""},{"$nulls":4},{"$f":"IF(spreedResult.!P126<>\"\",VLOOKUP(spreedResult.!P126,Course!$A$2:$B$612,2,0),\"\")","v":""},null,{"$f":"CONCATENATE(TRIM(ASC(spreedResult.!F126)),\" \",TRIM(ASC(spreedResult.!G126)))","v":" "},{"$f":"CONCATENATE(TRIM(spreedResult.!H126),\"　\",TRIM(spreedResult.!I126))","v":"　"},{"$f":"IFERROR(VLOOKUP(spreedResult.!K126,spreedResult.!$AX$4:$AY$5,2,0),\"\")","v":""},{"$f":"IF(spreedResult.!L126<>\"\",TEXT(spreedResult.!L126,\"YYYY\")&TEXT(spreedResult.!L126,\"MM\")&TEXT(spreedResult.!L126,\"DD\"),\"\")","v":""},null,null,{"$f":"IF(spreedResult.!$F126<>\"\",spreedResult.!$C$10,\"\")","v":""},{"$f":"IF(spreedResult.!$F126<>\"\",spreedResult.!$C$9,\"\")","v":""},{"$f":"IF(spreedResult.!M126<>\"\",spreedResult.!M126,\"\")","v":""},{"$f":"IF(spreedResult.!H126<>\"\",IF(spreedResult.!$I$8=\"左記ご住所に送付\",\"2\",\"\"),\"\")","v":""},{"$nulls":8},"",null,"",null,"",null,"",null,"",null,"",null,"",null,"",null,"",null,""]
[null,{"$f":"IF(spreedResult.!B127<>\"\",TEXT(spreedResult.!B127,\"YYYY\")&TEXT(spreedResult.!B127,\"MM\")&TEXT(spreedResult.!B127,\"DD\"),\"\")","v":""},{"$f":"IF(spreedResult.!C127<>\"\",VLOOKUP(spreedResult.!C127,spreedResult.!$AU$2:$AV$12,2,0),\"\")","v":""},{"$nulls":4},{"$f":"IF(spreedResult.!P127<>\"\",VLOOKUP(spreedResult.!P127,Course!$A$2:$B$612,2,0),\"\")","v":""},null,{"$f":"CONCATENATE(TRIM(ASC(spreedResult.!F127)),\" \",TRIM(ASC(spreedResult.!G127)))","v":" "},{"$f":"CONCATENATE(TRIM(spreedResult.!H127),\"　\",TRIM(spreedResult.!I127))","v":"　"},{"$f":"IFERROR(VLOOKUP(spreedResult.!K127,spreedResult.!$AX$4:$AY$5,2,0),\"\")","v":""},{"$f":"IF(spreedResult.!L127<>\"\",TEXT(spreedResult.!L127,\"YYYY\")&TEXT(spreedResult.!L127,\"MM\")&TEXT(spreedResult.!L127,\"DD\"),\"\")","v":""},null,null,{"$f":"IF(spreedResult.!$F127<>\"\",spreedResult.!$C$10,\"\")","v":""},{"$f":"IF(spreedResult.!$F127<>\"\",spreedResult.!$C$9,\"\")","v":""},{"$f":"IF(spreedResult.!M127<>\"\",spreedResult.!M127,\"\")","v":""},{"$f":"IF(spreedResult.!H127<>\"\",IF(spreedResult.!$I$8=\"左記ご住所に送付\",\"2\",\"\"),\"\")","v":""},{"$nulls":8},"",null,"",null,"",null,"",null,"",null,"",null,"",null,"",null,"",null,""]
[null,{"$f":"IF(spreedResult.!B128<>\"\",TEXT(spreedResult.!B128,\"YYYY\")&TEXT(spreedResult.!B128,\"MM\")&TEXT(spreedResult.!B128,\"DD\"),\"\")","v":""},{"$f":"IF(spreedResult.!C128<>\"\",VLOOKUP(spreedResult.!C128,spreedResult.!$AU$2:$AV$12,2,0),\"\")","v":""},{"$nulls":4},{"$f":"IF(spreedResult.!P128<>\"\",VLOOKUP(spreedResult.!P128,Course!$A$2:$B$612,2,0),\"\")","v":""},null,{"$f":"CONCATENATE(TRIM(ASC(spreedResult.!F128)),\" \",TRIM(ASC(spreedResult.!G128)))","v":" "},{"$f":"CONCATENATE(TRIM(spreedResult.!H128),\"　\",TRIM(spreedResult.!I128))","v":"　"},{"$f":"IFERROR(VLOOKUP(spreedResult.!K128,spreedResult.!$AX$4:$AY$5,2,0),\"\")","v":""},{"$f":"IF(spreedResult.!L128<>\"\",TEXT(spreedResult.!L128,\"YYYY\")&TEXT(spreedResult.!L128,\"MM\")&TEXT(spreedResult.!L128,\"DD\"),\"\")","v":""},null,null,{"$f":"IF(spreedResult.!$F128<>\"\",spreedResult.!$C$10,\"\")","v":""},{"$f":"IF(spreedResult.!$F128<>\"\",spreedResult.!$C$9,\"\")","v":""},{"$f":"IF(spreedResult.!M128<>\"\",spreedResult.!M128,\"\")","v":""},{"$f":"IF(spreedResult.!H128<>\"\",IF(spreedResult.!$I$8=\"左記ご住所に送付\",\"2\",\"\"),\"\")","v":""},{"$nulls":8},"",null,"",null,"",null,"",null,"",null,"",null,"",null,"",null,"",null,""]
[null,{"$f":"IF(spreedResult.!B129<>\"\",TEXT(spreedResult.!B129,\"YYYY\")&TEXT(spreedResult.!B129,\"MM\")&TEXT(spreedResult.!B129,\"DD\"),\"\")","v":""},{"$f":"IF(spreedResult.!C129<>\"\",VLOOKUP(spreedResult.!C129,spreedResult.!$AU$2:$AV$12,2,0),\"\")","v":""},{"$nulls":4},{"$f":"IF(spreedResult.!P129<>\"\",VLOOKUP(spreedResult.!P129,Course!$A$2:$B$612,2,0),\"\")","v":""},null,{"$f":"CONCATENATE(TRIM(ASC(spreedResult.!F129)),\" \",TRIM(ASC(spreedResult.!G129)))","v":" "},{"$f":"CONCATENATE(TRIM(spreedResult.!H129),\"　\",TRIM(spreedResult.!I129))","v":"　"},{"$f":"IFERROR(VLOOKUP(spreedResult.!K129,spreedResult.!$AX$4:$AY$5,2,0),\"\")","v":""},{"$f":"IF(spreedResult.!L129<>\"\",TEXT(spreedResult.!L129,\"YYYY\")&TEXT(spreedResult.!L129,\"MM\")&TEXT(spreedResult.!L129,\"DD\"),\"\")","v":""},null,null,{"$f":"IF(spreedResult.!$F129<>\"\",spreedResult.!$C$10,\"\")","v":""},{"$f":"IF(spreedResult.!$F129<>\"\",spreedResult.!$C$9,\"\")","v":""},{"$f":"IF(spreedResult.!M129<>\"\",spreedResult.!M129,\"\")","v":""},{"$f":"IF(spreedResult.!H129<>\"\",IF(spreedResult.!$I$8=\"左記ご住所に送付\",\"2\",\"\"),\"\")","v":""},{"$nulls":8},"",null,"",null,"",null,"",null,"",null,"",null,"",null,"",null,"",null,""]
[null,{"$f":"IF(spreedResult.!B130<>\"\",TEXT(spreedResult.!B130,\"YYYY\")&TEXT(spreedResult.!B130,\"MM\")&TEXT(spreedResult.!B130,\"DD\"),\"\")","v":""},{"$f":"IF(spreedResult.!C130<>\"\",VLOOKUP(spreedResult.!C130,spreedResult.!$AU$2:$AV$12,2,0),\"\")","v":""},{"$nulls":4},{"$f":"IF(spreedResult.!P130<>\"\",VLOOKUP(spreedResult.!P130,Course!$A$2:$B$612,2,0),\"\")","v":""},null,{"$f":"CONCATENATE(TRIM(ASC(spreedResult.!F130)),\" \",TRIM(ASC(spreedResult.!G130)))","v":" "},{"$f":"CONCATENATE(TRIM(spreedResult.!H130),\"　\",TRIM(spreedResult.!I130))","v":"　"},{"$f":"IFERROR(VLOOKUP(spreedResult.!K130,spreedResult.!$AX$4:$AY$5,2,0),\"\")","v":""},{"$f":"IF(spreedResult.!L130<>\"\",TEXT(spreedResult.!L130,\"YYYY\")&TEXT(spreedResult.!L130,\"MM\")&TEXT(spreedResult.!L130,\"DD\"),\"\")","v":""},null,null,{"$f":"IF(spreedResult.!$F130<>\"\",spreedResult.!$C$10,\"\")","v":""},{"$f":"IF(spreedResult.!$F130<>\"\",spreedResult.!$C$9,\"\")","v":""},{"$f":"IF(spreedResult.!M130<>\"\",spreedResult.!M130,\"\")","v":""},{"$f":"IF(spreedResult.!H130<>\"\",IF(spreedResult.!$I$8=\"左記ご住所に送付\",\"2\",\"\"),\"\")","v":""},{"$nulls":8},"",null,"",null,"",null,"",null,"",null,"",null,"",null,"",null,"",null,""]
[null,{"$f":"IF(spreedResult.!B131<>\"\",TEXT(spreedResult.!B131,\"YYYY\")&TEXT(spreedResult.!B131,\"MM\")&TEXT(spreedResult.!B131,\"DD\"),\"\")","v":""},{"$f":"IF(spreedResult.!C131<>\"\",VLOOKUP(spreedResult.!C131,spreedResult.!$AU$2:$AV$12,2,0),\"\")","v":""},{"$nulls":4},{"$f":"IF(spreedResult.!P131<>\"\",VLOOKUP(spreedResult.!P131,Course!$A$2:$B$612,2,0),\"\")","v":""},null,{"$f":"CONCATENATE(TRIM(ASC(spreedResult.!F131)),\" \",TRIM(ASC(spreedResult.!G131)))","v":" "},{"$f":"CONCATENATE(TRIM(spreedResult.!H131),\"　\",TRIM(spreedResult.!I131))","v":"　"},{"$f":"IFERROR(VLOOKUP(spreedResult.!K131,spreedResult.!$AX$4:$AY$5,2,0),\"\")","v":""},{"$f":"IF(spreedResult.!L131<>\"\",TEXT(spreedResult.!L131,\"YYYY\")&TEXT(spreedResult.!L131,\"MM\")&TEXT(spreedResult.!L131,\"DD\"),\"\")","v":""},null,null,{"$f":"IF(spreedResult.!$F131<>\"\",spreedResult.!$C$10,\"\")","v":""},{"$f":"IF(spreedResult.!$F131<>\"\",spreedResult.!$C$9,\"\")","v":""},{"$f":"IF(spreedResult.!M131<>\"\",spreedResult.!M131,\"\")","v":""},{"$f":"IF(spreedResult.!H131<>\"\",IF(spreedResult.!$I$8=\"左記ご住所に送付\",\"2\",\"\"),\"\")","v":""},{"$nulls":8},"",null,"",null,"",null,"",null,"",null,"",null,"",null,"",null,"",null,""]
[null,{"$f":"IF(spreedResult.!B132<>\"\",TEXT(spreedResult.!B132,\"YYYY\")&TEXT(spreedResult.!B132,\"MM\")&TEXT(spreedResult.!B132,\"DD\"),\"\")","v":""},{"$f":"IF(spreedResult.!C132<>\"\",VLOOKUP(spreedResult.!C132,spreedResult.!$AU$2:$AV$12,2,0),\"\")","v":""},{"$nulls":4},{"$f":"IF(spreedResult.!P132<>\"\",VLOOKUP(spreedResult.!P132,Course!$A$2:$B$612,2,0),\"\")","v":""},null,{"$f":"CONCATENATE(TRIM(ASC(spreedResult.!F132)),\" \",TRIM(ASC(spreedResult.!G132)))","v":" "},{"$f":"CONCATENATE(TRIM(spreedResult.!H132),\"　\",TRIM(spreedResult.!I132))","v":"　"},{"$f":"IFERROR(VLOOKUP(spreedResult.!K132,spreedResult.!$AX$4:$AY$5,2,0),\"\")","v":""},{"$f":"IF(spreedResult.!L132<>\"\",TEXT(spreedResult.!L132,\"YYYY\")&TEXT(spreedResult.!L132,\"MM\")&TEXT(spreedResult.!L132,\"DD\"),\"\")","v":""},null,null,{"$f":"IF(spreedResult.!$F132<>\"\",spreedResult.!$C$10,\"\")","v":""},{"$f":"IF(spreedResult.!$F132<>\"\",spreedResult.!$C$9,\"\")","v":""},{"$f":"IF(spreedResult.!M132<>\"\",spreedResult.!M132,\"\")","v":""},{"$f":"IF(spreedResult.!H132<>\"\",IF(spreedResult.!$I$8=\"左記ご住所に送付\",\"2\",\"\"),\"\")","v":""},{"$nulls":8},"",null,"",null,"",null,"",null,"",null,"",null,"",null,"",null,"",null,""]
[null,{"$f":"IF(spreedResult.!B133<>\"\",TEXT(spreedResult.!B133,\"YYYY\")&TEXT(spreedResult.!B133,\"MM\")&TEXT(spreedResult.!B133,\"DD\"),\"\")","v":""},{"$f":"IF(spreedResult.!C133<>\"\",VLOOKUP(spreedResult.!C133,spreedResult.!$AU$2:$AV$12,2,0),\"\")","v":""},{"$nulls":4},{"$f":"IF(spreedResult.!P133<>\"\",VLOOKUP(spreedResult.!P133,Course!$A$2:$B$612,2,0),\"\")","v":""},null,{"$f":"CONCATENATE(TRIM(ASC(spreedResult.!F133)),\" \",TRIM(ASC(spreedResult.!G133)))","v":" "},{"$f":"CONCATENATE(TRIM(spreedResult.!H133),\"　\",TRIM(spreedResult.!I133))","v":"　"},{"$f":"IFERROR(VLOOKUP(spreedResult.!K133,spreedResult.!$AX$4:$AY$5,2,0),\"\")","v":""},{"$f":"IF(spreedResult.!L133<>\"\",TEXT(spreedResult.!L133,\"YYYY\")&TEXT(spreedResult.!L133,\"MM\")&TEXT(spreedResult.!L133,\"DD\"),\"\")","v":""},null,null,{"$f":"IF(spreedResult.!$F133<>\"\",spreedResult.!$C$10,\"\")","v":""},{"$f":"IF(spreedResult.!$F133<>\"\",spreedResult.!$C$9,\"\")","v":""},{"$f":"IF(spreedResult.!M133<>\"\",spreedResult.!M133,\"\")","v":""},{"$f":"IF(spreedResult.!H133<>\"\",IF(spreedResult.!$I$8=\"左記ご住所に送付\",\"2\",\"\"),\"\")","v":""},{"$nulls":8},"",null,"",null,"",null,"",null,"",null,"",null,"",null,"",null,"",null,""]
[null,{"$f":"IF(spreedResult.!B134<>\"\",TEXT(spreedResult.!B134,\"YYYY\")&TEXT(spreedResult.!B134,\"MM\")&TEXT(spreedResult.!B134,\"DD\"),\"\")","v":""},{"$f":"IF(spreedResult.!C134<>\"\",VLOOKUP(spreedResult.!C134,spreedResult.!$AU$2:$AV$12,2,0),\"\")","v":""},{"$nulls":4},{"$f":"IF(spreedResult.!P134<>\"\",VLOOKUP(spreedResult.!P134,Course!$A$2:$B$612,2,0),\"\")","v":""},null,{"$f":"CONCATENATE(TRIM(ASC(spreedResult.!F134)),\" \",TRIM(ASC(spreedResult.!G134)))","v":" "},{"$f":"CONCATENATE(TRIM(spreedResult.!H134),\"　\",TRIM(spreedResult.!I134))","v":"　"},{"$f":"IFERROR(VLOOKUP(spreedResult.!K134,spreedResult.!$AX$4:$AY$5,2,0),\"\")","v":""},{"$f":"IF(spreedResult.!L134<>\"\",TEXT(spreedResult.!L134,\"YYYY\")&TEXT(spreedResult.!L134,\"MM\")&TEXT(spreedResult.!L134,\"DD\"),\"\")","v":""},null,null,{"$f":"IF(spreedResult.!$F134<>\"\",spreedResult.!$C$10,\"\")","v":""},{"$f":"IF(spreedResult.!$F134<>\"\",spreedResult.!$C$9,\"\")","v":""},{"$f":"IF(spreedResult.!M134<>\"\",spreedResult.!M134,\"\")","v":""},{"$f":"IF(spreedResult.!H134<>\"\",IF(spreedResult.!$I$8=\"左記ご住所に送付\",\"2\",\"\"),\"\")","v":""},{"$nulls":8},"",null,"",null,"",null,"",null,"",null,"",null,"",null,"",null,"",null,""]
[null,{"$f":"IF(spreedResult.!B135<>\"\",TEXT(spreedResult.!B135,\"YYYY\")&TEXT(spreedResult.!B135,\"MM\")&TEXT(spreedResult.!B135,\"DD\"),\"\")","v":""},{"$f":"IF(spreedResult.!C135<>\"\",VLOOKUP(spreedResult.!C135,spreedResult.!$AU$2:$AV$12,2,0),\"\")","v":""},{"$nulls":4},{"$f":"IF(spreedResult.!P135<>\"\",VLOOKUP(spreedResult.!P135,Course!$A$2:$B$612,2,0),\"\")","v":""},null,{"$f":"CONCATENATE(TRIM(ASC(spreedResult.!F135)),\" \",TRIM(ASC(spreedResult.!G135)))","v":" "},{"$f":"CONCATENATE(TRIM(spreedResult.!H135),\"　\",TRIM(spreedResult.!I135))","v":"　"},{"$f":"IFERROR(VLOOKUP(spreedResult.!K135,spreedResult.!$AX$4:$AY$5,2,0),\"\")","v":""},{"$f":"IF(spreedResult.!L135<>\"\",TEXT(spreedResult.!L135,\"YYYY\")&TEXT(spreedResult.!L135,\"MM\")&TEXT(spreedResult.!L135,\"DD\"),\"\")","v":""},null,null,{"$f":"IF(spreedResult.!$F135<>\"\",spreedResult.!$C$10,\"\")","v":""},{"$f":"IF(spreedResult.!$F135<>\"\",spreedResult.!$C$9,\"\")","v":""},{"$f":"IF(spreedResult.!M135<>\"\",spreedResult.!M135,\"\")","v":""},{"$f":"IF(spreedResult.!H135<>\"\",IF(spreedResult.!$I$8=\"左記ご住所に送付\",\"2\",\"\"),\"\")","v":""},{"$nulls":8},"",null,"",null,"",null,"",null,"",null,"",null,"",null,"",null,"",null,""]
[null,{"$f":"IF(spreedResult.!B136<>\"\",TEXT(spreedResult.!B136,\"YYYY\")&TEXT(spreedResult.!B136,\"MM\")&TEXT(spreedResult.!B136,\"DD\"),\"\")","v":""},{"$f":"IF(spreedResult.!C136<>\"\",VLOOKUP(spreedResult.!C136,spreedResult.!$AU$2:$AV$12,2,0),\"\")","v":""},{"$nulls":4},{"$f":"IF(spreedResult.!P136<>\"\",VLOOKUP(spreedResult.!P136,Course!$A$2:$B$612,2,0),\"\")","v":""},null,{"$f":"CONCATENATE(TRIM(ASC(spreedResult.!F136)),\" \",TRIM(ASC(spreedResult.!G136)))","v":" "},{"$f":"CONCATENATE(TRIM(spreedResult.!H136),\"　\",TRIM(spreedResult.!I136))","v":"　"},{"$f":"IFERROR(VLOOKUP(spreedResult.!K136,spreedResult.!$AX$4:$AY$5,2,0),\"\")","v":""},{"$f":"IF(spreedResult.!L136<>\"\",TEXT(spreedResult.!L136,\"YYYY\")&TEXT(spreedResult.!L136,\"MM\")&TEXT(spreedResult.!L136,\"DD\"),\"\")","v":""},null,null,{"$f":"IF(spreedResult.!$F136<>\"\",spreedResult.!$C$10,\"\")","v":""},{"$f":"IF(spreedResult.!$F136<>\"\",spreedResult.!$C$9,\"\")","v":""},{"$f":"IF(spreedResult.!M136<>\"\",spreedResult.!M136,\"\")","v":""},{"$f":"IF(spreedResult.!H136<>\"\",IF(spreedResult.!$I$8=\"左記ご住所に送付\",\"2\",\"\"),\"\")","v":""},{"$nulls":8},"",null,"",null,"",null,"",null,"",null,"",null,"",null,"",null,"",null,""]
[null,{"$f":"IF(spreedResult.!B137<>\"\",TEXT(spreedResult.!B137,\"YYYY\")&TEXT(spreedResult.!B137,\"MM\")&TEXT(spreedResult.!B137,\"DD\"),\"\")","v":""},{"$f":"IF(spreedResult.!C137<>\"\",VLOOKUP(spreedResult.!C137,spreedResult.!$AU$2:$AV$12,2,0),\"\")","v":""},{"$nulls":4},{"$f":"IF(spreedResult.!P137<>\"\",VLOOKUP(spreedResult.!P137,Course!$A$2:$B$612,2,0),\"\")","v":""},null,{"$f":"CONCATENATE(TRIM(ASC(spreedResult.!F137)),\" \",TRIM(ASC(spreedResult.!G137)))","v":" "},{"$f":"CONCATENATE(TRIM(spreedResult.!H137),\"　\",TRIM(spreedResult.!I137))","v":"　"},{"$f":"IFERROR(VLOOKUP(spreedResult.!K137,spreedResult.!$AX$4:$AY$5,2,0),\"\")","v":""},{"$f":"IF(spreedResult.!L137<>\"\",TEXT(spreedResult.!L137,\"YYYY\")&TEXT(spreedResult.!L137,\"MM\")&TEXT(spreedResult.!L137,\"DD\"),\"\")","v":""},null,null,{"$f":"IF(spreedResult.!$F137<>\"\",spreedResult.!$C$10,\"\")","v":""},{"$f":"IF(spreedResult.!$F137<>\"\",spreedResult.!$C$9,\"\")","v":""},{"$f":"IF(spreedResult.!M137<>\"\",spreedResult.!M137,\"\")","v":""},{"$f":"IF(spreedResult.!H137<>\"\",IF(spreedResult.!$I$8=\"左記ご住所に送付\",\"2\",\"\"),\"\")","v":""},{"$nulls":8},"",null,"",null,"",null,"",null,"",null,"",null,"",null,"",null,"",null,""]
[null,{"$f":"IF(spreedResult.!B138<>\"\",TEXT(spreedResult.!B138,\"YYYY\")&TEXT(spreedResult.!B138,\"MM\")&TEXT(spreedResult.!B138,\"DD\"),\"\")","v":""},{"$f":"IF(spreedResult.!C138<>\"\",VLOOKUP(spreedResult.!C138,spreedResult.!$AU$2:$AV$12,2,0),\"\")","v":""},{"$nulls":4},{"$f":"IF(spreedResult.!P138<>\"\",VLOOKUP(spreedResult.!P138,Course!$A$2:$B$612,2,0),\"\")","v":""},null,{"$f":"CONCATENATE(TRIM(ASC(spreedResult.!F138)),\" \",TRIM(ASC(spreedResult.!G138)))","v":" "},{"$f":"CONCATENATE(TRIM(spreedResult.!H138),\"　\",TRIM(spreedResult.!I138))","v":"　"},{"$f":"IFERROR(VLOOKUP(spreedResult.!K138,spreedResult.!$AX$4:$AY$5,2,0),\"\")","v":""},{"$f":"IF(spreedResult.!L138<>\"\",TEXT(spreedResult.!L138,\"YYYY\")&TEXT(spreedResult.!L138,\"MM\")&TEXT(spreedResult.!L138,\"DD\"),\"\")","v":""},null,null,{"$f":"IF(spreedResult.!$F138<>\"\",spreedResult.!$C$10,\"\")","v":""},{"$f":"IF(spreedResult.!$F138<>\"\",spreedResult.!$C$9,\"\")","v":""},{"$f":"IF(spreedResult.!M138<>\"\",spreedResult.!M138,\"\")","v":""},{"$f":"IF(spreedResult.!H138<>\"\",IF(spreedResult.!$I$8=\"左記ご住所に送付\",\"2\",\"\"),\"\")","v":""},{"$nulls":8},"",null,"",null,"",null,"",null,"",null,"",null,"",null,"",null,"",null,""]
[null,{"$f":"IF(spreedResult.!B139<>\"\",TEXT(spreedResult.!B139,\"YYYY\")&TEXT(spreedResult.!B139,\"MM\")&TEXT(spreedResult.!B139,\"DD\"),\"\")","v":""},{"$f":"IF(spreedResult.!C139<>\"\",VLOOKUP(spreedResult.!C139,spreedResult.!$AU$2:$AV$12,2,0),\"\")","v":""},{"$nulls":4},{"$f":"IF(spreedResult.!P139<>\"\",VLOOKUP(spreedResult.!P139,Course!$A$2:$B$612,2,0),\"\")","v":""},null,{"$f":"CONCATENATE(TRIM(ASC(spreedResult.!F139)),\" \",TRIM(ASC(spreedResult.!G139)))","v":" "},{"$f":"CONCATENATE(TRIM(spreedResult.!H139),\"　\",TRIM(spreedResult.!I139))","v":"　"},{"$f":"IFERROR(VLOOKUP(spreedResult.!K139,spreedResult.!$AX$4:$AY$5,2,0),\"\")","v":""},{"$f":"IF(spreedResult.!L139<>\"\",TEXT(spreedResult.!L139,\"YYYY\")&TEXT(spreedResult.!L139,\"MM\")&TEXT(spreedResult.!L139,\"DD\"),\"\")","v":""},null,null,{"$f":"IF(spreedResult.!$F139<>\"\",spreedResult.!$C$10,\"\")","v":""},{"$f":"IF(spreedResult.!$F139<>\"\",spreedResult.!$C$9,\"\")","v":""},{"$f":"IF(spreedResult.!M139<>\"\",spreedResult.!M139,\"\")","v":""},{"$f":"IF(spreedResult.!H139<>\"\",IF(spreedResult.!$I$8=\"左記ご住所に送付\",\"2\",\"\"),\"\")","v":""},{"$nulls":8},"",null,"",null,"",null,"",null,"",null,"",null,"",null,"",null,"",null,""]
[null,{"$f":"IF(spreedResult.!B140<>\"\",TEXT(spreedResult.!B140,\"YYYY\")&TEXT(spreedResult.!B140,\"MM\")&TEXT(spreedResult.!B140,\"DD\"),\"\")","v":""},{"$f":"IF(spreedResult.!C140<>\"\",VLOOKUP(spreedResult.!C140,spreedResult.!$AU$2:$AV$12,2,0),\"\")","v":""},{"$nulls":4},{"$f":"IF(spreedResult.!P140<>\"\",VLOOKUP(spreedResult.!P140,Course!$A$2:$B$612,2,0),\"\")","v":""},null,{"$f":"CONCATENATE(TRIM(ASC(spreedResult.!F140)),\" \",TRIM(ASC(spreedResult.!G140)))","v":" "},{"$f":"CONCATENATE(TRIM(spreedResult.!H140),\"　\",TRIM(spreedResult.!I140))","v":"　"},{"$f":"IFERROR(VLOOKUP(spreedResult.!K140,spreedResult.!$AX$4:$AY$5,2,0),\"\")","v":""},{"$f":"IF(spreedResult.!L140<>\"\",TEXT(spreedResult.!L140,\"YYYY\")&TEXT(spreedResult.!L140,\"MM\")&TEXT(spreedResult.!L140,\"DD\"),\"\")","v":""},null,null,{"$f":"IF(spreedResult.!$F140<>\"\",spreedResult.!$C$10,\"\")","v":""},{"$f":"IF(spreedResult.!$F140<>\"\",spreedResult.!$C$9,\"\")","v":""},{"$f":"IF(spreedResult.!M140<>\"\",spreedResult.!M140,\"\")","v":""},{"$f":"IF(spreedResult.!H140<>\"\",IF(spreedResult.!$I$8=\"左記ご住所に送付\",\"2\",\"\"),\"\")","v":""},{"$nulls":8},"",null,"",null,"",null,"",null,"",null,"",null,"",null,"",null,"",null,""]
[null,{"$f":"IF(spreedResult.!B141<>\"\",TEXT(spreedResult.!B141,\"YYYY\")&TEXT(spreedResult.!B141,\"MM\")&TEXT(spreedResult.!B141,\"DD\"),\"\")","v":""},{"$f":"IF(spreedResult.!C141<>\"\",VLOOKUP(spreedResult.!C141,spreedResult.!$AU$2:$AV$12,2,0),\"\")","v":""},{"$nulls":4},{"$f":"IF(spreedResult.!P141<>\"\",VLOOKUP(spreedResult.!P141,Course!$A$2:$B$612,2,0),\"\")","v":""},null,{"$f":"CONCATENATE(TRIM(ASC(spreedResult.!F141)),\" \",TRIM(ASC(spreedResult.!G141)))","v":" "},{"$f":"CONCATENATE(TRIM(spreedResult.!H141),\"　\",TRIM(spreedResult.!I141))","v":"　"},{"$f":"IFERROR(VLOOKUP(spreedResult.!K141,spreedResult.!$AX$4:$AY$5,2,0),\"\")","v":""},{"$f":"IF(spreedResult.!L141<>\"\",TEXT(spreedResult.!L141,\"YYYY\")&TEXT(spreedResult.!L141,\"MM\")&TEXT(spreedResult.!L141,\"DD\"),\"\")","v":""},null,null,{"$f":"IF(spreedResult.!$F141<>\"\",spreedResult.!$C$10,\"\")","v":""},{"$f":"IF(spreedResult.!$F141<>\"\",spreedResult.!$C$9,\"\")","v":""},{"$f":"IF(spreedResult.!M141<>\"\",spreedResult.!M141,\"\")","v":""},{"$f":"IF(spreedResult.!H141<>\"\",IF(spreedResult.!$I$8=\"左記ご住所に送付\",\"2\",\"\"),\"\")","v":""},{"$nulls":8},"",null,"",null,"",null,"",null,"",null,"",null,"",null,"",null,"",null,""]
[null,{"$f":"IF(spreedResult.!B142<>\"\",TEXT(spreedResult.!B142,\"YYYY\")&TEXT(spreedResult.!B142,\"MM\")&TEXT(spreedResult.!B142,\"DD\"),\"\")","v":""},{"$f":"IF(spreedResult.!C142<>\"\",VLOOKUP(spreedResult.!C142,spreedResult.!$AU$2:$AV$12,2,0),\"\")","v":""},{"$nulls":4},{"$f":"IF(spreedResult.!P142<>\"\",VLOOKUP(spreedResult.!P142,Course!$A$2:$B$612,2,0),\"\")","v":""},null,{"$f":"CONCATENATE(TRIM(ASC(spreedResult.!F142)),\" \",TRIM(ASC(spreedResult.!G142)))","v":" "},{"$f":"CONCATENATE(TRIM(spreedResult.!H142),\"　\",TRIM(spreedResult.!I142))","v":"　"},{"$f":"IFERROR(VLOOKUP(spreedResult.!K142,spreedResult.!$AX$4:$AY$5,2,0),\"\")","v":""},{"$f":"IF(spreedResult.!L142<>\"\",TEXT(spreedResult.!L142,\"YYYY\")&TEXT(spreedResult.!L142,\"MM\")&TEXT(spreedResult.!L142,\"DD\"),\"\")","v":""},null,null,{"$f":"IF(spreedResult.!$F142<>\"\",spreedResult.!$C$10,\"\")","v":""},{"$f":"IF(spreedResult.!$F142<>\"\",spreedResult.!$C$9,\"\")","v":""},{"$f":"IF(spreedResult.!M142<>\"\",spreedResult.!M142,\"\")","v":""},{"$f":"IF(spreedResult.!H142<>\"\",IF(spreedResult.!$I$8=\"左記ご住所に送付\",\"2\",\"\"),\"\")","v":""},{"$nulls":8},"",null,"",null,"",null,"",null,"",null,"",null,"",null,"",null,"",null,""]
[null,{"$f":"IF(spreedResult.!B143<>\"\",TEXT(spreedResult.!B143,\"YYYY\")&TEXT(spreedResult.!B143,\"MM\")&TEXT(spreedResult.!B143,\"DD\"),\"\")","v":""},{"$f":"IF(spreedResult.!C143<>\"\",VLOOKUP(spreedResult.!C143,spreedResult.!$AU$2:$AV$12,2,0),\"\")","v":""},{"$nulls":4},{"$f":"IF(spreedResult.!P143<>\"\",VLOOKUP(spreedResult.!P143,Course!$A$2:$B$612,2,0),\"\")","v":""},null,{"$f":"CONCATENATE(TRIM(ASC(spreedResult.!F143)),\" \",TRIM(ASC(spreedResult.!G143)))","v":" "},{"$f":"CONCATENATE(TRIM(spreedResult.!H143),\"　\",TRIM(spreedResult.!I143))","v":"　"},{"$f":"IFERROR(VLOOKUP(spreedResult.!K143,spreedResult.!$AX$4:$AY$5,2,0),\"\")","v":""},{"$f":"IF(spreedResult.!L143<>\"\",TEXT(spreedResult.!L143,\"YYYY\")&TEXT(spreedResult.!L143,\"MM\")&TEXT(spreedResult.!L143,\"DD\"),\"\")","v":""},null,null,{"$f":"IF(spreedResult.!$F143<>\"\",spreedResult.!$C$10,\"\")","v":""},{"$f":"IF(spreedResult.!$F143<>\"\",spreedResult.!$C$9,\"\")","v":""},{"$f":"IF(spreedResult.!M143<>\"\",spreedResult.!M143,\"\")","v":""},{"$f":"IF(spreedResult.!H143<>\"\",IF(spreedResult.!$I$8=\"左記ご住所に送付\",\"2\",\"\"),\"\")","v":""},{"$nulls":8},"",null,"",null,"",null,"",null,"",null,"",null,"",null,"",null,"",null,""]
[null,{"$f":"IF(spreedResult.!B144<>\"\",TEXT(spreedResult.!B144,\"YYYY\")&TEXT(spreedResult.!B144,\"MM\")&TEXT(spreedResult.!B144,\"DD\"),\"\")","v":""},{"$f":"IF(spreedResult.!C144<>\"\",VLOOKUP(spreedResult.!C144,spreedResult.!$AU$2:$AV$12,2,0),\"\")","v":""},{"$nulls":4},{"$f":"IF(spreedResult.!P144<>\"\",VLOOKUP(spreedResult.!P144,Course!$A$2:$B$612,2,0),\"\")","v":""},null,{"$f":"CONCATENATE(TRIM(ASC(spreedResult.!F144)),\" \",TRIM(ASC(spreedResult.!G144)))","v":" "},{"$f":"CONCATENATE(TRIM(spreedResult.!H144),\"　\",TRIM(spreedResult.!I144))","v":"　"},{"$f":"IFERROR(VLOOKUP(spreedResult.!K144,spreedResult.!$AX$4:$AY$5,2,0),\"\")","v":""},{"$f":"IF(spreedResult.!L144<>\"\",TEXT(spreedResult.!L144,\"YYYY\")&TEXT(spreedResult.!L144,\"MM\")&TEXT(spreedResult.!L144,\"DD\"),\"\")","v":""},null,null,{"$f":"IF(spreedResult.!$F144<>\"\",spreedResult.!$C$10,\"\")","v":""},{"$f":"IF(spreedResult.!$F144<>\"\",spreedResult.!$C$9,\"\")","v":""},{"$f":"IF(spreedResult.!M144<>\"\",spreedResult.!M144,\"\")","v":""},{"$f":"IF(spreedResult.!H144<>\"\",IF(spreedResult.!$I$8=\"左記ご住所に送付\",\"2\",\"\"),\"\")","v":""},{"$nulls":8},"",null,"",null,"",null,"",null,"",null,"",null,"",null,"",null,"",null,""]
[null,{"$f":"IF(spreedResult.!B145<>\"\",TEXT(spreedResult.!B145,\"YYYY\")&TEXT(spreedResult.!B145,\"MM\")&TEXT(spreedResult.!B145,\"DD\"),\"\")","v":""},{"$f":"IF(spreedResult.!C145<>\"\",VLOOKUP(spreedResult.!C145,spreedResult.!$AU$2:$AV$12,2,0),\"\")","v":""},{"$nulls":4},{"$f":"IF(spreedResult.!P145<>\"\",VLOOKUP(spreedResult.!P145,Course!$A$2:$B$612,2,0),\"\")","v":""},null,{"$f":"CONCATENATE(TRIM(ASC(spreedResult.!F145)),\" \",TRIM(ASC(spreedResult.!G145)))","v":" "},{"$f":"CONCATENATE(TRIM(spreedResult.!H145),\"　\",TRIM(spreedResult.!I145))","v":"　"},{"$f":"IFERROR(VLOOKUP(spreedResult.!K145,spreedResult.!$AX$4:$AY$5,2,0),\"\")","v":""},{"$f":"IF(spreedResult.!L145<>\"\",TEXT(spreedResult.!L145,\"YYYY\")&TEXT(spreedResult.!L145,\"MM\")&TEXT(spreedResult.!L145,\"DD\"),\"\")","v":""},null,null,{"$f":"IF(spreedResult.!$F145<>\"\",spreedResult.!$C$10,\"\")","v":""},{"$f":"IF(spreedResult.!$F145<>\"\",spreedResult.!$C$9,\"\")","v":""},{"$f":"IF(spreedResult.!M145<>\"\",spreedResult.!M145,\"\")","v":""},{"$f":"IF(spreedResult.!H145<>\"\",IF(spreedResult.!$I$8=\"左記ご住所に送付\",\"2\",\"\"),\"\")","v":""},{"$nulls":8},"",null,"",null,"",null,"",null,"",null,"",null,"",null,"",null,"",null,""]
[null,{"$f":"IF(spreedResult.!B146<>\"\",TEXT(spreedResult.!B146,\"YYYY\")&TEXT(spreedResult.!B146,\"MM\")&TEXT(spreedResult.!B146,\"DD\"),\"\")","v":""},{"$f":"IF(spreedResult.!C146<>\"\",VLOOKUP(spreedResult.!C146,spreedResult.!$AU$2:$AV$12,2,0),\"\")","v":""},{"$nulls":4},{"$f":"IF(spreedResult.!P146<>\"\",VLOOKUP(spreedResult.!P146,Course!$A$2:$B$612,2,0),\"\")","v":""},null,{"$f":"CONCATENATE(TRIM(ASC(spreedResult.!F146)),\" \",TRIM(ASC(spreedResult.!G146)))","v":" "},{"$f":"CONCATENATE(TRIM(spreedResult.!H146),\"　\",TRIM(spreedResult.!I146))","v":"　"},{"$f":"IFERROR(VLOOKUP(spreedResult.!K146,spreedResult.!$AX$4:$AY$5,2,0),\"\")","v":""},{"$f":"IF(spreedResult.!L146<>\"\",TEXT(spreedResult.!L146,\"YYYY\")&TEXT(spreedResult.!L146,\"MM\")&TEXT(spreedResult.!L146,\"DD\"),\"\")","v":""},null,null,{"$f":"IF(spreedResult.!$F146<>\"\",spreedResult.!$C$10,\"\")","v":""},{"$f":"IF(spreedResult.!$F146<>\"\",spreedResult.!$C$9,\"\")","v":""},{"$f":"IF(spreedResult.!M146<>\"\",spreedResult.!M146,\"\")","v":""},{"$f":"IF(spreedResult.!H146<>\"\",IF(spreedResult.!$I$8=\"左記ご住所に送付\",\"2\",\"\"),\"\")","v":""},{"$nulls":8},"",null,"",null,"",null,"",null,"",null,"",null,"",null,"",null,"",null,""]
[null,{"$f":"IF(spreedResult.!B147<>\"\",TEXT(spreedResult.!B147,\"YYYY\")&TEXT(spreedResult.!B147,\"MM\")&TEXT(spreedResult.!B147,\"DD\"),\"\")","v":""},{"$f":"IF(spreedResult.!C147<>\"\",VLOOKUP(spreedResult.!C147,spreedResult.!$AU$2:$AV$12,2,0),\"\")","v":""},{"$nulls":4},{"$f":"IF(spreedResult.!P147<>\"\",VLOOKUP(spreedResult.!P147,Course!$A$2:$B$612,2,0),\"\")","v":""},null,{"$f":"CONCATENATE(TRIM(ASC(spreedResult.!F147)),\" \",TRIM(ASC(spreedResult.!G147)))","v":" "},{"$f":"CONCATENATE(TRIM(spreedResult.!H147),\"　\",TRIM(spreedResult.!I147))","v":"　"},{"$f":"IFERROR(VLOOKUP(spreedResult.!K147,spreedResult.!$AX$4:$AY$5,2,0),\"\")","v":""},{"$f":"IF(spreedResult.!L147<>\"\",TEXT(spreedResult.!L147,\"YYYY\")&TEXT(spreedResult.!L147,\"MM\")&TEXT(spreedResult.!L147,\"DD\"),\"\")","v":""},null,null,{"$f":"IF(spreedResult.!$F147<>\"\",spreedResult.!$C$10,\"\")","v":""},{"$f":"IF(spreedResult.!$F147<>\"\",spreedResult.!$C$9,\"\")","v":""},{"$f":"IF(spreedResult.!M147<>\"\",spreedResult.!M147,\"\")","v":""},{"$f":"IF(spreedResult.!H147<>\"\",IF(spreedResult.!$I$8=\"左記ご住所に送付\",\"2\",\"\"),\"\")","v":""},{"$nulls":8},"",null,"",null,"",null,"",null,"",null,"",null,"",null,"",null,"",null,""]
[null,{"$f":"IF(spreedResult.!B148<>\"\",TEXT(spreedResult.!B148,\"YYYY\")&TEXT(spreedResult.!B148,\"MM\")&TEXT(spreedResult.!B148,\"DD\"),\"\")","v":""},{"$f":"IF(spreedResult.!C148<>\"\",VLOOKUP(spreedResult.!C148,spreedResult.!$AU$2:$AV$12,2,0),\"\")","v":""},{"$nulls":4},{"$f":"IF(spreedResult.!P148<>\"\",VLOOKUP(spreedResult.!P148,Course!$A$2:$B$612,2,0),\"\")","v":""},null,{"$f":"CONCATENATE(TRIM(ASC(spreedResult.!F148)),\" \",TRIM(ASC(spreedResult.!G148)))","v":" "},{"$f":"CONCATENATE(TRIM(spreedResult.!H148),\"　\",TRIM(spreedResult.!I148))","v":"　"},{"$f":"IFERROR(VLOOKUP(spreedResult.!K148,spreedResult.!$AX$4:$AY$5,2,0),\"\")","v":""},{"$f":"IF(spreedResult.!L148<>\"\",TEXT(spreedResult.!L148,\"YYYY\")&TEXT(spreedResult.!L148,\"MM\")&TEXT(spreedResult.!L148,\"DD\"),\"\")","v":""},null,null,{"$f":"IF(spreedResult.!$F148<>\"\",spreedResult.!$C$10,\"\")","v":""},{"$f":"IF(spreedResult.!$F148<>\"\",spreedResult.!$C$9,\"\")","v":""},{"$f":"IF(spreedResult.!M148<>\"\",spreedResult.!M148,\"\")","v":""},{"$f":"IF(spreedResult.!H148<>\"\",IF(spreedResult.!$I$8=\"左記ご住所に送付\",\"2\",\"\"),\"\")","v":""},{"$nulls":8},{"$f":"IF(ISNUMBER(AA137),\"1\",\"\")","v":""},null,{"$f":"IF(ISNUMBER(AC137),\"1\",\"\")","v":""},null,{"$f":"IF(ISNUMBER(AE137),\"1\",\"\")","v":""},null,{"$f":"IF(ISNUMBER(AG137),\"1\",\"\")","v":""},null,{"$f":"IF(ISNUMBER(AI137),\"1\",\"\")","v":""},null,{"$f":"IF(ISNUMBER(AK137),\"1\",\"\")","v":""},null,{"$f":"IF(ISNUMBER(AM137),\"1\",\"\")","v":""},null,{"$f":"IF(ISNUMBER(AO137),\"1\",\"\")","v":""},null,{"$f":"IF(ISNUMBER(AQ137),\"1\",\"\")","v":""},null,{"$f":"IF(ISNUMBER(AS137),\"1\",\"\")","v":""}]
[null,{"$f":"IF(spreedResult.!B149<>\"\",TEXT(spreedResult.!B149,\"YYYY\")&TEXT(spreedResult.!B149,\"MM\")&TEXT(spreedResult.!B149,\"DD\"),\"\")","v":""},{"$f":"IF(spreedResult.!C149<>\"\",VLOOKUP(spreedResult.!C149,spreedResult.!$AU$2:$AV$12,2,0),\"\")","v":""},{"$nulls":4},{"$f":"IF(spreedResult.!P149<>\"\",VLOOKUP(spreedResult.!P149,Course!$A$2:$B$612,2,0),\"\")","v":""},null,{"$f":"CONCATENATE(TRIM(ASC(spreedResult.!F149)),\" \",TRIM(ASC(spreedResult.!G149)))","v":" "},{"$f":"CONCATENATE(TRIM(spreedResult.!H149),\"　\",TRIM(spreedResult.!I149))","v":"　"},{"$f":"IFERROR(VLOOKUP(spreedResult.!K149,spreedResult.!$AX$4:$AY$5,2,0),\"\")","v":""},{"$f":"IF(spreedResult.!L149<>\"\",TEXT(spreedResult.!L149,\"YYYY\")&TEXT(spreedResult.!L149,\"MM\")&TEXT(spreedResult.!L149,\"DD\"),\"\")","v":""},null,null,{"$f":"IF(spreedResult.!$F149<>\"\",spreedResult.!$C$10,\"\")","v":""},{"$f":"IF(spreedResult.!$F149<>\"\",spreedResult.!$C$9,\"\")","v":""},{"$f":"IF(spreedResult.!M149<>\"\",spreedResult.!M149,\"\")","v":""},{"$f":"IF(spreedResult.!H149<>\"\",IF(spreedResult.!$I$8=\"左記ご住所に送付\",\"2\",\"\"),\"\")","v":""},{"$nulls":8},"",null,"",null,"",null,"",null,"",null,"",null,"",null,"",null,"",null,""]
[null,{"$f":"IF(spreedResult.!B150<>\"\",TEXT(spreedResult.!B150,\"YYYY\")&TEXT(spreedResult.!B150,\"MM\")&TEXT(spreedResult.!B150,\"DD\"),\"\")","v":""},{"$f":"IF(spreedResult.!C150<>\"\",VLOOKUP(spreedResult.!C150,spreedResult.!$AU$2:$AV$12,2,0),\"\")","v":""},{"$nulls":4},{"$f":"IF(spreedResult.!P150<>\"\",VLOOKUP(spreedResult.!P150,Course!$A$2:$B$612,2,0),\"\")","v":""},null,{"$f":"CONCATENATE(TRIM(ASC(spreedResult.!F150)),\" \",TRIM(ASC(spreedResult.!G150)))","v":" "},{"$f":"CONCATENATE(TRIM(spreedResult.!H150),\"　\",TRIM(spreedResult.!I150))","v":"　"},{"$f":"IFERROR(VLOOKUP(spreedResult.!K150,spreedResult.!$AX$4:$AY$5,2,0),\"\")","v":""},{"$f":"IF(spreedResult.!L150<>\"\",TEXT(spreedResult.!L150,\"YYYY\")&TEXT(spreedResult.!L150,\"MM\")&TEXT(spreedResult.!L150,\"DD\"),\"\")","v":""},null,null,{"$f":"IF(spreedResult.!$F150<>\"\",spreedResult.!$C$10,\"\")","v":""},{"$f":"IF(spreedResult.!$F150<>\"\",spreedResult.!$C$9,\"\")","v":""},{"$f":"IF(spreedResult.!M150<>\"\",spreedResult.!M150,\"\")","v":""},{"$f":"IF(spreedResult.!H150<>\"\",IF(spreedResult.!$I$8=\"左記ご住所に送付\",\"2\",\"\"),\"\")","v":""},{"$nulls":8},"",null,"",null,"",null,"",null,"",null,"",null,"",null,"",null,"",null,""]
[null,{"$f":"IF(spreedResult.!B151<>\"\",TEXT(spreedResult.!B151,\"YYYY\")&TEXT(spreedResult.!B151,\"MM\")&TEXT(spreedResult.!B151,\"DD\"),\"\")","v":""},{"$f":"IF(spreedResult.!C151<>\"\",VLOOKUP(spreedResult.!C151,spreedResult.!$AU$2:$AV$12,2,0),\"\")","v":""},{"$nulls":4},{"$f":"IF(spreedResult.!P151<>\"\",VLOOKUP(spreedResult.!P151,Course!$A$2:$B$612,2,0),\"\")","v":""},null,{"$f":"CONCATENATE(TRIM(ASC(spreedResult.!F151)),\" \",TRIM(ASC(spreedResult.!G151)))","v":" "},{"$f":"CONCATENATE(TRIM(spreedResult.!H151),\"　\",TRIM(spreedResult.!I151))","v":"　"},{"$f":"IFERROR(VLOOKUP(spreedResult.!K151,spreedResult.!$AX$4:$AY$5,2,0),\"\")","v":""},{"$f":"IF(spreedResult.!L151<>\"\",TEXT(spreedResult.!L151,\"YYYY\")&TEXT(spreedResult.!L151,\"MM\")&TEXT(spreedResult.!L151,\"DD\"),\"\")","v":""},null,null,{"$f":"IF(spreedResult.!$F151<>\"\",spreedResult.!$C$10,\"\")","v":""},{"$f":"IF(spreedResult.!$F151<>\"\",spreedResult.!$C$9,\"\")","v":""},{"$f":"IF(spreedResult.!M151<>\"\",spreedResult.!M151,\"\")","v":""},{"$f":"IF(spreedResult.!H151<>\"\",IF(spreedResult.!$I$8=\"左記ご住所に送付\",\"2\",\"\"),\"\")","v":""},{"$nulls":8},"",null,"",null,"",null,"",null,"",null,"",null,"",null,"",null,"",null,""]
[null,{"$f":"IF(spreedResult.!B152<>\"\",TEXT(spreedResult.!B152,\"YYYY\")&TEXT(spreedResult.!B152,\"MM\")&TEXT(spreedResult.!B152,\"DD\"),\"\")","v":""},{"$f":"IF(spreedResult.!C152<>\"\",VLOOKUP(spreedResult.!C152,spreedResult.!$AU$2:$AV$12,2,0),\"\")","v":""},{"$nulls":4},{"$f":"IF(spreedResult.!P152<>\"\",VLOOKUP(spreedResult.!P152,Course!$A$2:$B$612,2,0),\"\")","v":""},null,{"$f":"CONCATENATE(TRIM(ASC(spreedResult.!F152)),\" \",TRIM(ASC(spreedResult.!G152)))","v":" "},{"$f":"CONCATENATE(TRIM(spreedResult.!H152),\"　\",TRIM(spreedResult.!I152))","v":"　"},{"$f":"IFERROR(VLOOKUP(spreedResult.!K152,spreedResult.!$AX$4:$AY$5,2,0),\"\")","v":""},{"$f":"IF(spreedResult.!L152<>\"\",TEXT(spreedResult.!L152,\"YYYY\")&TEXT(spreedResult.!L152,\"MM\")&TEXT(spreedResult.!L152,\"DD\"),\"\")","v":""},null,null,{"$f":"IF(spreedResult.!$F152<>\"\",spreedResult.!$C$10,\"\")","v":""},{"$f":"IF(spreedResult.!$F152<>\"\",spreedResult.!$C$9,\"\")","v":""},{"$f":"IF(spreedResult.!M152<>\"\",spreedResult.!M152,\"\")","v":""},{"$f":"IF(spreedResult.!H152<>\"\",IF(spreedResult.!$I$8=\"左記ご住所に送付\",\"2\",\"\"),\"\")","v":""},{"$nulls":8},"",null,"",null,"",null,"",null,"",null,"",null,"",null,"",null,"",null,""]
[null,{"$f":"IF(spreedResult.!B153<>\"\",TEXT(spreedResult.!B153,\"YYYY\")&TEXT(spreedResult.!B153,\"MM\")&TEXT(spreedResult.!B153,\"DD\"),\"\")","v":""},{"$f":"IF(spreedResult.!C153<>\"\",VLOOKUP(spreedResult.!C153,spreedResult.!$AU$2:$AV$12,2,0),\"\")","v":""},{"$nulls":4},{"$f":"IF(spreedResult.!P153<>\"\",VLOOKUP(spreedResult.!P153,Course!$A$2:$B$612,2,0),\"\")","v":""},null,{"$f":"CONCATENATE(TRIM(ASC(spreedResult.!F153)),\" \",TRIM(ASC(spreedResult.!G153)))","v":" "},{"$f":"CONCATENATE(TRIM(spreedResult.!H153),\"　\",TRIM(spreedResult.!I153))","v":"　"},{"$f":"IFERROR(VLOOKUP(spreedResult.!K153,spreedResult.!$AX$4:$AY$5,2,0),\"\")","v":""},{"$f":"IF(spreedResult.!L153<>\"\",TEXT(spreedResult.!L153,\"YYYY\")&TEXT(spreedResult.!L153,\"MM\")&TEXT(spreedResult.!L153,\"DD\"),\"\")","v":""},null,null,{"$f":"IF(spreedResult.!$F153<>\"\",spreedResult.!$C$10,\"\")","v":""},{"$f":"IF(spreedResult.!$F153<>\"\",spreedResult.!$C$9,\"\")","v":""},{"$f":"IF(spreedResult.!M153<>\"\",spreedResult.!M153,\"\")","v":""},{"$f":"IF(spreedResult.!H153<>\"\",IF(spreedResult.!$I$8=\"左記ご住所に送付\",\"2\",\"\"),\"\")","v":""},{"$nulls":8},"",null,"",null,"",null,"",null,"",null,"",null,"",null,"",null,"",null,""]
[null,{"$f":"IF(spreedResult.!B154<>\"\",TEXT(spreedResult.!B154,\"YYYY\")&TEXT(spreedResult.!B154,\"MM\")&TEXT(spreedResult.!B154,\"DD\"),\"\")","v":""},{"$f":"IF(spreedResult.!C154<>\"\",VLOOKUP(spreedResult.!C154,spreedResult.!$AU$2:$AV$12,2,0),\"\")","v":""},{"$nulls":4},{"$f":"IF(spreedResult.!P154<>\"\",VLOOKUP(spreedResult.!P154,Course!$A$2:$B$612,2,0),\"\")","v":""},null,{"$f":"CONCATENATE(TRIM(ASC(spreedResult.!F154)),\" \",TRIM(ASC(spreedResult.!G154)))","v":" "},{"$f":"CONCATENATE(TRIM(spreedResult.!H154),\"　\",TRIM(spreedResult.!I154))","v":"　"},{"$f":"IFERROR(VLOOKUP(spreedResult.!K154,spreedResult.!$AX$4:$AY$5,2,0),\"\")","v":""},{"$f":"IF(spreedResult.!L154<>\"\",TEXT(spreedResult.!L154,\"YYYY\")&TEXT(spreedResult.!L154,\"MM\")&TEXT(spreedResult.!L154,\"DD\"),\"\")","v":""},null,null,{"$f":"IF(spreedResult.!$F154<>\"\",spreedResult.!$C$10,\"\")","v":""},{"$f":"IF(spreedResult.!$F154<>\"\",spreedResult.!$C$9,\"\")","v":""},{"$f":"IF(spreedResult.!M154<>\"\",spreedResult.!M154,\"\")","v":""},{"$f":"IF(spreedResult.!H154<>\"\",IF(spreedResult.!$I$8=\"左記ご住所に送付\",\"2\",\"\"),\"\")","v":""},{"$nulls":8},"",null,"",null,"",null,"",null,"",null,"",null,"",null,"",null,"",null,""]
[null,{"$f":"IF(spreedResult.!B155<>\"\",TEXT(spreedResult.!B155,\"YYYY\")&TEXT(spreedResult.!B155,\"MM\")&TEXT(spreedResult.!B155,\"DD\"),\"\")","v":""},{"$f":"IF(spreedResult.!C155<>\"\",VLOOKUP(spreedResult.!C155,spreedResult.!$AU$2:$AV$12,2,0),\"\")","v":""},{"$nulls":4},{"$f":"IF(spreedResult.!P155<>\"\",VLOOKUP(spreedResult.!P155,Course!$A$2:$B$612,2,0),\"\")","v":""},null,{"$f":"CONCATENATE(TRIM(ASC(spreedResult.!F155)),\" \",TRIM(ASC(spreedResult.!G155)))","v":" "},{"$f":"CONCATENATE(TRIM(spreedResult.!H155),\"　\",TRIM(spreedResult.!I155))","v":"　"},{"$f":"IFERROR(VLOOKUP(spreedResult.!K155,spreedResult.!$AX$4:$AY$5,2,0),\"\")","v":""},{"$f":"IF(spreedResult.!L155<>\"\",TEXT(spreedResult.!L155,\"YYYY\")&TEXT(spreedResult.!L155,\"MM\")&TEXT(spreedResult.!L155,\"DD\"),\"\")","v":""},null,null,{"$f":"IF(spreedResult.!$F155<>\"\",spreedResult.!$C$10,\"\")","v":""},{"$f":"IF(spreedResult.!$F155<>\"\",spreedResult.!$C$9,\"\")","v":""},{"$f":"IF(spreedResult.!M155<>\"\",spreedResult.!M155,\"\")","v":""},{"$f":"IF(spreedResult.!H155<>\"\",IF(spreedResult.!$I$8=\"左記ご住所に送付\",\"2\",\"\"),\"\")","v":""},{"$nulls":8},"",null,"",null,"",null,"",null,"",null,"",null,"",null,"",null,"",null,""]
[null,{"$f":"IF(spreedResult.!B156<>\"\",TEXT(spreedResult.!B156,\"YYYY\")&TEXT(spreedResult.!B156,\"MM\")&TEXT(spreedResult.!B156,\"DD\"),\"\")","v":""},{"$f":"IF(spreedResult.!C156<>\"\",VLOOKUP(spreedResult.!C156,spreedResult.!$AU$2:$AV$12,2,0),\"\")","v":""},{"$nulls":4},{"$f":"IF(spreedResult.!P156<>\"\",VLOOKUP(spreedResult.!P156,Course!$A$2:$B$612,2,0),\"\")","v":""},null,{"$f":"CONCATENATE(TRIM(ASC(spreedResult.!F156)),\" \",TRIM(ASC(spreedResult.!G156)))","v":" "},{"$f":"CONCATENATE(TRIM(spreedResult.!H156),\"　\",TRIM(spreedResult.!I156))","v":"　"},{"$f":"IFERROR(VLOOKUP(spreedResult.!K156,spreedResult.!$AX$4:$AY$5,2,0),\"\")","v":""},{"$f":"IF(spreedResult.!L156<>\"\",TEXT(spreedResult.!L156,\"YYYY\")&TEXT(spreedResult.!L156,\"MM\")&TEXT(spreedResult.!L156,\"DD\"),\"\")","v":""},null,null,{"$f":"IF(spreedResult.!$F156<>\"\",spreedResult.!$C$10,\"\")","v":""},{"$f":"IF(spreedResult.!$F156<>\"\",spreedResult.!$C$9,\"\")","v":""},{"$f":"IF(spreedResult.!M156<>\"\",spreedResult.!M156,\"\")","v":""},{"$f":"IF(spreedResult.!H156<>\"\",IF(spreedResult.!$I$8=\"左記ご住所に送付\",\"2\",\"\"),\"\")","v":""},{"$nulls":8},"",null,"",null,"",null,"",null,"",null,"",null,"",null,"",null,"",null,""]
[null,{"$f":"IF(spreedResult.!B157<>\"\",TEXT(spreedResult.!B157,\"YYYY\")&TEXT(spreedResult.!B157,\"MM\")&TEXT(spreedResult.!B157,\"DD\"),\"\")","v":""},{"$f":"IF(spreedResult.!C157<>\"\",VLOOKUP(spreedResult.!C157,spreedResult.!$AU$2:$AV$12,2,0),\"\")","v":""},{"$nulls":4},{"$f":"IF(spreedResult.!P157<>\"\",VLOOKUP(spreedResult.!P157,Course!$A$2:$B$612,2,0),\"\")","v":""},null,{"$f":"CONCATENATE(TRIM(ASC(spreedResult.!F157)),\" \",TRIM(ASC(spreedResult.!G157)))","v":" "},{"$f":"CONCATENATE(TRIM(spreedResult.!H157),\"　\",TRIM(spreedResult.!I157))","v":"　"},{"$f":"IFERROR(VLOOKUP(spreedResult.!K157,spreedResult.!$AX$4:$AY$5,2,0),\"\")","v":""},{"$f":"IF(spreedResult.!L157<>\"\",TEXT(spreedResult.!L157,\"YYYY\")&TEXT(spreedResult.!L157,\"MM\")&TEXT(spreedResult.!L157,\"DD\"),\"\")","v":""},null,null,{"$f":"IF(spreedResult.!$F157<>\"\",spreedResult.!$C$10,\"\")","v":""},{"$f":"IF(spreedResult.!$F157<>\"\",spreedResult.!$C$9,\"\")","v":""},{"$f":"IF(spreedResult.!M157<>\"\",spreedResult.!M157,\"\")","v":""},{"$f":"IF(spreedResult.!H157<>\"\",IF(spreedResult.!$I$8=\"左記ご住所に送付\",\"2\",\"\"),\"\")","v":""},{"$nulls":8},"",null,"",null,"",null,"",null,"",null,"",null,"",null,"",null,"",null,""]
[null,{"$f":"IF(spreedResult.!B158<>\"\",TEXT(spreedResult.!B158,\"YYYY\")&TEXT(spreedResult.!B158,\"MM\")&TEXT(spreedResult.!B158,\"DD\"),\"\")","v":""},{"$f":"IF(spreedResult.!C158<>\"\",VLOOKUP(spreedResult.!C158,spreedResult.!$AU$2:$AV$12,2,0),\"\")","v":""},{"$nulls":4},{"$f":"IF(spreedResult.!P158<>\"\",VLOOKUP(spreedResult.!P158,Course!$A$2:$B$612,2,0),\"\")","v":""},null,{"$f":"CONCATENATE(TRIM(ASC(spreedResult.!F158)),\" \",TRIM(ASC(spreedResult.!G158)))","v":" "},{"$f":"CONCATENATE(TRIM(spreedResult.!H158),\"　\",TRIM(spreedResult.!I158))","v":"　"},{"$f":"IFERROR(VLOOKUP(spreedResult.!K158,spreedResult.!$AX$4:$AY$5,2,0),\"\")","v":""},{"$f":"IF(spreedResult.!L158<>\"\",TEXT(spreedResult.!L158,\"YYYY\")&TEXT(spreedResult.!L158,\"MM\")&TEXT(spreedResult.!L158,\"DD\"),\"\")","v":""},null,null,{"$f":"IF(spreedResult.!$F158<>\"\",spreedResult.!$C$10,\"\")","v":""},{"$f":"IF(spreedResult.!$F158<>\"\",spreedResult.!$C$9,\"\")","v":""},{"$f":"IF(spreedResult.!M158<>\"\",spreedResult.!M158,\"\")","v":""},{"$f":"IF(spreedResult.!H158<>\"\",IF(spreedResult.!$I$8=\"左記ご住所に送付\",\"2\",\"\"),\"\")","v":""},{"$nulls":8},"",null,"",null,"",null,"",null,"",null,"",null,"",null,"",null,"",null,""]
[null,{"$f":"IF(spreedResult.!B159<>\"\",TEXT(spreedResult.!B159,\"YYYY\")&TEXT(spreedResult.!B159,\"MM\")&TEXT(spreedResult.!B159,\"DD\"),\"\")","v":""},{"$f":"IF(spreedResult.!C159<>\"\",VLOOKUP(spreedResult.!C159,spreedResult.!$AU$2:$AV$12,2,0),\"\")","v":""},{"$nulls":4},{"$f":"IF(spreedResult.!P159<>\"\",VLOOKUP(spreedResult.!P159,Course!$A$2:$B$612,2,0),\"\")","v":""},null,{"$f":"CONCATENATE(TRIM(ASC(spreedResult.!F159)),\" \",TRIM(ASC(spreedResult.!G159)))","v":" "},{"$f":"CONCATENATE(TRIM(spreedResult.!H159),\"　\",TRIM(spreedResult.!I159))","v":"　"},{"$f":"IFERROR(VLOOKUP(spreedResult.!K159,spreedResult.!$AX$4:$AY$5,2,0),\"\")","v":""},{"$f":"IF(spreedResult.!L159<>\"\",TEXT(spreedResult.!L159,\"YYYY\")&TEXT(spreedResult.!L159,\"MM\")&TEXT(spreedResult.!L159,\"DD\"),\"\")","v":""},null,null,{"$f":"IF(spreedResult.!$F159<>\"\",spreedResult.!$C$10,\"\")","v":""},{"$f":"IF(spreedResult.!$F159<>\"\",spreedResult.!$C$9,\"\")","v":""},{"$f":"IF(spreedResult.!M159<>\"\",spreedResult.!M159,\"\")","v":""},{"$f":"IF(spreedResult.!H159<>\"\",IF(spreedResult.!$I$8=\"左記ご住所に送付\",\"2\",\"\"),\"\")","v":""},{"$nulls":8},"",null,"",null,"",null,"",null,"",null,"",null,"",null,"",null,"",null,""]
[null,{"$f":"IF(spreedResult.!B160<>\"\",TEXT(spreedResult.!B160,\"YYYY\")&TEXT(spreedResult.!B160,\"MM\")&TEXT(spreedResult.!B160,\"DD\"),\"\")","v":""},{"$f":"IF(spreedResult.!C160<>\"\",VLOOKUP(spreedResult.!C160,spreedResult.!$AU$2:$AV$12,2,0),\"\")","v":""},{"$nulls":4},{"$f":"IF(spreedResult.!P160<>\"\",VLOOKUP(spreedResult.!P160,Course!$A$2:$B$612,2,0),\"\")","v":""},null,{"$f":"CONCATENATE(TRIM(ASC(spreedResult.!F160)),\" \",TRIM(ASC(spreedResult.!G160)))","v":" "},{"$f":"CONCATENATE(TRIM(spreedResult.!H160),\"　\",TRIM(spreedResult.!I160))","v":"　"},{"$f":"IFERROR(VLOOKUP(spreedResult.!K160,spreedResult.!$AX$4:$AY$5,2,0),\"\")","v":""},{"$f":"IF(spreedResult.!L160<>\"\",TEXT(spreedResult.!L160,\"YYYY\")&TEXT(spreedResult.!L160,\"MM\")&TEXT(spreedResult.!L160,\"DD\"),\"\")","v":""},null,null,{"$f":"IF(spreedResult.!$F160<>\"\",spreedResult.!$C$10,\"\")","v":""},{"$f":"IF(spreedResult.!$F160<>\"\",spreedResult.!$C$9,\"\")","v":""},{"$f":"IF(spreedResult.!M160<>\"\",spreedResult.!M160,\"\")","v":""},{"$f":"IF(spreedResult.!H160<>\"\",IF(spreedResult.!$I$8=\"左記ご住所に送付\",\"2\",\"\"),\"\")","v":""},{"$nulls":8},"",null,"",null,"",null,"",null,"",null,"",null,"",null,"",null,"",null,""]
[null,{"$f":"IF(spreedResult.!B161<>\"\",TEXT(spreedResult.!B161,\"YYYY\")&TEXT(spreedResult.!B161,\"MM\")&TEXT(spreedResult.!B161,\"DD\"),\"\")","v":""},{"$f":"IF(spreedResult.!C161<>\"\",VLOOKUP(spreedResult.!C161,spreedResult.!$AU$2:$AV$12,2,0),\"\")","v":""},{"$nulls":4},{"$f":"IF(spreedResult.!P161<>\"\",VLOOKUP(spreedResult.!P161,Course!$A$2:$B$612,2,0),\"\")","v":""},null,{"$f":"CONCATENATE(TRIM(ASC(spreedResult.!F161)),\" \",TRIM(ASC(spreedResult.!G161)))","v":" "},{"$f":"CONCATENATE(TRIM(spreedResult.!H161),\"　\",TRIM(spreedResult.!I161))","v":"　"},{"$f":"IFERROR(VLOOKUP(spreedResult.!K161,spreedResult.!$AX$4:$AY$5,2,0),\"\")","v":""},{"$f":"IF(spreedResult.!L161<>\"\",TEXT(spreedResult.!L161,\"YYYY\")&TEXT(spreedResult.!L161,\"MM\")&TEXT(spreedResult.!L161,\"DD\"),\"\")","v":""},null,null,{"$f":"IF(spreedResult.!$F161<>\"\",spreedResult.!$C$10,\"\")","v":""},{"$f":"IF(spreedResult.!$F161<>\"\",spreedResult.!$C$9,\"\")","v":""},{"$f":"IF(spreedResult.!M161<>\"\",spreedResult.!M161,\"\")","v":""},{"$f":"IF(spreedResult.!H161<>\"\",IF(spreedResult.!$I$8=\"左記ご住所に送付\",\"2\",\"\"),\"\")","v":""},{"$nulls":8},"",null,"",null,"",null,"",null,"",null,"",null,"",null,"",null,"",null,""]
[null,{"$f":"IF(spreedResult.!B162<>\"\",TEXT(spreedResult.!B162,\"YYYY\")&TEXT(spreedResult.!B162,\"MM\")&TEXT(spreedResult.!B162,\"DD\"),\"\")","v":""},{"$f":"IF(spreedResult.!C162<>\"\",VLOOKUP(spreedResult.!C162,spreedResult.!$AU$2:$AV$12,2,0),\"\")","v":""},{"$nulls":4},{"$f":"IF(spreedResult.!P162<>\"\",VLOOKUP(spreedResult.!P162,Course!$A$2:$B$612,2,0),\"\")","v":""},null,{"$f":"CONCATENATE(TRIM(ASC(spreedResult.!F162)),\" \",TRIM(ASC(spreedResult.!G162)))","v":" "},{"$f":"CONCATENATE(TRIM(spreedResult.!H162),\"　\",TRIM(spreedResult.!I162))","v":"　"},{"$f":"IFERROR(VLOOKUP(spreedResult.!K162,spreedResult.!$AX$4:$AY$5,2,0),\"\")","v":""},{"$f":"IF(spreedResult.!L162<>\"\",TEXT(spreedResult.!L162,\"YYYY\")&TEXT(spreedResult.!L162,\"MM\")&TEXT(spreedResult.!L162,\"DD\"),\"\")","v":""},null,null,{"$f":"IF(spreedResult.!$F162<>\"\",spreedResult.!$C$10,\"\")","v":""},{"$f":"IF(spreedResult.!$F162<>\"\",spreedResult.!$C$9,\"\")","v":""},{"$f":"IF(spreedResult.!M162<>\"\",spreedResult.!M162,\"\")","v":""},{"$f":"IF(spreedResult.!H162<>\"\",IF(spreedResult.!$I$8=\"左記ご住所に送付\",\"2\",\"\"),\"\")","v":""},{"$nulls":8},"",null,"",null,"",null,"",null,"",null,"",null,"",null,"",null,"",null,""]
[null,{"$f":"IF(spreedResult.!B163<>\"\",TEXT(spreedResult.!B163,\"YYYY\")&TEXT(spreedResult.!B163,\"MM\")&TEXT(spreedResult.!B163,\"DD\"),\"\")","v":""},{"$f":"IF(spreedResult.!C163<>\"\",VLOOKUP(spreedResult.!C163,spreedResult.!$AU$2:$AV$12,2,0),\"\")","v":""},{"$nulls":4},{"$f":"IF(spreedResult.!P163<>\"\",VLOOKUP(spreedResult.!P163,Course!$A$2:$B$612,2,0),\"\")","v":""},null,{"$f":"CONCATENATE(TRIM(ASC(spreedResult.!F163)),\" \",TRIM(ASC(spreedResult.!G163)))","v":" "},{"$f":"CONCATENATE(TRIM(spreedResult.!H163),\"　\",TRIM(spreedResult.!I163))","v":"　"},{"$f":"IFERROR(VLOOKUP(spreedResult.!K163,spreedResult.!$AX$4:$AY$5,2,0),\"\")","v":""},{"$f":"IF(spreedResult.!L163<>\"\",TEXT(spreedResult.!L163,\"YYYY\")&TEXT(spreedResult.!L163,\"MM\")&TEXT(spreedResult.!L163,\"DD\"),\"\")","v":""},null,null,{"$f":"IF(spreedResult.!$F163<>\"\",spreedResult.!$C$10,\"\")","v":""},{"$f":"IF(spreedResult.!$F163<>\"\",spreedResult.!$C$9,\"\")","v":""},{"$f":"IF(spreedResult.!M163<>\"\",spreedResult.!M163,\"\")","v":""},{"$f":"IF(spreedResult.!H163<>\"\",IF(spreedResult.!$I$8=\"左記ご住所に送付\",\"2\",\"\"),\"\")","v":""},{"$nulls":8},"",null,"",null,"",null,"",null,"",null,"",null,"",null,"",null,"",null,""]
[null,{"$f":"IF(spreedResult.!B164<>\"\",TEXT(spreedResult.!B164,\"YYYY\")&TEXT(spreedResult.!B164,\"MM\")&TEXT(spreedResult.!B164,\"DD\"),\"\")","v":""},{"$f":"IF(spreedResult.!C164<>\"\",VLOOKUP(spreedResult.!C164,spreedResult.!$AU$2:$AV$12,2,0),\"\")","v":""},{"$nulls":4},{"$f":"IF(spreedResult.!P164<>\"\",VLOOKUP(spreedResult.!P164,Course!$A$2:$B$612,2,0),\"\")","v":""},null,{"$f":"CONCATENATE(TRIM(ASC(spreedResult.!F164)),\" \",TRIM(ASC(spreedResult.!G164)))","v":" "},{"$f":"CONCATENATE(TRIM(spreedResult.!H164),\"　\",TRIM(spreedResult.!I164))","v":"　"},{"$f":"IFERROR(VLOOKUP(spreedResult.!K164,spreedResult.!$AX$4:$AY$5,2,0),\"\")","v":""},{"$f":"IF(spreedResult.!L164<>\"\",TEXT(spreedResult.!L164,\"YYYY\")&TEXT(spreedResult.!L164,\"MM\")&TEXT(spreedResult.!L164,\"DD\"),\"\")","v":""},null,null,{"$f":"IF(spreedResult.!$F164<>\"\",spreedResult.!$C$10,\"\")","v":""},{"$f":"IF(spreedResult.!$F164<>\"\",spreedResult.!$C$9,\"\")","v":""},{"$f":"IF(spreedResult.!M164<>\"\",spreedResult.!M164,\"\")","v":""},{"$f":"IF(spreedResult.!H164<>\"\",IF(spreedResult.!$I$8=\"左記ご住所に送付\",\"2\",\"\"),\"\")","v":""},{"$nulls":8},"",null,"",null,"",null,"",null,"",null,"",null,"",null,"",null,"",null,""]
[null,{"$f":"IF(spreedResult.!B165<>\"\",TEXT(spreedResult.!B165,\"YYYY\")&TEXT(spreedResult.!B165,\"MM\")&TEXT(spreedResult.!B165,\"DD\"),\"\")","v":""},{"$f":"IF(spreedResult.!C165<>\"\",VLOOKUP(spreedResult.!C165,spreedResult.!$AU$2:$AV$12,2,0),\"\")","v":""},{"$nulls":4},{"$f":"IF(spreedResult.!P165<>\"\",VLOOKUP(spreedResult.!P165,Course!$A$2:$B$612,2,0),\"\")","v":""},null,{"$f":"CONCATENATE(TRIM(ASC(spreedResult.!F165)),\" \",TRIM(ASC(spreedResult.!G165)))","v":" "},{"$f":"CONCATENATE(TRIM(spreedResult.!H165),\"　\",TRIM(spreedResult.!I165))","v":"　"},{"$f":"IFERROR(VLOOKUP(spreedResult.!K165,spreedResult.!$AX$4:$AY$5,2,0),\"\")","v":""},{"$f":"IF(spreedResult.!L165<>\"\",TEXT(spreedResult.!L165,\"YYYY\")&TEXT(spreedResult.!L165,\"MM\")&TEXT(spreedResult.!L165,\"DD\"),\"\")","v":""},null,null,{"$f":"IF(spreedResult.!$F165<>\"\",spreedResult.!$C$10,\"\")","v":""},{"$f":"IF(spreedResult.!$F165<>\"\",spreedResult.!$C$9,\"\")","v":""},{"$f":"IF(spreedResult.!M165<>\"\",spreedResult.!M165,\"\")","v":""},{"$f":"IF(spreedResult.!H165<>\"\",IF(spreedResult.!$I$8=\"左記ご住所に送付\",\"2\",\"\"),\"\")","v":""},{"$nulls":8},"",null,"",null,"",null,"",null,"",null,"",null,"",null,"",null,"",null,""]
[null,{"$f":"IF(spreedResult.!B166<>\"\",TEXT(spreedResult.!B166,\"YYYY\")&TEXT(spreedResult.!B166,\"MM\")&TEXT(spreedResult.!B166,\"DD\"),\"\")","v":""},{"$f":"IF(spreedResult.!C166<>\"\",VLOOKUP(spreedResult.!C166,spreedResult.!$AU$2:$AV$12,2,0),\"\")","v":""},{"$nulls":4},{"$f":"IF(spreedResult.!P166<>\"\",VLOOKUP(spreedResult.!P166,Course!$A$2:$B$612,2,0),\"\")","v":""},null,{"$f":"CONCATENATE(TRIM(ASC(spreedResult.!F166)),\" \",TRIM(ASC(spreedResult.!G166)))","v":" "},{"$f":"CONCATENATE(TRIM(spreedResult.!H166),\"　\",TRIM(spreedResult.!I166))","v":"　"},{"$f":"IFERROR(VLOOKUP(spreedResult.!K166,spreedResult.!$AX$4:$AY$5,2,0),\"\")","v":""},{"$f":"IF(spreedResult.!L166<>\"\",TEXT(spreedResult.!L166,\"YYYY\")&TEXT(spreedResult.!L166,\"MM\")&TEXT(spreedResult.!L166,\"DD\"),\"\")","v":""},null,null,{"$f":"IF(spreedResult.!$F166<>\"\",spreedResult.!$C$10,\"\")","v":""},{"$f":"IF(spreedResult.!$F166<>\"\",spreedResult.!$C$9,\"\")","v":""},{"$f":"IF(spreedResult.!M166<>\"\",spreedResult.!M166,\"\")","v":""},{"$f":"IF(spreedResult.!H166<>\"\",IF(spreedResult.!$I$8=\"左記ご住所に送付\",\"2\",\"\"),\"\")","v":""},{"$nulls":8},"",null,"",null,"",null,"",null,"",null,"",null,"",null,"",null,"",null,""]
[null,{"$f":"IF(spreedResult.!B167<>\"\",TEXT(spreedResult.!B167,\"YYYY\")&TEXT(spreedResult.!B167,\"MM\")&TEXT(spreedResult.!B167,\"DD\"),\"\")","v":""},{"$f":"IF(spreedResult.!C167<>\"\",VLOOKUP(spreedResult.!C167,spreedResult.!$AU$2:$AV$12,2,0),\"\")","v":""},{"$nulls":4},{"$f":"IF(spreedResult.!P167<>\"\",VLOOKUP(spreedResult.!P167,Course!$A$2:$B$612,2,0),\"\")","v":""},null,{"$f":"CONCATENATE(TRIM(ASC(spreedResult.!F167)),\" \",TRIM(ASC(spreedResult.!G167)))","v":" "},{"$f":"CONCATENATE(TRIM(spreedResult.!H167),\"　\",TRIM(spreedResult.!I167))","v":"　"},{"$f":"IFERROR(VLOOKUP(spreedResult.!K167,spreedResult.!$AX$4:$AY$5,2,0),\"\")","v":""},{"$f":"IF(spreedResult.!L167<>\"\",TEXT(spreedResult.!L167,\"YYYY\")&TEXT(spreedResult.!L167,\"MM\")&TEXT(spreedResult.!L167,\"DD\"),\"\")","v":""},null,null,{"$f":"IF(spreedResult.!$F167<>\"\",spreedResult.!$C$10,\"\")","v":""},{"$f":"IF(spreedResult.!$F167<>\"\",spreedResult.!$C$9,\"\")","v":""},{"$f":"IF(spreedResult.!M167<>\"\",spreedResult.!M167,\"\")","v":""},{"$f":"IF(spreedResult.!H167<>\"\",IF(spreedResult.!$I$8=\"左記ご住所に送付\",\"2\",\"\"),\"\")","v":""},{"$nulls":8},"",null,"",null,"",null,"",null,"",null,"",null,"",null,"",null,"",null,""]
[null,{"$f":"IF(spreedResult.!B168<>\"\",TEXT(spreedResult.!B168,\"YYYY\")&TEXT(spreedResult.!B168,\"MM\")&TEXT(spreedResult.!B168,\"DD\"),\"\")","v":""},{"$f":"IF(spreedResult.!C168<>\"\",VLOOKUP(spreedResult.!C168,spreedResult.!$AU$2:$AV$12,2,0),\"\")","v":""},{"$nulls":4},{"$f":"IF(spreedResult.!P168<>\"\",VLOOKUP(spreedResult.!P168,Course!$A$2:$B$612,2,0),\"\")","v":""},null,{"$f":"CONCATENATE(TRIM(ASC(spreedResult.!F168)),\" \",TRIM(ASC(spreedResult.!G168)))","v":" "},{"$f":"CONCATENATE(TRIM(spreedResult.!H168),\"　\",TRIM(spreedResult.!I168))","v":"　"},{"$f":"IFERROR(VLOOKUP(spreedResult.!K168,spreedResult.!$AX$4:$AY$5,2,0),\"\")","v":""},{"$f":"IF(spreedResult.!L168<>\"\",TEXT(spreedResult.!L168,\"YYYY\")&TEXT(spreedResult.!L168,\"MM\")&TEXT(spreedResult.!L168,\"DD\"),\"\")","v":""},null,null,{"$f":"IF(spreedResult.!$F168<>\"\",spreedResult.!$C$10,\"\")","v":""},{"$f":"IF(spreedResult.!$F168<>\"\",spreedResult.!$C$9,\"\")","v":""},{"$f":"IF(spreedResult.!M168<>\"\",spreedResult.!M168,\"\")","v":""},{"$f":"IF(spreedResult.!H168<>\"\",IF(spreedResult.!$I$8=\"左記ご住所に送付\",\"2\",\"\"),\"\")","v":""},{"$nulls":8},"",null,"",null,"",null,"",null,"",null,"",null,"",null,"",null,"",null,""]
[null,{"$f":"IF(spreedResult.!B169<>\"\",TEXT(spreedResult.!B169,\"YYYY\")&TEXT(spreedResult.!B169,\"MM\")&TEXT(spreedResult.!B169,\"DD\"),\"\")","v":""},{"$f":"IF(spreedResult.!C169<>\"\",VLOOKUP(spreedResult.!C169,spreedResult.!$AU$2:$AV$12,2,0),\"\")","v":""},{"$nulls":4},{"$f":"IF(spreedResult.!P169<>\"\",VLOOKUP(spreedResult.!P169,Course!$A$2:$B$612,2,0),\"\")","v":""},null,{"$f":"CONCATENATE(TRIM(ASC(spreedResult.!F169)),\" \",TRIM(ASC(spreedResult.!G169)))","v":" "},{"$f":"CONCATENATE(TRIM(spreedResult.!H169),\"　\",TRIM(spreedResult.!I169))","v":"　"},{"$f":"IFERROR(VLOOKUP(spreedResult.!K169,spreedResult.!$AX$4:$AY$5,2,0),\"\")","v":""},{"$f":"IF(spreedResult.!L169<>\"\",TEXT(spreedResult.!L169,\"YYYY\")&TEXT(spreedResult.!L169,\"MM\")&TEXT(spreedResult.!L169,\"DD\"),\"\")","v":""},null,null,{"$f":"IF(spreedResult.!$F169<>\"\",spreedResult.!$C$10,\"\")","v":""},{"$f":"IF(spreedResult.!$F169<>\"\",spreedResult.!$C$9,\"\")","v":""},{"$f":"IF(spreedResult.!M169<>\"\",spreedResult.!M169,\"\")","v":""},{"$f":"IF(spreedResult.!H169<>\"\",IF(spreedResult.!$I$8=\"左記ご住所に送付\",\"2\",\"\"),\"\")","v":""},{"$nulls":8},"",null,"",null,"",null,"",null,"",null,"",null,"",null,"",null,"",null,""]
[null,{"$f":"IF(spreedResult.!B170<>\"\",TEXT(spreedResult.!B170,\"YYYY\")&TEXT(spreedResult.!B170,\"MM\")&TEXT(spreedResult.!B170,\"DD\"),\"\")","v":""},{"$f":"IF(spreedResult.!C170<>\"\",VLOOKUP(spreedResult.!C170,spreedResult.!$AU$2:$AV$12,2,0),\"\")","v":""},{"$nulls":4},{"$f":"IF(spreedResult.!P170<>\"\",VLOOKUP(spreedResult.!P170,Course!$A$2:$B$612,2,0),\"\")","v":""},null,{"$f":"CONCATENATE(TRIM(ASC(spreedResult.!F170)),\" \",TRIM(ASC(spreedResult.!G170)))","v":" "},{"$f":"CONCATENATE(TRIM(spreedResult.!H170),\"　\",TRIM(spreedResult.!I170))","v":"　"},{"$f":"IFERROR(VLOOKUP(spreedResult.!K170,spreedResult.!$AX$4:$AY$5,2,0),\"\")","v":""},{"$f":"IF(spreedResult.!L170<>\"\",TEXT(spreedResult.!L170,\"YYYY\")&TEXT(spreedResult.!L170,\"MM\")&TEXT(spreedResult.!L170,\"DD\"),\"\")","v":""},null,null,{"$f":"IF(spreedResult.!$F170<>\"\",spreedResult.!$C$10,\"\")","v":""},{"$f":"IF(spreedResult.!$F170<>\"\",spreedResult.!$C$9,\"\")","v":""},{"$f":"IF(spreedResult.!M170<>\"\",spreedResult.!M170,\"\")","v":""},{"$f":"IF(spreedResult.!H170<>\"\",IF(spreedResult.!$I$8=\"左記ご住所に送付\",\"2\",\"\"),\"\")","v":""},{"$nulls":8},"",null,"",null,"",null,"",null,"",null,"",null,"",null,"",null,"",null,""]
[null,{"$f":"IF(spreedResult.!B171<>\"\",TEXT(spreedResult.!B171,\"YYYY\")&TEXT(spreedResult.!B171,\"MM\")&TEXT(spreedResult.!B171,\"DD\"),\"\")","v":""},{"$f":"IF(spreedResult.!C171<>\"\",VLOOKUP(spreedResult.!C171,spreedResult.!$AU$2:$AV$12,2,0),\"\")","v":""},{"$nulls":4},{"$f":"IF(spreedResult.!P171<>\"\",VLOOKUP(spreedResult.!P171,Course!$A$2:$B$612,2,0),\"\")","v":""},null,{"$f":"CONCATENATE(TRIM(ASC(spreedResult.!F171)),\" \",TRIM(ASC(spreedResult.!G171)))","v":" "},{"$f":"CONCATENATE(TRIM(spreedResult.!H171),\"　\",TRIM(spreedResult.!I171))","v":"　"},{"$f":"IFERROR(VLOOKUP(spreedResult.!K171,spreedResult.!$AX$4:$AY$5,2,0),\"\")","v":""},{"$f":"IF(spreedResult.!L171<>\"\",TEXT(spreedResult.!L171,\"YYYY\")&TEXT(spreedResult.!L171,\"MM\")&TEXT(spreedResult.!L171,\"DD\"),\"\")","v":""},null,null,{"$f":"IF(spreedResult.!$F171<>\"\",spreedResult.!$C$10,\"\")","v":""},{"$f":"IF(spreedResult.!$F171<>\"\",spreedResult.!$C$9,\"\")","v":""},{"$f":"IF(spreedResult.!M171<>\"\",spreedResult.!M171,\"\")","v":""},{"$f":"IF(spreedResult.!H171<>\"\",IF(spreedResult.!$I$8=\"左記ご住所に送付\",\"2\",\"\"),\"\")","v":""},{"$nulls":8},"",null,"",null,"",null,"",null,"",null,"",null,"",null,"",null,"",null,""]
[null,{"$f":"IF(spreedResult.!B172<>\"\",TEXT(spreedResult.!B172,\"YYYY\")&TEXT(spreedResult.!B172,\"MM\")&TEXT(spreedResult.!B172,\"DD\"),\"\")","v":""},{"$f":"IF(spreedResult.!C172<>\"\",VLOOKUP(spreedResult.!C172,spreedResult.!$AU$2:$AV$12,2,0),\"\")","v":""},{"$nulls":4},{"$f":"IF(spreedResult.!P172<>\"\",VLOOKUP(spreedResult.!P172,Course!$A$2:$B$612,2,0),\"\")","v":""},null,{"$f":"CONCATENATE(TRIM(ASC(spreedResult.!F172)),\" \",TRIM(ASC(spreedResult.!G172)))","v":" "},{"$f":"CONCATENATE(TRIM(spreedResult.!H172),\"　\",TRIM(spreedResult.!I172))","v":"　"},{"$f":"IFERROR(VLOOKUP(spreedResult.!K172,spreedResult.!$AX$4:$AY$5,2,0),\"\")","v":""},{"$f":"IF(spreedResult.!L172<>\"\",TEXT(spreedResult.!L172,\"YYYY\")&TEXT(spreedResult.!L172,\"MM\")&TEXT(spreedResult.!L172,\"DD\"),\"\")","v":""},null,null,{"$f":"IF(spreedResult.!$F172<>\"\",spreedResult.!$C$10,\"\")","v":""},{"$f":"IF(spreedResult.!$F172<>\"\",spreedResult.!$C$9,\"\")","v":""},{"$f":"IF(spreedResult.!M172<>\"\",spreedResult.!M172,\"\")","v":""},{"$f":"IF(spreedResult.!H172<>\"\",IF(spreedResult.!$I$8=\"左記ご住所に送付\",\"2\",\"\"),\"\")","v":""},{"$nulls":8},"",null,"",null,"",null,"",null,"",null,"",null,"",null,"",null,"",null,""]
[null,{"$f":"IF(spreedResult.!B173<>\"\",TEXT(spreedResult.!B173,\"YYYY\")&TEXT(spreedResult.!B173,\"MM\")&TEXT(spreedResult.!B173,\"DD\"),\"\")","v":""},{"$f":"IF(spreedResult.!C173<>\"\",VLOOKUP(spreedResult.!C173,spreedResult.!$AU$2:$AV$12,2,0),\"\")","v":""},{"$nulls":4},{"$f":"IF(spreedResult.!P173<>\"\",VLOOKUP(spreedResult.!P173,Course!$A$2:$B$612,2,0),\"\")","v":""},null,{"$f":"CONCATENATE(TRIM(ASC(spreedResult.!F173)),\" \",TRIM(ASC(spreedResult.!G173)))","v":" "},{"$f":"CONCATENATE(TRIM(spreedResult.!H173),\"　\",TRIM(spreedResult.!I173))","v":"　"},{"$f":"IFERROR(VLOOKUP(spreedResult.!K173,spreedResult.!$AX$4:$AY$5,2,0),\"\")","v":""},{"$f":"IF(spreedResult.!L173<>\"\",TEXT(spreedResult.!L173,\"YYYY\")&TEXT(spreedResult.!L173,\"MM\")&TEXT(spreedResult.!L173,\"DD\"),\"\")","v":""},null,null,{"$f":"IF(spreedResult.!$F173<>\"\",spreedResult.!$C$10,\"\")","v":""},{"$f":"IF(spreedResult.!$F173<>\"\",spreedResult.!$C$9,\"\")","v":""},{"$f":"IF(spreedResult.!M173<>\"\",spreedResult.!M173,\"\")","v":""},{"$f":"IF(spreedResult.!H173<>\"\",IF(spreedResult.!$I$8=\"左記ご住所に送付\",\"2\",\"\"),\"\")","v":""},{"$nulls":8},"",null,"",null,"",null,"",null,"",null,"",null,"",null,"",null,"",null,""]
[null,{"$f":"IF(spreedResult.!B174<>\"\",TEXT(spreedResult.!B174,\"YYYY\")&TEXT(spreedResult.!B174,\"MM\")&TEXT(spreedResult.!B174,\"DD\"),\"\")","v":""},{"$f":"IF(spreedResult.!C174<>\"\",VLOOKUP(spreedResult.!C174,spreedResult.!$AU$2:$AV$12,2,0),\"\")","v":""},{"$nulls":4},{"$f":"IF(spreedResult.!P174<>\"\",VLOOKUP(spreedResult.!P174,Course!$A$2:$B$612,2,0),\"\")","v":""},null,{"$f":"CONCATENATE(TRIM(ASC(spreedResult.!F174)),\" \",TRIM(ASC(spreedResult.!G174)))","v":" "},{"$f":"CONCATENATE(TRIM(spreedResult.!H174),\"　\",TRIM(spreedResult.!I174))","v":"　"},{"$f":"IFERROR(VLOOKUP(spreedResult.!K174,spreedResult.!$AX$4:$AY$5,2,0),\"\")","v":""},{"$f":"IF(spreedResult.!L174<>\"\",TEXT(spreedResult.!L174,\"YYYY\")&TEXT(spreedResult.!L174,\"MM\")&TEXT(spreedResult.!L174,\"DD\"),\"\")","v":""},null,null,{"$f":"IF(spreedResult.!$F174<>\"\",spreedResult.!$C$10,\"\")","v":""},{"$f":"IF(spreedResult.!$F174<>\"\",spreedResult.!$C$9,\"\")","v":""},{"$f":"IF(spreedResult.!M174<>\"\",spreedResult.!M174,\"\")","v":""},{"$f":"IF(spreedResult.!H174<>\"\",IF(spreedResult.!$I$8=\"左記ご住所に送付\",\"2\",\"\"),\"\")","v":""},{"$nulls":8},"",null,"",null,"",null,"",null,"",null,"",null,"",null,"",null,"",null,""]
[null,{"$f":"IF(spreedResult.!B175<>\"\",TEXT(spreedResult.!B175,\"YYYY\")&TEXT(spreedResult.!B175,\"MM\")&TEXT(spreedResult.!B175,\"DD\"),\"\")","v":""},{"$f":"IF(spreedResult.!C175<>\"\",VLOOKUP(spreedResult.!C175,spreedResult.!$AU$2:$AV$12,2,0),\"\")","v":""},{"$nulls":4},{"$f":"IF(spreedResult.!P175<>\"\",VLOOKUP(spreedResult.!P175,Course!$A$2:$B$612,2,0),\"\")","v":""},null,{"$f":"CONCATENATE(TRIM(ASC(spreedResult.!F175)),\" \",TRIM(ASC(spreedResult.!G175)))","v":" "},{"$f":"CONCATENATE(TRIM(spreedResult.!H175),\"　\",TRIM(spreedResult.!I175))","v":"　"},{"$f":"IFERROR(VLOOKUP(spreedResult.!K175,spreedResult.!$AX$4:$AY$5,2,0),\"\")","v":""},{"$f":"IF(spreedResult.!L175<>\"\",TEXT(spreedResult.!L175,\"YYYY\")&TEXT(spreedResult.!L175,\"MM\")&TEXT(spreedResult.!L175,\"DD\"),\"\")","v":""},null,null,{"$f":"IF(spreedResult.!$F175<>\"\",spreedResult.!$C$10,\"\")","v":""},{"$f":"IF(spreedResult.!$F175<>\"\",spreedResult.!$C$9,\"\")","v":""},{"$f":"IF(spreedResult.!M175<>\"\",spreedResult.!M175,\"\")","v":""},{"$f":"IF(spreedResult.!H175<>\"\",IF(spreedResult.!$I$8=\"左記ご住所に送付\",\"2\",\"\"),\"\")","v":""},{"$nulls":8},"",null,"",null,"",null,"",null,"",null,"",null,"",null,"",null,"",null,""]
[null,{"$f":"IF(spreedResult.!B176<>\"\",TEXT(spreedResult.!B176,\"YYYY\")&TEXT(spreedResult.!B176,\"MM\")&TEXT(spreedResult.!B176,\"DD\"),\"\")","v":""},{"$f":"IF(spreedResult.!C176<>\"\",VLOOKUP(spreedResult.!C176,spreedResult.!$AU$2:$AV$12,2,0),\"\")","v":""},{"$nulls":4},{"$f":"IF(spreedResult.!P176<>\"\",VLOOKUP(spreedResult.!P176,Course!$A$2:$B$612,2,0),\"\")","v":""},null,{"$f":"CONCATENATE(TRIM(ASC(spreedResult.!F176)),\" \",TRIM(ASC(spreedResult.!G176)))","v":" "},{"$f":"CONCATENATE(TRIM(spreedResult.!H176),\"　\",TRIM(spreedResult.!I176))","v":"　"},{"$f":"IFERROR(VLOOKUP(spreedResult.!K176,spreedResult.!$AX$4:$AY$5,2,0),\"\")","v":""},{"$f":"IF(spreedResult.!L176<>\"\",TEXT(spreedResult.!L176,\"YYYY\")&TEXT(spreedResult.!L176,\"MM\")&TEXT(spreedResult.!L176,\"DD\"),\"\")","v":""},null,null,{"$f":"IF(spreedResult.!$F176<>\"\",spreedResult.!$C$10,\"\")","v":""},{"$f":"IF(spreedResult.!$F176<>\"\",spreedResult.!$C$9,\"\")","v":""},{"$f":"IF(spreedResult.!M176<>\"\",spreedResult.!M176,\"\")","v":""},{"$f":"IF(spreedResult.!H176<>\"\",IF(spreedResult.!$I$8=\"左記ご住所に送付\",\"2\",\"\"),\"\")","v":""},{"$nulls":8},"",null,"",null,"",null,"",null,"",null,"",null,"",null,"",null,"",null,""]
[null,{"$f":"IF(spreedResult.!B177<>\"\",TEXT(spreedResult.!B177,\"YYYY\")&TEXT(spreedResult.!B177,\"MM\")&TEXT(spreedResult.!B177,\"DD\"),\"\")","v":""},{"$f":"IF(spreedResult.!C177<>\"\",VLOOKUP(spreedResult.!C177,spreedResult.!$AU$2:$AV$12,2,0),\"\")","v":""},{"$nulls":4},{"$f":"IF(spreedResult.!P177<>\"\",VLOOKUP(spreedResult.!P177,Course!$A$2:$B$612,2,0),\"\")","v":""},null,{"$f":"CONCATENATE(TRIM(ASC(spreedResult.!F177)),\" \",TRIM(ASC(spreedResult.!G177)))","v":" "},{"$f":"CONCATENATE(TRIM(spreedResult.!H177),\"　\",TRIM(spreedResult.!I177))","v":"　"},{"$f":"IFERROR(VLOOKUP(spreedResult.!K177,spreedResult.!$AX$4:$AY$5,2,0),\"\")","v":""},{"$f":"IF(spreedResult.!L177<>\"\",TEXT(spreedResult.!L177,\"YYYY\")&TEXT(spreedResult.!L177,\"MM\")&TEXT(spreedResult.!L177,\"DD\"),\"\")","v":""},null,null,{"$f":"IF(spreedResult.!$F177<>\"\",spreedResult.!$C$10,\"\")","v":""},{"$f":"IF(spreedResult.!$F177<>\"\",spreedResult.!$C$9,\"\")","v":""},{"$f":"IF(spreedResult.!M177<>\"\",spreedResult.!M177,\"\")","v":""},{"$f":"IF(spreedResult.!H177<>\"\",IF(spreedResult.!$I$8=\"左記ご住所に送付\",\"2\",\"\"),\"\")","v":""},{"$nulls":8},"",null,"",null,"",null,"",null,"",null,"",null,"",null,"",null,"",null,""]
[null,{"$f":"IF(spreedResult.!B178<>\"\",TEXT(spreedResult.!B178,\"YYYY\")&TEXT(spreedResult.!B178,\"MM\")&TEXT(spreedResult.!B178,\"DD\"),\"\")","v":""},{"$f":"IF(spreedResult.!C178<>\"\",VLOOKUP(spreedResult.!C178,spreedResult.!$AU$2:$AV$12,2,0),\"\")","v":""},{"$nulls":4},{"$f":"IF(spreedResult.!P178<>\"\",VLOOKUP(spreedResult.!P178,Course!$A$2:$B$612,2,0),\"\")","v":""},null,{"$f":"CONCATENATE(TRIM(ASC(spreedResult.!F178)),\" \",TRIM(ASC(spreedResult.!G178)))","v":" "},{"$f":"CONCATENATE(TRIM(spreedResult.!H178),\"　\",TRIM(spreedResult.!I178))","v":"　"},{"$f":"IFERROR(VLOOKUP(spreedResult.!K178,spreedResult.!$AX$4:$AY$5,2,0),\"\")","v":""},{"$f":"IF(spreedResult.!L178<>\"\",TEXT(spreedResult.!L178,\"YYYY\")&TEXT(spreedResult.!L178,\"MM\")&TEXT(spreedResult.!L178,\"DD\"),\"\")","v":""},null,null,{"$f":"IF(spreedResult.!$F178<>\"\",spreedResult.!$C$10,\"\")","v":""},{"$f":"IF(spreedResult.!$F178<>\"\",spreedResult.!$C$9,\"\")","v":""},{"$f":"IF(spreedResult.!M178<>\"\",spreedResult.!M178,\"\")","v":""},{"$f":"IF(spreedResult.!H178<>\"\",IF(spreedResult.!$I$8=\"左記ご住所に送付\",\"2\",\"\"),\"\")","v":""},{"$nulls":8},"",null,"",null,"",null,"",null,"",null,"",null,"",null,"",null,"",null,""]
[null,{"$f":"IF(spreedResult.!B179<>\"\",TEXT(spreedResult.!B179,\"YYYY\")&TEXT(spreedResult.!B179,\"MM\")&TEXT(spreedResult.!B179,\"DD\"),\"\")","v":""},{"$f":"IF(spreedResult.!C179<>\"\",VLOOKUP(spreedResult.!C179,spreedResult.!$AU$2:$AV$12,2,0),\"\")","v":""},{"$nulls":4},{"$f":"IF(spreedResult.!P179<>\"\",VLOOKUP(spreedResult.!P179,Course!$A$2:$B$612,2,0),\"\")","v":""},null,{"$f":"CONCATENATE(TRIM(ASC(spreedResult.!F179)),\" \",TRIM(ASC(spreedResult.!G179)))","v":" "},{"$f":"CONCATENATE(TRIM(spreedResult.!H179),\"　\",TRIM(spreedResult.!I179))","v":"　"},{"$f":"IFERROR(VLOOKUP(spreedResult.!K179,spreedResult.!$AX$4:$AY$5,2,0),\"\")","v":""},{"$f":"IF(spreedResult.!L179<>\"\",TEXT(spreedResult.!L179,\"YYYY\")&TEXT(spreedResult.!L179,\"MM\")&TEXT(spreedResult.!L179,\"DD\"),\"\")","v":""},null,null,{"$f":"IF(spreedResult.!$F179<>\"\",spreedResult.!$C$10,\"\")","v":""},{"$f":"IF(spreedResult.!$F179<>\"\",spreedResult.!$C$9,\"\")","v":""},{"$f":"IF(spreedResult.!M179<>\"\",spreedResult.!M179,\"\")","v":""},{"$f":"IF(spreedResult.!H179<>\"\",IF(spreedResult.!$I$8=\"左記ご住所に送付\",\"2\",\"\"),\"\")","v":""},{"$nulls":8},"",null,"",null,"",null,"",null,"",null,"",null,"",null,"",null,"",null,""]
[null,{"$f":"IF(spreedResult.!B180<>\"\",TEXT(spreedResult.!B180,\"YYYY\")&TEXT(spreedResult.!B180,\"MM\")&TEXT(spreedResult.!B180,\"DD\"),\"\")","v":""},{"$f":"IF(spreedResult.!C180<>\"\",VLOOKUP(spreedResult.!C180,spreedResult.!$AU$2:$AV$12,2,0),\"\")","v":""},{"$nulls":4},{"$f":"IF(spreedResult.!P180<>\"\",VLOOKUP(spreedResult.!P180,Course!$A$2:$B$612,2,0),\"\")","v":""},null,{"$f":"CONCATENATE(TRIM(ASC(spreedResult.!F180)),\" \",TRIM(ASC(spreedResult.!G180)))","v":" "},{"$f":"CONCATENATE(TRIM(spreedResult.!H180),\"　\",TRIM(spreedResult.!I180))","v":"　"},{"$f":"IFERROR(VLOOKUP(spreedResult.!K180,spreedResult.!$AX$4:$AY$5,2,0),\"\")","v":""},{"$f":"IF(spreedResult.!L180<>\"\",TEXT(spreedResult.!L180,\"YYYY\")&TEXT(spreedResult.!L180,\"MM\")&TEXT(spreedResult.!L180,\"DD\"),\"\")","v":""},null,null,{"$f":"IF(spreedResult.!$F180<>\"\",spreedResult.!$C$10,\"\")","v":""},{"$f":"IF(spreedResult.!$F180<>\"\",spreedResult.!$C$9,\"\")","v":""},{"$f":"IF(spreedResult.!M180<>\"\",spreedResult.!M180,\"\")","v":""},{"$f":"IF(spreedResult.!H180<>\"\",IF(spreedResult.!$I$8=\"左記ご住所に送付\",\"2\",\"\"),\"\")","v":""},{"$nulls":8},"",null,"",null,"",null,"",null,"",null,"",null,"",null,"",null,"",null,""]
[null,{"$f":"IF(spreedResult.!B181<>\"\",TEXT(spreedResult.!B181,\"YYYY\")&TEXT(spreedResult.!B181,\"MM\")&TEXT(spreedResult.!B181,\"DD\"),\"\")","v":""},{"$f":"IF(spreedResult.!C181<>\"\",VLOOKUP(spreedResult.!C181,spreedResult.!$AU$2:$AV$12,2,0),\"\")","v":""},{"$nulls":4},{"$f":"IF(spreedResult.!P181<>\"\",VLOOKUP(spreedResult.!P181,Course!$A$2:$B$612,2,0),\"\")","v":""},null,{"$f":"CONCATENATE(TRIM(ASC(spreedResult.!F181)),\" \",TRIM(ASC(spreedResult.!G181)))","v":" "},{"$f":"CONCATENATE(TRIM(spreedResult.!H181),\"　\",TRIM(spreedResult.!I181))","v":"　"},{"$f":"IFERROR(VLOOKUP(spreedResult.!K181,spreedResult.!$AX$4:$AY$5,2,0),\"\")","v":""},{"$f":"IF(spreedResult.!L181<>\"\",TEXT(spreedResult.!L181,\"YYYY\")&TEXT(spreedResult.!L181,\"MM\")&TEXT(spreedResult.!L181,\"DD\"),\"\")","v":""},null,null,{"$f":"IF(spreedResult.!$F181<>\"\",spreedResult.!$C$10,\"\")","v":""},{"$f":"IF(spreedResult.!$F181<>\"\",spreedResult.!$C$9,\"\")","v":""},{"$f":"IF(spreedResult.!M181<>\"\",spreedResult.!M181,\"\")","v":""},{"$f":"IF(spreedResult.!H181<>\"\",IF(spreedResult.!$I$8=\"左記ご住所に送付\",\"2\",\"\"),\"\")","v":""},{"$nulls":8},"",null,"",null,"",null,"",null,"",null,"",null,"",null,"",null,"",null,""]
[null,{"$f":"IF(spreedResult.!B182<>\"\",TEXT(spreedResult.!B182,\"YYYY\")&TEXT(spreedResult.!B182,\"MM\")&TEXT(spreedResult.!B182,\"DD\"),\"\")","v":""},{"$f":"IF(spreedResult.!C182<>\"\",VLOOKUP(spreedResult.!C182,spreedResult.!$AU$2:$AV$12,2,0),\"\")","v":""},{"$nulls":4},{"$f":"IF(spreedResult.!P182<>\"\",VLOOKUP(spreedResult.!P182,Course!$A$2:$B$612,2,0),\"\")","v":""},null,{"$f":"CONCATENATE(TRIM(ASC(spreedResult.!F182)),\" \",TRIM(ASC(spreedResult.!G182)))","v":" "},{"$f":"CONCATENATE(TRIM(spreedResult.!H182),\"　\",TRIM(spreedResult.!I182))","v":"　"},{"$f":"IFERROR(VLOOKUP(spreedResult.!K182,spreedResult.!$AX$4:$AY$5,2,0),\"\")","v":""},{"$f":"IF(spreedResult.!L182<>\"\",TEXT(spreedResult.!L182,\"YYYY\")&TEXT(spreedResult.!L182,\"MM\")&TEXT(spreedResult.!L182,\"DD\"),\"\")","v":""},null,null,{"$f":"IF(spreedResult.!$F182<>\"\",spreedResult.!$C$10,\"\")","v":""},{"$f":"IF(spreedResult.!$F182<>\"\",spreedResult.!$C$9,\"\")","v":""},{"$f":"IF(spreedResult.!M182<>\"\",spreedResult.!M182,\"\")","v":""},{"$f":"IF(spreedResult.!H182<>\"\",IF(spreedResult.!$I$8=\"左記ご住所に送付\",\"2\",\"\"),\"\")","v":""},{"$nulls":8},"",null,"",null,"",null,"",null,"",null,"",null,"",null,"",null,"",null,""]
[null,{"$f":"IF(spreedResult.!B183<>\"\",TEXT(spreedResult.!B183,\"YYYY\")&TEXT(spreedResult.!B183,\"MM\")&TEXT(spreedResult.!B183,\"DD\"),\"\")","v":""},{"$f":"IF(spreedResult.!C183<>\"\",VLOOKUP(spreedResult.!C183,spreedResult.!$AU$2:$AV$12,2,0),\"\")","v":""},{"$nulls":4},{"$f":"IF(spreedResult.!P183<>\"\",VLOOKUP(spreedResult.!P183,Course!$A$2:$B$612,2,0),\"\")","v":""},null,{"$f":"CONCATENATE(TRIM(ASC(spreedResult.!F183)),\" \",TRIM(ASC(spreedResult.!G183)))","v":" "},{"$f":"CONCATENATE(TRIM(spreedResult.!H183),\"　\",TRIM(spreedResult.!I183))","v":"　"},{"$f":"IFERROR(VLOOKUP(spreedResult.!K183,spreedResult.!$AX$4:$AY$5,2,0),\"\")","v":""},{"$f":"IF(spreedResult.!L183<>\"\",TEXT(spreedResult.!L183,\"YYYY\")&TEXT(spreedResult.!L183,\"MM\")&TEXT(spreedResult.!L183,\"DD\"),\"\")","v":""},null,null,{"$f":"IF(spreedResult.!$F183<>\"\",spreedResult.!$C$10,\"\")","v":""},{"$f":"IF(spreedResult.!$F183<>\"\",spreedResult.!$C$9,\"\")","v":""},{"$f":"IF(spreedResult.!M183<>\"\",spreedResult.!M183,\"\")","v":""},{"$f":"IF(spreedResult.!H183<>\"\",IF(spreedResult.!$I$8=\"左記ご住所に送付\",\"2\",\"\"),\"\")","v":""},{"$nulls":8},"",null,"",null,"",null,"",null,"",null,"",null,"",null,"",null,"",null,""]
[null,{"$f":"IF(spreedResult.!B184<>\"\",TEXT(spreedResult.!B184,\"YYYY\")&TEXT(spreedResult.!B184,\"MM\")&TEXT(spreedResult.!B184,\"DD\"),\"\")","v":""},{"$f":"IF(spreedResult.!C184<>\"\",VLOOKUP(spreedResult.!C184,spreedResult.!$AU$2:$AV$12,2,0),\"\")","v":""},{"$nulls":4},{"$f":"IF(spreedResult.!P184<>\"\",VLOOKUP(spreedResult.!P184,Course!$A$2:$B$612,2,0),\"\")","v":""},null,{"$f":"CONCATENATE(TRIM(ASC(spreedResult.!F184)),\" \",TRIM(ASC(spreedResult.!G184)))","v":" "},{"$f":"CONCATENATE(TRIM(spreedResult.!H184),\"　\",TRIM(spreedResult.!I184))","v":"　"},{"$f":"IFERROR(VLOOKUP(spreedResult.!K184,spreedResult.!$AX$4:$AY$5,2,0),\"\")","v":""},{"$f":"IF(spreedResult.!L184<>\"\",TEXT(spreedResult.!L184,\"YYYY\")&TEXT(spreedResult.!L184,\"MM\")&TEXT(spreedResult.!L184,\"DD\"),\"\")","v":""},null,null,{"$f":"IF(spreedResult.!$F184<>\"\",spreedResult.!$C$10,\"\")","v":""},{"$f":"IF(spreedResult.!$F184<>\"\",spreedResult.!$C$9,\"\")","v":""},{"$f":"IF(spreedResult.!M184<>\"\",spreedResult.!M184,\"\")","v":""},{"$f":"IF(spreedResult.!H184<>\"\",IF(spreedResult.!$I$8=\"左記ご住所に送付\",\"2\",\"\"),\"\")","v":""},{"$nulls":8},"",null,"",null,"",null,"",null,"",null,"",null,"",null,"",null,"",null,""]
[null,{"$f":"IF(spreedResult.!B185<>\"\",TEXT(spreedResult.!B185,\"YYYY\")&TEXT(spreedResult.!B185,\"MM\")&TEXT(spreedResult.!B185,\"DD\"),\"\")","v":""},{"$f":"IF(spreedResult.!C185<>\"\",VLOOKUP(spreedResult.!C185,spreedResult.!$AU$2:$AV$12,2,0),\"\")","v":""},{"$nulls":4},{"$f":"IF(spreedResult.!P185<>\"\",VLOOKUP(spreedResult.!P185,Course!$A$2:$B$612,2,0),\"\")","v":""},null,{"$f":"CONCATENATE(TRIM(ASC(spreedResult.!F185)),\" \",TRIM(ASC(spreedResult.!G185)))","v":" "},{"$f":"CONCATENATE(TRIM(spreedResult.!H185),\"　\",TRIM(spreedResult.!I185))","v":"　"},{"$f":"IFERROR(VLOOKUP(spreedResult.!K185,spreedResult.!$AX$4:$AY$5,2,0),\"\")","v":""},{"$f":"IF(spreedResult.!L185<>\"\",TEXT(spreedResult.!L185,\"YYYY\")&TEXT(spreedResult.!L185,\"MM\")&TEXT(spreedResult.!L185,\"DD\"),\"\")","v":""},null,null,{"$f":"IF(spreedResult.!$F185<>\"\",spreedResult.!$C$10,\"\")","v":""},{"$f":"IF(spreedResult.!$F185<>\"\",spreedResult.!$C$9,\"\")","v":""},{"$f":"IF(spreedResult.!M185<>\"\",spreedResult.!M185,\"\")","v":""},{"$f":"IF(spreedResult.!H185<>\"\",IF(spreedResult.!$I$8=\"左記ご住所に送付\",\"2\",\"\"),\"\")","v":""},{"$nulls":8},"",null,"",null,"",null,"",null,"",null,"",null,"",null,"",null,"",null,""]
[null,{"$f":"IF(spreedResult.!B186<>\"\",TEXT(spreedResult.!B186,\"YYYY\")&TEXT(spreedResult.!B186,\"MM\")&TEXT(spreedResult.!B186,\"DD\"),\"\")","v":""},{"$f":"IF(spreedResult.!C186<>\"\",VLOOKUP(spreedResult.!C186,spreedResult.!$AU$2:$AV$12,2,0),\"\")","v":""},{"$nulls":4},{"$f":"IF(spreedResult.!P186<>\"\",VLOOKUP(spreedResult.!P186,Course!$A$2:$B$612,2,0),\"\")","v":""},null,{"$f":"CONCATENATE(TRIM(ASC(spreedResult.!F186)),\" \",TRIM(ASC(spreedResult.!G186)))","v":" "},{"$f":"CONCATENATE(TRIM(spreedResult.!H186),\"　\",TRIM(spreedResult.!I186))","v":"　"},{"$f":"IFERROR(VLOOKUP(spreedResult.!K186,spreedResult.!$AX$4:$AY$5,2,0),\"\")","v":""},{"$f":"IF(spreedResult.!L186<>\"\",TEXT(spreedResult.!L186,\"YYYY\")&TEXT(spreedResult.!L186,\"MM\")&TEXT(spreedResult.!L186,\"DD\"),\"\")","v":""},null,null,{"$f":"IF(spreedResult.!$F186<>\"\",spreedResult.!$C$10,\"\")","v":""},{"$f":"IF(spreedResult.!$F186<>\"\",spreedResult.!$C$9,\"\")","v":""},{"$f":"IF(spreedResult.!M186<>\"\",spreedResult.!M186,\"\")","v":""},{"$f":"IF(spreedResult.!H186<>\"\",IF(spreedResult.!$I$8=\"左記ご住所に送付\",\"2\",\"\"),\"\")","v":""},{"$nulls":8},"",null,"",null,"",null,"",null,"",null,"",null,"",null,"",null,"",null,""]
[null,{"$f":"IF(spreedResult.!B187<>\"\",TEXT(spreedResult.!B187,\"YYYY\")&TEXT(spreedResult.!B187,\"MM\")&TEXT(spreedResult.!B187,\"DD\"),\"\")","v":""},{"$f":"IF(spreedResult.!C187<>\"\",VLOOKUP(spreedResult.!C187,spreedResult.!$AU$2:$AV$12,2,0),\"\")","v":""},{"$nulls":4},{"$f":"IF(spreedResult.!P187<>\"\",VLOOKUP(spreedResult.!P187,Course!$A$2:$B$612,2,0),\"\")","v":""},null,{"$f":"CONCATENATE(TRIM(ASC(spreedResult.!F187)),\" \",TRIM(ASC(spreedResult.!G187)))","v":" "},{"$f":"CONCATENATE(TRIM(spreedResult.!H187),\"　\",TRIM(spreedResult.!I187))","v":"　"},{"$f":"IFERROR(VLOOKUP(spreedResult.!K187,spreedResult.!$AX$4:$AY$5,2,0),\"\")","v":""},{"$f":"IF(spreedResult.!L187<>\"\",TEXT(spreedResult.!L187,\"YYYY\")&TEXT(spreedResult.!L187,\"MM\")&TEXT(spreedResult.!L187,\"DD\"),\"\")","v":""},null,null,{"$f":"IF(spreedResult.!$F187<>\"\",spreedResult.!$C$10,\"\")","v":""},{"$f":"IF(spreedResult.!$F187<>\"\",spreedResult.!$C$9,\"\")","v":""},{"$f":"IF(spreedResult.!M187<>\"\",spreedResult.!M187,\"\")","v":""},{"$f":"IF(spreedResult.!H187<>\"\",IF(spreedResult.!$I$8=\"左記ご住所に送付\",\"2\",\"\"),\"\")","v":""},{"$nulls":8},"",null,"",null,"",null,"",null,"",null,"",null,"",null,"",null,"",null,""]
[null,{"$f":"IF(spreedResult.!B188<>\"\",TEXT(spreedResult.!B188,\"YYYY\")&TEXT(spreedResult.!B188,\"MM\")&TEXT(spreedResult.!B188,\"DD\"),\"\")","v":""},{"$f":"IF(spreedResult.!C188<>\"\",VLOOKUP(spreedResult.!C188,spreedResult.!$AU$2:$AV$12,2,0),\"\")","v":""},{"$nulls":4},{"$f":"IF(spreedResult.!P188<>\"\",VLOOKUP(spreedResult.!P188,Course!$A$2:$B$612,2,0),\"\")","v":""},null,{"$f":"CONCATENATE(TRIM(ASC(spreedResult.!F188)),\" \",TRIM(ASC(spreedResult.!G188)))","v":" "},{"$f":"CONCATENATE(TRIM(spreedResult.!H188),\"　\",TRIM(spreedResult.!I188))","v":"　"},{"$f":"IFERROR(VLOOKUP(spreedResult.!K188,spreedResult.!$AX$4:$AY$5,2,0),\"\")","v":""},{"$f":"IF(spreedResult.!L188<>\"\",TEXT(spreedResult.!L188,\"YYYY\")&TEXT(spreedResult.!L188,\"MM\")&TEXT(spreedResult.!L188,\"DD\"),\"\")","v":""},null,null,{"$f":"IF(spreedResult.!$F188<>\"\",spreedResult.!$C$10,\"\")","v":""},{"$f":"IF(spreedResult.!$F188<>\"\",spreedResult.!$C$9,\"\")","v":""},{"$f":"IF(spreedResult.!M188<>\"\",spreedResult.!M188,\"\")","v":""},{"$f":"IF(spreedResult.!H188<>\"\",IF(spreedResult.!$I$8=\"左記ご住所に送付\",\"2\",\"\"),\"\")","v":""},{"$nulls":8},"",null,"",null,"",null,"",null,"",null,"",null,"",null,"",null,"",null,""]
[null,{"$f":"IF(spreedResult.!B189<>\"\",TEXT(spreedResult.!B189,\"YYYY\")&TEXT(spreedResult.!B189,\"MM\")&TEXT(spreedResult.!B189,\"DD\"),\"\")","v":""},{"$f":"IF(spreedResult.!C189<>\"\",VLOOKUP(spreedResult.!C189,spreedResult.!$AU$2:$AV$12,2,0),\"\")","v":""},{"$nulls":4},{"$f":"IF(spreedResult.!P189<>\"\",VLOOKUP(spreedResult.!P189,Course!$A$2:$B$612,2,0),\"\")","v":""},null,{"$f":"CONCATENATE(TRIM(ASC(spreedResult.!F189)),\" \",TRIM(ASC(spreedResult.!G189)))","v":" "},{"$f":"CONCATENATE(TRIM(spreedResult.!H189),\"　\",TRIM(spreedResult.!I189))","v":"　"},{"$f":"IFERROR(VLOOKUP(spreedResult.!K189,spreedResult.!$AX$4:$AY$5,2,0),\"\")","v":""},{"$f":"IF(spreedResult.!L189<>\"\",TEXT(spreedResult.!L189,\"YYYY\")&TEXT(spreedResult.!L189,\"MM\")&TEXT(spreedResult.!L189,\"DD\"),\"\")","v":""},null,null,{"$f":"IF(spreedResult.!$F189<>\"\",spreedResult.!$C$10,\"\")","v":""},{"$f":"IF(spreedResult.!$F189<>\"\",spreedResult.!$C$9,\"\")","v":""},{"$f":"IF(spreedResult.!M189<>\"\",spreedResult.!M189,\"\")","v":""},{"$f":"IF(spreedResult.!H189<>\"\",IF(spreedResult.!$I$8=\"左記ご住所に送付\",\"2\",\"\"),\"\")","v":""},{"$nulls":8},"",null,"",null,"",null,"",null,"",null,"",null,"",null,"",null,"",null,""]
[null,{"$f":"IF(spreedResult.!B190<>\"\",TEXT(spreedResult.!B190,\"YYYY\")&TEXT(spreedResult.!B190,\"MM\")&TEXT(spreedResult.!B190,\"DD\"),\"\")","v":""},{"$f":"IF(spreedResult.!C190<>\"\",VLOOKUP(spreedResult.!C190,spreedResult.!$AU$2:$AV$12,2,0),\"\")","v":""},{"$nulls":4},{"$f":"IF(spreedResult.!P190<>\"\",VLOOKUP(spreedResult.!P190,Course!$A$2:$B$612,2,0),\"\")","v":""},null,{"$f":"CONCATENATE(TRIM(ASC(spreedResult.!F190)),\" \",TRIM(ASC(spreedResult.!G190)))","v":" "},{"$f":"CONCATENATE(TRIM(spreedResult.!H190),\"　\",TRIM(spreedResult.!I190))","v":"　"},{"$f":"IFERROR(VLOOKUP(spreedResult.!K190,spreedResult.!$AX$4:$AY$5,2,0),\"\")","v":""},{"$f":"IF(spreedResult.!L190<>\"\",TEXT(spreedResult.!L190,\"YYYY\")&TEXT(spreedResult.!L190,\"MM\")&TEXT(spreedResult.!L190,\"DD\"),\"\")","v":""},null,null,{"$f":"IF(spreedResult.!$F190<>\"\",spreedResult.!$C$10,\"\")","v":""},{"$f":"IF(spreedResult.!$F190<>\"\",spreedResult.!$C$9,\"\")","v":""},{"$f":"IF(spreedResult.!M190<>\"\",spreedResult.!M190,\"\")","v":""},{"$f":"IF(spreedResult.!H190<>\"\",IF(spreedResult.!$I$8=\"左記ご住所に送付\",\"2\",\"\"),\"\")","v":""},{"$nulls":8},"",null,"",null,"",null,"",null,"",null,"",null,"",null,"",null,"",null,""]
[null,{"$f":"IF(spreedResult.!B191<>\"\",TEXT(spreedResult.!B191,\"YYYY\")&TEXT(spreedResult.!B191,\"MM\")&TEXT(spreedResult.!B191,\"DD\"),\"\")","v":""},{"$f":"IF(spreedResult.!C191<>\"\",VLOOKUP(spreedResult.!C191,spreedResult.!$AU$2:$AV$12,2,0),\"\")","v":""},{"$nulls":4},{"$f":"IF(spreedResult.!P191<>\"\",VLOOKUP(spreedResult.!P191,Course!$A$2:$B$612,2,0),\"\")","v":""},null,{"$f":"CONCATENATE(TRIM(ASC(spreedResult.!F191)),\" \",TRIM(ASC(spreedResult.!G191)))","v":" "},{"$f":"CONCATENATE(TRIM(spreedResult.!H191),\"　\",TRIM(spreedResult.!I191))","v":"　"},{"$f":"IFERROR(VLOOKUP(spreedResult.!K191,spreedResult.!$AX$4:$AY$5,2,0),\"\")","v":""},{"$f":"IF(spreedResult.!L191<>\"\",TEXT(spreedResult.!L191,\"YYYY\")&TEXT(spreedResult.!L191,\"MM\")&TEXT(spreedResult.!L191,\"DD\"),\"\")","v":""},null,null,{"$f":"IF(spreedResult.!$F191<>\"\",spreedResult.!$C$10,\"\")","v":""},{"$f":"IF(spreedResult.!$F191<>\"\",spreedResult.!$C$9,\"\")","v":""},{"$f":"IF(spreedResult.!M191<>\"\",spreedResult.!M191,\"\")","v":""},{"$f":"IF(spreedResult.!H191<>\"\",IF(spreedResult.!$I$8=\"左記ご住所に送付\",\"2\",\"\"),\"\")","v":""},{"$nulls":8},"",null,"",null,"",null,"",null,"",null,"",null,"",null,"",null,"",null,""]
[null,{"$f":"IF(spreedResult.!B192<>\"\",TEXT(spreedResult.!B192,\"YYYY\")&TEXT(spreedResult.!B192,\"MM\")&TEXT(spreedResult.!B192,\"DD\"),\"\")","v":""},{"$f":"IF(spreedResult.!C192<>\"\",VLOOKUP(spreedResult.!C192,spreedResult.!$AU$2:$AV$12,2,0),\"\")","v":""},{"$nulls":4},{"$f":"IF(spreedResult.!P192<>\"\",VLOOKUP(spreedResult.!P192,Course!$A$2:$B$612,2,0),\"\")","v":""},null,{"$f":"CONCATENATE(TRIM(ASC(spreedResult.!F192)),\" \",TRIM(ASC(spreedResult.!G192)))","v":" "},{"$f":"CONCATENATE(TRIM(spreedResult.!H192),\"　\",TRIM(spreedResult.!I192))","v":"　"},{"$f":"IFERROR(VLOOKUP(spreedResult.!K192,spreedResult.!$AX$4:$AY$5,2,0),\"\")","v":""},{"$f":"IF(spreedResult.!L192<>\"\",TEXT(spreedResult.!L192,\"YYYY\")&TEXT(spreedResult.!L192,\"MM\")&TEXT(spreedResult.!L192,\"DD\"),\"\")","v":""},null,null,{"$f":"IF(spreedResult.!$F192<>\"\",spreedResult.!$C$10,\"\")","v":""},{"$f":"IF(spreedResult.!$F192<>\"\",spreedResult.!$C$9,\"\")","v":""},{"$f":"IF(spreedResult.!M192<>\"\",spreedResult.!M192,\"\")","v":""},{"$f":"IF(spreedResult.!H192<>\"\",IF(spreedResult.!$I$8=\"左記ご住所に送付\",\"2\",\"\"),\"\")","v":""},{"$nulls":8},"",null,"",null,"",null,"",null,"",null,"",null,"",null,"",null,"",null,""]
[null,{"$f":"IF(spreedResult.!B193<>\"\",TEXT(spreedResult.!B193,\"YYYY\")&TEXT(spreedResult.!B193,\"MM\")&TEXT(spreedResult.!B193,\"DD\"),\"\")","v":""},{"$f":"IF(spreedResult.!C193<>\"\",VLOOKUP(spreedResult.!C193,spreedResult.!$AU$2:$AV$12,2,0),\"\")","v":""},{"$nulls":4},{"$f":"IF(spreedResult.!P193<>\"\",VLOOKUP(spreedResult.!P193,Course!$A$2:$B$612,2,0),\"\")","v":""},null,{"$f":"CONCATENATE(TRIM(ASC(spreedResult.!F193)),\" \",TRIM(ASC(spreedResult.!G193)))","v":" "},{"$f":"CONCATENATE(TRIM(spreedResult.!H193),\"　\",TRIM(spreedResult.!I193))","v":"　"},{"$f":"IFERROR(VLOOKUP(spreedResult.!K193,spreedResult.!$AX$4:$AY$5,2,0),\"\")","v":""},{"$f":"IF(spreedResult.!L193<>\"\",TEXT(spreedResult.!L193,\"YYYY\")&TEXT(spreedResult.!L193,\"MM\")&TEXT(spreedResult.!L193,\"DD\"),\"\")","v":""},null,null,{"$f":"IF(spreedResult.!$F193<>\"\",spreedResult.!$C$10,\"\")","v":""},{"$f":"IF(spreedResult.!$F193<>\"\",spreedResult.!$C$9,\"\")","v":""},{"$f":"IF(spreedResult.!M193<>\"\",spreedResult.!M193,\"\")","v":""},{"$f":"IF(spreedResult.!H193<>\"\",IF(spreedResult.!$I$8=\"左記ご住所に送付\",\"2\",\"\"),\"\")","v":""},{"$nulls":8},"",null,"",null,"",null,"",null,"",null,"",null,"",null,"",null,"",null,""]
[null,{"$f":"IF(spreedResult.!B194<>\"\",TEXT(spreedResult.!B194,\"YYYY\")&TEXT(spreedResult.!B194,\"MM\")&TEXT(spreedResult.!B194,\"DD\"),\"\")","v":""},{"$f":"IF(spreedResult.!C194<>\"\",VLOOKUP(spreedResult.!C194,spreedResult.!$AU$2:$AV$12,2,0),\"\")","v":""},{"$nulls":4},{"$f":"IF(spreedResult.!P194<>\"\",VLOOKUP(spreedResult.!P194,Course!$A$2:$B$612,2,0),\"\")","v":""},null,{"$f":"CONCATENATE(TRIM(ASC(spreedResult.!F194)),\" \",TRIM(ASC(spreedResult.!G194)))","v":" "},{"$f":"CONCATENATE(TRIM(spreedResult.!H194),\"　\",TRIM(spreedResult.!I194))","v":"　"},{"$f":"IFERROR(VLOOKUP(spreedResult.!K194,spreedResult.!$AX$4:$AY$5,2,0),\"\")","v":""},{"$f":"IF(spreedResult.!L194<>\"\",TEXT(spreedResult.!L194,\"YYYY\")&TEXT(spreedResult.!L194,\"MM\")&TEXT(spreedResult.!L194,\"DD\"),\"\")","v":""},null,null,{"$f":"IF(spreedResult.!$F194<>\"\",spreedResult.!$C$10,\"\")","v":""},{"$f":"IF(spreedResult.!$F194<>\"\",spreedResult.!$C$9,\"\")","v":""},{"$f":"IF(spreedResult.!M194<>\"\",spreedResult.!M194,\"\")","v":""},{"$f":"IF(spreedResult.!H194<>\"\",IF(spreedResult.!$I$8=\"左記ご住所に送付\",\"2\",\"\"),\"\")","v":""},{"$nulls":8},"",null,"",null,"",null,"",null,"",null,"",null,"",null,"",null,"",null,""]
[null,{"$f":"IF(spreedResult.!B195<>\"\",TEXT(spreedResult.!B195,\"YYYY\")&TEXT(spreedResult.!B195,\"MM\")&TEXT(spreedResult.!B195,\"DD\"),\"\")","v":""},{"$f":"IF(spreedResult.!C195<>\"\",VLOOKUP(spreedResult.!C195,spreedResult.!$AU$2:$AV$12,2,0),\"\")","v":""},{"$nulls":4},{"$f":"IF(spreedResult.!P195<>\"\",VLOOKUP(spreedResult.!P195,Course!$A$2:$B$612,2,0),\"\")","v":""},null,{"$f":"CONCATENATE(TRIM(ASC(spreedResult.!F195)),\" \",TRIM(ASC(spreedResult.!G195)))","v":" "},{"$f":"CONCATENATE(TRIM(spreedResult.!H195),\"　\",TRIM(spreedResult.!I195))","v":"　"},{"$f":"IFERROR(VLOOKUP(spreedResult.!K195,spreedResult.!$AX$4:$AY$5,2,0),\"\")","v":""},{"$f":"IF(spreedResult.!L195<>\"\",TEXT(spreedResult.!L195,\"YYYY\")&TEXT(spreedResult.!L195,\"MM\")&TEXT(spreedResult.!L195,\"DD\"),\"\")","v":""},null,null,{"$f":"IF(spreedResult.!$F195<>\"\",spreedResult.!$C$10,\"\")","v":""},{"$f":"IF(spreedResult.!$F195<>\"\",spreedResult.!$C$9,\"\")","v":""},{"$f":"IF(spreedResult.!M195<>\"\",spreedResult.!M195,\"\")","v":""},{"$f":"IF(spreedResult.!H195<>\"\",IF(spreedResult.!$I$8=\"左記ご住所に送付\",\"2\",\"\"),\"\")","v":""},{"$nulls":8},"",null,"",null,"",null,"",null,"",null,"",null,"",null,"",null,"",null,""]
[null,{"$f":"IF(spreedResult.!B196<>\"\",TEXT(spreedResult.!B196,\"YYYY\")&TEXT(spreedResult.!B196,\"MM\")&TEXT(spreedResult.!B196,\"DD\"),\"\")","v":""},{"$f":"IF(spreedResult.!C196<>\"\",VLOOKUP(spreedResult.!C196,spreedResult.!$AU$2:$AV$12,2,0),\"\")","v":""},{"$nulls":4},{"$f":"IF(spreedResult.!P196<>\"\",VLOOKUP(spreedResult.!P196,Course!$A$2:$B$612,2,0),\"\")","v":""},null,{"$f":"CONCATENATE(TRIM(ASC(spreedResult.!F196)),\" \",TRIM(ASC(spreedResult.!G196)))","v":" "},{"$f":"CONCATENATE(TRIM(spreedResult.!H196),\"　\",TRIM(spreedResult.!I196))","v":"　"},{"$f":"IFERROR(VLOOKUP(spreedResult.!K196,spreedResult.!$AX$4:$AY$5,2,0),\"\")","v":""},{"$f":"IF(spreedResult.!L196<>\"\",TEXT(spreedResult.!L196,\"YYYY\")&TEXT(spreedResult.!L196,\"MM\")&TEXT(spreedResult.!L196,\"DD\"),\"\")","v":""},null,null,{"$f":"IF(spreedResult.!$F196<>\"\",spreedResult.!$C$10,\"\")","v":""},{"$f":"IF(spreedResult.!$F196<>\"\",spreedResult.!$C$9,\"\")","v":""},{"$f":"IF(spreedResult.!M196<>\"\",spreedResult.!M196,\"\")","v":""},{"$f":"IF(spreedResult.!H196<>\"\",IF(spreedResult.!$I$8=\"左記ご住所に送付\",\"2\",\"\"),\"\")","v":""},{"$nulls":8},"",null,"",null,"",null,"",null,"",null,"",null,"",null,"",null,"",null,""]
[null,{"$f":"IF(spreedResult.!B197<>\"\",TEXT(spreedResult.!B197,\"YYYY\")&TEXT(spreedResult.!B197,\"MM\")&TEXT(spreedResult.!B197,\"DD\"),\"\")","v":""},{"$f":"IF(spreedResult.!C197<>\"\",VLOOKUP(spreedResult.!C197,spreedResult.!$AU$2:$AV$12,2,0),\"\")","v":""},{"$nulls":4},{"$f":"IF(spreedResult.!P197<>\"\",VLOOKUP(spreedResult.!P197,Course!$A$2:$B$612,2,0),\"\")","v":""},null,{"$f":"CONCATENATE(TRIM(ASC(spreedResult.!F197)),\" \",TRIM(ASC(spreedResult.!G197)))","v":" "},{"$f":"CONCATENATE(TRIM(spreedResult.!H197),\"　\",TRIM(spreedResult.!I197))","v":"　"},{"$f":"IFERROR(VLOOKUP(spreedResult.!K197,spreedResult.!$AX$4:$AY$5,2,0),\"\")","v":""},{"$f":"IF(spreedResult.!L197<>\"\",TEXT(spreedResult.!L197,\"YYYY\")&TEXT(spreedResult.!L197,\"MM\")&TEXT(spreedResult.!L197,\"DD\"),\"\")","v":""},null,null,{"$f":"IF(spreedResult.!$F197<>\"\",spreedResult.!$C$10,\"\")","v":""},{"$f":"IF(spreedResult.!$F197<>\"\",spreedResult.!$C$9,\"\")","v":""},{"$f":"IF(spreedResult.!M197<>\"\",spreedResult.!M197,\"\")","v":""},{"$f":"IF(spreedResult.!H197<>\"\",IF(spreedResult.!$I$8=\"左記ご住所に送付\",\"2\",\"\"),\"\")","v":""},{"$nulls":8},"",null,"",null,"",null,"",null,"",null,"",null,"",null,"",null,"",null,""]
[null,{"$f":"IF(spreedResult.!B198<>\"\",TEXT(spreedResult.!B198,\"YYYY\")&TEXT(spreedResult.!B198,\"MM\")&TEXT(spreedResult.!B198,\"DD\"),\"\")","v":""},{"$f":"IF(spreedResult.!C198<>\"\",VLOOKUP(spreedResult.!C198,spreedResult.!$AU$2:$AV$12,2,0),\"\")","v":""},{"$nulls":4},{"$f":"IF(spreedResult.!P198<>\"\",VLOOKUP(spreedResult.!P198,Course!$A$2:$B$612,2,0),\"\")","v":""},null,{"$f":"CONCATENATE(TRIM(ASC(spreedResult.!F198)),\" \",TRIM(ASC(spreedResult.!G198)))","v":" "},{"$f":"CONCATENATE(TRIM(spreedResult.!H198),\"　\",TRIM(spreedResult.!I198))","v":"　"},{"$f":"IFERROR(VLOOKUP(spreedResult.!K198,spreedResult.!$AX$4:$AY$5,2,0),\"\")","v":""},{"$f":"IF(spreedResult.!L198<>\"\",TEXT(spreedResult.!L198,\"YYYY\")&TEXT(spreedResult.!L198,\"MM\")&TEXT(spreedResult.!L198,\"DD\"),\"\")","v":""},null,null,{"$f":"IF(spreedResult.!$F198<>\"\",spreedResult.!$C$10,\"\")","v":""},{"$f":"IF(spreedResult.!$F198<>\"\",spreedResult.!$C$9,\"\")","v":""},{"$f":"IF(spreedResult.!M198<>\"\",spreedResult.!M198,\"\")","v":""},{"$f":"IF(spreedResult.!H198<>\"\",IF(spreedResult.!$I$8=\"左記ご住所に送付\",\"2\",\"\"),\"\")","v":""},{"$nulls":8},"",null,"",null,"",null,"",null,"",null,"",null,"",null,"",null,"",null,""]
[null,{"$f":"IF(spreedResult.!B199<>\"\",TEXT(spreedResult.!B199,\"YYYY\")&TEXT(spreedResult.!B199,\"MM\")&TEXT(spreedResult.!B199,\"DD\"),\"\")","v":""},{"$f":"IF(spreedResult.!C199<>\"\",VLOOKUP(spreedResult.!C199,spreedResult.!$AU$2:$AV$12,2,0),\"\")","v":""},{"$nulls":4},{"$f":"IF(spreedResult.!P199<>\"\",VLOOKUP(spreedResult.!P199,Course!$A$2:$B$612,2,0),\"\")","v":""},null,{"$f":"CONCATENATE(TRIM(ASC(spreedResult.!F199)),\" \",TRIM(ASC(spreedResult.!G199)))","v":" "},{"$f":"CONCATENATE(TRIM(spreedResult.!H199),\"　\",TRIM(spreedResult.!I199))","v":"　"},{"$f":"IFERROR(VLOOKUP(spreedResult.!K199,spreedResult.!$AX$4:$AY$5,2,0),\"\")","v":""},{"$f":"IF(spreedResult.!L199<>\"\",TEXT(spreedResult.!L199,\"YYYY\")&TEXT(spreedResult.!L199,\"MM\")&TEXT(spreedResult.!L199,\"DD\"),\"\")","v":""},null,null,{"$f":"IF(spreedResult.!$F199<>\"\",spreedResult.!$C$10,\"\")","v":""},{"$f":"IF(spreedResult.!$F199<>\"\",spreedResult.!$C$9,\"\")","v":""},{"$f":"IF(spreedResult.!M199<>\"\",spreedResult.!M199,\"\")","v":""},{"$f":"IF(spreedResult.!H199<>\"\",IF(spreedResult.!$I$8=\"左記ご住所に送付\",\"2\",\"\"),\"\")","v":""},{"$nulls":8},"",null,"",null,"",null,"",null,"",null,"",null,"",null,"",null,"",null,""]
[null,{"$f":"IF(spreedResult.!B200<>\"\",TEXT(spreedResult.!B200,\"YYYY\")&TEXT(spreedResult.!B200,\"MM\")&TEXT(spreedResult.!B200,\"DD\"),\"\")","v":""},{"$f":"IF(spreedResult.!C200<>\"\",VLOOKUP(spreedResult.!C200,spreedResult.!$AU$2:$AV$12,2,0),\"\")","v":""},{"$nulls":4},{"$f":"IF(spreedResult.!P200<>\"\",VLOOKUP(spreedResult.!P200,Course!$A$2:$B$612,2,0),\"\")","v":""},null,{"$f":"CONCATENATE(TRIM(ASC(spreedResult.!F200)),\" \",TRIM(ASC(spreedResult.!G200)))","v":" "},{"$f":"CONCATENATE(TRIM(spreedResult.!H200),\"　\",TRIM(spreedResult.!I200))","v":"　"},{"$f":"IFERROR(VLOOKUP(spreedResult.!K200,spreedResult.!$AX$4:$AY$5,2,0),\"\")","v":""},{"$f":"IF(spreedResult.!L200<>\"\",TEXT(spreedResult.!L200,\"YYYY\")&TEXT(spreedResult.!L200,\"MM\")&TEXT(spreedResult.!L200,\"DD\"),\"\")","v":""},null,null,{"$f":"IF(spreedResult.!$F200<>\"\",spreedResult.!$C$10,\"\")","v":""},{"$f":"IF(spreedResult.!$F200<>\"\",spreedResult.!$C$9,\"\")","v":""},{"$f":"IF(spreedResult.!M200<>\"\",spreedResult.!M200,\"\")","v":""},{"$f":"IF(spreedResult.!H200<>\"\",IF(spreedResult.!$I$8=\"左記ご住所に送付\",\"2\",\"\"),\"\")","v":""},{"$nulls":8},"",null,"",null,"",null,"",null,"",null,"",null,"",null,"",null,"",null,""]
[null,{"$f":"IF(spreedResult.!B201<>\"\",TEXT(spreedResult.!B201,\"YYYY\")&TEXT(spreedResult.!B201,\"MM\")&TEXT(spreedResult.!B201,\"DD\"),\"\")","v":""},{"$f":"IF(spreedResult.!C201<>\"\",VLOOKUP(spreedResult.!C201,spreedResult.!$AU$2:$AV$12,2,0),\"\")","v":""},{"$nulls":4},{"$f":"IF(spreedResult.!P201<>\"\",VLOOKUP(spreedResult.!P201,Course!$A$2:$B$612,2,0),\"\")","v":""},null,{"$f":"CONCATENATE(TRIM(ASC(spreedResult.!F201)),\" \",TRIM(ASC(spreedResult.!G201)))","v":" "},{"$f":"CONCATENATE(TRIM(spreedResult.!H201),\"　\",TRIM(spreedResult.!I201))","v":"　"},{"$f":"IFERROR(VLOOKUP(spreedResult.!K201,spreedResult.!$AX$4:$AY$5,2,0),\"\")","v":""},{"$f":"IF(spreedResult.!L201<>\"\",TEXT(spreedResult.!L201,\"YYYY\")&TEXT(spreedResult.!L201,\"MM\")&TEXT(spreedResult.!L201,\"DD\"),\"\")","v":""},null,null,{"$f":"IF(spreedResult.!$F201<>\"\",spreedResult.!$C$10,\"\")","v":""},{"$f":"IF(spreedResult.!$F201<>\"\",spreedResult.!$C$9,\"\")","v":""},{"$f":"IF(spreedResult.!M201<>\"\",spreedResult.!M201,\"\")","v":""},{"$f":"IF(spreedResult.!H201<>\"\",IF(spreedResult.!$I$8=\"左記ご住所に送付\",\"2\",\"\"),\"\")","v":""},{"$nulls":8},"",null,"",null,"",null,"",null,"",null,"",null,"",null,"",null,"",null,""]
[null,{"$f":"IF(spreedResult.!B202<>\"\",TEXT(spreedResult.!B202,\"YYYY\")&TEXT(spreedResult.!B202,\"MM\")&TEXT(spreedResult.!B202,\"DD\"),\"\")","v":""},{"$f":"IF(spreedResult.!C202<>\"\",VLOOKUP(spreedResult.!C202,spreedResult.!$AU$2:$AV$12,2,0),\"\")","v":""},{"$nulls":4},{"$f":"IF(spreedResult.!P202<>\"\",VLOOKUP(spreedResult.!P202,Course!$A$2:$B$612,2,0),\"\")","v":""},null,{"$f":"CONCATENATE(TRIM(ASC(spreedResult.!F202)),\" \",TRIM(ASC(spreedResult.!G202)))","v":" "},{"$f":"CONCATENATE(TRIM(spreedResult.!H202),\"　\",TRIM(spreedResult.!I202))","v":"　"},{"$f":"IFERROR(VLOOKUP(spreedResult.!K202,spreedResult.!$AX$4:$AY$5,2,0),\"\")","v":""},{"$f":"IF(spreedResult.!L202<>\"\",TEXT(spreedResult.!L202,\"YYYY\")&TEXT(spreedResult.!L202,\"MM\")&TEXT(spreedResult.!L202,\"DD\"),\"\")","v":""},null,null,{"$f":"IF(spreedResult.!$F202<>\"\",spreedResult.!$C$10,\"\")","v":""},{"$f":"IF(spreedResult.!$F202<>\"\",spreedResult.!$C$9,\"\")","v":""},{"$f":"IF(spreedResult.!M202<>\"\",spreedResult.!M202,\"\")","v":""},{"$f":"IF(spreedResult.!H202<>\"\",IF(spreedResult.!$I$8=\"左記ご住所に送付\",\"2\",\"\"),\"\")","v":""},{"$nulls":8},"",null,"",null,"",null,"",null,"",null,"",null,"",null,"",null,"",null,""]
[null,{"$f":"IF(spreedResult.!B203<>\"\",TEXT(spreedResult.!B203,\"YYYY\")&TEXT(spreedResult.!B203,\"MM\")&TEXT(spreedResult.!B203,\"DD\"),\"\")","v":""},{"$f":"IF(spreedResult.!C203<>\"\",VLOOKUP(spreedResult.!C203,spreedResult.!$AU$2:$AV$12,2,0),\"\")","v":""},{"$nulls":4},{"$f":"IF(spreedResult.!P203<>\"\",VLOOKUP(spreedResult.!P203,Course!$A$2:$B$612,2,0),\"\")","v":""},null,{"$f":"CONCATENATE(TRIM(ASC(spreedResult.!F203)),\" \",TRIM(ASC(spreedResult.!G203)))","v":" "},{"$f":"CONCATENATE(TRIM(spreedResult.!H203),\"　\",TRIM(spreedResult.!I203))","v":"　"},{"$f":"IFERROR(VLOOKUP(spreedResult.!K203,spreedResult.!$AX$4:$AY$5,2,0),\"\")","v":""},{"$f":"IF(spreedResult.!L203<>\"\",TEXT(spreedResult.!L203,\"YYYY\")&TEXT(spreedResult.!L203,\"MM\")&TEXT(spreedResult.!L203,\"DD\"),\"\")","v":""},null,null,{"$f":"IF(spreedResult.!$F203<>\"\",spreedResult.!$C$10,\"\")","v":""},{"$f":"IF(spreedResult.!$F203<>\"\",spreedResult.!$C$9,\"\")","v":""},{"$f":"IF(spreedResult.!M203<>\"\",spreedResult.!M203,\"\")","v":""},{"$f":"IF(spreedResult.!H203<>\"\",IF(spreedResult.!$I$8=\"左記ご住所に送付\",\"2\",\"\"),\"\")","v":""},{"$nulls":8},"",null,"",null,"",null,"",null,"",null,"",null,"",null,"",null,"",null,""]
[null,{"$f":"IF(spreedResult.!B204<>\"\",TEXT(spreedResult.!B204,\"YYYY\")&TEXT(spreedResult.!B204,\"MM\")&TEXT(spreedResult.!B204,\"DD\"),\"\")","v":""},{"$f":"IF(spreedResult.!C204<>\"\",VLOOKUP(spreedResult.!C204,spreedResult.!$AU$2:$AV$12,2,0),\"\")","v":""},{"$nulls":4},{"$f":"IF(spreedResult.!P204<>\"\",VLOOKUP(spreedResult.!P204,Course!$A$2:$B$612,2,0),\"\")","v":""},null,{"$f":"CONCATENATE(TRIM(ASC(spreedResult.!F204)),\" \",TRIM(ASC(spreedResult.!G204)))","v":" "},{"$f":"CONCATENATE(TRIM(spreedResult.!H204),\"　\",TRIM(spreedResult.!I204))","v":"　"},{"$f":"IFERROR(VLOOKUP(spreedResult.!K204,spreedResult.!$AX$4:$AY$5,2,0),\"\")","v":""},{"$f":"IF(spreedResult.!L204<>\"\",TEXT(spreedResult.!L204,\"YYYY\")&TEXT(spreedResult.!L204,\"MM\")&TEXT(spreedResult.!L204,\"DD\"),\"\")","v":""},null,null,{"$f":"IF(spreedResult.!$F204<>\"\",spreedResult.!$C$10,\"\")","v":""},{"$f":"IF(spreedResult.!$F204<>\"\",spreedResult.!$C$9,\"\")","v":""},{"$f":"IF(spreedResult.!M204<>\"\",spreedResult.!M204,\"\")","v":""},{"$f":"IF(spreedResult.!H204<>\"\",IF(spreedResult.!$I$8=\"左記ご住所に送付\",\"2\",\"\"),\"\")","v":""},{"$nulls":8},"",null,"",null,"",null,"",null,"",null,"",null,"",null,"",null,"",null,""]
[null,{"$f":"IF(spreedResult.!B205<>\"\",TEXT(spreedResult.!B205,\"YYYY\")&TEXT(spreedResult.!B205,\"MM\")&TEXT(spreedResult.!B205,\"DD\"),\"\")","v":""},{"$f":"IF(spreedResult.!C205<>\"\",VLOOKUP(spreedResult.!C205,spreedResult.!$AU$2:$AV$12,2,0),\"\")","v":""},{"$nulls":4},{"$f":"IF(spreedResult.!P205<>\"\",VLOOKUP(spreedResult.!P205,Course!$A$2:$B$612,2,0),\"\")","v":""},null,{"$f":"CONCATENATE(TRIM(ASC(spreedResult.!F205)),\" \",TRIM(ASC(spreedResult.!G205)))","v":" "},{"$f":"CONCATENATE(TRIM(spreedResult.!H205),\"　\",TRIM(spreedResult.!I205))","v":"　"},{"$f":"IFERROR(VLOOKUP(spreedResult.!K205,spreedResult.!$AX$4:$AY$5,2,0),\"\")","v":""},{"$f":"IF(spreedResult.!L205<>\"\",TEXT(spreedResult.!L205,\"YYYY\")&TEXT(spreedResult.!L205,\"MM\")&TEXT(spreedResult.!L205,\"DD\"),\"\")","v":""},null,null,{"$f":"IF(spreedResult.!$F205<>\"\",spreedResult.!$C$10,\"\")","v":""},{"$f":"IF(spreedResult.!$F205<>\"\",spreedResult.!$C$9,\"\")","v":""},{"$f":"IF(spreedResult.!M205<>\"\",spreedResult.!M205,\"\")","v":""},{"$f":"IF(spreedResult.!H205<>\"\",IF(spreedResult.!$I$8=\"左記ご住所に送付\",\"2\",\"\"),\"\")","v":""},{"$nulls":8},"",null,"",null,"",null,"",null,"",null,"",null,"",null,"",null,"",null,""]
[null,{"$f":"IF(spreedResult.!B206<>\"\",TEXT(spreedResult.!B206,\"YYYY\")&TEXT(spreedResult.!B206,\"MM\")&TEXT(spreedResult.!B206,\"DD\"),\"\")","v":""},{"$f":"IF(spreedResult.!C206<>\"\",VLOOKUP(spreedResult.!C206,spreedResult.!$AU$2:$AV$12,2,0),\"\")","v":""},{"$nulls":4},{"$f":"IF(spreedResult.!P206<>\"\",VLOOKUP(spreedResult.!P206,Course!$A$2:$B$612,2,0),\"\")","v":""},null,{"$f":"CONCATENATE(TRIM(ASC(spreedResult.!F206)),\" \",TRIM(ASC(spreedResult.!G206)))","v":" "},{"$f":"CONCATENATE(TRIM(spreedResult.!H206),\"　\",TRIM(spreedResult.!I206))","v":"　"},{"$f":"IFERROR(VLOOKUP(spreedResult.!K206,spreedResult.!$AX$4:$AY$5,2,0),\"\")","v":""},{"$f":"IF(spreedResult.!L206<>\"\",TEXT(spreedResult.!L206,\"YYYY\")&TEXT(spreedResult.!L206,\"MM\")&TEXT(spreedResult.!L206,\"DD\"),\"\")","v":""},null,null,{"$f":"IF(spreedResult.!$F206<>\"\",spreedResult.!$C$10,\"\")","v":""},{"$f":"IF(spreedResult.!$F206<>\"\",spreedResult.!$C$9,\"\")","v":""},{"$f":"IF(spreedResult.!M206<>\"\",spreedResult.!M206,\"\")","v":""},{"$f":"IF(spreedResult.!H206<>\"\",IF(spreedResult.!$I$8=\"左記ご住所に送付\",\"2\",\"\"),\"\")","v":""},{"$nulls":8},"",null,"",null,"",null,"",null,"",null,"",null,"",null,"",null,"",null,""]
[null,{"$f":"IF(spreedResult.!B207<>\"\",TEXT(spreedResult.!B207,\"YYYY\")&TEXT(spreedResult.!B207,\"MM\")&TEXT(spreedResult.!B207,\"DD\"),\"\")","v":""},{"$f":"IF(spreedResult.!C207<>\"\",VLOOKUP(spreedResult.!C207,spreedResult.!$AU$2:$AV$12,2,0),\"\")","v":""},{"$nulls":4},{"$f":"IF(spreedResult.!P207<>\"\",VLOOKUP(spreedResult.!P207,Course!$A$2:$B$612,2,0),\"\")","v":""},null,{"$f":"CONCATENATE(TRIM(ASC(spreedResult.!F207)),\" \",TRIM(ASC(spreedResult.!G207)))","v":" "},{"$f":"CONCATENATE(TRIM(spreedResult.!H207),\"　\",TRIM(spreedResult.!I207))","v":"　"},{"$f":"IFERROR(VLOOKUP(spreedResult.!K207,spreedResult.!$AX$4:$AY$5,2,0),\"\")","v":""},{"$f":"IF(spreedResult.!L207<>\"\",TEXT(spreedResult.!L207,\"YYYY\")&TEXT(spreedResult.!L207,\"MM\")&TEXT(spreedResult.!L207,\"DD\"),\"\")","v":""},null,null,{"$f":"IF(spreedResult.!$F207<>\"\",spreedResult.!$C$10,\"\")","v":""},{"$f":"IF(spreedResult.!$F207<>\"\",spreedResult.!$C$9,\"\")","v":""},{"$f":"IF(spreedResult.!M207<>\"\",spreedResult.!M207,\"\")","v":""},{"$f":"IF(spreedResult.!H207<>\"\",IF(spreedResult.!$I$8=\"左記ご住所に送付\",\"2\",\"\"),\"\")","v":""},{"$nulls":8},"",null,"",null,"",null,"",null,"",null,"",null,"",null,"",null,"",null,""]
[null,{"$f":"IF(spreedResult.!B208<>\"\",TEXT(spreedResult.!B208,\"YYYY\")&TEXT(spreedResult.!B208,\"MM\")&TEXT(spreedResult.!B208,\"DD\"),\"\")","v":""},{"$f":"IF(spreedResult.!C208<>\"\",VLOOKUP(spreedResult.!C208,spreedResult.!$AU$2:$AV$12,2,0),\"\")","v":""},{"$nulls":4},{"$f":"IF(spreedResult.!P208<>\"\",VLOOKUP(spreedResult.!P208,Course!$A$2:$B$612,2,0),\"\")","v":""},null,{"$f":"CONCATENATE(TRIM(ASC(spreedResult.!F208)),\" \",TRIM(ASC(spreedResult.!G208)))","v":" "},{"$f":"CONCATENATE(TRIM(spreedResult.!H208),\"　\",TRIM(spreedResult.!I208))","v":"　"},{"$f":"IFERROR(VLOOKUP(spreedResult.!K208,spreedResult.!$AX$4:$AY$5,2,0),\"\")","v":""},{"$f":"IF(spreedResult.!L208<>\"\",TEXT(spreedResult.!L208,\"YYYY\")&TEXT(spreedResult.!L208,\"MM\")&TEXT(spreedResult.!L208,\"DD\"),\"\")","v":""},null,null,{"$f":"IF(spreedResult.!$F208<>\"\",spreedResult.!$C$10,\"\")","v":""},{"$f":"IF(spreedResult.!$F208<>\"\",spreedResult.!$C$9,\"\")","v":""},{"$f":"IF(spreedResult.!M208<>\"\",spreedResult.!M208,\"\")","v":""},{"$f":"IF(spreedResult.!H208<>\"\",IF(spreedResult.!$I$8=\"左記ご住所に送付\",\"2\",\"\"),\"\")","v":""},{"$nulls":8},"",null,"",null,"",null,"",null,"",null,"",null,"",null,"",null,"",null,""]
[null,{"$f":"IF(spreedResult.!B209<>\"\",TEXT(spreedResult.!B209,\"YYYY\")&TEXT(spreedResult.!B209,\"MM\")&TEXT(spreedResult.!B209,\"DD\"),\"\")","v":""},{"$f":"IF(spreedResult.!C209<>\"\",VLOOKUP(spreedResult.!C209,spreedResult.!$AU$2:$AV$12,2,0),\"\")","v":""},{"$nulls":4},{"$f":"IF(spreedResult.!P209<>\"\",VLOOKUP(spreedResult.!P209,Course!$A$2:$B$612,2,0),\"\")","v":""},null,{"$f":"CONCATENATE(TRIM(ASC(spreedResult.!F209)),\" \",TRIM(ASC(spreedResult.!G209)))","v":" "},{"$f":"CONCATENATE(TRIM(spreedResult.!H209),\"　\",TRIM(spreedResult.!I209))","v":"　"},{"$f":"IFERROR(VLOOKUP(spreedResult.!K209,spreedResult.!$AX$4:$AY$5,2,0),\"\")","v":""},{"$f":"IF(spreedResult.!L209<>\"\",TEXT(spreedResult.!L209,\"YYYY\")&TEXT(spreedResult.!L209,\"MM\")&TEXT(spreedResult.!L209,\"DD\"),\"\")","v":""},null,null,{"$f":"IF(spreedResult.!$F209<>\"\",spreedResult.!$C$10,\"\")","v":""},{"$f":"IF(spreedResult.!$F209<>\"\",spreedResult.!$C$9,\"\")","v":""},{"$f":"IF(spreedResult.!M209<>\"\",spreedResult.!M209,\"\")","v":""},{"$f":"IF(spreedResult.!H209<>\"\",IF(spreedResult.!$I$8=\"左記ご住所に送付\",\"2\",\"\"),\"\")","v":""},{"$nulls":8},"",null,"",null,"",null,"",null,"",null,"",null,"",null,"",null,"",null,""]
[null,{"$f":"IF(spreedResult.!B210<>\"\",TEXT(spreedResult.!B210,\"YYYY\")&TEXT(spreedResult.!B210,\"MM\")&TEXT(spreedResult.!B210,\"DD\"),\"\")","v":""},{"$f":"IF(spreedResult.!C210<>\"\",VLOOKUP(spreedResult.!C210,spreedResult.!$AU$2:$AV$12,2,0),\"\")","v":""},{"$nulls":4},{"$f":"IF(spreedResult.!P210<>\"\",VLOOKUP(spreedResult.!P210,Course!$A$2:$B$612,2,0),\"\")","v":""},null,{"$f":"CONCATENATE(TRIM(ASC(spreedResult.!F210)),\" \",TRIM(ASC(spreedResult.!G210)))","v":" "},{"$f":"CONCATENATE(TRIM(spreedResult.!H210),\"　\",TRIM(spreedResult.!I210))","v":"　"},{"$f":"IFERROR(VLOOKUP(spreedResult.!K210,spreedResult.!$AX$4:$AY$5,2,0),\"\")","v":""},{"$f":"IF(spreedResult.!L210<>\"\",TEXT(spreedResult.!L210,\"YYYY\")&TEXT(spreedResult.!L210,\"MM\")&TEXT(spreedResult.!L210,\"DD\"),\"\")","v":""},null,null,{"$f":"IF(spreedResult.!$F210<>\"\",spreedResult.!$C$10,\"\")","v":""},{"$f":"IF(spreedResult.!$F210<>\"\",spreedResult.!$C$9,\"\")","v":""},{"$f":"IF(spreedResult.!M210<>\"\",spreedResult.!M210,\"\")","v":""},{"$f":"IF(spreedResult.!H210<>\"\",IF(spreedResult.!$I$8=\"左記ご住所に送付\",\"2\",\"\"),\"\")","v":""},{"$nulls":8},"",null,"",null,"",null,"",null,"",null,"",null,"",null,"",null,"",null,""]
[null,{"$f":"IF(spreedResult.!B211<>\"\",TEXT(spreedResult.!B211,\"YYYY\")&TEXT(spreedResult.!B211,\"MM\")&TEXT(spreedResult.!B211,\"DD\"),\"\")","v":""},{"$f":"IF(spreedResult.!C211<>\"\",VLOOKUP(spreedResult.!C211,spreedResult.!$AU$2:$AV$12,2,0),\"\")","v":""},{"$nulls":4},{"$f":"IF(spreedResult.!P211<>\"\",VLOOKUP(spreedResult.!P211,Course!$A$2:$B$612,2,0),\"\")","v":""},null,{"$f":"CONCATENATE(TRIM(ASC(spreedResult.!F211)),\" \",TRIM(ASC(spreedResult.!G211)))","v":" "},{"$f":"CONCATENATE(TRIM(spreedResult.!H211),\"　\",TRIM(spreedResult.!I211))","v":"　"},{"$f":"IFERROR(VLOOKUP(spreedResult.!K211,spreedResult.!$AX$4:$AY$5,2,0),\"\")","v":""},{"$f":"IF(spreedResult.!L211<>\"\",TEXT(spreedResult.!L211,\"YYYY\")&TEXT(spreedResult.!L211,\"MM\")&TEXT(spreedResult.!L211,\"DD\"),\"\")","v":""},null,null,{"$f":"IF(spreedResult.!$F211<>\"\",spreedResult.!$C$10,\"\")","v":""},{"$f":"IF(spreedResult.!$F211<>\"\",spreedResult.!$C$9,\"\")","v":""},{"$f":"IF(spreedResult.!M211<>\"\",spreedResult.!M211,\"\")","v":""},{"$f":"IF(spreedResult.!H211<>\"\",IF(spreedResult.!$I$8=\"左記ご住所に送付\",\"2\",\"\"),\"\")","v":""},{"$nulls":8},"",null,"",null,"",null,"",null,"",null,"",null,"",null,"",null,"",null,""]
[null,{"$f":"IF(spreedResult.!B212<>\"\",TEXT(spreedResult.!B212,\"YYYY\")&TEXT(spreedResult.!B212,\"MM\")&TEXT(spreedResult.!B212,\"DD\"),\"\")","v":""},{"$f":"IF(spreedResult.!C212<>\"\",VLOOKUP(spreedResult.!C212,spreedResult.!$AU$2:$AV$12,2,0),\"\")","v":""},{"$nulls":4},{"$f":"IF(spreedResult.!P212<>\"\",VLOOKUP(spreedResult.!P212,Course!$A$2:$B$612,2,0),\"\")","v":""},null,{"$f":"CONCATENATE(TRIM(ASC(spreedResult.!F212)),\" \",TRIM(ASC(spreedResult.!G212)))","v":" "},{"$f":"CONCATENATE(TRIM(spreedResult.!H212),\"　\",TRIM(spreedResult.!I212))","v":"　"},{"$f":"IFERROR(VLOOKUP(spreedResult.!K212,spreedResult.!$AX$4:$AY$5,2,0),\"\")","v":""},{"$f":"IF(spreedResult.!L212<>\"\",TEXT(spreedResult.!L212,\"YYYY\")&TEXT(spreedResult.!L212,\"MM\")&TEXT(spreedResult.!L212,\"DD\"),\"\")","v":""},null,null,{"$f":"IF(spreedResult.!$F212<>\"\",spreedResult.!$C$10,\"\")","v":""},{"$f":"IF(spreedResult.!$F212<>\"\",spreedResult.!$C$9,\"\")","v":""},{"$f":"IF(spreedResult.!M212<>\"\",spreedResult.!M212,\"\")","v":""},{"$f":"IF(spreedResult.!H212<>\"\",IF(spreedResult.!$I$8=\"左記ご住所に送付\",\"2\",\"\"),\"\")","v":""},{"$nulls":8},{"$f":"IF(ISNUMBER(AA201),\"1\",\"\")","v":""},null,{"$f":"IF(ISNUMBER(AC201),\"1\",\"\")","v":""},null,{"$f":"IF(ISNUMBER(AE201),\"1\",\"\")","v":""},null,{"$f":"IF(ISNUMBER(AG201),\"1\",\"\")","v":""},null,{"$f":"IF(ISNUMBER(AI201),\"1\",\"\")","v":""},null,{"$f":"IF(ISNUMBER(AK201),\"1\",\"\")","v":""},null,{"$f":"IF(ISNUMBER(AM201),\"1\",\"\")","v":""},null,{"$f":"IF(ISNUMBER(AO201),\"1\",\"\")","v":""},null,{"$f":"IF(ISNUMBER(AQ201),\"1\",\"\")","v":""},null,{"$f":"IF(ISNUMBER(AS201),\"1\",\"\")","v":""}]
[null,{"$f":"IF(spreedResult.!B213<>\"\",TEXT(spreedResult.!B213,\"YYYY\")&TEXT(spreedResult.!B213,\"MM\")&TEXT(spreedResult.!B213,\"DD\"),\"\")","v":""},{"$f":"IF(spreedResult.!C213<>\"\",VLOOKUP(spreedResult.!C213,spreedResult.!$AU$2:$AV$12,2,0),\"\")","v":""},{"$nulls":4},{"$f":"IF(spreedResult.!P213<>\"\",VLOOKUP(spreedResult.!P213,Course!$A$2:$B$612,2,0),\"\")","v":""},null,{"$f":"CONCATENATE(TRIM(ASC(spreedResult.!F213)),\" \",TRIM(ASC(spreedResult.!G213)))","v":" "},{"$f":"CONCATENATE(TRIM(spreedResult.!H213),\"　\",TRIM(spreedResult.!I213))","v":"　"},{"$f":"IFERROR(VLOOKUP(spreedResult.!K213,spreedResult.!$AX$4:$AY$5,2,0),\"\")","v":""},{"$f":"IF(spreedResult.!L213<>\"\",TEXT(spreedResult.!L213,\"YYYY\")&TEXT(spreedResult.!L213,\"MM\")&TEXT(spreedResult.!L213,\"DD\"),\"\")","v":""},null,null,{"$f":"IF(spreedResult.!$F213<>\"\",spreedResult.!$C$10,\"\")","v":""},{"$f":"IF(spreedResult.!$F213<>\"\",spreedResult.!$C$9,\"\")","v":""},{"$f":"IF(spreedResult.!M213<>\"\",spreedResult.!M213,\"\")","v":""},{"$f":"IF(spreedResult.!H213<>\"\",IF(spreedResult.!$I$8=\"左記ご住所に送付\",\"2\",\"\"),\"\")","v":""},{"$nulls":8},"",null,"",null,"",null,"",null,"",null,"",null,"",null,"",null,"",null,""]
[null,{"$f":"IF(spreedResult.!B214<>\"\",TEXT(spreedResult.!B214,\"YYYY\")&TEXT(spreedResult.!B214,\"MM\")&TEXT(spreedResult.!B214,\"DD\"),\"\")","v":""},{"$f":"IF(spreedResult.!C214<>\"\",VLOOKUP(spreedResult.!C214,spreedResult.!$AU$2:$AV$12,2,0),\"\")","v":""},{"$nulls":4},{"$f":"IF(spreedResult.!P214<>\"\",VLOOKUP(spreedResult.!P214,Course!$A$2:$B$612,2,0),\"\")","v":""},null,{"$f":"CONCATENATE(TRIM(ASC(spreedResult.!F214)),\" \",TRIM(ASC(spreedResult.!G214)))","v":" "},{"$f":"CONCATENATE(TRIM(spreedResult.!H214),\"　\",TRIM(spreedResult.!I214))","v":"　"},{"$f":"IFERROR(VLOOKUP(spreedResult.!K214,spreedResult.!$AX$4:$AY$5,2,0),\"\")","v":""},{"$f":"IF(spreedResult.!L214<>\"\",TEXT(spreedResult.!L214,\"YYYY\")&TEXT(spreedResult.!L214,\"MM\")&TEXT(spreedResult.!L214,\"DD\"),\"\")","v":""},null,null,{"$f":"IF(spreedResult.!$F214<>\"\",spreedResult.!$C$10,\"\")","v":""},{"$f":"IF(spreedResult.!$F214<>\"\",spreedResult.!$C$9,\"\")","v":""},{"$f":"IF(spreedResult.!M214<>\"\",spreedResult.!M214,\"\")","v":""},{"$f":"IF(spreedResult.!H214<>\"\",IF(spreedResult.!$I$8=\"左記ご住所に送付\",\"2\",\"\"),\"\")","v":""},{"$nulls":8},"",null,"",null,"",null,"",null,"",null,"",null,"",null,"",null,"",null,""]
[null,{"$f":"IF(spreedResult.!B215<>\"\",TEXT(spreedResult.!B215,\"YYYY\")&TEXT(spreedResult.!B215,\"MM\")&TEXT(spreedResult.!B215,\"DD\"),\"\")","v":""},{"$f":"IF(spreedResult.!C215<>\"\",VLOOKUP(spreedResult.!C215,spreedResult.!$AU$2:$AV$12,2,0),\"\")","v":""},{"$nulls":4},{"$f":"IF(spreedResult.!P215<>\"\",VLOOKUP(spreedResult.!P215,Course!$A$2:$B$612,2,0),\"\")","v":""},null,{"$f":"CONCATENATE(TRIM(ASC(spreedResult.!F215)),\" \",TRIM(ASC(spreedResult.!G215)))","v":" "},{"$f":"CONCATENATE(TRIM(spreedResult.!H215),\"　\",TRIM(spreedResult.!I215))","v":"　"},{"$f":"IFERROR(VLOOKUP(spreedResult.!K215,spreedResult.!$AX$4:$AY$5,2,0),\"\")","v":""},{"$f":"IF(spreedResult.!L215<>\"\",TEXT(spreedResult.!L215,\"YYYY\")&TEXT(spreedResult.!L215,\"MM\")&TEXT(spreedResult.!L215,\"DD\"),\"\")","v":""},null,null,{"$f":"IF(spreedResult.!$F215<>\"\",spreedResult.!$C$10,\"\")","v":""},{"$f":"IF(spreedResult.!$F215<>\"\",spreedResult.!$C$9,\"\")","v":""},{"$f":"IF(spreedResult.!M215<>\"\",spreedResult.!M215,\"\")","v":""},{"$f":"IF(spreedResult.!H215<>\"\",IF(spreedResult.!$I$8=\"左記ご住所に送付\",\"2\",\"\"),\"\")","v":""},{"$nulls":8},"",null,"",null,"",null,"",null,"",null,"",null,"",null,"",null,"",null,""]
[null,{"$f":"IF(spreedResult.!B216<>\"\",TEXT(spreedResult.!B216,\"YYYY\")&TEXT(spreedResult.!B216,\"MM\")&TEXT(spreedResult.!B216,\"DD\"),\"\")","v":""},{"$f":"IF(spreedResult.!C216<>\"\",VLOOKUP(spreedResult.!C216,spreedResult.!$AU$2:$AV$12,2,0),\"\")","v":""},{"$nulls":4},{"$f":"IF(spreedResult.!P216<>\"\",VLOOKUP(spreedResult.!P216,Course!$A$2:$B$612,2,0),\"\")","v":""},null,{"$f":"CONCATENATE(TRIM(ASC(spreedResult.!F216)),\" \",TRIM(ASC(spreedResult.!G216)))","v":" "},{"$f":"CONCATENATE(TRIM(spreedResult.!H216),\"　\",TRIM(spreedResult.!I216))","v":"　"},{"$f":"IFERROR(VLOOKUP(spreedResult.!K216,spreedResult.!$AX$4:$AY$5,2,0),\"\")","v":""},{"$f":"IF(spreedResult.!L216<>\"\",TEXT(spreedResult.!L216,\"YYYY\")&TEXT(spreedResult.!L216,\"MM\")&TEXT(spreedResult.!L216,\"DD\"),\"\")","v":""},null,null,{"$f":"IF(spreedResult.!$F216<>\"\",spreedResult.!$C$10,\"\")","v":""},{"$f":"IF(spreedResult.!$F216<>\"\",spreedResult.!$C$9,\"\")","v":""},{"$f":"IF(spreedResult.!M216<>\"\",spreedResult.!M216,\"\")","v":""},{"$f":"IF(spreedResult.!H216<>\"\",IF(spreedResult.!$I$8=\"左記ご住所に送付\",\"2\",\"\"),\"\")","v":""},{"$nulls":8},"",null,"",null,"",null,"",null,"",null,"",null,"",null,"",null,"",null,""]
[null,{"$f":"IF(spreedResult.!B217<>\"\",TEXT(spreedResult.!B217,\"YYYY\")&TEXT(spreedResult.!B217,\"MM\")&TEXT(spreedResult.!B217,\"DD\"),\"\")","v":""},{"$f":"IF(spreedResult.!C217<>\"\",VLOOKUP(spreedResult.!C217,spreedResult.!$AU$2:$AV$12,2,0),\"\")","v":""},{"$nulls":4},{"$f":"IF(spreedResult.!P217<>\"\",VLOOKUP(spreedResult.!P217,Course!$A$2:$B$612,2,0),\"\")","v":""},null,{"$f":"CONCATENATE(TRIM(ASC(spreedResult.!F217)),\" \",TRIM(ASC(spreedResult.!G217)))","v":" "},{"$f":"CONCATENATE(TRIM(spreedResult.!H217),\"　\",TRIM(spreedResult.!I217))","v":"　"},{"$f":"IFERROR(VLOOKUP(spreedResult.!K217,spreedResult.!$AX$4:$AY$5,2,0),\"\")","v":""},{"$f":"IF(spreedResult.!L217<>\"\",TEXT(spreedResult.!L217,\"YYYY\")&TEXT(spreedResult.!L217,\"MM\")&TEXT(spreedResult.!L217,\"DD\"),\"\")","v":""},null,null,{"$f":"IF(spreedResult.!$F217<>\"\",spreedResult.!$C$10,\"\")","v":""},{"$f":"IF(spreedResult.!$F217<>\"\",spreedResult.!$C$9,\"\")","v":""},{"$f":"IF(spreedResult.!M217<>\"\",spreedResult.!M217,\"\")","v":""},{"$f":"IF(spreedResult.!H217<>\"\",IF(spreedResult.!$I$8=\"左記ご住所に送付\",\"2\",\"\"),\"\")","v":""},{"$nulls":8},"",null,"",null,"",null,"",null,"",null,"",null,"",null,"",null,"",null,""]
[null,{"$f":"IF(spreedResult.!B218<>\"\",TEXT(spreedResult.!B218,\"YYYY\")&TEXT(spreedResult.!B218,\"MM\")&TEXT(spreedResult.!B218,\"DD\"),\"\")","v":""},{"$f":"IF(spreedResult.!C218<>\"\",VLOOKUP(spreedResult.!C218,spreedResult.!$AU$2:$AV$12,2,0),\"\")","v":""},{"$nulls":4},{"$f":"IF(spreedResult.!P218<>\"\",VLOOKUP(spreedResult.!P218,Course!$A$2:$B$612,2,0),\"\")","v":""},null,{"$f":"CONCATENATE(TRIM(ASC(spreedResult.!F218)),\" \",TRIM(ASC(spreedResult.!G218)))","v":" "},{"$f":"CONCATENATE(TRIM(spreedResult.!H218),\"　\",TRIM(spreedResult.!I218))","v":"　"},{"$f":"IFERROR(VLOOKUP(spreedResult.!K218,spreedResult.!$AX$4:$AY$5,2,0),\"\")","v":""},{"$f":"IF(spreedResult.!L218<>\"\",TEXT(spreedResult.!L218,\"YYYY\")&TEXT(spreedResult.!L218,\"MM\")&TEXT(spreedResult.!L218,\"DD\"),\"\")","v":""},null,null,{"$f":"IF(spreedResult.!$F218<>\"\",spreedResult.!$C$10,\"\")","v":""},{"$f":"IF(spreedResult.!$F218<>\"\",spreedResult.!$C$9,\"\")","v":""},{"$f":"IF(spreedResult.!M218<>\"\",spreedResult.!M218,\"\")","v":""},{"$f":"IF(spreedResult.!H218<>\"\",IF(spreedResult.!$I$8=\"左記ご住所に送付\",\"2\",\"\"),\"\")","v":""},{"$nulls":8},"",null,"",null,"",null,"",null,"",null,"",null,"",null,"",null,"",null,""]
[null,{"$f":"IF(spreedResult.!B219<>\"\",TEXT(spreedResult.!B219,\"YYYY\")&TEXT(spreedResult.!B219,\"MM\")&TEXT(spreedResult.!B219,\"DD\"),\"\")","v":""},{"$f":"IF(spreedResult.!C219<>\"\",VLOOKUP(spreedResult.!C219,spreedResult.!$AU$2:$AV$12,2,0),\"\")","v":""},{"$nulls":4},{"$f":"IF(spreedResult.!P219<>\"\",VLOOKUP(spreedResult.!P219,Course!$A$2:$B$612,2,0),\"\")","v":""},null,{"$f":"CONCATENATE(TRIM(ASC(spreedResult.!F219)),\" \",TRIM(ASC(spreedResult.!G219)))","v":" "},{"$f":"CONCATENATE(TRIM(spreedResult.!H219),\"　\",TRIM(spreedResult.!I219))","v":"　"},{"$f":"IFERROR(VLOOKUP(spreedResult.!K219,spreedResult.!$AX$4:$AY$5,2,0),\"\")","v":""},{"$f":"IF(spreedResult.!L219<>\"\",TEXT(spreedResult.!L219,\"YYYY\")&TEXT(spreedResult.!L219,\"MM\")&TEXT(spreedResult.!L219,\"DD\"),\"\")","v":""},null,null,{"$f":"IF(spreedResult.!$F219<>\"\",spreedResult.!$C$10,\"\")","v":""},{"$f":"IF(spreedResult.!$F219<>\"\",spreedResult.!$C$9,\"\")","v":""},{"$f":"IF(spreedResult.!M219<>\"\",spreedResult.!M219,\"\")","v":""},{"$f":"IF(spreedResult.!H219<>\"\",IF(spreedResult.!$I$8=\"左記ご住所に送付\",\"2\",\"\"),\"\")","v":""},{"$nulls":8},"",null,"",null,"",null,"",null,"",null,"",null,"",null,"",null,"",null,""]
[null,{"$f":"IF(spreedResult.!B220<>\"\",TEXT(spreedResult.!B220,\"YYYY\")&TEXT(spreedResult.!B220,\"MM\")&TEXT(spreedResult.!B220,\"DD\"),\"\")","v":""},{"$f":"IF(spreedResult.!C220<>\"\",VLOOKUP(spreedResult.!C220,spreedResult.!$AU$2:$AV$12,2,0),\"\")","v":""},{"$nulls":4},{"$f":"IF(spreedResult.!P220<>\"\",VLOOKUP(spreedResult.!P220,Course!$A$2:$B$612,2,0),\"\")","v":""},null,{"$f":"CONCATENATE(TRIM(ASC(spreedResult.!F220)),\" \",TRIM(ASC(spreedResult.!G220)))","v":" "},{"$f":"CONCATENATE(TRIM(spreedResult.!H220),\"　\",TRIM(spreedResult.!I220))","v":"　"},{"$f":"IFERROR(VLOOKUP(spreedResult.!K220,spreedResult.!$AX$4:$AY$5,2,0),\"\")","v":""},{"$f":"IF(spreedResult.!L220<>\"\",TEXT(spreedResult.!L220,\"YYYY\")&TEXT(spreedResult.!L220,\"MM\")&TEXT(spreedResult.!L220,\"DD\"),\"\")","v":""},null,null,{"$f":"IF(spreedResult.!$F220<>\"\",spreedResult.!$C$10,\"\")","v":""},{"$f":"IF(spreedResult.!$F220<>\"\",spreedResult.!$C$9,\"\")","v":""},{"$f":"IF(spreedResult.!M220<>\"\",spreedResult.!M220,\"\")","v":""},{"$f":"IF(spreedResult.!H220<>\"\",IF(spreedResult.!$I$8=\"左記ご住所に送付\",\"2\",\"\"),\"\")","v":""},{"$nulls":8},"",null,"",null,"",null,"",null,"",null,"",null,"",null,"",null,"",null,""]
[null,{"$f":"IF(spreedResult.!B221<>\"\",TEXT(spreedResult.!B221,\"YYYY\")&TEXT(spreedResult.!B221,\"MM\")&TEXT(spreedResult.!B221,\"DD\"),\"\")","v":""},{"$f":"IF(spreedResult.!C221<>\"\",VLOOKUP(spreedResult.!C221,spreedResult.!$AU$2:$AV$12,2,0),\"\")","v":""},{"$nulls":4},{"$f":"IF(spreedResult.!P221<>\"\",VLOOKUP(spreedResult.!P221,Course!$A$2:$B$612,2,0),\"\")","v":""},null,{"$f":"CONCATENATE(TRIM(ASC(spreedResult.!F221)),\" \",TRIM(ASC(spreedResult.!G221)))","v":" "},{"$f":"CONCATENATE(TRIM(spreedResult.!H221),\"　\",TRIM(spreedResult.!I221))","v":"　"},{"$f":"IFERROR(VLOOKUP(spreedResult.!K221,spreedResult.!$AX$4:$AY$5,2,0),\"\")","v":""},{"$f":"IF(spreedResult.!L221<>\"\",TEXT(spreedResult.!L221,\"YYYY\")&TEXT(spreedResult.!L221,\"MM\")&TEXT(spreedResult.!L221,\"DD\"),\"\")","v":""},null,null,{"$f":"IF(spreedResult.!$F221<>\"\",spreedResult.!$C$10,\"\")","v":""},{"$f":"IF(spreedResult.!$F221<>\"\",spreedResult.!$C$9,\"\")","v":""},{"$f":"IF(spreedResult.!M221<>\"\",spreedResult.!M221,\"\")","v":""},{"$f":"IF(spreedResult.!H221<>\"\",IF(spreedResult.!$I$8=\"左記ご住所に送付\",\"2\",\"\"),\"\")","v":""},{"$nulls":8},"",null,"",null,"",null,"",null,"",null,"",null,"",null,"",null,"",null,""]
[null,{"$f":"IF(spreedResult.!B222<>\"\",TEXT(spreedResult.!B222,\"YYYY\")&TEXT(spreedResult.!B222,\"MM\")&TEXT(spreedResult.!B222,\"DD\"),\"\")","v":""},{"$f":"IF(spreedResult.!C222<>\"\",VLOOKUP(spreedResult.!C222,spreedResult.!$AU$2:$AV$12,2,0),\"\")","v":""},{"$nulls":4},{"$f":"IF(spreedResult.!P222<>\"\",VLOOKUP(spreedResult.!P222,Course!$A$2:$B$612,2,0),\"\")","v":""},null,{"$f":"CONCATENATE(TRIM(ASC(spreedResult.!F222)),\" \",TRIM(ASC(spreedResult.!G222)))","v":" "},{"$f":"CONCATENATE(TRIM(spreedResult.!H222),\"　\",TRIM(spreedResult.!I222))","v":"　"},{"$f":"IFERROR(VLOOKUP(spreedResult.!K222,spreedResult.!$AX$4:$AY$5,2,0),\"\")","v":""},{"$f":"IF(spreedResult.!L222<>\"\",TEXT(spreedResult.!L222,\"YYYY\")&TEXT(spreedResult.!L222,\"MM\")&TEXT(spreedResult.!L222,\"DD\"),\"\")","v":""},null,null,{"$f":"IF(spreedResult.!$F222<>\"\",spreedResult.!$C$10,\"\")","v":""},{"$f":"IF(spreedResult.!$F222<>\"\",spreedResult.!$C$9,\"\")","v":""},{"$f":"IF(spreedResult.!M222<>\"\",spreedResult.!M222,\"\")","v":""},{"$f":"IF(spreedResult.!H222<>\"\",IF(spreedResult.!$I$8=\"左記ご住所に送付\",\"2\",\"\"),\"\")","v":""},{"$nulls":8},"",null,"",null,"",null,"",null,"",null,"",null,"",null,"",null,"",null,""]
[null,{"$f":"IF(spreedResult.!B223<>\"\",TEXT(spreedResult.!B223,\"YYYY\")&TEXT(spreedResult.!B223,\"MM\")&TEXT(spreedResult.!B223,\"DD\"),\"\")","v":""},{"$f":"IF(spreedResult.!C223<>\"\",VLOOKUP(spreedResult.!C223,spreedResult.!$AU$2:$AV$12,2,0),\"\")","v":""},{"$nulls":4},{"$f":"IF(spreedResult.!P223<>\"\",VLOOKUP(spreedResult.!P223,Course!$A$2:$B$612,2,0),\"\")","v":""},null,{"$f":"CONCATENATE(TRIM(ASC(spreedResult.!F223)),\" \",TRIM(ASC(spreedResult.!G223)))","v":" "},{"$f":"CONCATENATE(TRIM(spreedResult.!H223),\"　\",TRIM(spreedResult.!I223))","v":"　"},{"$f":"IFERROR(VLOOKUP(spreedResult.!K223,spreedResult.!$AX$4:$AY$5,2,0),\"\")","v":""},{"$f":"IF(spreedResult.!L223<>\"\",TEXT(spreedResult.!L223,\"YYYY\")&TEXT(spreedResult.!L223,\"MM\")&TEXT(spreedResult.!L223,\"DD\"),\"\")","v":""},null,null,{"$f":"IF(spreedResult.!$F223<>\"\",spreedResult.!$C$10,\"\")","v":""},{"$f":"IF(spreedResult.!$F223<>\"\",spreedResult.!$C$9,\"\")","v":""},{"$f":"IF(spreedResult.!M223<>\"\",spreedResult.!M223,\"\")","v":""},{"$f":"IF(spreedResult.!H223<>\"\",IF(spreedResult.!$I$8=\"左記ご住所に送付\",\"2\",\"\"),\"\")","v":""},{"$nulls":8},"",null,"",null,"",null,"",null,"",null,"",null,"",null,"",null,"",null,""]
[null,{"$f":"IF(spreedResult.!B224<>\"\",TEXT(spreedResult.!B224,\"YYYY\")&TEXT(spreedResult.!B224,\"MM\")&TEXT(spreedResult.!B224,\"DD\"),\"\")","v":""},{"$f":"IF(spreedResult.!C224<>\"\",VLOOKUP(spreedResult.!C224,spreedResult.!$AU$2:$AV$12,2,0),\"\")","v":""},{"$nulls":4},{"$f":"IF(spreedResult.!P224<>\"\",VLOOKUP(spreedResult.!P224,Course!$A$2:$B$612,2,0),\"\")","v":""},null,{"$f":"CONCATENATE(TRIM(ASC(spreedResult.!F224)),\" \",TRIM(ASC(spreedResult.!G224)))","v":" "},{"$f":"CONCATENATE(TRIM(spreedResult.!H224),\"　\",TRIM(spreedResult.!I224))","v":"　"},{"$f":"IFERROR(VLOOKUP(spreedResult.!K224,spreedResult.!$AX$4:$AY$5,2,0),\"\")","v":""},{"$f":"IF(spreedResult.!L224<>\"\",TEXT(spreedResult.!L224,\"YYYY\")&TEXT(spreedResult.!L224,\"MM\")&TEXT(spreedResult.!L224,\"DD\"),\"\")","v":""},null,null,{"$f":"IF(spreedResult.!$F224<>\"\",spreedResult.!$C$10,\"\")","v":""},{"$f":"IF(spreedResult.!$F224<>\"\",spreedResult.!$C$9,\"\")","v":""},{"$f":"IF(spreedResult.!M224<>\"\",spreedResult.!M224,\"\")","v":""},{"$f":"IF(spreedResult.!H224<>\"\",IF(spreedResult.!$I$8=\"左記ご住所に送付\",\"2\",\"\"),\"\")","v":""},{"$nulls":8},"",null,"",null,"",null,"",null,"",null,"",null,"",null,"",null,"",null,""]
[null,{"$f":"IF(spreedResult.!B225<>\"\",TEXT(spreedResult.!B225,\"YYYY\")&TEXT(spreedResult.!B225,\"MM\")&TEXT(spreedResult.!B225,\"DD\"),\"\")","v":""},{"$f":"IF(spreedResult.!C225<>\"\",VLOOKUP(spreedResult.!C225,spreedResult.!$AU$2:$AV$12,2,0),\"\")","v":""},{"$nulls":4},{"$f":"IF(spreedResult.!P225<>\"\",VLOOKUP(spreedResult.!P225,Course!$A$2:$B$612,2,0),\"\")","v":""},null,{"$f":"CONCATENATE(TRIM(ASC(spreedResult.!F225)),\" \",TRIM(ASC(spreedResult.!G225)))","v":" "},{"$f":"CONCATENATE(TRIM(spreedResult.!H225),\"　\",TRIM(spreedResult.!I225))","v":"　"},{"$f":"IFERROR(VLOOKUP(spreedResult.!K225,spreedResult.!$AX$4:$AY$5,2,0),\"\")","v":""},{"$f":"IF(spreedResult.!L225<>\"\",TEXT(spreedResult.!L225,\"YYYY\")&TEXT(spreedResult.!L225,\"MM\")&TEXT(spreedResult.!L225,\"DD\"),\"\")","v":""},null,null,{"$f":"IF(spreedResult.!$F225<>\"\",spreedResult.!$C$10,\"\")","v":""},{"$f":"IF(spreedResult.!$F225<>\"\",spreedResult.!$C$9,\"\")","v":""},{"$f":"IF(spreedResult.!M225<>\"\",spreedResult.!M225,\"\")","v":""},{"$f":"IF(spreedResult.!H225<>\"\",IF(spreedResult.!$I$8=\"左記ご住所に送付\",\"2\",\"\"),\"\")","v":""},{"$nulls":8},"",null,"",null,"",null,"",null,"",null,"",null,"",null,"",null,"",null,""]
[null,{"$f":"IF(spreedResult.!B226<>\"\",TEXT(spreedResult.!B226,\"YYYY\")&TEXT(spreedResult.!B226,\"MM\")&TEXT(spreedResult.!B226,\"DD\"),\"\")","v":""},{"$f":"IF(spreedResult.!C226<>\"\",VLOOKUP(spreedResult.!C226,spreedResult.!$AU$2:$AV$12,2,0),\"\")","v":""},{"$nulls":4},{"$f":"IF(spreedResult.!P226<>\"\",VLOOKUP(spreedResult.!P226,Course!$A$2:$B$612,2,0),\"\")","v":""},null,{"$f":"CONCATENATE(TRIM(ASC(spreedResult.!F226)),\" \",TRIM(ASC(spreedResult.!G226)))","v":" "},{"$f":"CONCATENATE(TRIM(spreedResult.!H226),\"　\",TRIM(spreedResult.!I226))","v":"　"},{"$f":"IFERROR(VLOOKUP(spreedResult.!K226,spreedResult.!$AX$4:$AY$5,2,0),\"\")","v":""},{"$f":"IF(spreedResult.!L226<>\"\",TEXT(spreedResult.!L226,\"YYYY\")&TEXT(spreedResult.!L226,\"MM\")&TEXT(spreedResult.!L226,\"DD\"),\"\")","v":""},null,null,{"$f":"IF(spreedResult.!$F226<>\"\",spreedResult.!$C$10,\"\")","v":""},{"$f":"IF(spreedResult.!$F226<>\"\",spreedResult.!$C$9,\"\")","v":""},{"$f":"IF(spreedResult.!M226<>\"\",spreedResult.!M226,\"\")","v":""},{"$f":"IF(spreedResult.!H226<>\"\",IF(spreedResult.!$I$8=\"左記ご住所に送付\",\"2\",\"\"),\"\")","v":""},{"$nulls":8},"",null,"",null,"",null,"",null,"",null,"",null,"",null,"",null,"",null,""]
[null,{"$f":"IF(spreedResult.!B227<>\"\",TEXT(spreedResult.!B227,\"YYYY\")&TEXT(spreedResult.!B227,\"MM\")&TEXT(spreedResult.!B227,\"DD\"),\"\")","v":""},{"$f":"IF(spreedResult.!C227<>\"\",VLOOKUP(spreedResult.!C227,spreedResult.!$AU$2:$AV$12,2,0),\"\")","v":""},{"$nulls":4},{"$f":"IF(spreedResult.!P227<>\"\",VLOOKUP(spreedResult.!P227,Course!$A$2:$B$612,2,0),\"\")","v":""},null,{"$f":"CONCATENATE(TRIM(ASC(spreedResult.!F227)),\" \",TRIM(ASC(spreedResult.!G227)))","v":" "},{"$f":"CONCATENATE(TRIM(spreedResult.!H227),\"　\",TRIM(spreedResult.!I227))","v":"　"},{"$f":"IFERROR(VLOOKUP(spreedResult.!K227,spreedResult.!$AX$4:$AY$5,2,0),\"\")","v":""},{"$f":"IF(spreedResult.!L227<>\"\",TEXT(spreedResult.!L227,\"YYYY\")&TEXT(spreedResult.!L227,\"MM\")&TEXT(spreedResult.!L227,\"DD\"),\"\")","v":""},null,null,{"$f":"IF(spreedResult.!$F227<>\"\",spreedResult.!$C$10,\"\")","v":""},{"$f":"IF(spreedResult.!$F227<>\"\",spreedResult.!$C$9,\"\")","v":""},{"$f":"IF(spreedResult.!M227<>\"\",spreedResult.!M227,\"\")","v":""},{"$f":"IF(spreedResult.!H227<>\"\",IF(spreedResult.!$I$8=\"左記ご住所に送付\",\"2\",\"\"),\"\")","v":""},{"$nulls":8},"",null,"",null,"",null,"",null,"",null,"",null,"",null,"",null,"",null,""]
[null,{"$f":"IF(spreedResult.!B228<>\"\",TEXT(spreedResult.!B228,\"YYYY\")&TEXT(spreedResult.!B228,\"MM\")&TEXT(spreedResult.!B228,\"DD\"),\"\")","v":""},{"$f":"IF(spreedResult.!C228<>\"\",VLOOKUP(spreedResult.!C228,spreedResult.!$AU$2:$AV$12,2,0),\"\")","v":""},{"$nulls":4},{"$f":"IF(spreedResult.!P228<>\"\",VLOOKUP(spreedResult.!P228,Course!$A$2:$B$612,2,0),\"\")","v":""},null,{"$f":"CONCATENATE(TRIM(ASC(spreedResult.!F228)),\" \",TRIM(ASC(spreedResult.!G228)))","v":" "},{"$f":"CONCATENATE(TRIM(spreedResult.!H228),\"　\",TRIM(spreedResult.!I228))","v":"　"},{"$f":"IFERROR(VLOOKUP(spreedResult.!K228,spreedResult.!$AX$4:$AY$5,2,0),\"\")","v":""},{"$f":"IF(spreedResult.!L228<>\"\",TEXT(spreedResult.!L228,\"YYYY\")&TEXT(spreedResult.!L228,\"MM\")&TEXT(spreedResult.!L228,\"DD\"),\"\")","v":""},null,null,{"$f":"IF(spreedResult.!$F228<>\"\",spreedResult.!$C$10,\"\")","v":""},{"$f":"IF(spreedResult.!$F228<>\"\",spreedResult.!$C$9,\"\")","v":""},{"$f":"IF(spreedResult.!M228<>\"\",spreedResult.!M228,\"\")","v":""},{"$f":"IF(spreedResult.!H228<>\"\",IF(spreedResult.!$I$8=\"左記ご住所に送付\",\"2\",\"\"),\"\")","v":""},{"$nulls":8},"",null,"",null,"",null,"",null,"",null,"",null,"",null,"",null,"",null,""]
[null,{"$f":"IF(spreedResult.!B229<>\"\",TEXT(spreedResult.!B229,\"YYYY\")&TEXT(spreedResult.!B229,\"MM\")&TEXT(spreedResult.!B229,\"DD\"),\"\")","v":""},{"$f":"IF(spreedResult.!C229<>\"\",VLOOKUP(spreedResult.!C229,spreedResult.!$AU$2:$AV$12,2,0),\"\")","v":""},{"$nulls":4},{"$f":"IF(spreedResult.!P229<>\"\",VLOOKUP(spreedResult.!P229,Course!$A$2:$B$612,2,0),\"\")","v":""},null,{"$f":"CONCATENATE(TRIM(ASC(spreedResult.!F229)),\" \",TRIM(ASC(spreedResult.!G229)))","v":" "},{"$f":"CONCATENATE(TRIM(spreedResult.!H229),\"　\",TRIM(spreedResult.!I229))","v":"　"},{"$f":"IFERROR(VLOOKUP(spreedResult.!K229,spreedResult.!$AX$4:$AY$5,2,0),\"\")","v":""},{"$f":"IF(spreedResult.!L229<>\"\",TEXT(spreedResult.!L229,\"YYYY\")&TEXT(spreedResult.!L229,\"MM\")&TEXT(spreedResult.!L229,\"DD\"),\"\")","v":""},null,null,{"$f":"IF(spreedResult.!$F229<>\"\",spreedResult.!$C$10,\"\")","v":""},{"$f":"IF(spreedResult.!$F229<>\"\",spreedResult.!$C$9,\"\")","v":""},{"$f":"IF(spreedResult.!M229<>\"\",spreedResult.!M229,\"\")","v":""},{"$f":"IF(spreedResult.!H229<>\"\",IF(spreedResult.!$I$8=\"左記ご住所に送付\",\"2\",\"\"),\"\")","v":""},{"$nulls":8},"",null,"",null,"",null,"",null,"",null,"",null,"",null,"",null,"",null,""]
[null,{"$f":"IF(spreedResult.!B230<>\"\",TEXT(spreedResult.!B230,\"YYYY\")&TEXT(spreedResult.!B230,\"MM\")&TEXT(spreedResult.!B230,\"DD\"),\"\")","v":""},{"$f":"IF(spreedResult.!C230<>\"\",VLOOKUP(spreedResult.!C230,spreedResult.!$AU$2:$AV$12,2,0),\"\")","v":""},{"$nulls":4},{"$f":"IF(spreedResult.!P230<>\"\",VLOOKUP(spreedResult.!P230,Course!$A$2:$B$612,2,0),\"\")","v":""},null,{"$f":"CONCATENATE(TRIM(ASC(spreedResult.!F230)),\" \",TRIM(ASC(spreedResult.!G230)))","v":" "},{"$f":"CONCATENATE(TRIM(spreedResult.!H230),\"　\",TRIM(spreedResult.!I230))","v":"　"},{"$f":"IFERROR(VLOOKUP(spreedResult.!K230,spreedResult.!$AX$4:$AY$5,2,0),\"\")","v":""},{"$f":"IF(spreedResult.!L230<>\"\",TEXT(spreedResult.!L230,\"YYYY\")&TEXT(spreedResult.!L230,\"MM\")&TEXT(spreedResult.!L230,\"DD\"),\"\")","v":""},null,null,{"$f":"IF(spreedResult.!$F230<>\"\",spreedResult.!$C$10,\"\")","v":""},{"$f":"IF(spreedResult.!$F230<>\"\",spreedResult.!$C$9,\"\")","v":""},{"$f":"IF(spreedResult.!M230<>\"\",spreedResult.!M230,\"\")","v":""},{"$f":"IF(spreedResult.!H230<>\"\",IF(spreedResult.!$I$8=\"左記ご住所に送付\",\"2\",\"\"),\"\")","v":""},{"$nulls":8},"",null,"",null,"",null,"",null,"",null,"",null,"",null,"",null,"",null,""]
[null,{"$f":"IF(spreedResult.!B231<>\"\",TEXT(spreedResult.!B231,\"YYYY\")&TEXT(spreedResult.!B231,\"MM\")&TEXT(spreedResult.!B231,\"DD\"),\"\")","v":""},{"$f":"IF(spreedResult.!C231<>\"\",VLOOKUP(spreedResult.!C231,spreedResult.!$AU$2:$AV$12,2,0),\"\")","v":""},{"$nulls":4},{"$f":"IF(spreedResult.!P231<>\"\",VLOOKUP(spreedResult.!P231,Course!$A$2:$B$612,2,0),\"\")","v":""},null,{"$f":"CONCATENATE(TRIM(ASC(spreedResult.!F231)),\" \",TRIM(ASC(spreedResult.!G231)))","v":" "},{"$f":"CONCATENATE(TRIM(spreedResult.!H231),\"　\",TRIM(spreedResult.!I231))","v":"　"},{"$f":"IFERROR(VLOOKUP(spreedResult.!K231,spreedResult.!$AX$4:$AY$5,2,0),\"\")","v":""},{"$f":"IF(spreedResult.!L231<>\"\",TEXT(spreedResult.!L231,\"YYYY\")&TEXT(spreedResult.!L231,\"MM\")&TEXT(spreedResult.!L231,\"DD\"),\"\")","v":""},null,null,{"$f":"IF(spreedResult.!$F231<>\"\",spreedResult.!$C$10,\"\")","v":""},{"$f":"IF(spreedResult.!$F231<>\"\",spreedResult.!$C$9,\"\")","v":""},{"$f":"IF(spreedResult.!M231<>\"\",spreedResult.!M231,\"\")","v":""},{"$f":"IF(spreedResult.!H231<>\"\",IF(spreedResult.!$I$8=\"左記ご住所に送付\",\"2\",\"\"),\"\")","v":""},{"$nulls":8},"",null,"",null,"",null,"",null,"",null,"",null,"",null,"",null,"",null,""]
[null,{"$f":"IF(spreedResult.!B232<>\"\",TEXT(spreedResult.!B232,\"YYYY\")&TEXT(spreedResult.!B232,\"MM\")&TEXT(spreedResult.!B232,\"DD\"),\"\")","v":""},{"$f":"IF(spreedResult.!C232<>\"\",VLOOKUP(spreedResult.!C232,spreedResult.!$AU$2:$AV$12,2,0),\"\")","v":""},{"$nulls":4},{"$f":"IF(spreedResult.!P232<>\"\",VLOOKUP(spreedResult.!P232,Course!$A$2:$B$612,2,0),\"\")","v":""},null,{"$f":"CONCATENATE(TRIM(ASC(spreedResult.!F232)),\" \",TRIM(ASC(spreedResult.!G232)))","v":" "},{"$f":"CONCATENATE(TRIM(spreedResult.!H232),\"　\",TRIM(spreedResult.!I232))","v":"　"},{"$f":"IFERROR(VLOOKUP(spreedResult.!K232,spreedResult.!$AX$4:$AY$5,2,0),\"\")","v":""},{"$f":"IF(spreedResult.!L232<>\"\",TEXT(spreedResult.!L232,\"YYYY\")&TEXT(spreedResult.!L232,\"MM\")&TEXT(spreedResult.!L232,\"DD\"),\"\")","v":""},null,null,{"$f":"IF(spreedResult.!$F232<>\"\",spreedResult.!$C$10,\"\")","v":""},{"$f":"IF(spreedResult.!$F232<>\"\",spreedResult.!$C$9,\"\")","v":""},{"$f":"IF(spreedResult.!M232<>\"\",spreedResult.!M232,\"\")","v":""},{"$f":"IF(spreedResult.!H232<>\"\",IF(spreedResult.!$I$8=\"左記ご住所に送付\",\"2\",\"\"),\"\")","v":""},{"$nulls":8},"",null,"",null,"",null,"",null,"",null,"",null,"",null,"",null,"",null,""]
[null,{"$f":"IF(spreedResult.!B233<>\"\",TEXT(spreedResult.!B233,\"YYYY\")&TEXT(spreedResult.!B233,\"MM\")&TEXT(spreedResult.!B233,\"DD\"),\"\")","v":""},{"$f":"IF(spreedResult.!C233<>\"\",VLOOKUP(spreedResult.!C233,spreedResult.!$AU$2:$AV$12,2,0),\"\")","v":""},{"$nulls":4},{"$f":"IF(spreedResult.!P233<>\"\",VLOOKUP(spreedResult.!P233,Course!$A$2:$B$612,2,0),\"\")","v":""},null,{"$f":"CONCATENATE(TRIM(ASC(spreedResult.!F233)),\" \",TRIM(ASC(spreedResult.!G233)))","v":" "},{"$f":"CONCATENATE(TRIM(spreedResult.!H233),\"　\",TRIM(spreedResult.!I233))","v":"　"},{"$f":"IFERROR(VLOOKUP(spreedResult.!K233,spreedResult.!$AX$4:$AY$5,2,0),\"\")","v":""},{"$f":"IF(spreedResult.!L233<>\"\",TEXT(spreedResult.!L233,\"YYYY\")&TEXT(spreedResult.!L233,\"MM\")&TEXT(spreedResult.!L233,\"DD\"),\"\")","v":""},null,null,{"$f":"IF(spreedResult.!$F233<>\"\",spreedResult.!$C$10,\"\")","v":""},{"$f":"IF(spreedResult.!$F233<>\"\",spreedResult.!$C$9,\"\")","v":""},{"$f":"IF(spreedResult.!M233<>\"\",spreedResult.!M233,\"\")","v":""},{"$f":"IF(spreedResult.!H233<>\"\",IF(spreedResult.!$I$8=\"左記ご住所に送付\",\"2\",\"\"),\"\")","v":""},{"$nulls":8},"",null,"",null,"",null,"",null,"",null,"",null,"",null,"",null,"",null,""]
[null,{"$f":"IF(spreedResult.!B234<>\"\",TEXT(spreedResult.!B234,\"YYYY\")&TEXT(spreedResult.!B234,\"MM\")&TEXT(spreedResult.!B234,\"DD\"),\"\")","v":""},{"$f":"IF(spreedResult.!C234<>\"\",VLOOKUP(spreedResult.!C234,spreedResult.!$AU$2:$AV$12,2,0),\"\")","v":""},{"$nulls":4},{"$f":"IF(spreedResult.!P234<>\"\",VLOOKUP(spreedResult.!P234,Course!$A$2:$B$612,2,0),\"\")","v":""},null,{"$f":"CONCATENATE(TRIM(ASC(spreedResult.!F234)),\" \",TRIM(ASC(spreedResult.!G234)))","v":" "},{"$f":"CONCATENATE(TRIM(spreedResult.!H234),\"　\",TRIM(spreedResult.!I234))","v":"　"},{"$f":"IFERROR(VLOOKUP(spreedResult.!K234,spreedResult.!$AX$4:$AY$5,2,0),\"\")","v":""},{"$f":"IF(spreedResult.!L234<>\"\",TEXT(spreedResult.!L234,\"YYYY\")&TEXT(spreedResult.!L234,\"MM\")&TEXT(spreedResult.!L234,\"DD\"),\"\")","v":""},null,null,{"$f":"IF(spreedResult.!$F234<>\"\",spreedResult.!$C$10,\"\")","v":""},{"$f":"IF(spreedResult.!$F234<>\"\",spreedResult.!$C$9,\"\")","v":""},{"$f":"IF(spreedResult.!M234<>\"\",spreedResult.!M234,\"\")","v":""},{"$f":"IF(spreedResult.!H234<>\"\",IF(spreedResult.!$I$8=\"左記ご住所に送付\",\"2\",\"\"),\"\")","v":""},{"$nulls":8},"",null,"",null,"",null,"",null,"",null,"",null,"",null,"",null,"",null,""]
[null,{"$f":"IF(spreedResult.!B235<>\"\",TEXT(spreedResult.!B235,\"YYYY\")&TEXT(spreedResult.!B235,\"MM\")&TEXT(spreedResult.!B235,\"DD\"),\"\")","v":""},{"$f":"IF(spreedResult.!C235<>\"\",VLOOKUP(spreedResult.!C235,spreedResult.!$AU$2:$AV$12,2,0),\"\")","v":""},{"$nulls":4},{"$f":"IF(spreedResult.!P235<>\"\",VLOOKUP(spreedResult.!P235,Course!$A$2:$B$612,2,0),\"\")","v":""},null,{"$f":"CONCATENATE(TRIM(ASC(spreedResult.!F235)),\" \",TRIM(ASC(spreedResult.!G235)))","v":" "},{"$f":"CONCATENATE(TRIM(spreedResult.!H235),\"　\",TRIM(spreedResult.!I235))","v":"　"},{"$f":"IFERROR(VLOOKUP(spreedResult.!K235,spreedResult.!$AX$4:$AY$5,2,0),\"\")","v":""},{"$f":"IF(spreedResult.!L235<>\"\",TEXT(spreedResult.!L235,\"YYYY\")&TEXT(spreedResult.!L235,\"MM\")&TEXT(spreedResult.!L235,\"DD\"),\"\")","v":""},null,null,{"$f":"IF(spreedResult.!$F235<>\"\",spreedResult.!$C$10,\"\")","v":""},{"$f":"IF(spreedResult.!$F235<>\"\",spreedResult.!$C$9,\"\")","v":""},{"$f":"IF(spreedResult.!M235<>\"\",spreedResult.!M235,\"\")","v":""},{"$f":"IF(spreedResult.!H235<>\"\",IF(spreedResult.!$I$8=\"左記ご住所に送付\",\"2\",\"\"),\"\")","v":""},{"$nulls":8},"",null,"",null,"",null,"",null,"",null,"",null,"",null,"",null,"",null,""]
[null,{"$f":"IF(spreedResult.!B236<>\"\",TEXT(spreedResult.!B236,\"YYYY\")&TEXT(spreedResult.!B236,\"MM\")&TEXT(spreedResult.!B236,\"DD\"),\"\")","v":""},{"$f":"IF(spreedResult.!C236<>\"\",VLOOKUP(spreedResult.!C236,spreedResult.!$AU$2:$AV$12,2,0),\"\")","v":""},{"$nulls":4},{"$f":"IF(spreedResult.!P236<>\"\",VLOOKUP(spreedResult.!P236,Course!$A$2:$B$612,2,0),\"\")","v":""},null,{"$f":"CONCATENATE(TRIM(ASC(spreedResult.!F236)),\" \",TRIM(ASC(spreedResult.!G236)))","v":" "},{"$f":"CONCATENATE(TRIM(spreedResult.!H236),\"　\",TRIM(spreedResult.!I236))","v":"　"},{"$f":"IFERROR(VLOOKUP(spreedResult.!K236,spreedResult.!$AX$4:$AY$5,2,0),\"\")","v":""},{"$f":"IF(spreedResult.!L236<>\"\",TEXT(spreedResult.!L236,\"YYYY\")&TEXT(spreedResult.!L236,\"MM\")&TEXT(spreedResult.!L236,\"DD\"),\"\")","v":""},null,null,{"$f":"IF(spreedResult.!$F236<>\"\",spreedResult.!$C$10,\"\")","v":""},{"$f":"IF(spreedResult.!$F236<>\"\",spreedResult.!$C$9,\"\")","v":""},{"$f":"IF(spreedResult.!M236<>\"\",spreedResult.!M236,\"\")","v":""},{"$f":"IF(spreedResult.!H236<>\"\",IF(spreedResult.!$I$8=\"左記ご住所に送付\",\"2\",\"\"),\"\")","v":""},{"$nulls":8},"",null,"",null,"",null,"",null,"",null,"",null,"",null,"",null,"",null,""]
[null,{"$f":"IF(spreedResult.!B237<>\"\",TEXT(spreedResult.!B237,\"YYYY\")&TEXT(spreedResult.!B237,\"MM\")&TEXT(spreedResult.!B237,\"DD\"),\"\")","v":""},{"$f":"IF(spreedResult.!C237<>\"\",VLOOKUP(spreedResult.!C237,spreedResult.!$AU$2:$AV$12,2,0),\"\")","v":""},{"$nulls":4},{"$f":"IF(spreedResult.!P237<>\"\",VLOOKUP(spreedResult.!P237,Course!$A$2:$B$612,2,0),\"\")","v":""},null,{"$f":"CONCATENATE(TRIM(ASC(spreedResult.!F237)),\" \",TRIM(ASC(spreedResult.!G237)))","v":" "},{"$f":"CONCATENATE(TRIM(spreedResult.!H237),\"　\",TRIM(spreedResult.!I237))","v":"　"},{"$f":"IFERROR(VLOOKUP(spreedResult.!K237,spreedResult.!$AX$4:$AY$5,2,0),\"\")","v":""},{"$f":"IF(spreedResult.!L237<>\"\",TEXT(spreedResult.!L237,\"YYYY\")&TEXT(spreedResult.!L237,\"MM\")&TEXT(spreedResult.!L237,\"DD\"),\"\")","v":""},null,null,{"$f":"IF(spreedResult.!$F237<>\"\",spreedResult.!$C$10,\"\")","v":""},{"$f":"IF(spreedResult.!$F237<>\"\",spreedResult.!$C$9,\"\")","v":""},{"$f":"IF(spreedResult.!M237<>\"\",spreedResult.!M237,\"\")","v":""},{"$f":"IF(spreedResult.!H237<>\"\",IF(spreedResult.!$I$8=\"左記ご住所に送付\",\"2\",\"\"),\"\")","v":""},{"$nulls":8},"",null,"",null,"",null,"",null,"",null,"",null,"",null,"",null,"",null,""]
[null,{"$f":"IF(spreedResult.!B238<>\"\",TEXT(spreedResult.!B238,\"YYYY\")&TEXT(spreedResult.!B238,\"MM\")&TEXT(spreedResult.!B238,\"DD\"),\"\")","v":""},{"$f":"IF(spreedResult.!C238<>\"\",VLOOKUP(spreedResult.!C238,spreedResult.!$AU$2:$AV$12,2,0),\"\")","v":""},{"$nulls":4},{"$f":"IF(spreedResult.!P238<>\"\",VLOOKUP(spreedResult.!P238,Course!$A$2:$B$612,2,0),\"\")","v":""},null,{"$f":"CONCATENATE(TRIM(ASC(spreedResult.!F238)),\" \",TRIM(ASC(spreedResult.!G238)))","v":" "},{"$f":"CONCATENATE(TRIM(spreedResult.!H238),\"　\",TRIM(spreedResult.!I238))","v":"　"},{"$f":"IFERROR(VLOOKUP(spreedResult.!K238,spreedResult.!$AX$4:$AY$5,2,0),\"\")","v":""},{"$f":"IF(spreedResult.!L238<>\"\",TEXT(spreedResult.!L238,\"YYYY\")&TEXT(spreedResult.!L238,\"MM\")&TEXT(spreedResult.!L238,\"DD\"),\"\")","v":""},null,null,{"$f":"IF(spreedResult.!$F238<>\"\",spreedResult.!$C$10,\"\")","v":""},{"$f":"IF(spreedResult.!$F238<>\"\",spreedResult.!$C$9,\"\")","v":""},{"$f":"IF(spreedResult.!M238<>\"\",spreedResult.!M238,\"\")","v":""},{"$f":"IF(spreedResult.!H238<>\"\",IF(spreedResult.!$I$8=\"左記ご住所に送付\",\"2\",\"\"),\"\")","v":""},{"$nulls":8},"",null,"",null,"",null,"",null,"",null,"",null,"",null,"",null,"",null,""]
[null,{"$f":"IF(spreedResult.!B239<>\"\",TEXT(spreedResult.!B239,\"YYYY\")&TEXT(spreedResult.!B239,\"MM\")&TEXT(spreedResult.!B239,\"DD\"),\"\")","v":""},{"$f":"IF(spreedResult.!C239<>\"\",VLOOKUP(spreedResult.!C239,spreedResult.!$AU$2:$AV$12,2,0),\"\")","v":""},{"$nulls":4},{"$f":"IF(spreedResult.!P239<>\"\",VLOOKUP(spreedResult.!P239,Course!$A$2:$B$612,2,0),\"\")","v":""},null,{"$f":"CONCATENATE(TRIM(ASC(spreedResult.!F239)),\" \",TRIM(ASC(spreedResult.!G239)))","v":" "},{"$f":"CONCATENATE(TRIM(spreedResult.!H239),\"　\",TRIM(spreedResult.!I239))","v":"　"},{"$f":"IFERROR(VLOOKUP(spreedResult.!K239,spreedResult.!$AX$4:$AY$5,2,0),\"\")","v":""},{"$f":"IF(spreedResult.!L239<>\"\",TEXT(spreedResult.!L239,\"YYYY\")&TEXT(spreedResult.!L239,\"MM\")&TEXT(spreedResult.!L239,\"DD\"),\"\")","v":""},null,null,{"$f":"IF(spreedResult.!$F239<>\"\",spreedResult.!$C$10,\"\")","v":""},{"$f":"IF(spreedResult.!$F239<>\"\",spreedResult.!$C$9,\"\")","v":""},{"$f":"IF(spreedResult.!M239<>\"\",spreedResult.!M239,\"\")","v":""},{"$f":"IF(spreedResult.!H239<>\"\",IF(spreedResult.!$I$8=\"左記ご住所に送付\",\"2\",\"\"),\"\")","v":""},{"$nulls":8},"",null,"",null,"",null,"",null,"",null,"",null,"",null,"",null,"",null,""]
[null,{"$f":"IF(spreedResult.!B240<>\"\",TEXT(spreedResult.!B240,\"YYYY\")&TEXT(spreedResult.!B240,\"MM\")&TEXT(spreedResult.!B240,\"DD\"),\"\")","v":""},{"$f":"IF(spreedResult.!C240<>\"\",VLOOKUP(spreedResult.!C240,spreedResult.!$AU$2:$AV$12,2,0),\"\")","v":""},{"$nulls":4},{"$f":"IF(spreedResult.!P240<>\"\",VLOOKUP(spreedResult.!P240,Course!$A$2:$B$612,2,0),\"\")","v":""},null,{"$f":"CONCATENATE(TRIM(ASC(spreedResult.!F240)),\" \",TRIM(ASC(spreedResult.!G240)))","v":" "},{"$f":"CONCATENATE(TRIM(spreedResult.!H240),\"　\",TRIM(spreedResult.!I240))","v":"　"},{"$f":"IFERROR(VLOOKUP(spreedResult.!K240,spreedResult.!$AX$4:$AY$5,2,0),\"\")","v":""},{"$f":"IF(spreedResult.!L240<>\"\",TEXT(spreedResult.!L240,\"YYYY\")&TEXT(spreedResult.!L240,\"MM\")&TEXT(spreedResult.!L240,\"DD\"),\"\")","v":""},null,null,{"$f":"IF(spreedResult.!$F240<>\"\",spreedResult.!$C$10,\"\")","v":""},{"$f":"IF(spreedResult.!$F240<>\"\",spreedResult.!$C$9,\"\")","v":""},{"$f":"IF(spreedResult.!M240<>\"\",spreedResult.!M240,\"\")","v":""},{"$f":"IF(spreedResult.!H240<>\"\",IF(spreedResult.!$I$8=\"左記ご住所に送付\",\"2\",\"\"),\"\")","v":""},{"$nulls":8},"",null,"",null,"",null,"",null,"",null,"",null,"",null,"",null,"",null,""]
[null,{"$f":"IF(spreedResult.!B241<>\"\",TEXT(spreedResult.!B241,\"YYYY\")&TEXT(spreedResult.!B241,\"MM\")&TEXT(spreedResult.!B241,\"DD\"),\"\")","v":""},{"$f":"IF(spreedResult.!C241<>\"\",VLOOKUP(spreedResult.!C241,spreedResult.!$AU$2:$AV$12,2,0),\"\")","v":""},{"$nulls":4},{"$f":"IF(spreedResult.!P241<>\"\",VLOOKUP(spreedResult.!P241,Course!$A$2:$B$612,2,0),\"\")","v":""},null,{"$f":"CONCATENATE(TRIM(ASC(spreedResult.!F241)),\" \",TRIM(ASC(spreedResult.!G241)))","v":" "},{"$f":"CONCATENATE(TRIM(spreedResult.!H241),\"　\",TRIM(spreedResult.!I241))","v":"　"},{"$f":"IFERROR(VLOOKUP(spreedResult.!K241,spreedResult.!$AX$4:$AY$5,2,0),\"\")","v":""},{"$f":"IF(spreedResult.!L241<>\"\",TEXT(spreedResult.!L241,\"YYYY\")&TEXT(spreedResult.!L241,\"MM\")&TEXT(spreedResult.!L241,\"DD\"),\"\")","v":""},null,null,{"$f":"IF(spreedResult.!$F241<>\"\",spreedResult.!$C$10,\"\")","v":""},{"$f":"IF(spreedResult.!$F241<>\"\",spreedResult.!$C$9,\"\")","v":""},{"$f":"IF(spreedResult.!M241<>\"\",spreedResult.!M241,\"\")","v":""},{"$f":"IF(spreedResult.!H241<>\"\",IF(spreedResult.!$I$8=\"左記ご住所に送付\",\"2\",\"\"),\"\")","v":""},{"$nulls":8},"",null,"",null,"",null,"",null,"",null,"",null,"",null,"",null,"",null,""]
[null,{"$f":"IF(spreedResult.!B242<>\"\",TEXT(spreedResult.!B242,\"YYYY\")&TEXT(spreedResult.!B242,\"MM\")&TEXT(spreedResult.!B242,\"DD\"),\"\")","v":""},{"$f":"IF(spreedResult.!C242<>\"\",VLOOKUP(spreedResult.!C242,spreedResult.!$AU$2:$AV$12,2,0),\"\")","v":""},{"$nulls":4},{"$f":"IF(spreedResult.!P242<>\"\",VLOOKUP(spreedResult.!P242,Course!$A$2:$B$612,2,0),\"\")","v":""},null,{"$f":"CONCATENATE(TRIM(ASC(spreedResult.!F242)),\" \",TRIM(ASC(spreedResult.!G242)))","v":" "},{"$f":"CONCATENATE(TRIM(spreedResult.!H242),\"　\",TRIM(spreedResult.!I242))","v":"　"},{"$f":"IFERROR(VLOOKUP(spreedResult.!K242,spreedResult.!$AX$4:$AY$5,2,0),\"\")","v":""},{"$f":"IF(spreedResult.!L242<>\"\",TEXT(spreedResult.!L242,\"YYYY\")&TEXT(spreedResult.!L242,\"MM\")&TEXT(spreedResult.!L242,\"DD\"),\"\")","v":""},null,null,{"$f":"IF(spreedResult.!$F242<>\"\",spreedResult.!$C$10,\"\")","v":""},{"$f":"IF(spreedResult.!$F242<>\"\",spreedResult.!$C$9,\"\")","v":""},{"$f":"IF(spreedResult.!M242<>\"\",spreedResult.!M242,\"\")","v":""},{"$f":"IF(spreedResult.!H242<>\"\",IF(spreedResult.!$I$8=\"左記ご住所に送付\",\"2\",\"\"),\"\")","v":""},{"$nulls":8},"",null,"",null,"",null,"",null,"",null,"",null,"",null,"",null,"",null,""]
[null,{"$f":"IF(spreedResult.!B243<>\"\",TEXT(spreedResult.!B243,\"YYYY\")&TEXT(spreedResult.!B243,\"MM\")&TEXT(spreedResult.!B243,\"DD\"),\"\")","v":""},{"$f":"IF(spreedResult.!C243<>\"\",VLOOKUP(spreedResult.!C243,spreedResult.!$AU$2:$AV$12,2,0),\"\")","v":""},{"$nulls":4},{"$f":"IF(spreedResult.!P243<>\"\",VLOOKUP(spreedResult.!P243,Course!$A$2:$B$612,2,0),\"\")","v":""},null,{"$f":"CONCATENATE(TRIM(ASC(spreedResult.!F243)),\" \",TRIM(ASC(spreedResult.!G243)))","v":" "},{"$f":"CONCATENATE(TRIM(spreedResult.!H243),\"　\",TRIM(spreedResult.!I243))","v":"　"},{"$f":"IFERROR(VLOOKUP(spreedResult.!K243,spreedResult.!$AX$4:$AY$5,2,0),\"\")","v":""},{"$f":"IF(spreedResult.!L243<>\"\",TEXT(spreedResult.!L243,\"YYYY\")&TEXT(spreedResult.!L243,\"MM\")&TEXT(spreedResult.!L243,\"DD\"),\"\")","v":""},null,null,{"$f":"IF(spreedResult.!$F243<>\"\",spreedResult.!$C$10,\"\")","v":""},{"$f":"IF(spreedResult.!$F243<>\"\",spreedResult.!$C$9,\"\")","v":""},{"$f":"IF(spreedResult.!M243<>\"\",spreedResult.!M243,\"\")","v":""},{"$f":"IF(spreedResult.!H243<>\"\",IF(spreedResult.!$I$8=\"左記ご住所に送付\",\"2\",\"\"),\"\")","v":""},{"$nulls":8},"",null,"",null,"",null,"",null,"",null,"",null,"",null,"",null,"",null,""]
[null,{"$f":"IF(spreedResult.!B244<>\"\",TEXT(spreedResult.!B244,\"YYYY\")&TEXT(spreedResult.!B244,\"MM\")&TEXT(spreedResult.!B244,\"DD\"),\"\")","v":""},{"$f":"IF(spreedResult.!C244<>\"\",VLOOKUP(spreedResult.!C244,spreedResult.!$AU$2:$AV$12,2,0),\"\")","v":""},{"$nulls":4},{"$f":"IF(spreedResult.!P244<>\"\",VLOOKUP(spreedResult.!P244,Course!$A$2:$B$612,2,0),\"\")","v":""},null,{"$f":"CONCATENATE(TRIM(ASC(spreedResult.!F244)),\" \",TRIM(ASC(spreedResult.!G244)))","v":" "},{"$f":"CONCATENATE(TRIM(spreedResult.!H244),\"　\",TRIM(spreedResult.!I244))","v":"　"},{"$f":"IFERROR(VLOOKUP(spreedResult.!K244,spreedResult.!$AX$4:$AY$5,2,0),\"\")","v":""},{"$f":"IF(spreedResult.!L244<>\"\",TEXT(spreedResult.!L244,\"YYYY\")&TEXT(spreedResult.!L244,\"MM\")&TEXT(spreedResult.!L244,\"DD\"),\"\")","v":""},null,null,{"$f":"IF(spreedResult.!$F244<>\"\",spreedResult.!$C$10,\"\")","v":""},{"$f":"IF(spreedResult.!$F244<>\"\",spreedResult.!$C$9,\"\")","v":""},{"$f":"IF(spreedResult.!M244<>\"\",spreedResult.!M244,\"\")","v":""},{"$f":"IF(spreedResult.!H244<>\"\",IF(spreedResult.!$I$8=\"左記ご住所に送付\",\"2\",\"\"),\"\")","v":""},{"$nulls":8},"",null,"",null,"",null,"",null,"",null,"",null,"",null,"",null,"",null,""]
[null,{"$f":"IF(spreedResult.!B245<>\"\",TEXT(spreedResult.!B245,\"YYYY\")&TEXT(spreedResult.!B245,\"MM\")&TEXT(spreedResult.!B245,\"DD\"),\"\")","v":""},{"$f":"IF(spreedResult.!C245<>\"\",VLOOKUP(spreedResult.!C245,spreedResult.!$AU$2:$AV$12,2,0),\"\")","v":""},{"$nulls":4},{"$f":"IF(spreedResult.!P245<>\"\",VLOOKUP(spreedResult.!P245,Course!$A$2:$B$612,2,0),\"\")","v":""},null,{"$f":"CONCATENATE(TRIM(ASC(spreedResult.!F245)),\" \",TRIM(ASC(spreedResult.!G245)))","v":" "},{"$f":"CONCATENATE(TRIM(spreedResult.!H245),\"　\",TRIM(spreedResult.!I245))","v":"　"},{"$f":"IFERROR(VLOOKUP(spreedResult.!K245,spreedResult.!$AX$4:$AY$5,2,0),\"\")","v":""},{"$f":"IF(spreedResult.!L245<>\"\",TEXT(spreedResult.!L245,\"YYYY\")&TEXT(spreedResult.!L245,\"MM\")&TEXT(spreedResult.!L245,\"DD\"),\"\")","v":""},null,null,{"$f":"IF(spreedResult.!$F245<>\"\",spreedResult.!$C$10,\"\")","v":""},{"$f":"IF(spreedResult.!$F245<>\"\",spreedResult.!$C$9,\"\")","v":""},{"$f":"IF(spreedResult.!M245<>\"\",spreedResult.!M245,\"\")","v":""},{"$f":"IF(spreedResult.!H245<>\"\",IF(spreedResult.!$I$8=\"左記ご住所に送付\",\"2\",\"\"),\"\")","v":""},{"$nulls":8},"",null,"",null,"",null,"",null,"",null,"",null,"",null,"",null,"",null,""]
[null,{"$f":"IF(spreedResult.!B246<>\"\",TEXT(spreedResult.!B246,\"YYYY\")&TEXT(spreedResult.!B246,\"MM\")&TEXT(spreedResult.!B246,\"DD\"),\"\")","v":""},{"$f":"IF(spreedResult.!C246<>\"\",VLOOKUP(spreedResult.!C246,spreedResult.!$AU$2:$AV$12,2,0),\"\")","v":""},{"$nulls":4},{"$f":"IF(spreedResult.!P246<>\"\",VLOOKUP(spreedResult.!P246,Course!$A$2:$B$612,2,0),\"\")","v":""},null,{"$f":"CONCATENATE(TRIM(ASC(spreedResult.!F246)),\" \",TRIM(ASC(spreedResult.!G246)))","v":" "},{"$f":"CONCATENATE(TRIM(spreedResult.!H246),\"　\",TRIM(spreedResult.!I246))","v":"　"},{"$f":"IFERROR(VLOOKUP(spreedResult.!K246,spreedResult.!$AX$4:$AY$5,2,0),\"\")","v":""},{"$f":"IF(spreedResult.!L246<>\"\",TEXT(spreedResult.!L246,\"YYYY\")&TEXT(spreedResult.!L246,\"MM\")&TEXT(spreedResult.!L246,\"DD\"),\"\")","v":""},null,null,{"$f":"IF(spreedResult.!$F246<>\"\",spreedResult.!$C$10,\"\")","v":""},{"$f":"IF(spreedResult.!$F246<>\"\",spreedResult.!$C$9,\"\")","v":""},{"$f":"IF(spreedResult.!M246<>\"\",spreedResult.!M246,\"\")","v":""},{"$f":"IF(spreedResult.!H246<>\"\",IF(spreedResult.!$I$8=\"左記ご住所に送付\",\"2\",\"\"),\"\")","v":""},{"$nulls":8},"",null,"",null,"",null,"",null,"",null,"",null,"",null,"",null,"",null,""]
[null,{"$f":"IF(spreedResult.!B247<>\"\",TEXT(spreedResult.!B247,\"YYYY\")&TEXT(spreedResult.!B247,\"MM\")&TEXT(spreedResult.!B247,\"DD\"),\"\")","v":""},{"$f":"IF(spreedResult.!C247<>\"\",VLOOKUP(spreedResult.!C247,spreedResult.!$AU$2:$AV$12,2,0),\"\")","v":""},{"$nulls":4},{"$f":"IF(spreedResult.!P247<>\"\",VLOOKUP(spreedResult.!P247,Course!$A$2:$B$612,2,0),\"\")","v":""},null,{"$f":"CONCATENATE(TRIM(ASC(spreedResult.!F247)),\" \",TRIM(ASC(spreedResult.!G247)))","v":" "},{"$f":"CONCATENATE(TRIM(spreedResult.!H247),\"　\",TRIM(spreedResult.!I247))","v":"　"},{"$f":"IFERROR(VLOOKUP(spreedResult.!K247,spreedResult.!$AX$4:$AY$5,2,0),\"\")","v":""},{"$f":"IF(spreedResult.!L247<>\"\",TEXT(spreedResult.!L247,\"YYYY\")&TEXT(spreedResult.!L247,\"MM\")&TEXT(spreedResult.!L247,\"DD\"),\"\")","v":""},null,null,{"$f":"IF(spreedResult.!$F247<>\"\",spreedResult.!$C$10,\"\")","v":""},{"$f":"IF(spreedResult.!$F247<>\"\",spreedResult.!$C$9,\"\")","v":""},{"$f":"IF(spreedResult.!M247<>\"\",spreedResult.!M247,\"\")","v":""},{"$f":"IF(spreedResult.!H247<>\"\",IF(spreedResult.!$I$8=\"左記ご住所に送付\",\"2\",\"\"),\"\")","v":""},{"$nulls":8},"",null,"",null,"",null,"",null,"",null,"",null,"",null,"",null,"",null,""]
[null,{"$f":"IF(spreedResult.!B248<>\"\",TEXT(spreedResult.!B248,\"YYYY\")&TEXT(spreedResult.!B248,\"MM\")&TEXT(spreedResult.!B248,\"DD\"),\"\")","v":""},{"$f":"IF(spreedResult.!C248<>\"\",VLOOKUP(spreedResult.!C248,spreedResult.!$AU$2:$AV$12,2,0),\"\")","v":""},{"$nulls":4},{"$f":"IF(spreedResult.!P248<>\"\",VLOOKUP(spreedResult.!P248,Course!$A$2:$B$612,2,0),\"\")","v":""},null,{"$f":"CONCATENATE(TRIM(ASC(spreedResult.!F248)),\" \",TRIM(ASC(spreedResult.!G248)))","v":" "},{"$f":"CONCATENATE(TRIM(spreedResult.!H248),\"　\",TRIM(spreedResult.!I248))","v":"　"},{"$f":"IFERROR(VLOOKUP(spreedResult.!K248,spreedResult.!$AX$4:$AY$5,2,0),\"\")","v":""},{"$f":"IF(spreedResult.!L248<>\"\",TEXT(spreedResult.!L248,\"YYYY\")&TEXT(spreedResult.!L248,\"MM\")&TEXT(spreedResult.!L248,\"DD\"),\"\")","v":""},null,null,{"$f":"IF(spreedResult.!$F248<>\"\",spreedResult.!$C$10,\"\")","v":""},{"$f":"IF(spreedResult.!$F248<>\"\",spreedResult.!$C$9,\"\")","v":""},{"$f":"IF(spreedResult.!M248<>\"\",spreedResult.!M248,\"\")","v":""},{"$f":"IF(spreedResult.!H248<>\"\",IF(spreedResult.!$I$8=\"左記ご住所に送付\",\"2\",\"\"),\"\")","v":""},{"$nulls":8},"",null,"",null,"",null,"",null,"",null,"",null,"",null,"",null,"",null,""]
[null,{"$f":"IF(spreedResult.!B249<>\"\",TEXT(spreedResult.!B249,\"YYYY\")&TEXT(spreedResult.!B249,\"MM\")&TEXT(spreedResult.!B249,\"DD\"),\"\")","v":""},{"$f":"IF(spreedResult.!C249<>\"\",VLOOKUP(spreedResult.!C249,spreedResult.!$AU$2:$AV$12,2,0),\"\")","v":""},{"$nulls":4},{"$f":"IF(spreedResult.!P249<>\"\",VLOOKUP(spreedResult.!P249,Course!$A$2:$B$612,2,0),\"\")","v":""},null,{"$f":"CONCATENATE(TRIM(ASC(spreedResult.!F249)),\" \",TRIM(ASC(spreedResult.!G249)))","v":" "},{"$f":"CONCATENATE(TRIM(spreedResult.!H249),\"　\",TRIM(spreedResult.!I249))","v":"　"},{"$f":"IFERROR(VLOOKUP(spreedResult.!K249,spreedResult.!$AX$4:$AY$5,2,0),\"\")","v":""},{"$f":"IF(spreedResult.!L249<>\"\",TEXT(spreedResult.!L249,\"YYYY\")&TEXT(spreedResult.!L249,\"MM\")&TEXT(spreedResult.!L249,\"DD\"),\"\")","v":""},null,null,{"$f":"IF(spreedResult.!$F249<>\"\",spreedResult.!$C$10,\"\")","v":""},{"$f":"IF(spreedResult.!$F249<>\"\",spreedResult.!$C$9,\"\")","v":""},{"$f":"IF(spreedResult.!M249<>\"\",spreedResult.!M249,\"\")","v":""},{"$f":"IF(spreedResult.!H249<>\"\",IF(spreedResult.!$I$8=\"左記ご住所に送付\",\"2\",\"\"),\"\")","v":""},{"$nulls":8},"",null,"",null,"",null,"",null,"",null,"",null,"",null,"",null,"",null,""]
[null,{"$f":"IF(spreedResult.!B250<>\"\",TEXT(spreedResult.!B250,\"YYYY\")&TEXT(spreedResult.!B250,\"MM\")&TEXT(spreedResult.!B250,\"DD\"),\"\")","v":""},{"$f":"IF(spreedResult.!C250<>\"\",VLOOKUP(spreedResult.!C250,spreedResult.!$AU$2:$AV$12,2,0),\"\")","v":""},{"$nulls":4},{"$f":"IF(spreedResult.!P250<>\"\",VLOOKUP(spreedResult.!P250,Course!$A$2:$B$612,2,0),\"\")","v":""},null,{"$f":"CONCATENATE(TRIM(ASC(spreedResult.!F250)),\" \",TRIM(ASC(spreedResult.!G250)))","v":" "},{"$f":"CONCATENATE(TRIM(spreedResult.!H250),\"　\",TRIM(spreedResult.!I250))","v":"　"},{"$f":"IFERROR(VLOOKUP(spreedResult.!K250,spreedResult.!$AX$4:$AY$5,2,0),\"\")","v":""},{"$f":"IF(spreedResult.!L250<>\"\",TEXT(spreedResult.!L250,\"YYYY\")&TEXT(spreedResult.!L250,\"MM\")&TEXT(spreedResult.!L250,\"DD\"),\"\")","v":""},null,null,{"$f":"IF(spreedResult.!$F250<>\"\",spreedResult.!$C$10,\"\")","v":""},{"$f":"IF(spreedResult.!$F250<>\"\",spreedResult.!$C$9,\"\")","v":""},{"$f":"IF(spreedResult.!M250<>\"\",spreedResult.!M250,\"\")","v":""},{"$f":"IF(spreedResult.!H250<>\"\",IF(spreedResult.!$I$8=\"左記ご住所に送付\",\"2\",\"\"),\"\")","v":""},{"$nulls":8},"",null,"",null,"",null,"",null,"",null,"",null,"",null,"",null,"",null,""]
[null,{"$f":"IF(spreedResult.!B251<>\"\",TEXT(spreedResult.!B251,\"YYYY\")&TEXT(spreedResult.!B251,\"MM\")&TEXT(spreedResult.!B251,\"DD\"),\"\")","v":""},{"$f":"IF(spreedResult.!C251<>\"\",VLOOKUP(spreedResult.!C251,spreedResult.!$AU$2:$AV$12,2,0),\"\")","v":""},{"$nulls":4},{"$f":"IF(spreedResult.!P251<>\"\",VLOOKUP(spreedResult.!P251,Course!$A$2:$B$612,2,0),\"\")","v":""},null,{"$f":"CONCATENATE(TRIM(ASC(spreedResult.!F251)),\" \",TRIM(ASC(spreedResult.!G251)))","v":" "},{"$f":"CONCATENATE(TRIM(spreedResult.!H251),\"　\",TRIM(spreedResult.!I251))","v":"　"},{"$f":"IFERROR(VLOOKUP(spreedResult.!K251,spreedResult.!$AX$4:$AY$5,2,0),\"\")","v":""},{"$f":"IF(spreedResult.!L251<>\"\",TEXT(spreedResult.!L251,\"YYYY\")&TEXT(spreedResult.!L251,\"MM\")&TEXT(spreedResult.!L251,\"DD\"),\"\")","v":""},null,null,{"$f":"IF(spreedResult.!$F251<>\"\",spreedResult.!$C$10,\"\")","v":""},{"$f":"IF(spreedResult.!$F251<>\"\",spreedResult.!$C$9,\"\")","v":""},{"$f":"IF(spreedResult.!M251<>\"\",spreedResult.!M251,\"\")","v":""},{"$f":"IF(spreedResult.!H251<>\"\",IF(spreedResult.!$I$8=\"左記ご住所に送付\",\"2\",\"\"),\"\")","v":""},{"$nulls":8},"",null,"",null,"",null,"",null,"",null,"",null,"",null,"",null,"",null,""]
[null,{"$f":"IF(spreedResult.!B252<>\"\",TEXT(spreedResult.!B252,\"YYYY\")&TEXT(spreedResult.!B252,\"MM\")&TEXT(spreedResult.!B252,\"DD\"),\"\")","v":""},{"$f":"IF(spreedResult.!C252<>\"\",VLOOKUP(spreedResult.!C252,spreedResult.!$AU$2:$AV$12,2,0),\"\")","v":""},{"$nulls":4},{"$f":"IF(spreedResult.!P252<>\"\",VLOOKUP(spreedResult.!P252,Course!$A$2:$B$612,2,0),\"\")","v":""},null,{"$f":"CONCATENATE(TRIM(ASC(spreedResult.!F252)),\" \",TRIM(ASC(spreedResult.!G252)))","v":" "},{"$f":"CONCATENATE(TRIM(spreedResult.!H252),\"　\",TRIM(spreedResult.!I252))","v":"　"},{"$f":"IFERROR(VLOOKUP(spreedResult.!K252,spreedResult.!$AX$4:$AY$5,2,0),\"\")","v":""},{"$f":"IF(spreedResult.!L252<>\"\",TEXT(spreedResult.!L252,\"YYYY\")&TEXT(spreedResult.!L252,\"MM\")&TEXT(spreedResult.!L252,\"DD\"),\"\")","v":""},null,null,{"$f":"IF(spreedResult.!$F252<>\"\",spreedResult.!$C$10,\"\")","v":""},{"$f":"IF(spreedResult.!$F252<>\"\",spreedResult.!$C$9,\"\")","v":""},{"$f":"IF(spreedResult.!M252<>\"\",spreedResult.!M252,\"\")","v":""},{"$f":"IF(spreedResult.!H252<>\"\",IF(spreedResult.!$I$8=\"左記ご住所に送付\",\"2\",\"\"),\"\")","v":""},{"$nulls":8},"",null,"",null,"",null,"",null,"",null,"",null,"",null,"",null,"",null,""]
[null,{"$f":"IF(spreedResult.!B253<>\"\",TEXT(spreedResult.!B253,\"YYYY\")&TEXT(spreedResult.!B253,\"MM\")&TEXT(spreedResult.!B253,\"DD\"),\"\")","v":""},{"$f":"IF(spreedResult.!C253<>\"\",VLOOKUP(spreedResult.!C253,spreedResult.!$AU$2:$AV$12,2,0),\"\")","v":""},{"$nulls":4},{"$f":"IF(spreedResult.!P253<>\"\",VLOOKUP(spreedResult.!P253,Course!$A$2:$B$612,2,0),\"\")","v":""},null,{"$f":"CONCATENATE(TRIM(ASC(spreedResult.!F253)),\" \",TRIM(ASC(spreedResult.!G253)))","v":" "},{"$f":"CONCATENATE(TRIM(spreedResult.!H253),\"　\",TRIM(spreedResult.!I253))","v":"　"},{"$f":"IFERROR(VLOOKUP(spreedResult.!K253,spreedResult.!$AX$4:$AY$5,2,0),\"\")","v":""},{"$f":"IF(spreedResult.!L253<>\"\",TEXT(spreedResult.!L253,\"YYYY\")&TEXT(spreedResult.!L253,\"MM\")&TEXT(spreedResult.!L253,\"DD\"),\"\")","v":""},null,null,{"$f":"IF(spreedResult.!$F253<>\"\",spreedResult.!$C$10,\"\")","v":""},{"$f":"IF(spreedResult.!$F253<>\"\",spreedResult.!$C$9,\"\")","v":""},{"$f":"IF(spreedResult.!M253<>\"\",spreedResult.!M253,\"\")","v":""},{"$f":"IF(spreedResult.!H253<>\"\",IF(spreedResult.!$I$8=\"左記ご住所に送付\",\"2\",\"\"),\"\")","v":""},{"$nulls":8},"",null,"",null,"",null,"",null,"",null,"",null,"",null,"",null,"",null,""]
[null,{"$f":"IF(spreedResult.!B254<>\"\",TEXT(spreedResult.!B254,\"YYYY\")&TEXT(spreedResult.!B254,\"MM\")&TEXT(spreedResult.!B254,\"DD\"),\"\")","v":""},{"$f":"IF(spreedResult.!C254<>\"\",VLOOKUP(spreedResult.!C254,spreedResult.!$AU$2:$AV$12,2,0),\"\")","v":""},{"$nulls":4},{"$f":"IF(spreedResult.!P254<>\"\",VLOOKUP(spreedResult.!P254,Course!$A$2:$B$612,2,0),\"\")","v":""},null,{"$f":"CONCATENATE(TRIM(ASC(spreedResult.!F254)),\" \",TRIM(ASC(spreedResult.!G254)))","v":" "},{"$f":"CONCATENATE(TRIM(spreedResult.!H254),\"　\",TRIM(spreedResult.!I254))","v":"　"},{"$f":"IFERROR(VLOOKUP(spreedResult.!K254,spreedResult.!$AX$4:$AY$5,2,0),\"\")","v":""},{"$f":"IF(spreedResult.!L254<>\"\",TEXT(spreedResult.!L254,\"YYYY\")&TEXT(spreedResult.!L254,\"MM\")&TEXT(spreedResult.!L254,\"DD\"),\"\")","v":""},null,null,{"$f":"IF(spreedResult.!$F254<>\"\",spreedResult.!$C$10,\"\")","v":""},{"$f":"IF(spreedResult.!$F254<>\"\",spreedResult.!$C$9,\"\")","v":""},{"$f":"IF(spreedResult.!M254<>\"\",spreedResult.!M254,\"\")","v":""},{"$f":"IF(spreedResult.!H254<>\"\",IF(spreedResult.!$I$8=\"左記ご住所に送付\",\"2\",\"\"),\"\")","v":""},{"$nulls":8},"",null,"",null,"",null,"",null,"",null,"",null,"",null,"",null,"",null,""]
[null,{"$f":"IF(spreedResult.!B255<>\"\",TEXT(spreedResult.!B255,\"YYYY\")&TEXT(spreedResult.!B255,\"MM\")&TEXT(spreedResult.!B255,\"DD\"),\"\")","v":""},{"$f":"IF(spreedResult.!C255<>\"\",VLOOKUP(spreedResult.!C255,spreedResult.!$AU$2:$AV$12,2,0),\"\")","v":""},{"$nulls":4},{"$f":"IF(spreedResult.!P255<>\"\",VLOOKUP(spreedResult.!P255,Course!$A$2:$B$612,2,0),\"\")","v":""},null,{"$f":"CONCATENATE(TRIM(ASC(spreedResult.!F255)),\" \",TRIM(ASC(spreedResult.!G255)))","v":" "},{"$f":"CONCATENATE(TRIM(spreedResult.!H255),\"　\",TRIM(spreedResult.!I255))","v":"　"},{"$f":"IFERROR(VLOOKUP(spreedResult.!K255,spreedResult.!$AX$4:$AY$5,2,0),\"\")","v":""},{"$f":"IF(spreedResult.!L255<>\"\",TEXT(spreedResult.!L255,\"YYYY\")&TEXT(spreedResult.!L255,\"MM\")&TEXT(spreedResult.!L255,\"DD\"),\"\")","v":""},null,null,{"$f":"IF(spreedResult.!$F255<>\"\",spreedResult.!$C$10,\"\")","v":""},{"$f":"IF(spreedResult.!$F255<>\"\",spreedResult.!$C$9,\"\")","v":""},{"$f":"IF(spreedResult.!M255<>\"\",spreedResult.!M255,\"\")","v":""},{"$f":"IF(spreedResult.!H255<>\"\",IF(spreedResult.!$I$8=\"左記ご住所に送付\",\"2\",\"\"),\"\")","v":""},{"$nulls":8},"",null,"",null,"",null,"",null,"",null,"",null,"",null,"",null,"",null,""]
[null,{"$f":"IF(spreedResult.!B256<>\"\",TEXT(spreedResult.!B256,\"YYYY\")&TEXT(spreedResult.!B256,\"MM\")&TEXT(spreedResult.!B256,\"DD\"),\"\")","v":""},{"$f":"IF(spreedResult.!C256<>\"\",VLOOKUP(spreedResult.!C256,spreedResult.!$AU$2:$AV$12,2,0),\"\")","v":""},{"$nulls":4},{"$f":"IF(spreedResult.!P256<>\"\",VLOOKUP(spreedResult.!P256,Course!$A$2:$B$612,2,0),\"\")","v":""},null,{"$f":"CONCATENATE(TRIM(ASC(spreedResult.!F256)),\" \",TRIM(ASC(spreedResult.!G256)))","v":" "},{"$f":"CONCATENATE(TRIM(spreedResult.!H256),\"　\",TRIM(spreedResult.!I256))","v":"　"},{"$f":"IFERROR(VLOOKUP(spreedResult.!K256,spreedResult.!$AX$4:$AY$5,2,0),\"\")","v":""},{"$f":"IF(spreedResult.!L256<>\"\",TEXT(spreedResult.!L256,\"YYYY\")&TEXT(spreedResult.!L256,\"MM\")&TEXT(spreedResult.!L256,\"DD\"),\"\")","v":""},null,null,{"$f":"IF(spreedResult.!$F256<>\"\",spreedResult.!$C$10,\"\")","v":""},{"$f":"IF(spreedResult.!$F256<>\"\",spreedResult.!$C$9,\"\")","v":""},{"$f":"IF(spreedResult.!M256<>\"\",spreedResult.!M256,\"\")","v":""},{"$f":"IF(spreedResult.!H256<>\"\",IF(spreedResult.!$I$8=\"左記ご住所に送付\",\"2\",\"\"),\"\")","v":""},{"$nulls":8},"",null,"",null,"",null,"",null,"",null,"",null,"",null,"",null,"",null,""]
[null,{"$f":"IF(spreedResult.!B257<>\"\",TEXT(spreedResult.!B257,\"YYYY\")&TEXT(spreedResult.!B257,\"MM\")&TEXT(spreedResult.!B257,\"DD\"),\"\")","v":""},{"$f":"IF(spreedResult.!C257<>\"\",VLOOKUP(spreedResult.!C257,spreedResult.!$AU$2:$AV$12,2,0),\"\")","v":""},{"$nulls":4},{"$f":"IF(spreedResult.!P257<>\"\",VLOOKUP(spreedResult.!P257,Course!$A$2:$B$612,2,0),\"\")","v":""},null,{"$f":"CONCATENATE(TRIM(ASC(spreedResult.!F257)),\" \",TRIM(ASC(spreedResult.!G257)))","v":" "},{"$f":"CONCATENATE(TRIM(spreedResult.!H257),\"　\",TRIM(spreedResult.!I257))","v":"　"},{"$f":"IFERROR(VLOOKUP(spreedResult.!K257,spreedResult.!$AX$4:$AY$5,2,0),\"\")","v":""},{"$f":"IF(spreedResult.!L257<>\"\",TEXT(spreedResult.!L257,\"YYYY\")&TEXT(spreedResult.!L257,\"MM\")&TEXT(spreedResult.!L257,\"DD\"),\"\")","v":""},null,null,{"$f":"IF(spreedResult.!$F257<>\"\",spreedResult.!$C$10,\"\")","v":""},{"$f":"IF(spreedResult.!$F257<>\"\",spreedResult.!$C$9,\"\")","v":""},{"$f":"IF(spreedResult.!M257<>\"\",spreedResult.!M257,\"\")","v":""},{"$f":"IF(spreedResult.!H257<>\"\",IF(spreedResult.!$I$8=\"左記ご住所に送付\",\"2\",\"\"),\"\")","v":""},{"$nulls":8},"",null,"",null,"",null,"",null,"",null,"",null,"",null,"",null,"",null,""]
[null,{"$f":"IF(spreedResult.!B258<>\"\",TEXT(spreedResult.!B258,\"YYYY\")&TEXT(spreedResult.!B258,\"MM\")&TEXT(spreedResult.!B258,\"DD\"),\"\")","v":""},{"$f":"IF(spreedResult.!C258<>\"\",VLOOKUP(spreedResult.!C258,spreedResult.!$AU$2:$AV$12,2,0),\"\")","v":""},{"$nulls":4},{"$f":"IF(spreedResult.!P258<>\"\",VLOOKUP(spreedResult.!P258,Course!$A$2:$B$612,2,0),\"\")","v":""},null,{"$f":"CONCATENATE(TRIM(ASC(spreedResult.!F258)),\" \",TRIM(ASC(spreedResult.!G258)))","v":" "},{"$f":"CONCATENATE(TRIM(spreedResult.!H258),\"　\",TRIM(spreedResult.!I258))","v":"　"},{"$f":"IFERROR(VLOOKUP(spreedResult.!K258,spreedResult.!$AX$4:$AY$5,2,0),\"\")","v":""},{"$f":"IF(spreedResult.!L258<>\"\",TEXT(spreedResult.!L258,\"YYYY\")&TEXT(spreedResult.!L258,\"MM\")&TEXT(spreedResult.!L258,\"DD\"),\"\")","v":""},null,null,{"$f":"IF(spreedResult.!$F258<>\"\",spreedResult.!$C$10,\"\")","v":""},{"$f":"IF(spreedResult.!$F258<>\"\",spreedResult.!$C$9,\"\")","v":""},{"$f":"IF(spreedResult.!M258<>\"\",spreedResult.!M258,\"\")","v":""},{"$f":"IF(spreedResult.!H258<>\"\",IF(spreedResult.!$I$8=\"左記ご住所に送付\",\"2\",\"\"),\"\")","v":""},{"$nulls":8},"",null,"",null,"",null,"",null,"",null,"",null,"",null,"",null,"",null,""]
[null,{"$f":"IF(spreedResult.!B259<>\"\",TEXT(spreedResult.!B259,\"YYYY\")&TEXT(spreedResult.!B259,\"MM\")&TEXT(spreedResult.!B259,\"DD\"),\"\")","v":""},{"$f":"IF(spreedResult.!C259<>\"\",VLOOKUP(spreedResult.!C259,spreedResult.!$AU$2:$AV$12,2,0),\"\")","v":""},{"$nulls":4},{"$f":"IF(spreedResult.!P259<>\"\",VLOOKUP(spreedResult.!P259,Course!$A$2:$B$612,2,0),\"\")","v":""},null,{"$f":"CONCATENATE(TRIM(ASC(spreedResult.!F259)),\" \",TRIM(ASC(spreedResult.!G259)))","v":" "},{"$f":"CONCATENATE(TRIM(spreedResult.!H259),\"　\",TRIM(spreedResult.!I259))","v":"　"},{"$f":"IFERROR(VLOOKUP(spreedResult.!K259,spreedResult.!$AX$4:$AY$5,2,0),\"\")","v":""},{"$f":"IF(spreedResult.!L259<>\"\",TEXT(spreedResult.!L259,\"YYYY\")&TEXT(spreedResult.!L259,\"MM\")&TEXT(spreedResult.!L259,\"DD\"),\"\")","v":""},null,null,{"$f":"IF(spreedResult.!$F259<>\"\",spreedResult.!$C$10,\"\")","v":""},{"$f":"IF(spreedResult.!$F259<>\"\",spreedResult.!$C$9,\"\")","v":""},{"$f":"IF(spreedResult.!M259<>\"\",spreedResult.!M259,\"\")","v":""},{"$f":"IF(spreedResult.!H259<>\"\",IF(spreedResult.!$I$8=\"左記ご住所に送付\",\"2\",\"\"),\"\")","v":""},{"$nulls":8},"",null,"",null,"",null,"",null,"",null,"",null,"",null,"",null,"",null,""]
[null,{"$f":"IF(spreedResult.!B260<>\"\",TEXT(spreedResult.!B260,\"YYYY\")&TEXT(spreedResult.!B260,\"MM\")&TEXT(spreedResult.!B260,\"DD\"),\"\")","v":""},{"$f":"IF(spreedResult.!C260<>\"\",VLOOKUP(spreedResult.!C260,spreedResult.!$AU$2:$AV$12,2,0),\"\")","v":""},{"$nulls":4},{"$f":"IF(spreedResult.!P260<>\"\",VLOOKUP(spreedResult.!P260,Course!$A$2:$B$612,2,0),\"\")","v":""},null,{"$f":"CONCATENATE(TRIM(ASC(spreedResult.!F260)),\" \",TRIM(ASC(spreedResult.!G260)))","v":" "},{"$f":"CONCATENATE(TRIM(spreedResult.!H260),\"　\",TRIM(spreedResult.!I260))","v":"　"},{"$f":"IFERROR(VLOOKUP(spreedResult.!K260,spreedResult.!$AX$4:$AY$5,2,0),\"\")","v":""},{"$f":"IF(spreedResult.!L260<>\"\",TEXT(spreedResult.!L260,\"YYYY\")&TEXT(spreedResult.!L260,\"MM\")&TEXT(spreedResult.!L260,\"DD\"),\"\")","v":""},null,null,{"$f":"IF(spreedResult.!$F260<>\"\",spreedResult.!$C$10,\"\")","v":""},{"$f":"IF(spreedResult.!$F260<>\"\",spreedResult.!$C$9,\"\")","v":""},{"$f":"IF(spreedResult.!M260<>\"\",spreedResult.!M260,\"\")","v":""},{"$f":"IF(spreedResult.!H260<>\"\",IF(spreedResult.!$I$8=\"左記ご住所に送付\",\"2\",\"\"),\"\")","v":""},{"$nulls":8},"",null,"",null,"",null,"",null,"",null,"",null,"",null,"",null,"",null,""]
[null,{"$f":"IF(spreedResult.!B261<>\"\",TEXT(spreedResult.!B261,\"YYYY\")&TEXT(spreedResult.!B261,\"MM\")&TEXT(spreedResult.!B261,\"DD\"),\"\")","v":""},{"$f":"IF(spreedResult.!C261<>\"\",VLOOKUP(spreedResult.!C261,spreedResult.!$AU$2:$AV$12,2,0),\"\")","v":""},{"$nulls":4},{"$f":"IF(spreedResult.!P261<>\"\",VLOOKUP(spreedResult.!P261,Course!$A$2:$B$612,2,0),\"\")","v":""},null,{"$f":"CONCATENATE(TRIM(ASC(spreedResult.!F261)),\" \",TRIM(ASC(spreedResult.!G261)))","v":" "},{"$f":"CONCATENATE(TRIM(spreedResult.!H261),\"　\",TRIM(spreedResult.!I261))","v":"　"},{"$f":"IFERROR(VLOOKUP(spreedResult.!K261,spreedResult.!$AX$4:$AY$5,2,0),\"\")","v":""},{"$f":"IF(spreedResult.!L261<>\"\",TEXT(spreedResult.!L261,\"YYYY\")&TEXT(spreedResult.!L261,\"MM\")&TEXT(spreedResult.!L261,\"DD\"),\"\")","v":""},null,null,{"$f":"IF(spreedResult.!$F261<>\"\",spreedResult.!$C$10,\"\")","v":""},{"$f":"IF(spreedResult.!$F261<>\"\",spreedResult.!$C$9,\"\")","v":""},{"$f":"IF(spreedResult.!M261<>\"\",spreedResult.!M261,\"\")","v":""},{"$f":"IF(spreedResult.!H261<>\"\",IF(spreedResult.!$I$8=\"左記ご住所に送付\",\"2\",\"\"),\"\")","v":""},{"$nulls":8},"",null,"",null,"",null,"",null,"",null,"",null,"",null,"",null,"",null,""]
[null,{"$f":"IF(spreedResult.!B262<>\"\",TEXT(spreedResult.!B262,\"YYYY\")&TEXT(spreedResult.!B262,\"MM\")&TEXT(spreedResult.!B262,\"DD\"),\"\")","v":""},{"$f":"IF(spreedResult.!C262<>\"\",VLOOKUP(spreedResult.!C262,spreedResult.!$AU$2:$AV$12,2,0),\"\")","v":""},{"$nulls":4},{"$f":"IF(spreedResult.!P262<>\"\",VLOOKUP(spreedResult.!P262,Course!$A$2:$B$612,2,0),\"\")","v":""},null,{"$f":"CONCATENATE(TRIM(ASC(spreedResult.!F262)),\" \",TRIM(ASC(spreedResult.!G262)))","v":" "},{"$f":"CONCATENATE(TRIM(spreedResult.!H262),\"　\",TRIM(spreedResult.!I262))","v":"　"},{"$f":"IFERROR(VLOOKUP(spreedResult.!K262,spreedResult.!$AX$4:$AY$5,2,0),\"\")","v":""},{"$f":"IF(spreedResult.!L262<>\"\",TEXT(spreedResult.!L262,\"YYYY\")&TEXT(spreedResult.!L262,\"MM\")&TEXT(spreedResult.!L262,\"DD\"),\"\")","v":""},null,null,{"$f":"IF(spreedResult.!$F262<>\"\",spreedResult.!$C$10,\"\")","v":""},{"$f":"IF(spreedResult.!$F262<>\"\",spreedResult.!$C$9,\"\")","v":""},{"$f":"IF(spreedResult.!M262<>\"\",spreedResult.!M262,\"\")","v":""},{"$f":"IF(spreedResult.!H262<>\"\",IF(spreedResult.!$I$8=\"左記ご住所に送付\",\"2\",\"\"),\"\")","v":""},{"$nulls":8},"",null,"",null,"",null,"",null,"",null,"",null,"",null,"",null,"",null,""]
[null,{"$f":"IF(spreedResult.!B263<>\"\",TEXT(spreedResult.!B263,\"YYYY\")&TEXT(spreedResult.!B263,\"MM\")&TEXT(spreedResult.!B263,\"DD\"),\"\")","v":""},{"$f":"IF(spreedResult.!C263<>\"\",VLOOKUP(spreedResult.!C263,spreedResult.!$AU$2:$AV$12,2,0),\"\")","v":""},{"$nulls":4},{"$f":"IF(spreedResult.!P263<>\"\",VLOOKUP(spreedResult.!P263,Course!$A$2:$B$612,2,0),\"\")","v":""},null,{"$f":"CONCATENATE(TRIM(ASC(spreedResult.!F263)),\" \",TRIM(ASC(spreedResult.!G263)))","v":" "},{"$f":"CONCATENATE(TRIM(spreedResult.!H263),\"　\",TRIM(spreedResult.!I263))","v":"　"},{"$f":"IFERROR(VLOOKUP(spreedResult.!K263,spreedResult.!$AX$4:$AY$5,2,0),\"\")","v":""},{"$f":"IF(spreedResult.!L263<>\"\",TEXT(spreedResult.!L263,\"YYYY\")&TEXT(spreedResult.!L263,\"MM\")&TEXT(spreedResult.!L263,\"DD\"),\"\")","v":""},null,null,{"$f":"IF(spreedResult.!$F263<>\"\",spreedResult.!$C$10,\"\")","v":""},{"$f":"IF(spreedResult.!$F263<>\"\",spreedResult.!$C$9,\"\")","v":""},{"$f":"IF(spreedResult.!M263<>\"\",spreedResult.!M263,\"\")","v":""},{"$f":"IF(spreedResult.!H263<>\"\",IF(spreedResult.!$I$8=\"左記ご住所に送付\",\"2\",\"\"),\"\")","v":""},{"$nulls":8},"",null,"",null,"",null,"",null,"",null,"",null,"",null,"",null,"",null,""]
[null,{"$f":"IF(spreedResult.!B264<>\"\",TEXT(spreedResult.!B264,\"YYYY\")&TEXT(spreedResult.!B264,\"MM\")&TEXT(spreedResult.!B264,\"DD\"),\"\")","v":""},{"$f":"IF(spreedResult.!C264<>\"\",VLOOKUP(spreedResult.!C264,spreedResult.!$AU$2:$AV$12,2,0),\"\")","v":""},{"$nulls":4},{"$f":"IF(spreedResult.!P264<>\"\",VLOOKUP(spreedResult.!P264,Course!$A$2:$B$612,2,0),\"\")","v":""},null,{"$f":"CONCATENATE(TRIM(ASC(spreedResult.!F264)),\" \",TRIM(ASC(spreedResult.!G264)))","v":" "},{"$f":"CONCATENATE(TRIM(spreedResult.!H264),\"　\",TRIM(spreedResult.!I264))","v":"　"},{"$f":"IFERROR(VLOOKUP(spreedResult.!K264,spreedResult.!$AX$4:$AY$5,2,0),\"\")","v":""},{"$f":"IF(spreedResult.!L264<>\"\",TEXT(spreedResult.!L264,\"YYYY\")&TEXT(spreedResult.!L264,\"MM\")&TEXT(spreedResult.!L264,\"DD\"),\"\")","v":""},null,null,{"$f":"IF(spreedResult.!$F264<>\"\",spreedResult.!$C$10,\"\")","v":""},{"$f":"IF(spreedResult.!$F264<>\"\",spreedResult.!$C$9,\"\")","v":""},{"$f":"IF(spreedResult.!M264<>\"\",spreedResult.!M264,\"\")","v":""},{"$f":"IF(spreedResult.!H264<>\"\",IF(spreedResult.!$I$8=\"左記ご住所に送付\",\"2\",\"\"),\"\")","v":""},{"$nulls":8},"",null,"",null,"",null,"",null,"",null,"",null,"",null,"",null,"",null,""]
[null,{"$f":"IF(spreedResult.!B265<>\"\",TEXT(spreedResult.!B265,\"YYYY\")&TEXT(spreedResult.!B265,\"MM\")&TEXT(spreedResult.!B265,\"DD\"),\"\")","v":""},{"$f":"IF(spreedResult.!C265<>\"\",VLOOKUP(spreedResult.!C265,spreedResult.!$AU$2:$AV$12,2,0),\"\")","v":""},{"$nulls":4},{"$f":"IF(spreedResult.!P265<>\"\",VLOOKUP(spreedResult.!P265,Course!$A$2:$B$612,2,0),\"\")","v":""},null,{"$f":"CONCATENATE(TRIM(ASC(spreedResult.!F265)),\" \",TRIM(ASC(spreedResult.!G265)))","v":" "},{"$f":"CONCATENATE(TRIM(spreedResult.!H265),\"　\",TRIM(spreedResult.!I265))","v":"　"},{"$f":"IFERROR(VLOOKUP(spreedResult.!K265,spreedResult.!$AX$4:$AY$5,2,0),\"\")","v":""},{"$f":"IF(spreedResult.!L265<>\"\",TEXT(spreedResult.!L265,\"YYYY\")&TEXT(spreedResult.!L265,\"MM\")&TEXT(spreedResult.!L265,\"DD\"),\"\")","v":""},null,null,{"$f":"IF(spreedResult.!$F265<>\"\",spreedResult.!$C$10,\"\")","v":""},{"$f":"IF(spreedResult.!$F265<>\"\",spreedResult.!$C$9,\"\")","v":""},{"$f":"IF(spreedResult.!M265<>\"\",spreedResult.!M265,\"\")","v":""},{"$f":"IF(spreedResult.!H265<>\"\",IF(spreedResult.!$I$8=\"左記ご住所に送付\",\"2\",\"\"),\"\")","v":""},{"$nulls":8},"",null,"",null,"",null,"",null,"",null,"",null,"",null,"",null,"",null,""]
[null,{"$f":"IF(spreedResult.!B266<>\"\",TEXT(spreedResult.!B266,\"YYYY\")&TEXT(spreedResult.!B266,\"MM\")&TEXT(spreedResult.!B266,\"DD\"),\"\")","v":""},{"$f":"IF(spreedResult.!C266<>\"\",VLOOKUP(spreedResult.!C266,spreedResult.!$AU$2:$AV$12,2,0),\"\")","v":""},{"$nulls":4},{"$f":"IF(spreedResult.!P266<>\"\",VLOOKUP(spreedResult.!P266,Course!$A$2:$B$612,2,0),\"\")","v":""},null,{"$f":"CONCATENATE(TRIM(ASC(spreedResult.!F266)),\" \",TRIM(ASC(spreedResult.!G266)))","v":" "},{"$f":"CONCATENATE(TRIM(spreedResult.!H266),\"　\",TRIM(spreedResult.!I266))","v":"　"},{"$f":"IFERROR(VLOOKUP(spreedResult.!K266,spreedResult.!$AX$4:$AY$5,2,0),\"\")","v":""},{"$f":"IF(spreedResult.!L266<>\"\",TEXT(spreedResult.!L266,\"YYYY\")&TEXT(spreedResult.!L266,\"MM\")&TEXT(spreedResult.!L266,\"DD\"),\"\")","v":""},null,null,{"$f":"IF(spreedResult.!$F266<>\"\",spreedResult.!$C$10,\"\")","v":""},{"$f":"IF(spreedResult.!$F266<>\"\",spreedResult.!$C$9,\"\")","v":""},{"$f":"IF(spreedResult.!M266<>\"\",spreedResult.!M266,\"\")","v":""},{"$f":"IF(spreedResult.!H266<>\"\",IF(spreedResult.!$I$8=\"左記ご住所に送付\",\"2\",\"\"),\"\")","v":""},{"$nulls":8},"",null,"",null,"",null,"",null,"",null,"",null,"",null,"",null,"",null,""]
[null,{"$f":"IF(spreedResult.!B267<>\"\",TEXT(spreedResult.!B267,\"YYYY\")&TEXT(spreedResult.!B267,\"MM\")&TEXT(spreedResult.!B267,\"DD\"),\"\")","v":""},{"$f":"IF(spreedResult.!C267<>\"\",VLOOKUP(spreedResult.!C267,spreedResult.!$AU$2:$AV$12,2,0),\"\")","v":""},{"$nulls":4},{"$f":"IF(spreedResult.!P267<>\"\",VLOOKUP(spreedResult.!P267,Course!$A$2:$B$612,2,0),\"\")","v":""},null,{"$f":"CONCATENATE(TRIM(ASC(spreedResult.!F267)),\" \",TRIM(ASC(spreedResult.!G267)))","v":" "},{"$f":"CONCATENATE(TRIM(spreedResult.!H267),\"　\",TRIM(spreedResult.!I267))","v":"　"},{"$f":"IFERROR(VLOOKUP(spreedResult.!K267,spreedResult.!$AX$4:$AY$5,2,0),\"\")","v":""},{"$f":"IF(spreedResult.!L267<>\"\",TEXT(spreedResult.!L267,\"YYYY\")&TEXT(spreedResult.!L267,\"MM\")&TEXT(spreedResult.!L267,\"DD\"),\"\")","v":""},null,null,{"$f":"IF(spreedResult.!$F267<>\"\",spreedResult.!$C$10,\"\")","v":""},{"$f":"IF(spreedResult.!$F267<>\"\",spreedResult.!$C$9,\"\")","v":""},{"$f":"IF(spreedResult.!M267<>\"\",spreedResult.!M267,\"\")","v":""},{"$f":"IF(spreedResult.!H267<>\"\",IF(spreedResult.!$I$8=\"左記ご住所に送付\",\"2\",\"\"),\"\")","v":""},{"$nulls":8},"",null,"",null,"",null,"",null,"",null,"",null,"",null,"",null,"",null,""]
[null,{"$f":"IF(spreedResult.!B268<>\"\",TEXT(spreedResult.!B268,\"YYYY\")&TEXT(spreedResult.!B268,\"MM\")&TEXT(spreedResult.!B268,\"DD\"),\"\")","v":""},{"$f":"IF(spreedResult.!C268<>\"\",VLOOKUP(spreedResult.!C268,spreedResult.!$AU$2:$AV$12,2,0),\"\")","v":""},{"$nulls":4},{"$f":"IF(spreedResult.!P268<>\"\",VLOOKUP(spreedResult.!P268,Course!$A$2:$B$612,2,0),\"\")","v":""},null,{"$f":"CONCATENATE(TRIM(ASC(spreedResult.!F268)),\" \",TRIM(ASC(spreedResult.!G268)))","v":" "},{"$f":"CONCATENATE(TRIM(spreedResult.!H268),\"　\",TRIM(spreedResult.!I268))","v":"　"},{"$f":"IFERROR(VLOOKUP(spreedResult.!K268,spreedResult.!$AX$4:$AY$5,2,0),\"\")","v":""},{"$f":"IF(spreedResult.!L268<>\"\",TEXT(spreedResult.!L268,\"YYYY\")&TEXT(spreedResult.!L268,\"MM\")&TEXT(spreedResult.!L268,\"DD\"),\"\")","v":""},null,null,{"$f":"IF(spreedResult.!$F268<>\"\",spreedResult.!$C$10,\"\")","v":""},{"$f":"IF(spreedResult.!$F268<>\"\",spreedResult.!$C$9,\"\")","v":""},{"$f":"IF(spreedResult.!M268<>\"\",spreedResult.!M268,\"\")","v":""},{"$f":"IF(spreedResult.!H268<>\"\",IF(spreedResult.!$I$8=\"左記ご住所に送付\",\"2\",\"\"),\"\")","v":""},{"$nulls":8},"",null,"",null,"",null,"",null,"",null,"",null,"",null,"",null,"",null,""]
[null,{"$f":"IF(spreedResult.!B269<>\"\",TEXT(spreedResult.!B269,\"YYYY\")&TEXT(spreedResult.!B269,\"MM\")&TEXT(spreedResult.!B269,\"DD\"),\"\")","v":""},{"$f":"IF(spreedResult.!C269<>\"\",VLOOKUP(spreedResult.!C269,spreedResult.!$AU$2:$AV$12,2,0),\"\")","v":""},{"$nulls":4},{"$f":"IF(spreedResult.!P269<>\"\",VLOOKUP(spreedResult.!P269,Course!$A$2:$B$612,2,0),\"\")","v":""},null,{"$f":"CONCATENATE(TRIM(ASC(spreedResult.!F269)),\" \",TRIM(ASC(spreedResult.!G269)))","v":" "},{"$f":"CONCATENATE(TRIM(spreedResult.!H269),\"　\",TRIM(spreedResult.!I269))","v":"　"},{"$f":"IFERROR(VLOOKUP(spreedResult.!K269,spreedResult.!$AX$4:$AY$5,2,0),\"\")","v":""},{"$f":"IF(spreedResult.!L269<>\"\",TEXT(spreedResult.!L269,\"YYYY\")&TEXT(spreedResult.!L269,\"MM\")&TEXT(spreedResult.!L269,\"DD\"),\"\")","v":""},null,null,{"$f":"IF(spreedResult.!$F269<>\"\",spreedResult.!$C$10,\"\")","v":""},{"$f":"IF(spreedResult.!$F269<>\"\",spreedResult.!$C$9,\"\")","v":""},{"$f":"IF(spreedResult.!M269<>\"\",spreedResult.!M269,\"\")","v":""},{"$f":"IF(spreedResult.!H269<>\"\",IF(spreedResult.!$I$8=\"左記ご住所に送付\",\"2\",\"\"),\"\")","v":""},{"$nulls":8},"",null,"",null,"",null,"",null,"",null,"",null,"",null,"",null,"",null,""]
[null,{"$f":"IF(spreedResult.!B270<>\"\",TEXT(spreedResult.!B270,\"YYYY\")&TEXT(spreedResult.!B270,\"MM\")&TEXT(spreedResult.!B270,\"DD\"),\"\")","v":""},{"$f":"IF(spreedResult.!C270<>\"\",VLOOKUP(spreedResult.!C270,spreedResult.!$AU$2:$AV$12,2,0),\"\")","v":""},{"$nulls":4},{"$f":"IF(spreedResult.!P270<>\"\",VLOOKUP(spreedResult.!P270,Course!$A$2:$B$612,2,0),\"\")","v":""},null,{"$f":"CONCATENATE(TRIM(ASC(spreedResult.!F270)),\" \",TRIM(ASC(spreedResult.!G270)))","v":" "},{"$f":"CONCATENATE(TRIM(spreedResult.!H270),\"　\",TRIM(spreedResult.!I270))","v":"　"},{"$f":"IFERROR(VLOOKUP(spreedResult.!K270,spreedResult.!$AX$4:$AY$5,2,0),\"\")","v":""},{"$f":"IF(spreedResult.!L270<>\"\",TEXT(spreedResult.!L270,\"YYYY\")&TEXT(spreedResult.!L270,\"MM\")&TEXT(spreedResult.!L270,\"DD\"),\"\")","v":""},null,null,{"$f":"IF(spreedResult.!$F270<>\"\",spreedResult.!$C$10,\"\")","v":""},{"$f":"IF(spreedResult.!$F270<>\"\",spreedResult.!$C$9,\"\")","v":""},{"$f":"IF(spreedResult.!M270<>\"\",spreedResult.!M270,\"\")","v":""},{"$f":"IF(spreedResult.!H270<>\"\",IF(spreedResult.!$I$8=\"左記ご住所に送付\",\"2\",\"\"),\"\")","v":""},{"$nulls":8},"",null,"",null,"",null,"",null,"",null,"",null,"",null,"",null,"",null,""]
[null,{"$f":"IF(spreedResult.!B271<>\"\",TEXT(spreedResult.!B271,\"YYYY\")&TEXT(spreedResult.!B271,\"MM\")&TEXT(spreedResult.!B271,\"DD\"),\"\")","v":""},{"$f":"IF(spreedResult.!C271<>\"\",VLOOKUP(spreedResult.!C271,spreedResult.!$AU$2:$AV$12,2,0),\"\")","v":""},{"$nulls":4},{"$f":"IF(spreedResult.!P271<>\"\",VLOOKUP(spreedResult.!P271,Course!$A$2:$B$612,2,0),\"\")","v":""},null,{"$f":"CONCATENATE(TRIM(ASC(spreedResult.!F271)),\" \",TRIM(ASC(spreedResult.!G271)))","v":" "},{"$f":"CONCATENATE(TRIM(spreedResult.!H271),\"　\",TRIM(spreedResult.!I271))","v":"　"},{"$f":"IFERROR(VLOOKUP(spreedResult.!K271,spreedResult.!$AX$4:$AY$5,2,0),\"\")","v":""},{"$f":"IF(spreedResult.!L271<>\"\",TEXT(spreedResult.!L271,\"YYYY\")&TEXT(spreedResult.!L271,\"MM\")&TEXT(spreedResult.!L271,\"DD\"),\"\")","v":""},null,null,{"$f":"IF(spreedResult.!$F271<>\"\",spreedResult.!$C$10,\"\")","v":""},{"$f":"IF(spreedResult.!$F271<>\"\",spreedResult.!$C$9,\"\")","v":""},{"$f":"IF(spreedResult.!M271<>\"\",spreedResult.!M271,\"\")","v":""},{"$f":"IF(spreedResult.!H271<>\"\",IF(spreedResult.!$I$8=\"左記ご住所に送付\",\"2\",\"\"),\"\")","v":""},{"$nulls":8},"",null,"",null,"",null,"",null,"",null,"",null,"",null,"",null,"",null,""]
[null,{"$f":"IF(spreedResult.!B272<>\"\",TEXT(spreedResult.!B272,\"YYYY\")&TEXT(spreedResult.!B272,\"MM\")&TEXT(spreedResult.!B272,\"DD\"),\"\")","v":""},{"$f":"IF(spreedResult.!C272<>\"\",VLOOKUP(spreedResult.!C272,spreedResult.!$AU$2:$AV$12,2,0),\"\")","v":""},{"$nulls":4},{"$f":"IF(spreedResult.!P272<>\"\",VLOOKUP(spreedResult.!P272,Course!$A$2:$B$612,2,0),\"\")","v":""},null,{"$f":"CONCATENATE(TRIM(ASC(spreedResult.!F272)),\" \",TRIM(ASC(spreedResult.!G272)))","v":" "},{"$f":"CONCATENATE(TRIM(spreedResult.!H272),\"　\",TRIM(spreedResult.!I272))","v":"　"},{"$f":"IFERROR(VLOOKUP(spreedResult.!K272,spreedResult.!$AX$4:$AY$5,2,0),\"\")","v":""},{"$f":"IF(spreedResult.!L272<>\"\",TEXT(spreedResult.!L272,\"YYYY\")&TEXT(spreedResult.!L272,\"MM\")&TEXT(spreedResult.!L272,\"DD\"),\"\")","v":""},null,null,{"$f":"IF(spreedResult.!$F272<>\"\",spreedResult.!$C$10,\"\")","v":""},{"$f":"IF(spreedResult.!$F272<>\"\",spreedResult.!$C$9,\"\")","v":""},{"$f":"IF(spreedResult.!M272<>\"\",spreedResult.!M272,\"\")","v":""},{"$f":"IF(spreedResult.!H272<>\"\",IF(spreedResult.!$I$8=\"左記ご住所に送付\",\"2\",\"\"),\"\")","v":""},{"$nulls":8},"",null,"",null,"",null,"",null,"",null,"",null,"",null,"",null,"",null,""]
[null,{"$f":"IF(spreedResult.!B273<>\"\",TEXT(spreedResult.!B273,\"YYYY\")&TEXT(spreedResult.!B273,\"MM\")&TEXT(spreedResult.!B273,\"DD\"),\"\")","v":""},{"$f":"IF(spreedResult.!C273<>\"\",VLOOKUP(spreedResult.!C273,spreedResult.!$AU$2:$AV$12,2,0),\"\")","v":""},{"$nulls":4},{"$f":"IF(spreedResult.!P273<>\"\",VLOOKUP(spreedResult.!P273,Course!$A$2:$B$612,2,0),\"\")","v":""},null,{"$f":"CONCATENATE(TRIM(ASC(spreedResult.!F273)),\" \",TRIM(ASC(spreedResult.!G273)))","v":" "},{"$f":"CONCATENATE(TRIM(spreedResult.!H273),\"　\",TRIM(spreedResult.!I273))","v":"　"},{"$f":"IFERROR(VLOOKUP(spreedResult.!K273,spreedResult.!$AX$4:$AY$5,2,0),\"\")","v":""},{"$f":"IF(spreedResult.!L273<>\"\",TEXT(spreedResult.!L273,\"YYYY\")&TEXT(spreedResult.!L273,\"MM\")&TEXT(spreedResult.!L273,\"DD\"),\"\")","v":""},null,null,{"$f":"IF(spreedResult.!$F273<>\"\",spreedResult.!$C$10,\"\")","v":""},{"$f":"IF(spreedResult.!$F273<>\"\",spreedResult.!$C$9,\"\")","v":""},{"$f":"IF(spreedResult.!M273<>\"\",spreedResult.!M273,\"\")","v":""},{"$f":"IF(spreedResult.!H273<>\"\",IF(spreedResult.!$I$8=\"左記ご住所に送付\",\"2\",\"\"),\"\")","v":""},{"$nulls":8},"",null,"",null,"",null,"",null,"",null,"",null,"",null,"",null,"",null,""]

{"sheet":"Course","index":4,"n_rows":614,"n_cols":2,"rows_kept":614,"hidden":true}
["コース","コースID"]
["*ｺｰﾌﾟﾈｯﾄ深夜業健診（34才以下）",9589]
["*ｺｰﾌﾟﾈｯﾄ深夜業健診（35才以上）",9586]
["13AIA生活習慣病(胃直接)",10208]
["13ｶﾈｶ健保(35才.40才以上)",10206]
["13ｶﾈｶ健保(36才～39才)",10207]
["13大阪菓子(生活習慣病)",10203]
["13大阪菓子(婦人健診)ﾏﾝﾓ",10250]
["13大阪菓子(婦人健診)乳腺ｴｺｰ",10205]
["13大阪産業機械(生活習慣病)",10204]
["13大阪産業機械(生活習慣病)胃ｶﾒﾗ",10218]
["13大阪産業機械(生活習慣病)胃なし",10219]
["13大阪鉄商生活習慣病",10201]
["13大阪鉄商生活習慣病(胃ｶﾒﾗ)",10211]
["13大阪鉄商生活習慣病(年令対象外)",10202]
["13大阪鉄商生活習慣病健診（胃なし）",9696]
["13浜松ﾎﾄﾆｸｽ(35才以上)",10255]
["14東芝ITｻｰﾋﾞｽ34歳以下",10261]
["14東芝ITｻｰﾋﾞｽ35歳",10259]
["14東芝ITｻｰﾋﾞｽ36～39歳",10262]
["14東芝ITｻｰﾋﾞｽ40歳以上",10260]
["14東都協議会(その他)",10293]
["14東都協議会(医業健保)",10294]
["14入社（協議会）",10292]
["14北海道CPU関連産業健保ﾄﾞｯｸA",10297]
["14北海道CPU関連産業健保ﾄﾞｯｸA胃なし",10299]
["14北海道CPU関連産業健保ﾄﾞｯｸB",10298]
["AIA一般健診",9918]
["AIA人間ドック",9917]
["AIA人間ドック(胃ｶﾒﾗ)",9951]
["AIA人間ドック(胃なし)",9927]
["AIA生活習慣病(胃ｶﾒﾗ)",10095]
["AIA生活習慣病(胃なし)",10022]
["AIA生活習慣病(胃直接)",10085]
["B型肝炎訴訟",10073]
["GWA人間ﾄﾞｯｸ",10277]
["GWA人間ﾄﾞｯｸ(胃ｶﾒﾗ)",10279]
["GWA人間ﾄﾞｯｸ(胃なし)",10278]
["IBM家族健診A",10317]
["IBM家族健診B",10318]
["IBM家族健診B+血液",10319]
["JNES一般定期(35才のみ)",10107]
["JNES一般定期(35才未満)",10109]
["JNES一般定期(36才～39才)",10108]
["JNES一般定期(40才以上)",10106]
["JNES一般定期健診(35才のみ)",9822]
["JNES一般定期健診(35才未満)",9825]
["JNES一般定期健診(36才～39才)",9824]
["JNES一般定期健診(40才以上)",9823]
["JNES生活習慣病(35才のみ)",10103]
["JNES生活習慣病(36才～39才)",10105]
["JNES生活習慣病(40才以上)",10104]
["JNES生活習慣病健診(35才のみ）",9819]
["JNES生活習慣病健診(36才～39才）",9821]
["JNES生活習慣病健診(40才以上）",9820]
["JNES特定業務健診",10139]
["JNES特定業務健診(35才・40才以上）",10140]
["JTBﾍﾞﾈﾌｨｯﾄ生活習慣病A",10170]
["JTBﾍﾞﾈﾌｨｯﾄ生活習慣病B",10171]
["JTBﾍﾞﾈﾌｨｯﾄ生活習慣病C",10178]
["KCCSｷｬﾘｱﾃｯｸ(生活習慣病)",9980]
["KCCSｷｬﾘｱﾃｯｸ(生活習慣病)胃なし",9987]
["KYOSO(34才以下)",10031]
["KYOSO(35才以上)",10032]
["KYOSO(35才以上)胃なし",10044]
["ＴＨＰ健診",9454]
["TJK(A健診）35才.40才以上",10225]
["TJK(A健診）35才未満.36才～39才",10226]
["ＶＤＴ精密健診",238]
["ｱｽｸﾄﾗﾝｽﾎﾟｰﾄ出張Ｂｺｰｽ",490]
["ｱｽｸﾄﾗﾝｽﾎﾟｰﾄ出張Ｄｺｰｽ",489]
["ｲｰｽﾀﾝﾓｰﾀｰｽ（春）来院",9323]
["ｲｰｽﾀﾝﾓｰﾀｰｽ秋",10243]
["ｲｰｽﾀﾝﾓｰﾀｰｽ春",10258]
["ｲﾝﾌﾙｴﾝｻﾞ接種",10126]
["おあしす基本",9486]
["オースビー定期",9522]
["カーディフ生命健診",9400]
["ｶﾈｶ(34才以下)",10077]
["ｶﾈｶ健保(35才.40才以上)",10075]
["ｶﾈｶ健保(36才～39才)",10076]
["ｶﾝﾀﾞｺｰﾎﾟ東金出張Ｂｺｰｽ",507]
["ｶﾝﾀﾞｺｰﾎﾟ東金出張Ｄｺｰｽ",506]
["コープネット一般健診",9554]
["ｺｰﾌﾟﾈｯﾄ深夜業(34才以下)",10009]
["ｺｰﾌﾟﾈｯﾄ深夜業(35才以上)",10008]
["コープネット深夜業健診",9557]
["コープネット入社",9944]
["シーエスイーソフト（ドック）",9089]
["ｼｰｴｽｲｰｿﾌﾄ(ﾄﾞｯｸ)36才～39才",10099]
["ｼｰｴｽｲｰｿﾌﾄ(ﾄﾞｯｸ)胃なし",10049]
["シーエスイーソフト（定期）",9088]
["ｼﾆｱ海外ﾎﾞﾗﾝﾃｨｱ(2012)",10160]
["シニア海外ボランティア健診（女）",9330]
["シニア海外ボランティア健診（男）",9329]
["じん肺（国保未加入）",432]
["じん肺・石綿健診",9313]
["じん肺健診(出張)",9910]
["じん肺健診(来院)",205]
["じん肺健診読影",498]
["じん肺健診読影（結果付き）",499]
["じん肺読影",496]
["センコー（生活習慣病）",9102]
["センコー（生活習慣病）　胃なし",9168]
["センコー（生活習慣病）胃カメラ",9449]
["センコー（定期）",9103]
["ソルコム（ドック）",9223]
["ソルコム（ドック）胃カメラ",9433]
["ソルコム（ドック）胃なし",9452]
["ﾀﾞｲﾔﾓﾝﾄﾞﾄﾞｯｸ(胃ｶﾒﾗ)",10042]
["ダイヤモンドドック(胃なし)08",10047]
["ダイヤモンドドック08",9705]
["ツベルクリン接種",9287]
["ドック（関東ＩＴｿﾌﾄｳｪｱ健保）",9479]
["ナチュラルコープ出張成人",9158]
["ナチュラルコープ出張成人胃なし",9159]
["ﾆﾁﾚｲ･ｱｲｽﾄﾞｯｸ",10272]
["ﾆﾁﾚｲ･ｱｲｽﾄﾞｯｸ(ｶﾒﾗ)",10328]
["パルシステム定期",9176]
["ﾋﾄHb便潜血2回",9243]
["ﾍﾞﾈﾌｨｯﾄﾜﾝ生活習慣病B(胃ﾅｼ便ｱﾘ)",10331]
["ﾍﾞﾈﾌｨｯﾄﾜﾝ生活習慣病C(胃ｱﾘ便ｱﾘ)",10332]
["ﾗﾍﾞﾙｼﾞｬﾊﾟﾝ若年健診",10033]
["ﾚﾃﾞｨｰｽドック(ﾏﾝﾓ)",9668]
["ﾚﾃﾞｨｰｽドック(ﾏﾝﾓ)胃ｶﾒﾗ",10059]
["ﾚﾃﾞｨｰｽドック(ﾏﾝﾓ)胃なし",10004]
["ﾚﾃﾞｨｰｽドック(乳腺ｴｺｰ)",9667]
["ﾚﾃﾞｨｰｽドック(乳腺ｴｺｰ)胃ｶﾒﾗ",9693]
["ﾚﾃﾞｨｰｽドック(乳腺ｴｺｰ)胃なし",9921]
["愛隣保育園Ｂ型肝炎",510]
["愛隣保育園コース",509]
["胃XP(直･7枚)",9308]
["胃カメラ",9272]
["胃部X線間接",616]
["胃部X線直接7枚",9549]
["胃部X線直接8枚",9208]
["医療適正診断",447]
["一之江A",10015]
["一之江定期",9758]
["一般健診A1(ｲｰｳｪﾙ）",9929]
["一般健診A2(ｲｰｳｪﾙ）",9931]
["一般健診B1(ｲｰｳｪﾙ）",9989]
["鉛健診",9062]
["横浜エレベータ（Ａ健診）",608]
["横浜エレベータ（Ｂ健診）",611]
["横浜エレベータ（Ｃ健診）",612]
["横浜ｺﾞﾑ一時帰国35歳以上",10308]
["横浜ｺﾞﾑ一時帰国35歳未満",10307]
["横浜ｺﾞﾑ海外帰国35歳以上",10306]
["横浜ｺﾞﾑ海外帰国35歳未満",10305]
["横浜ｺﾞﾑ海外赴任35歳以上",10304]
["横浜ｺﾞﾑ海外赴任35歳未満",10303]
["化研ﾏﾃﾘｱﾙ(若年)",10101]
["化研ﾏﾃﾘｱﾙ(成人)",10102]
["学生健診",239]
["学生健診（出張）",9242]
["学生健診（未来大学）",9476]
["学生健診ﾊﾞﾝﾄﾞﾓﾓ用",9436]
["葛西Bコース",9875]
["葛西省略健診",9683]
["葛西生活習慣病",571]
["葛西定期Ｄ",446]
["葛西特定健診",9808]
["簡易ＶＤＴ",595]
["簡易健診",9749]
["関西文紙健保(生活習慣病)",10000]
["関西文紙健保(生活習慣病)50才以上",10001]
["関西文紙健保(生活習慣病)胃ｶﾒﾗ",10138]
["関西文紙健保(生活習慣病)胃ｶﾒﾗ50才以上",10190]
["関西文紙健保(生活習慣病)胃なし",10056]
["関西文紙健保(生活習慣病)胃なし50才以上",10005]
["基本健診Ａ(LSIﾒﾃﾞｨｴﾝｽ）",9744]
["基本健診なし",10227]
["帰国時Ｂコース",9157]
["協栄流通",9133]
["協会一般",9615]
["協会一般(胃ｶﾒﾗ)",9618]
["協会一般(胃ｶﾒﾗ)胸なし",9114]
["協会一般(胃なし)",9653]
["協会一般(胃間接)",9913]
["協会一般(胸･胃なし)",9670]
["協会一般(胸なし)",9669]
["協会一般(胸間･胃なし)",9900]
["協会一般＋付加",9617]
["協会一般＋付加(胃ｶﾒﾗ)",9655]
["協会一般＋付加(胃ｶﾒﾗ)胸なし",9598]
["協会一般＋付加(胃なし)",9666]
["協会一般＋付加(胸･胃なし)",9714]
["協会一般＋付加(胸なし)",9541]
["協会子宮癌(ｺｰｽ)",9659]
["協会自費(他院)",10135]
["胸部X線(直接)読影なし",9752]
["胸部X線直接",9112]
["刑務生活習慣病A(胸･胃･便ﾅｼ)",10333]
["刑務生活習慣病B(胸ｱﾘ･胃ﾅｼ･便ﾅｼ)",10334]
["刑務生活習慣病C(胸･胃･便ｱﾘ)",10335]
["芸能人ﾄﾞｯｸ(被扶養者・都外)",9768]
["芸能人ﾄﾞｯｸ(被扶養者・都内)",9769]
["芸能人ﾄﾞｯｸ(被保険者・都外)",9767]
["芸能人ﾄﾞｯｸ(被保険者・都内)",9761]
["芸能人ﾄﾞｯｸ胃ｶﾒﾗ(被保険者・都内)",10074]
["血液型",9295]
["健愛ドック一般",9977]
["健愛一般",10100]
["健愛大塚ドック",10014]
["健愛定期A",9979]
["健愛定期B",9955]
["原子力安全基盤機構(34才以下)",9818]
["広島ガスコース",9068]
["江戸川建設業",10336]
["江東A",10098]
["江東Dコース",9876]
["江東Ｅコース",560]
["江東のびのび",9748]
["港 区 採用前健康診断",10230]
["港区成人(64歳以下)",231]
["港区成人(64歳以下)肺癌付",9105]
["港区成人(65歳以上)",9166]
["港区成人(65歳以上)肺癌付",9167]
["港区成人(基本なし)",9784]
["港区成人(訪問64歳以下)",9970]
["港区成人(訪問65歳以上)",9971]
["港成人健診(自費)",10339]
["甲状腺検査",10195]
["高気圧健診",9446]
["骨密度検査",9412]
["埼玉県建設組合",10060]
["埼玉土建Ａ(08国保未加入)",9676]
["埼玉土建Ａ(08補助対象外）",9882]
["埼玉土建Ａ2014",10263]
["埼玉土建Ａ2014補助対象外",10265]
["埼玉土建Ｂ(08国保未加入)",9691]
["埼玉土建Ｂ(08補助対象外)",9881]
["埼玉土建Ｂ2014",10264]
["埼玉土建Ｂ2014補助対象外",10266]
["埼玉土建Ｃ(08)",9690]
["埼玉土建人間ﾄﾞｯｸ",9672]
["埼玉土建人間ﾄﾞｯｸ(ｶﾒﾗ）",9872]
["埼玉土建人間ﾄﾞｯｸ(胃なし)",10116]
["埼玉土建人間ﾄﾞｯｸ(国保対象外)",9776]
["埼玉土建人間ﾄﾞｯｸ(女性ﾏﾝﾓ）",9673]
["埼玉土建人間ﾄﾞｯｸ(女性ﾏﾝﾓ･ｶﾒﾗ)",10312]
["埼玉土建人間ﾄﾞｯｸ(女性乳腺エコー）",9674]
["埼玉土建人間ﾄﾞｯｸ胃なし(国保対象外)",10175]
["子宮細胞診",9972]
["自費(協会一般＋付加)胃ｶﾒﾗ",9915]
["自費(協会一般＋付加)胃なし",9713]
["自費（日生協ドック）",385]
["自費（日生協ドック）胃ｶﾒﾗ",10234]
["自費（日生協ドック）胃なし",9983]
["自費協会一般(胃なし)",9697]
["自費日生協生活習慣病(胃なし)",9399]
["自費日生協生活習慣病(胃直接)",9461]
["芝消防署健診",397]
["若年健診(ふれあい早稲田)",9726]
["若年健診(尿4,ｵｰｼﾞｵ)",9409]
["若年省略健診(胸間)",9743]
["若年省略健診(胸直)",9924]
["秋季病体生理",9567]
["出張コスモ交通定期Ｂ",563]
["春季病体生理",9044]
["女性検診",10128]
["女性検診補助対象外",10129]
["除染等電離放射線",10169]
["小型船舶操縦士健康診断",597]
["小原工業出張定期Ｄ",9041]
["新小岩一般Aコース",440]
["新小岩一般Bコース",441]
["新小岩成人Aコース",442]
["新小岩成人Bコース",443]
["新小岩被爆",565]
["深夜業務従事者健診",9883]
["神奈川県機器ﾄﾞｯｸ",10143]
["神奈川県機器ﾄﾞｯｸ(胃なし)",10295]
["神奈川県機器ﾄﾞｯｸﾏﾝﾓ",10145]
["神奈川県機器ﾄﾞｯｸﾏﾝﾓ,胃ｶﾒﾗ",10147]
["神奈川県機器ﾄﾞｯｸ胃ｶﾒﾗ",10144]
["神奈川県機器ﾄﾞｯｸ乳ｴｺｰ",10146]
["神奈川県機器ﾄﾞｯｸ乳ｴｺｰ,胃ｶﾒﾗ",10148]
["神奈川土建(08)",9627]
["神奈川土建未加入(08)",9861]
["人間ﾄﾞｯｸ(LSIﾒﾃﾞｨｴﾝｽ)",9814]
["人間ﾄﾞｯｸ(LSIﾒﾃﾞｨｴﾝｽ)胃ｶﾒﾗ",9996]
["人間ﾄﾞｯｸ(LSIﾒﾃﾞｨｴﾝｽ)胃なし",9993]
["人間ドック（ｲｰｳｪﾙ）",9812]
["人間ドック（ｲｰｳｪﾙ）胃ｶﾒﾗ",10198]
["人間ドック(日本健康文化振興会)",9836]
["人間ドック(日本健康文化振興会)胃ｶﾒﾗ",9839]
["人間ドック(日本健康文化振興会)胃なし",10181]
["人間ﾄﾞｯｸA(ﾊﾋﾟﾙｽ)",10362]
["人間ドックＡ（胃カメラ）08",9720]
["人間ドックＡ（胃なし）08",9679]
["人間ドックＡ08",9643]
["人間ドックB(08)",9651]
["人間ﾄﾞｯｸB(ﾊﾋﾟﾙｽ)",10363]
["人間ドックB(胃ｶﾒﾗ)08",9156]
["人間ドックB(胃なし)08",9204]
["人間ﾄﾞｯｸD1 胃ｶﾒﾗ(東振協)",10287]
["人間ﾄﾞｯｸD1 胃なし(東振協)",10288]
["人間ﾄﾞｯｸD1(東振協)",10286]
["人間ドックS（胃ｶﾒﾗ)08",9642]
["人間ドックＳ（胃なし）08",9886]
["人間ドックＳ08",9641]
["人間ﾄﾞｯｸV(女:ﾏﾝﾓ)",9891]
["人間ﾄﾞｯｸV(女:ﾏﾝﾓ:胃ｶﾒﾗ)",9892]
["人間ﾄﾞｯｸV(女:ﾏﾝﾓ胃なし)",10136]
["人間ﾄﾞｯｸv(女:乳腺ｴｺｰ)",9729]
["人間ﾄﾞｯｸv(女:乳腺ｴｺｰ:胃ｶﾒﾗ)",10080]
["人間ﾄﾞｯｸV(男)",9661]
["人間ﾄﾞｯｸV(男:胃ｶﾒﾗ)",9687]
["人間ﾄﾞｯｸV(男:胃なし)",9896]
["人間ﾄﾞｯｸ土建(08)",9650]
["人間ﾄﾞｯｸ土建(胃ｶﾒﾗ)08",9809]
["人間ﾄﾞｯｸ土建(国保対象外)08",9688]
["人間ﾄﾞｯｸ土建(国保対象外:胃ｶﾒﾗ)08",9671]
["人間ﾄﾞｯｸ土建(国保対象外:胃ｶﾒﾗ)08",9692]
["人間ﾄﾞｯｸ土建(国保対象外:胃なし)08",9800]
["人間ドック土建すみだ",9582]
["杉並建設労働組合(中建国保)",9572]
["杉並建設労働組合(東建国保)",9988]
["成人Ｆ(08)",9605]
["成人Ｆ(胃・胸なし)08",9750]
["成人Ｆ(胃ｶﾒﾗ08)",9612]
["成人Ｆ(胃なし08)",9611]
["成人Ｇ(08)",9607]
["成人Ｇ(胃・便なし）",9840]
["成人Ｇ(胃ｶﾒﾗ08)",9614]
["成人Ｇ(胃なし08)",9613]
["成人Ｇ（胃直接）",9358]
["成人健診（プロギア）",9061]
["成人健診（プロギア）胃なし",9403]
["成人健診（プロギア）便なし",9407]
["成人病（ｿﾙｺﾑ）胃ｶﾒﾗ",10249]
["成人病（ｿﾙｺﾑ）胃なし",10245]
["成人病（ｿﾙｺﾑ）胃直接",10244]
["正則高校学生（尿）",399]
["正則高校職員定期",9173]
["生活習慣病(胃ｶﾒﾗ)",9610]
["生活習慣病(胃なし)",9609]
["生活習慣病(胃直接)",9616]
["生活習慣病A1(東振協）",10289]
["生活習慣病A2(東振協）",10290]
["生活習慣病B ｶﾒﾗ(東振協)",10284]
["生活習慣病B 胃なし(東振協)",10285]
["生活習慣病B(東振協)",10283]
["生活習慣病健診(ｴｱ・ｳｫｰﾀｰ）胃なし",10199]
["生活習慣病健診(ｴｱ・ｳｫｰﾀｰ健保）",10168]
["生活習慣病健診(ｴｱ・ｳｫｰﾀｰ健保）ｶﾒﾗ",10300]
["生活習慣病健診(ｴｱ・ｳｫｰﾀｰ炭酸）",9838]
["生活習慣病健診(ｴｱ・ｳｫｰﾀｰ炭酸)ﾍﾟﾌﾟｼ",10210]
["生活習慣病健診(ｴｱｳｫｰﾀｰ炭酸)胃ｶﾒﾗ",10029]
["生活習慣病健診(ｴｱｳｫｰﾀｰ炭酸)胃なし",9895]
["生活習慣病健診（関東ＩＴソフト健保",9312]
["生活習慣病健診(東京美容国保)",9889]
["生活習慣病健診(日本健康文化振興会)",9832]
["生活習慣病健診1ｺｰｽ　ｶﾒﾗ(ｲｰｳｪﾙ)",9937]
["生活習慣病健診1ｺｰｽ(ｲｰｳｪﾙ)",9936]
["生活習慣病健診A(ﾊﾋﾟﾙｽ)",10359]
["生活習慣病健診B(ﾊﾋﾟﾙｽ)",10360]
["生活習慣病健診C(ﾊﾋﾟﾙｽ)",10361]
["生活習慣病予防健診(胃なし)ﾄｯﾊﾟﾝｸﾞﾙｰﾌﾟ健保",10237]
["生活習慣病予防健診(胃なし)都職員共済組合",10240]
["青果ﾄﾞｯｸ",10156]
["青果ﾄﾞｯｸ(胃ｶﾒﾗ）",10253]
["青果ﾄﾞｯｸ(胃なし）",10166]
["青果ﾄﾞｯｸ(家族）",10159]
["青果ﾄﾞｯｸ(家族)胃なし",10167]
["青果ﾄﾞｯｸ(補助対象外）",10158]
["青果大腸ｶﾞﾝ2日法（未加入）",9220]
["青果大腸ｶﾞﾝ2日法検査",9219]
["青年海外協力隊(2011年春)",9923]
["青年海外協力隊(2013年春)",10133]
["青年海外協力隊(2015年秋)",10350]
["石綿健診",9283]
["石綿健診（二次）",9447]
["千葉土建",384]
["千葉土建(千葉支部)",9531]
["千葉土建(補助対象外)",9868]
["千葉土建08",9224]
["千葉土建市川支部",9570]
["千葉土建成人Ｂ",9236]
["扇橋Aコース",583]
["扇橋Bコース",9050]
["扇橋Cコース",9948]
["扇橋旧コース",9746]
["扇橋若年",10222]
["洗心保育園定期冬季",9232]
["全国建設工事業国保健診",9942]
["全国硝子業健保･簡易生活習慣病",9859]
["全国硝子業健保･人間ﾄﾞｯｸ",9853]
["全国硝子業健保･人間ﾄﾞｯｸ胃なし",9878]
["全国硝子業健保･生活習慣病",9857]
["全国硝子業健保･生活習慣病胃なし",9999]
["全国硝子業健保･生活習慣病女性",9858]
["全国硝子業健保･生活習慣病女性胃ｶﾒﾗ",10242]
["全国硝子業健保･生活習慣病女性胃なし",10006]
["他院・土建統一",9699]
["他院・土建統一(自費",9700]
["他院・土建統一(詳細眼底)",9587]
["他院・土建統一40歳以上",10330]
["他院・薬業ドック",10194]
["大阪菓子健保(簡易生活習慣病)",10061]
["大阪菓子健保(生活習慣病)",9953]
["大阪菓子健保(生活習慣病)胃なし",10142]
["大阪菓子健保(婦人健診)乳腺ｴｺｰ",9864]
["大阪産業機械(25歳時健診)",10087]
["大阪産業機械(人間ﾄﾞｯｸ)",9716]
["大阪産業機械(生活習慣病)",9715]
["大阪産業機械(生活習慣病)胃なし",9717]
["大阪鉄商一般健診(B）",10182]
["大阪鉄商一般健診(C）",10184]
["大阪鉄商一般健診(D）",10183]
["大阪鉄商生活習慣病健診",9681]
["大阪鉄商生活習慣病健診(年令対象外）",9682]
["大阪府貨物運送健保(生活習慣病)",10112]
["大阪府電設工業健保生活習慣病",10120]
["大東学園高校・若年",9056]
["大東学園高校・成人",9055]
["大同信号基本@",10337]
["大同信号基本A",10338]
["単独検査",10162]
["団地診療所定期",9324]
["築地青果",9072]
["中央ﾗｼﾞｵ･ﾃﾚﾋﾞﾄﾞｯｸ女",10276]
["中央ﾗｼﾞｵ･ﾃﾚﾋﾞﾄﾞｯｸ女(ｶﾒﾗ)",10316]
["中央ﾗｼﾞｵ･ﾃﾚﾋﾞﾄﾞｯｸ男",10273]
["中央ﾗｼﾞｵ･ﾃﾚﾋﾞﾄﾞｯｸ男(ｶﾒﾗ)",10274]
["中央労金基本健診A",209]
["中央労金基本健診B",208]
["中央労金生活習慣病A",574]
["中央労金生活習慣病A胃ｶﾒﾗ",572]
["中央労金生活習慣病A胃なし",602]
["中央労金生活習慣病B",9721]
["中央労金生活習慣病BPSA付",9723]
["中央労金生活習慣病B胃ｶﾒﾗ",9722]
["中央労金生活習慣病B胃なし",10045]
["中央労金生活習慣病B胃なしPSA付",9946]
["中央労金役員健診",10326]
["中央労金役員健診胃ｶﾒﾗ",10327]
["中建基本+胸XP",10034]
["聴力オージオ",9914]
["定期（ソルコム）",9197]
["定期Ａ(08)",9600]
["定期A(08)胸なし",9237]
["定期Ａ(08胸間)",9686]
["定期Ｂ(08)",9601]
["定期Ｂ(08)胸なし",9754]
["定期Ｂ(08胸間)",9685]
["定期Ｂ胸部間接",593]
["定期Ｃ",9662]
["定期Ｃ(聴力ｵｰｼﾞｵ)",10296]
["定期健康診断(35歳未満)",9560]
["定期健診（30歳）",9359]
["定期健診（34歳以下）",9361]
["定期健診（35才以上胃(間接)Ｘ線）",9363]
["定期健診（35才以上胃なし）",9362]
["定期健診(ｶﾚｯｼﾞ)",9201]
["定期健診(ｶﾚｯｼﾞ)胸部直接",10270]
["定期健診(ふれあい早稲田)",9725]
["定期健診(胸間)成人",9259]
["定期健診（住宅公社34歳以下）",9960]
["定期健診（住宅公社35歳以上）",9958]
["定期健診（住宅公社40歳以上）",9959]
["定期健診（全日本民医連）",9252]
["定期健診（東京リスマチック）",9255]
["定期健診（病体）",9238]
["定期健診（民商）",9239]
["定期健診Ｄａ",9305]
["定健A(日本健康文化振興会)",9835]
["鉄鋼建設業協同Ｄ出張",9042]
["電離放射線",176]
["電離放射線08",9660]
["渡航前Ａコース",9047]
["渡航前Ａコース（胃）",9049]
["土建節目(すみだ)",9786]
["土建節目(すみだ)胃ｶﾒﾗ",10347]
["土建節目(すみだ・自費)",9815]
["土建節目(葛西)",439]
["土建節目(葛西)胃ｶﾒﾗ",10344]
["土建節目(葛西・自費)",9279]
["土建節目(蒲原)胃ｶﾒﾗ",9804]
["土建節目(江東)",9270]
["土建節目(江東・自費)",9711]
["土建節目(四ツ木)",9775]
["土建節目(四ツ木)胃ｶﾒﾗ",10346]
["土建節目(扇橋)",9309]
["土建節目(扇橋・自費)",9709]
["土建節目(柳原)",9966]
["土建節目(柳原)胃ｶﾒﾗ",10345]
["土建節目(柳原・自費)",9956]
["土建統一(詳細眼底)",10046]
["土建統一(組合員)",9620]
["土建統一(組合員)個人",9731]
["土建統一(補助対象外)",9625]
["土建統一(補助対象外)個人",9734]
["土建統一40歳以上",10329]
["土建統一40歳以上個人",10321]
["東京機器人間ドック(08)",9634]
["東京機器人間ドック(ｶﾒﾗ)08",9635]
["東京機器人間ドック(胃なし)08",9636]
["東京機器生活習慣病(08）",9630]
["東京機器生活習慣病(08)胃ｶﾒﾗ",10185]
["東京機器生活習慣病(胃なし)08",9632]
["東京機器生活習慣病(胸・胃なし)08",9949]
["東京機器生活習慣病(胸なし)08",9633]
["東京機器定期女性08",9638]
["東京機器定期男性08",9637]
["東京建設業(補助対象外)",9978]
["東京都医業健保(基本+追加)",9939]
["東京都建設組合(その他)",9847]
["東京都建設組合(中建国保)",9845]
["東京都建設組合(東建国保)",9816]
["東建従組合基本(女)",10215]
["東建従組合基本(女)補助対象外",10239]
["東建従組合基本(男)",10214]
["東建従組合基本(男)補助対象外",10238]
["東芝ITｻｰﾋﾞｽ34歳以下",9602]
["東芝ITｻｰﾋﾞｽ35歳",9599]
["東芝ITｻｰﾋﾞｽ36～39歳",9604]
["東芝ITｻｰﾋﾞｽ40歳以上",9606]
["東都協議会(基本なし)",10055]
["頭部ＣＴ検査",9207]
["特定業務健診",9707]
["特定業務健診(35才・40才以上）",9708]
["特定業務健診(35才未満・36才～39才）",10196]
["特定業務健診ｲｰｶﾞｰﾃﾞｨｱﾝ(35才･40才以上)",10197]
["特定業務従事者健診(協議会)",9884]
["特定健診",9765]
["特定健診(LSIﾒﾃﾞｨｴﾝｽ）",10247]
["特定健診(ﾊﾋﾟﾙｽ)",10356]
["特定健診(協会家族)",9976]
["特定健診(窓口負担有)",9990]
["特定健診（中建国保）",9755]
["特定健診（東京美容国保）",9985]
["特定健診+任意詳細",9794]
["内臓脂肪面積",9852]
["南部建設技能組合",9677]
["日生協人間ドック",201]
["日生協人間ドック（カメラ）",9142]
["日生協人間ドック（胃・胸なし）",9462]
["日生協人間ドック（胃なし）",9183]
["日生協生活習慣病（被扶養者）",9728]
["日生協生活習慣病（被扶養者）胃ｶﾒﾗ",9730]
["日生協生活習慣病(補助対象外）胃ｶﾒﾗ",9829]
["日生協生活習慣病健診(カメラ)",9143]
["日生協生活習慣病健診(胃・胸なし)",9558]
["日生協生活習慣病健診(胃なし)",9181]
["日生協生活習慣病健診(胃間接)",9352]
["日生協生活習慣病健診(胃直接)",200]
["日野交通(省略)",9530]
["日野交通(定期)",9742]
["乳+ﾏﾝﾓ1(補助対象外）",10068]
["乳癌(ﾏﾝﾓ1方向+触診)",557]
["乳癌(ﾏﾝﾓ1方向+触診)未加入",9797]
["乳房触診",10083]
["乳房触診+ﾏﾝﾓ1方向",9969]
["乳房触診+ﾏﾝﾓ1方向+子宮細胞診",9964]
["乳房触診+ﾏﾝﾓ2方向",9435]
["乳房触診+乳腺ｴｺｰ",9170]
["入社(住宅供給公社)",9954]
["入社健診(08)",9603]
["肺がんドック",206]
["配偶者健診(富士通健保)",9778]
["配偶者健診(富士通健保)ｶﾒﾗ",10079]
["配偶者健診(富士通健保定期)",10187]
["被爆健診（胸なし）",9577]
["被爆健診（胸部２方向）08",9648]
["被爆健診08",9649]
["被爆子宮癌",9885]
["被爆乳がん（マンモ）",9371]
["被爆肺がん",9389]
["浜松ﾎﾄﾆｸｽ(24以下)",10007]
["浜松ﾎﾄﾆｸｽ(25才～34才)",9293]
["浜松ﾎﾄﾆｸｽ(29才以下)",9292]
["浜松ﾎﾄﾆｸｽ(35才以上)胃ｶﾒﾗ",10141]
["浜松ﾎﾄﾆｸｽ(35才以上)胃なし",9294]
["富士ゼロックス34以下",10340]
["富士ゼロックス35以上",10341]
["便培養",9320]
["法定健診A(ﾊﾋﾟﾙｽ)",10357]
["法定健診B(ｲｰｳｪﾙ)",10349]
["法定健診B(ﾊﾋﾟﾙｽ)",10358]
["法定健診C(ｲｰｳｪﾙ)",10315]
["法令健診",9580]
["法令健診(胸間)",9675]
["法令健診(血糖)",9928]
["法令健診(血糖)胸間",9919]
["法令健診(血糖)心電図なし",9984]
["法令健診(心電図なし)",9827]
["法令省略(京セラ)胸間",10024]
["法令省略(京セラ)胸直",10027]
["北海道CPU関連産業健保(成人病)",9080]
["麻疹(HI)",9571]
["麻疹(IｇM)",9934]
["麻薬健診",9155]
["薬業成人",10192]
["薬業成人(胃ｶﾒﾗ）",10193]
["薬業定期",10191]
["有機溶剤(2.5－ﾍｷｻﾝｼﾞｵﾝ)",9593]
["有機溶剤（総三塩化物）",9982]
["有機溶剤(代謝物なし)",9894]
["有機溶剤(馬尿酸,2.5-ﾍｷｻﾝｼﾞｵﾝ)",9925]
["有機溶剤健診(マンデル酸)",10232]
["有機溶剤健診（メチル馬尿酸）",313]
["有機溶剤健診(土建ﾒﾁﾙ馬尿酸）",9310]
["有機溶剤健診（馬尿酸）",604]
["有機溶剤健診（馬尿酸）土建",9124]
["予防医学・生活習慣病A",10271]
["予防医学・生活習慣病A(胃ｶﾒﾗ)",10172]
["予防医学・生活習慣病C",10291]
["喀痰検査",9590]
["頸肩腕障害健診",233]
["18人間ﾄﾞｯｸV",10850]
["18人間ﾄﾞｯｸ(学会指定ｺｰｽ)",10800]

{"sheet":"PD","index":5,"n_rows":0,"n_cols":0,"rows_kept":0,"hidden":true}

{"sheet":"CD","index":6,"n_rows":0,"n_cols":0,"rows_kept":0,"hidden":true}