{"text_format":"3","workbook":"xlsx","n_sheets":5,"sheets":["spreedResult.","torikomi","Course","PD","CD"],"not_rendered":{"macros":1,"external_links":5,"defined_names":24},"read":"whole","date_system":"1900"}

{"sheet":"spreedResult.","index":0,"n_rows":158,"n_cols":59,"rows_kept":158,"merged":[[1,2,1,5],[2,2,2,5],[3,2,3,5],[3,7,3,10],[4,2,4,5],[5,2,5,5],[6,2,6,5],[7,2,7,5],[7,7,7,10],[8,2,8,5],[9,2,9,5]]}
["お申込み用紙",null,"作成日",null,{"$f":"LastSaveTime()","v":"2018-04-11T16:54:40"},{"$nulls":40},"時間コード",null,"PD","CD",{"$nulls":8},"コース名称","コース"]
[null,"事業所様名 ",{"$nulls":13},"ご注意事項：",{"$nulls":29},"08:00:00",11,{"$nulls":10},"協会一般","09615"]
[null,"ご住所    　〒",{"$nulls":5},"お支払方法",{"$nulls":7},"妊娠中の方（妊娠している可能性のある方も含む）は、安全性を考慮し、ご受診をお断りさせて頂いております",{"$nulls":29},"08:30:00",12,null,"性別",{"$nulls":8},"協会一般(胃なし)","09653"]
[{"$nulls":15},"健診当日に生理中の方の子宮頚がん検査は、中止か後日受診となります",{"$nulls":29},"09:00:00",13,null,"男",1,{"$nulls":7},"協会一般(胸なし)","09669"]
[{"$nulls":15},"外国語対応は一切行っておりません。通訳が必要となる際は、通訳者の同伴をお願い致します",{"$nulls":29},"09:30:00",14,null,"女",2,{"$nulls":7},"協会一般＋付加","09617"]
[null,"ご担当者     ",{"$nulls":13},"健診当日の高血圧・糖尿病等の常用薬の服用については主治医にご相談ください",{"$nulls":29},"10:00:00",15,{"$nulls":10},"協会一般＋付加(胃なし)","09666"]
[null,"お電話番号  ",{"$nulls":5},"問診票/結果/請求書送付先",{"$nulls":7},"事前に送付させて頂く問診票の注意事項（食事の制限など）を厳守してください",{"$nulls":29},"10:30:00",16,{"$nulls":10},"協会一般(胃ｶﾒﾗ)","09618"]
[null,"FAX番号 　　",{"$nulls":13},"　　　　　（厳守頂けない場合、健診の一部を中止することがございます）",{"$nulls":29},"11:00:00",17,"左記ご住所に送付",{"$nulls":9},"定期Ａ(08)","09600"]
[null,"保険証記号　",{"$nulls":13},"結果の送付まで3-4週間程頂いております",{"$nulls":29},"14:00:00",23,"その他：下記に記載",{"$nulls":3},"会社様ご請求",{"$nulls":5},"協会一般＋付加(胃ｶﾒﾗ)","09655"]
[null,"保険者番号　",{"$nulls":13},"本確定書にない一切の特別対応は致しかねますので事前にご了承ください",{"$nulls":18},"→ご参考まで",{"$nulls":10},"14:30:00",24,{"$nulls":4},"当日個々にお支払",{"$nulls":5},"定期Ｂ(08)","09601"]
[{"$nulls":45},"15:00:00",25,{"$nulls":4},"基本ｺｰｽ分はご請求/ｵﾌﾟｼｮﾝ分のみ当日お支払",{"$nulls":5},"生活習慣病(胃直接)","09616"]
["No.","健診予定日","時間帯","個人ID","ｾｲ","ﾒｲ","性","名",null,"性別","生年月日","保険証番号",null,"本年度お年齢(自動出力)","コース","オプション項目\n　（特記事項、または追加検診のご要望等があればご記入下さい）","ご請求金額","備考1","備考2",null,"確定受診ｺｰｽ","確定ｵﾌﾟｼｮﾝ",{"$nulls":9},"ご請求金額","当日お支払金額",null,"昨年受診ｺｰｽ","ｵﾌﾟｼｮﾝ",{"$nulls":9},"15:30:00",26,{"$nulls":4},"その他：下記に記載",{"$nulls":5},"入社健診(08)","09603"]
[null,"第一希望日",{"$nulls":12},"★胃ｶﾒﾗ検査変更の際には本年度より差額の2160円(税込)が発生いたします","例：　胃の検査なし、　胃カメラ希望、　子宮がん検診希望、　内臓脂肪面積追加、など。。。\n\n婦人科検診は火、水、木、金、土（土は第3土曜日）\n胃カメラについては経口/経鼻をご明記ください\n",{"$nulls":41},"法令健診","09580"]
[{"$f":"ROW(A14)-13","v":1},{"$nulls":7},{"$f":"G14&\"　\"&H14","v":"　"},{"$nulls":3},{"$f":"DATEDIF(K14,\"2019/4/1\",\"Y\")","v":119},{"$f":"IF(M14=119,\"\",M14)","v":""},{"$nulls":6},{"$f":"IF(ISERROR(VLOOKUP($I14,INDIRECT($AW$1&\"!$E$2:$AH$800\"),14,0)),\"\",VLOOKUP($I14,INDIRECT($AW$1&\"!$E$2:$AH$800\"),14,0))","v":""},{"$f":"IF(ISERROR(SUBSTITUTE(W14,0,\"\")),\"\",SUBSTITUTE(W14,0,\"\"))","v":"       "},{"$f":"IF(ISERROR(CONCATENATE(X14,\" \",Y14,,\" \",Z14,,\" \",AA14,,\" \",AB14,,\" \",AC14,,\" \",AD14,,\" \",AE14)),\"\",CONCATENATE(X14,\" \",Y14,,\" \",Z14,,\" \",AA14,,\" \",AB14,,\" \",AC14,,\" \",AD14,,\" \",AE14))","v":"       "},{"$f":"IF(ISERROR(VLOOKUP($I14,INDIRECT($AW$1&\"!$E$2:$AH$800\"),15,0)),\"\",VLOOKUP($I14,INDIRECT($AW$1&\"!$E$2:$AH$800\"),15,0))","v":""},{"$f":"IF(ISERROR(VLOOKUP($I14,INDIRECT($AW$1&\"!$E$2:$AH$800\"),16,0)),\"\",VLOOKUP($I14,INDIRECT($AW$1&\"!$E$2:$AH$800\"),16,0))","v":""},{"$f":"IF(ISERROR(VLOOKUP($I14,INDIRECT($AW$1&\"!$E$2:$AH$800\"),17,0)),\"\",VLOOKUP($I14,INDIRECT($AW$1&\"!$E$2:$AH$800\"),17,0))","v":""},{"$f":"IF(ISERROR(VLOOKUP($I14,INDIRECT($AW$1&\"!$E$2:$AH$800\"),18,0)),\"\",VLOOKUP($I14,INDIRECT($AW$1&\"!$E$2:$AH$800\"),18,0))","v":""},{"$f":"IF(ISERROR(VLOOKUP($I14,INDIRECT($AW$1&\"!$E$2:$AH$800\"),19,0)),\"\",VLOOKUP($I14,INDIRECT($AW$1&\"!$E$2:$AH$800\"),19,0))","v":""},{"$f":"IF(ISERROR(VLOOKUP($I14,INDIRECT($AW$1&\"!$E$2:$AH$800\"),20,0)),\"\",VLOOKUP($I14,INDIRECT($AW$1&\"!$E$2:$AH$800\"),20,0))","v":""},{"$f":"IF(ISERROR(VLOOKUP($I14,INDIRECT($AW$1&\"!$E$2:$AH$800\"),21,0)),\"\",VLOOKUP($I14,INDIRECT($AW$1&\"!$E$2:$AH$800\"),21,0))","v":""},{"$f":"IF(ISERROR(VLOOKUP($I14,INDIRECT($AW$1&\"!$E$2:$AH$800\"),22,0)),\"\",VLOOKUP($I14,INDIRECT($AW$1&\"!$E$2:$AH$800\"),22,0))","v":""},{"$f":"IF(ISERROR(VLOOKUP($I14,INDIRECT($AW$1&\"!$E$2:$AH$800\"),30,0)),\"\",VLOOKUP($I14,INDIRECT($AW$1&\"!$E$2:$AH$800\"),30,0))","v":""},{"$f":"IF(ISERROR(VLOOKUP($I14,INDIRECT($AW$1&\"!$E$2:$AH$800\"),29,0)),\"\",VLOOKUP($I14,INDIRECT($AW$1&\"!$E$2:$AH$800\"),29,0))","v":""},null,{"$f":"IF(ISERROR(VLOOKUP($I14,INDIRECT($AV$1&\"!$E$2:$AH$800\"),14,0)),\"\",VLOOKUP($I14,INDIRECT($AV$1&\"!$E$2:$AH$800\"),14,0))","v":""},{"$f":"IF(ISERROR(SUBSTITUTE(AK14,0,\"\")),\"\",SUBSTITUTE(AK14,0,\"\"))","v":"             "},{"$f":"IF(ISERROR(CONCATENATE(AL14,\" \",AM14,,\" \",AN14,,\" \",AO14,,\" \",AP14,,\" \",AQ14,,\" \",AR14,,\" \",AS14,\" \",AT14,\" \",AU14,\" \",AV14,\" \",AW14,\" \",AX14,\" \",AZ14)),\"\",CONCATENATE(AL14,\" \",AM14,,\" \",AN14,,\" \",AO14,,\" \",AP14,,\" \",AQ14,,\" \",AR14,,\" \",AS14,\" \",AT14,\" \",AU14,\" \",AV14,\" \",AW14,\" \",AX14,\" \",AZ14))","v":"             "},{"$f":"IF(ISERROR(VLOOKUP($I14,INDIRECT($AV$1&\"!$E$2:$AH$800\"),15,0)),\"\",VLOOKUP($I14,INDIRECT($AV$1&\"!$E$2:$AH$800\"),15,0))","v":""},{"$f":"IF(ISERROR(VLOOKUP($I14,INDIRECT($AV$1&\"!$E$2:$AH$800\"),16,0)),\"\",VLOOKUP($I14,INDIRECT($AV$1&\"!$E$2:$AH$800\"),16,0))","v":""},{"$f":"IF(ISERROR(VLOOKUP($I14,INDIRECT($AV$1&\"!$E$2:$AH$800\"),17,0)),\"\",VLOOKUP($I14,INDIRECT($AV$1&\"!$E$2:$AH$800\"),17,0))","v":""},{"$f":"IF(ISERROR(VLOOKUP($I14,INDIRECT($AV$1&\"!$E$2:$AH$800\"),18,0)),\"\",VLOOKUP($I14,INDIRECT($AV$1&\"!$E$2:$AH$800\"),18,0))","v":""},{"$f":"IF(ISERROR(VLOOKUP($I14,INDIRECT($AV$1&\"!$E$2:$AH$800\"),19,0)),\"\",VLOOKUP($I14,INDIRECT($AV$1&\"!$E$2:$AH$800\"),19,0))","v":""},{"$f":"IF(ISERROR(VLOOKUP($I14,INDIRECT($AV$1&\"!$E$2:$AH$800\"),20,0)),\"\",VLOOKUP($I14,INDIRECT($AV$1&\"!$E$2:$AH$800\"),20,0))","v":""},{"$f":"IF(ISERROR(VLOOKUP($I14,INDIRECT($AV$1&\"!$E$2:$AH$800\"),21,0)),\"\",VLOOKUP($I14,INDIRECT($AV$1&\"!$E$2:$AH$800\"),21,0))","v":""},{"$f":"IF(ISERROR(VLOOKUP($I14,INDIRECT($AV$1&\"!$E$2:$AH$800\"),22,0)),\"\",VLOOKUP($I14,INDIRECT($AV$1&\"!$E$2:$AH$800\"),22,0))","v":""},{"$f":"IF(ISERROR(VLOOKUP($I14,INDIRECT($AV$1&\"!$E$2:$AH$800\"),23,0)),\"\",VLOOKUP($I14,INDIRECT($AV$1&\"!$E$2:$AH$800\"),23,0))","v":""},{"$f":"IF(ISERROR(VLOOKUP($I14,INDIRECT($AV$1&\"!$E$2:$AH$800\"),24,0)),\"\",VLOOKUP($I14,INDIRECT($AV$1&\"!$E$2:$AH$800\"),24,0))","v":""},{"$f":"IF(ISERROR(VLOOKUP($I14,INDIRECT($AV$1&\"!$E$2:$AH$800\"),25,0)),\"\",VLOOKUP($I14,INDIRECT($AV$1&\"!$E$2:$AH$800\"),25,0))","v":""},{"$f":"IF(ISERROR(VLOOKUP($I14,INDIRECT($AV$1&\"!$E$2:$AH$800\"),26,0)),\"\",VLOOKUP($I14,INDIRECT($AV$1&\"!$E$2:$AH$800\"),26,0))","v":""},{"$f":"IF(ISERROR(VLOOKUP($I14,INDIRECT($AV$1&\"!$E$2:$AH$800\"),27,0)),\"\",VLOOKUP($I14,INDIRECT($AV$1&\"!$E$2:$AH$800\"),27,0))","v":""},null,{"$f":"IF(ISERROR(VLOOKUP($I14,INDIRECT($AV$1&\"!$E$2:$AH$800\"),28,0)),\"\",VLOOKUP($I14,INDIRECT($AV$1&\"!$E$2:$AH$800\"),28,0))","v":""},{"$nulls":5},"生活習慣病(胃なし)","09609"]
[{"$f":"ROW(A15)-13","v":2},{"$nulls":7},{"$f":"G15&\"　\"&H15","v":"　"},{"$nulls":3},{"$f":"DATEDIF(K15,\"2019/4/1\",\"Y\")","v":119},{"$f":"IF(M15=119,\"\",M15)","v":""},{"$nulls":6},"",{"$f":"IF(ISERROR(SUBSTITUTE(W15,0,\"\")),\"\",SUBSTITUTE(W15,0,\"\"))","v":"       "},{"$f":"IF(ISERROR(CONCATENATE(X15,\" \",Y15,,\" \",Z15,,\" \",AA15,,\" \",AB15,,\" \",AC15,,\" \",AD15,,\" \",AE15)),\"\",CONCATENATE(X15,\" \",Y15,,\" \",Z15,,\" \",AA15,,\" \",AB15,,\" \",AC15,,\" \",AD15,,\" \",AE15))","v":"       "},"","","","","","","","","","",null,"",{"$f":"IF(ISERROR(SUBSTITUTE(AK15,0,\"\")),\"\",SUBSTITUTE(AK15,0,\"\"))","v":"             "},{"$f":"IF(ISERROR(CONCATENATE(AL15,\" \",AM15,,\" \",AN15,,\" \",AO15,,\" \",AP15,,\" \",AQ15,,\" \",AR15,,\" \",AS15,\" \",AT15,\" \",AU15,\" \",AV15,\" \",AW15,\" \",AX15,\" \",AZ15)),\"\",CONCATENATE(AL15,\" \",AM15,,\" \",AN15,,\" \",AO15,,\" \",AP15,,\" \",AQ15,,\" \",AR15,,\" \",AS15,\" \",AT15,\" \",AU15,\" \",AV15,\" \",AW15,\" \",AX15,\" \",AZ15))","v":"             "},"","","","","","","",{"$f":"IF(ISERROR(VLOOKUP($I15,INDIRECT($AV$1&\"!$E$2:$AH$800\"),22,0)),\"\",VLOOKUP($I15,INDIRECT($AV$1&\"!$E$2:$AH$800\"),22,0))","v":""},{"$f":"IF(ISERROR(VLOOKUP($I15,INDIRECT($AV$1&\"!$E$2:$AH$800\"),23,0)),\"\",VLOOKUP($I15,INDIRECT($AV$1&\"!$E$2:$AH$800\"),23,0))","v":""},{"$f":"IF(ISERROR(VLOOKUP($I15,INDIRECT($AV$1&\"!$E$2:$AH$800\"),24,0)),\"\",VLOOKUP($I15,INDIRECT($AV$1&\"!$E$2:$AH$800\"),24,0))","v":""},{"$f":"IF(ISERROR(VLOOKUP($I15,INDIRECT($AV$1&\"!$E$2:$AH$800\"),25,0)),\"\",VLOOKUP($I15,INDIRECT($AV$1&\"!$E$2:$AH$800\"),25,0))","v":""},{"$f":"IF(ISERROR(VLOOKUP($I15,INDIRECT($AV$1&\"!$E$2:$AH$800\"),26,0)),\"\",VLOOKUP($I15,INDIRECT($AV$1&\"!$E$2:$AH$800\"),26,0))","v":""},{"$f":"IF(ISERROR(VLOOKUP($I15,INDIRECT($AV$1&\"!$E$2:$AH$800\"),27,0)),\"\",VLOOKUP($I15,INDIRECT($AV$1&\"!$E$2:$AH$800\"),27,0))","v":""},null,{"$f":"IF(ISERROR(VLOOKUP($I15,INDIRECT($AV$1&\"!$E$2:$AH$800\"),28,0)),\"\",VLOOKUP($I15,INDIRECT($AV$1&\"!$E$2:$AH$800\"),28,0))","v":""}]
[3,{"$nulls":7},"　",{"$nulls":3},{"$f":"DATEDIF(K16,\"2019/4/1\",\"Y\")","v":119},{"$f":"IF(M16=119,\"\",M16)","v":""},{"$nulls":6},"","       ","       ","","","","","","","","","","",null,"","             ","             ","","","","","","","","","","","","","",null,""]
[4,{"$nulls":7},"　",{"$nulls":3},119,"",{"$nulls":6},"","       ","       ","","","","","","","","","","",null,"","             ","             ","","","","","","","","","","","","","",null,""]
[5,{"$nulls":7},"　",{"$nulls":3},119,"",{"$nulls":6},"","       ","       ","","","","","","","","","","",null,"","             ","             ","","","","","","","","","","","","","",null,""]
[6,{"$nulls":7},"　",{"$nulls":3},119,"",{"$nulls":6},"","       ","       ","","","","","","","","","","",null,"","             ","             ","","","","","","","","","","","","","",null,""]
[7,{"$nulls":7},"　",{"$nulls":3},119,"",{"$nulls":6},"","       ","       ","","","","","","","","","","",null,"","             ","             ","","","","","","","","","","","","","",null,""]
[8,{"$nulls":7},"　",{"$nulls":3},119,"",{"$nulls":6},"","       ","       ","","","","","","","","","","",null,"","             ","             ","","","","","","","","","","","","","",null,""]
[9,{"$nulls":7},"　",{"$nulls":3},119,"",{"$nulls":6},"","       ","       ","","","","","","","","","","",null,"","             ","             ","","","","","","","","","","","","","",null,""]
[10,{"$nulls":7},"　",{"$nulls":3},119,"",{"$nulls":6},"","       ","       ","","","","","","","","","","",null,"","             ","             ","","","","","","","","","","","","","",null,""]
[11,{"$nulls":7},"　",{"$nulls":3},119,"",{"$nulls":6},"","       ","       ","","","","","","","","","","",null,"","             ","             ","","","","","","","","","","","","","",null,""]
[12,{"$nulls":7},"　",{"$nulls":3},119,"",{"$nulls":6},"","       ","       ","","","","","","","","","","",null,"","             ","             ","","","","","","","","","","","","","",null,""]
[13,{"$nulls":7},"　",{"$nulls":3},119,"",{"$nulls":6},"","       ","       ","","","","","","","","","","",null,"","             ","             ","","","","","","","","","","","","","",null,""]
[14,{"$nulls":7},"　",{"$nulls":3},119,"",{"$nulls":6},"","       ","       ","","","","","","","","","","",null,"","             ","             ","","","","","","","","","","","","","",null,""]
[15,{"$nulls":7},"　",{"$nulls":3},119,"",{"$nulls":6},"","       ","       ","","","","","","","","","","",null,"","             ","             ","","","","","","","","","","","","","",null,""]
[16,{"$nulls":7},"　",{"$nulls":3},119,"",{"$nulls":6},"","       ","       ","","","","","","","","","","",null,"","             ","             ","","","","","","","","","","","","","",null,""]
[17,{"$nulls":7},"　",{"$nulls":3},119,"",{"$nulls":6},"","       ","       ","","","","","","","","","","",null,"","             ","             ","","","","","","","","","","","","","",null,""]
[18,{"$nulls":7},"　",{"$nulls":3},119,"",{"$nulls":6},"","       ","       ","","","","","","","","","","",null,"","             ","             ","","","","","","","","","","","","","",null,""]
[19,{"$nulls":7},"　",{"$nulls":3},119,"",{"$nulls":6},"","       ","       ","","","","","","","","","","",null,"","             ","             ","","","","","","","","","","","","","",null,""]
[20,{"$nulls":7},"　",{"$nulls":3},119,"",{"$nulls":6},"","       ","       ","","","","","","","","","","",null,"","             ","             ","","","","","","","","","","","","","",null,""]
[21,{"$nulls":7},"　",{"$nulls":3},119,"",{"$nulls":6},"","       ","       ","","","","","","","","","","",null,"","             ","             ","","","","","","","","","","","","","",null,""]
[22,{"$nulls":7},"　",{"$nulls":3},119,"",{"$nulls":6},"","       ","       ","","","","","","","","","","",null,"","             ","             ","","","","","","","","","","","","","",null,""]
[23,{"$nulls":7},"　",{"$nulls":3},119,"",{"$nulls":6},"","       ","       ","","","","","","","","","","",null,"","             ","             ","","","","","","","","","","","","","",null,""]
[24,{"$nulls":7},"　",{"$nulls":3},119,"",{"$nulls":6},"","       ","       ","","","","","","","","","","",null,"","             ","             ","","","","","","","","","","","","","",null,""]
[25,{"$nulls":7},"　",{"$nulls":3},119,"",{"$nulls":6},"","       ","       ","","","","","","","","","","",null,"","             ","             ","","","","","","","","","","","","","",null,""]
[26,{"$nulls":7},"　",{"$nulls":3},119,"",{"$nulls":6},"","       ","       ","","","","","","","","","","",null,"","             ","             ","","","","","","","","","","","","","",null,""]
[27,{"$nulls":7},"　",{"$nulls":3},119,"",{"$nulls":6},"","       ","       ","","","","","","","","","","",null,"","             ","             ","","","","","","","","","","","","","",null,""]
[28,{"$nulls":7},"　",{"$nulls":3},119,"",{"$nulls":6},"","       ","       ","","","","","","","","","","",null,"","             ","             ","","","","","","","","","","","","","",null,""]
[29,{"$nulls":7},"　",{"$nulls":3},119,"",{"$nulls":6},"","       ","       ","","","","","","","","","","",null,"","             ","             ","","","","","","","","","","","","","",null,""]
[30,{"$nulls":7},"　",{"$nulls":3},119,"",{"$nulls":6},"","       ","       ","","","","","","","","","","",null,"","             ","             ","","","","","","","","","","","","","",null,""]
[31,{"$nulls":7},"　",{"$nulls":3},119,"",{"$nulls":6},"","       ","       ","","","","","","","","","","",null,"","             ","             ","","","","","","","","","","","","","",null,""]
[32,{"$nulls":7},"　",{"$nulls":3},119,"",{"$nulls":6},"","       ","       ","","","","","","","","","","",null,"","             ","             ","","","","","","","","","","","","","",null,""]
[33,{"$nulls":7},"　",{"$nulls":3},119,"",{"$nulls":6},{"$f":"IF(ISERROR(VLOOKUP($I46,INDIRECT($AW$1&\"!$E$2:$AH$800\"),14,0)),\"\",VLOOKUP($I46,INDIRECT($AW$1&\"!$E$2:$AH$800\"),14,0))","v":""},"       ","       ",{"$f":"IF(ISERROR(VLOOKUP($I46,INDIRECT($AW$1&\"!$E$2:$AH$800\"),15,0)),\"\",VLOOKUP($I46,INDIRECT($AW$1&\"!$E$2:$AH$800\"),15,0))","v":""},{"$f":"IF(ISERROR(VLOOKUP($I46,INDIRECT($AW$1&\"!$E$2:$AH$800\"),16,0)),\"\",VLOOKUP($I46,INDIRECT($AW$1&\"!$E$2:$AH$800\"),16,0))","v":""},{"$f":"IF(ISERROR(VLOOKUP($I46,INDIRECT($AW$1&\"!$E$2:$AH$800\"),17,0)),\"\",VLOOKUP($I46,INDIRECT($AW$1&\"!$E$2:$AH$800\"),17,0))","v":""},{"$f":"IF(ISERROR(VLOOKUP($I46,INDIRECT($AW$1&\"!$E$2:$AH$800\"),18,0)),\"\",VLOOKUP($I46,INDIRECT($AW$1&\"!$E$2:$AH$800\"),18,0))","v":""},{"$f":"IF(ISERROR(VLOOKUP($I46,INDIRECT($AW$1&\"!$E$2:$AH$800\"),19,0)),\"\",VLOOKUP($I46,INDIRECT($AW$1&\"!$E$2:$AH$800\"),19,0))","v":""},{"$f":"IF(ISERROR(VLOOKUP($I46,INDIRECT($AW$1&\"!$E$2:$AH$800\"),20,0)),\"\",VLOOKUP($I46,INDIRECT($AW$1&\"!$E$2:$AH$800\"),20,0))","v":""},{"$f":"IF(ISERROR(VLOOKUP($I46,INDIRECT($AW$1&\"!$E$2:$AH$800\"),21,0)),\"\",VLOOKUP($I46,INDIRECT($AW$1&\"!$E$2:$AH$800\"),21,0))","v":""},{"$f":"IF(ISERROR(VLOOKUP($I46,INDIRECT($AW$1&\"!$E$2:$AH$800\"),22,0)),\"\",VLOOKUP($I46,INDIRECT($AW$1&\"!$E$2:$AH$800\"),22,0))","v":""},{"$f":"IF(ISERROR(VLOOKUP($I46,INDIRECT($AW$1&\"!$E$2:$AH$800\"),30,0)),\"\",VLOOKUP($I46,INDIRECT($AW$1&\"!$E$2:$AH$800\"),30,0))","v":""},{"$f":"IF(ISERROR(VLOOKUP($I46,INDIRECT($AW$1&\"!$E$2:$AH$800\"),29,0)),\"\",VLOOKUP($I46,INDIRECT($AW$1&\"!$E$2:$AH$800\"),29,0))","v":""},null,{"$f":"IF(ISERROR(VLOOKUP($I46,INDIRECT($AV$1&\"!$E$2:$AH$800\"),14,0)),\"\",VLOOKUP($I46,INDIRECT($AV$1&\"!$E$2:$AH$800\"),14,0))","v":""},"             ","             ",{"$f":"IF(ISERROR(VLOOKUP($I46,INDIRECT($AV$1&\"!$E$2:$AH$800\"),15,0)),\"\",VLOOKUP($I46,INDIRECT($AV$1&\"!$E$2:$AH$800\"),15,0))","v":""},{"$f":"IF(ISERROR(VLOOKUP($I46,INDIRECT($AV$1&\"!$E$2:$AH$800\"),16,0)),\"\",VLOOKUP($I46,INDIRECT($AV$1&\"!$E$2:$AH$800\"),16,0))","v":""},{"$f":"IF(ISERROR(VLOOKUP($I46,INDIRECT($AV$1&\"!$E$2:$AH$800\"),17,0)),\"\",VLOOKUP($I46,INDIRECT($AV$1&\"!$E$2:$AH$800\"),17,0))","v":""},{"$f":"IF(ISERROR(VLOOKUP($I46,INDIRECT($AV$1&\"!$E$2:$AH$800\"),18,0)),\"\",VLOOKUP($I46,INDIRECT($AV$1&\"!$E$2:$AH$800\"),18,0))","v":""},{"$f":"IF(ISERROR(VLOOKUP($I46,INDIRECT($AV$1&\"!$E$2:$AH$800\"),19,0)),\"\",VLOOKUP($I46,INDIRECT($AV$1&\"!$E$2:$AH$800\"),19,0))","v":""},"",{"$f":"IF(ISERROR(VLOOKUP($I46,INDIRECT($AV$1&\"!$E$2:$AH$800\"),21,0)),\"\",VLOOKUP($I46,INDIRECT($AV$1&\"!$E$2:$AH$800\"),21,0))","v":""},"","","","","","",null,""]
[34,{"$nulls":7},"　",{"$nulls":3},119,"",{"$nulls":6},"","       ","       ","","","","","","","","","","",null,"","             ","             ","","","","","","","","","","","","","",null,""]
[35,{"$nulls":7},"　",{"$nulls":3},119,"",{"$nulls":6},"","       ","       ","","","","","","","","","","",null,"","             ","             ","","","","","","","","","","","","","",null,""]
[36,{"$nulls":7},"　",{"$nulls":3},119,"",{"$nulls":6},"","       ","       ","","","","","","","","","","",null,"","             ","             ","","","","","","","","","","","","","",null,""]
[37,{"$nulls":7},"　",{"$nulls":3},119,"",{"$nulls":6},"","       ","       ","","","","","","","","","","",null,"","             ","             ","","","","","","","","","","","","","",null,""]
[38,{"$nulls":7},"　",{"$nulls":3},119,"",{"$nulls":6},"","       ","       ","","","","","","","","","","",null,"","             ","             ","","","","","","","","","","","","","",null,""]
[39,{"$nulls":7},"　",{"$nulls":3},119,"",{"$nulls":6},"","       ","       ","","","","","","","","","","",null,"","             ","             ","","","","","","","","","","","","","",null,""]
[40,{"$nulls":7},"　",{"$nulls":3},119,"",{"$nulls":6},"","       ","       ","","","","","","","","","","",null,"","             ","             ","","","","","","","","","","","","","",null,""]
[41,{"$nulls":7},"　",{"$nulls":3},119,"",{"$nulls":6},"","       ","       ","","","","","","","","","","",null,"","             ","             ","","","","","","","","","","","","","",null,""]
[42,{"$nulls":7},"　",{"$nulls":3},119,"",{"$nulls":6},"","       ","       ","","","","","","","","","","",null,"","             ","             ","","","","","","","","","","","","","",null,""]
[43,{"$nulls":7},"　",{"$nulls":3},119,"",{"$nulls":4},"",null,"","       ","       ","","","","","","","","","","",null,"","             ","             ","","","","","","","","","","","","","",null,""]
[44,{"$nulls":7},"　",{"$nulls":3},119,"",{"$nulls":4},"",null,"","       ","       ","","","","","","","","","","",null,"","             ","             ","","","","","","","","","","","","","",null,""]
[45,{"$nulls":7},"　",{"$nulls":3},119,"",{"$nulls":4},"",null,"","       ","       ","","","","","","","","","","",null,"","             ","             ","","","","","","","","","","","","","",null,""]
[46,{"$nulls":7},"　",{"$nulls":3},119,"",{"$nulls":4},"",null,"","       ","       ","","","","","","","","","","",null,"","             ","             ","","","","","","","","","","","","","",null,""]
[47,{"$nulls":7},"　",{"$nulls":3},119,"",{"$nulls":4},"",null,"","       ","       ","","","","","","","","","","",null,"","             ","             ","","","","","","","","","","","","","",null,""]
[48,{"$nulls":7},"　",{"$nulls":3},119,"",{"$nulls":4},"",null,"","       ","       ","","","","","","","","","","",null,"","             ","             ","","","","","","","","","","","","","",null,""]
[49,{"$nulls":7},"　",{"$nulls":3},119,"",{"$nulls":4},"",null,"","       ","       ","","","","","","","","","","",null,"","             ","             ","","","","","","","","","","","","","",null,""]
[{"$f":"ROW(A63)-13","v":50},{"$nulls":7},"　",{"$nulls":3},119,"",{"$nulls":4},"",null,"","       ","       ","","","","","","","","","","",null,"","             ","             ","","","","","","","","","","","","","",null,""]
[{"$f":"ROW(A64)-13","v":51},{"$nulls":7},"　",{"$nulls":3},119,"",{"$nulls":4},"",null,"","       ","       ","","","","","","","","","","",null,"","             ","             ","","","","","","","","","","","","","",null,""]
[{"$f":"ROW(A65)-13","v":52},{"$nulls":7},"　",{"$nulls":3},119,"",{"$nulls":4},"",null,"","       ","       ","","","","","","","","","","",null,"","             ","             ","","","","","","","","","","","","","",null,""]
[{"$f":"ROW(A66)-13","v":53},{"$nulls":7},"　",{"$nulls":3},119,"",{"$nulls":4},"",null,"","       ","       ","","","","","","","","","","",null,"","             ","             ","","","","","","","","","","","","","",null,""]
[{"$f":"ROW(A67)-13","v":54},{"$nulls":7},"　",{"$nulls":3},119,"",{"$nulls":4},"",null,"","       ","       ","","","","","","","","","","",null,"","             ","             ","","","","","","","","","","","","","",null,""]
[{"$f":"ROW(A68)-13","v":55},{"$nulls":7},"　",{"$nulls":3},119,"",{"$nulls":4},"",null,"","       ","       ","","","","","","","","","","",null,"","             ","             ","","","","","","","","","","","","","",null,""]
[{"$f":"ROW(A69)-13","v":56},{"$nulls":7},"　",{"$nulls":3},119,"",{"$nulls":4},"",null,"","       ","       ","","","","","","","","","","",null,"","             ","             ","","","","","","","","","","","","","",null,""]
[{"$f":"ROW(A70)-13","v":57},{"$nulls":7},"　",{"$nulls":3},119,"",{"$nulls":4},"",null,"","       ","       ","","","","","","","","","","",null,"","             ","             ","","","","","","","","","","","","","",null,""]
[{"$f":"ROW(A71)-13","v":58},{"$nulls":7},"　",{"$nulls":3},119,"",{"$nulls":4},"",null,"","       ","       ","","","","","","","","","","",null,"","             ","             ","","","","","","","","","","","","","",null,""]
[{"$f":"ROW(A72)-13","v":59},{"$nulls":7},"　",{"$nulls":3},119,"",{"$nulls":4},"",null,"","       ","       ","","","","","","","","","","",null,"","             ","             ","","","","","","","","","","","","","",null,""]
[{"$f":"ROW(A73)-13","v":60},{"$nulls":7},"　",{"$nulls":3},119,"",{"$nulls":4},"",null,"","       ","       ","","","","","","","","","","",null,"","             ","             ","","","","","","","","","","","","","",null,""]
[{"$f":"ROW(A74)-13","v":61},{"$nulls":7},"　",{"$nulls":3},119,"",{"$nulls":4},"",null,"","       ","       ","","","","","","","","","","",null,"","             ","             ","","","","","","","","","","","","","",null,""]
[{"$f":"ROW(A75)-13","v":62},{"$nulls":7},"　",{"$nulls":3},119,"",{"$nulls":4},"",null,"","       ","       ","","","","","","","","","","",null,"","             ","             ","","","","","","","","","","","","","",null,""]
[{"$f":"ROW(A76)-13","v":63},{"$nulls":7},"　",{"$nulls":3},119,"",{"$nulls":4},"",null,"","       ","       ","","","","","","","","","","",null,"","             ","             ","","","","","","","","","","","","","",null,""]
[{"$f":"ROW(A77)-13","v":64},{"$nulls":7},"　",{"$nulls":3},119,"",{"$nulls":4},"",null,"","       ","       ","","","","","","","","","","",null,"","             ","             ","","","","","","","","","","","","","",null,""]
[{"$f":"ROW(A78)-13","v":65},{"$nulls":7},"　",{"$nulls":3},119,"",{"$nulls":4},"",null,{"$f":"IF(ISERROR(VLOOKUP($I78,INDIRECT($AW$1&\"!$E$2:$AH$800\"),14,0)),\"\",VLOOKUP($I78,INDIRECT($AW$1&\"!$E$2:$AH$800\"),14,0))","v":""},"       ","       ",{"$f":"IF(ISERROR(VLOOKUP($I78,INDIRECT($AW$1&\"!$E$2:$AH$800\"),15,0)),\"\",VLOOKUP($I78,INDIRECT($AW$1&\"!$E$2:$AH$800\"),15,0))","v":""},{"$f":"IF(ISERROR(VLOOKUP($I78,INDIRECT($AW$1&\"!$E$2:$AH$800\"),16,0)),\"\",VLOOKUP($I78,INDIRECT($AW$1&\"!$E$2:$AH$800\"),16,0))","v":""},{"$f":"IF(ISERROR(VLOOKUP($I78,INDIRECT($AW$1&\"!$E$2:$AH$800\"),17,0)),\"\",VLOOKUP($I78,INDIRECT($AW$1&\"!$E$2:$AH$800\"),17,0))","v":""},{"$f":"IF(ISERROR(VLOOKUP($I78,INDIRECT($AW$1&\"!$E$2:$AH$800\"),18,0)),\"\",VLOOKUP($I78,INDIRECT($AW$1&\"!$E$2:$AH$800\"),18,0))","v":""},{"$f":"IF(ISERROR(VLOOKUP($I78,INDIRECT($AW$1&\"!$E$2:$AH$800\"),19,0)),\"\",VLOOKUP($I78,INDIRECT($AW$1&\"!$E$2:$AH$800\"),19,0))","v":""},{"$f":"IF(ISERROR(VLOOKUP($I78,INDIRECT($AW$1&\"!$E$2:$AH$800\"),20,0)),\"\",VLOOKUP($I78,INDIRECT($AW$1&\"!$E$2:$AH$800\"),20,0))","v":""},{"$f":"IF(ISERROR(VLOOKUP($I78,INDIRECT($AW$1&\"!$E$2:$AH$800\"),21,0)),\"\",VLOOKUP($I78,INDIRECT($AW$1&\"!$E$2:$AH$800\"),21,0))","v":""},{"$f":"IF(ISERROR(VLOOKUP($I78,INDIRECT($AW$1&\"!$E$2:$AH$800\"),22,0)),\"\",VLOOKUP($I78,INDIRECT($AW$1&\"!$E$2:$AH$800\"),22,0))","v":""},{"$f":"IF(ISERROR(VLOOKUP($I78,INDIRECT($AW$1&\"!$E$2:$AH$800\"),30,0)),\"\",VLOOKUP($I78,INDIRECT($AW$1&\"!$E$2:$AH$800\"),30,0))","v":""},{"$f":"IF(ISERROR(VLOOKUP($I78,INDIRECT($AW$1&\"!$E$2:$AH$800\"),29,0)),\"\",VLOOKUP($I78,INDIRECT($AW$1&\"!$E$2:$AH$800\"),29,0))","v":""},null,{"$f":"IF(ISERROR(VLOOKUP($I78,INDIRECT($AV$1&\"!$E$2:$AH$800\"),14,0)),\"\",VLOOKUP($I78,INDIRECT($AV$1&\"!$E$2:$AH$800\"),14,0))","v":""},"             ","             ",{"$f":"IF(ISERROR(VLOOKUP($I78,INDIRECT($AV$1&\"!$E$2:$AH$800\"),15,0)),\"\",VLOOKUP($I78,INDIRECT($AV$1&\"!$E$2:$AH$800\"),15,0))","v":""},{"$f":"IF(ISERROR(VLOOKUP($I78,INDIRECT($AV$1&\"!$E$2:$AH$800\"),16,0)),\"\",VLOOKUP($I78,INDIRECT($AV$1&\"!$E$2:$AH$800\"),16,0))","v":""},{"$f":"IF(ISERROR(VLOOKUP($I78,INDIRECT($AV$1&\"!$E$2:$AH$800\"),17,0)),\"\",VLOOKUP($I78,INDIRECT($AV$1&\"!$E$2:$AH$800\"),17,0))","v":""},{"$f":"IF(ISERROR(VLOOKUP($I78,INDIRECT($AV$1&\"!$E$2:$AH$800\"),18,0)),\"\",VLOOKUP($I78,INDIRECT($AV$1&\"!$E$2:$AH$800\"),18,0))","v":""},{"$f":"IF(ISERROR(VLOOKUP($I78,INDIRECT($AV$1&\"!$E$2:$AH$800\"),19,0)),\"\",VLOOKUP($I78,INDIRECT($AV$1&\"!$E$2:$AH$800\"),19,0))","v":""},{"$f":"IF(ISERROR(VLOOKUP($I78,INDIRECT($AV$1&\"!$E$2:$AH$800\"),20,0)),\"\",VLOOKUP($I78,INDIRECT($AV$1&\"!$E$2:$AH$800\"),20,0))","v":""},"","","","","","","",null,""]
[{"$f":"ROW(A79)-13","v":66},{"$nulls":7},{"$f":"G79&\"　\"&H79","v":"　"},{"$nulls":3},119,"",{"$nulls":6},"",{"$f":"IF(ISERROR(SUBSTITUTE(W79,0,\"\")),\"\",SUBSTITUTE(W79,0,\"\"))","v":"       "},{"$f":"IF(ISERROR(CONCATENATE(X79,\" \",Y79,,\" \",Z79,,\" \",AA79,,\" \",AB79,,\" \",AC79,,\" \",AD79,,\" \",AE79)),\"\",CONCATENATE(X79,\" \",Y79,,\" \",Z79,,\" \",AA79,,\" \",AB79,,\" \",AC79,,\" \",AD79,,\" \",AE79))","v":"       "},"","","","","","","","","","",null,"",{"$f":"IF(ISERROR(SUBSTITUTE(AK79,0,\"\")),\"\",SUBSTITUTE(AK79,0,\"\"))","v":"             "},{"$f":"IF(ISERROR(CONCATENATE(AL79,\" \",AM79,,\" \",AN79,,\" \",AO79,,\" \",AP79,,\" \",AQ79,,\" \",AR79,,\" \",AS79,\" \",AT79,\" \",AU79,\" \",AV79,\" \",AW79,\" \",AX79,\" \",AZ79)),\"\",CONCATENATE(AL79,\" \",AM79,,\" \",AN79,,\" \",AO79,,\" \",AP79,,\" \",AQ79,,\" \",AR79,,\" \",AS79,\" \",AT79,\" \",AU79,\" \",AV79,\" \",AW79,\" \",AX79,\" \",AZ79))","v":"             "},"","","","","","","",{"$f":"IF(ISERROR(VLOOKUP($I79,INDIRECT($AV$1&\"!$E$2:$AH$800\"),22,0)),\"\",VLOOKUP($I79,INDIRECT($AV$1&\"!$E$2:$AH$800\"),22,0))","v":""},{"$f":"IF(ISERROR(VLOOKUP($I79,INDIRECT($AV$1&\"!$E$2:$AH$800\"),23,0)),\"\",VLOOKUP($I79,INDIRECT($AV$1&\"!$E$2:$AH$800\"),23,0))","v":""},{"$f":"IF(ISERROR(VLOOKUP($I79,INDIRECT($AV$1&\"!$E$2:$AH$800\"),24,0)),\"\",VLOOKUP($I79,INDIRECT($AV$1&\"!$E$2:$AH$800\"),24,0))","v":""},{"$f":"IF(ISERROR(VLOOKUP($I79,INDIRECT($AV$1&\"!$E$2:$AH$800\"),25,0)),\"\",VLOOKUP($I79,INDIRECT($AV$1&\"!$E$2:$AH$800\"),25,0))","v":""},{"$f":"IF(ISERROR(VLOOKUP($I79,INDIRECT($AV$1&\"!$E$2:$AH$800\"),26,0)),\"\",VLOOKUP($I79,INDIRECT($AV$1&\"!$E$2:$AH$800\"),26,0))","v":""},{"$f":"IF(ISERROR(VLOOKUP($I79,INDIRECT($AV$1&\"!$E$2:$AH$800\"),27,0)),\"\",VLOOKUP($I79,INDIRECT($AV$1&\"!$E$2:$AH$800\"),27,0))","v":""},null,{"$f":"IF(ISERROR(VLOOKUP($I79,INDIRECT($AV$1&\"!$E$2:$AH$800\"),28,0)),\"\",VLOOKUP($I79,INDIRECT($AV$1&\"!$E$2:$AH$800\"),28,0))","v":""}]
[{"$f":"ROW(A80)-13","v":67},{"$nulls":7},"　",{"$nulls":3},{"$f":"DATEDIF(K80,\"2019/4/1\",\"Y\")","v":119},{"$f":"IF(M80=119,\"\",M80)","v":""},{"$nulls":4},"",null,"","       ","       ","","","","","","","","","","",null,"","             ","             ","","","","","","","","","","","","","",null,""]
[{"$f":"ROW(A81)-13","v":68},{"$nulls":7},"　",{"$nulls":3},119,"",{"$nulls":4},"",null,"","       ","       ","","","","","","","","","","",null,"","             ","             ","","","","","","","","","","","","","",null,""]
[{"$f":"ROW(A82)-13","v":69},{"$nulls":7},"　",{"$nulls":3},119,"",{"$nulls":4},"",null,"","       ","       ","","","","","","","","","","",null,"","             ","             ","","","","","","","","","","","","","",null,""]
[{"$f":"ROW(A83)-13","v":70},{"$nulls":7},"　",{"$nulls":3},119,"",{"$nulls":4},"",null,"","       ","       ","","","","","","","","","","",null,"","             ","             ","","","","","","","","","","","","","",null,""]
[{"$f":"ROW(A84)-13","v":71},{"$nulls":7},"　",{"$nulls":3},119,"",{"$nulls":4},"",null,"","       ","       ","","","","","","","","","","",null,"","             ","             ","","","","","","","","","","","","","",null,""]
[{"$f":"ROW(A85)-13","v":72},{"$nulls":7},"　",{"$nulls":3},119,"",{"$nulls":4},"",null,"","       ","       ","","","","","","","","","","",null,"","             ","             ","","","","","","","","","","","","","",null,""]
[{"$f":"ROW(A86)-13","v":73},{"$nulls":7},"　",{"$nulls":3},119,"",{"$nulls":4},"",null,"","       ","       ","","","","","","","","","","",null,"","             ","             ","","","","","","","","","","","","","",null,""]
[{"$f":"ROW(A87)-13","v":74},{"$nulls":7},"　",{"$nulls":3},119,"",{"$nulls":4},"",null,"","       ","       ","","","","","","","","","","",null,"","             ","             ","","","","","","","","","","","","","",null,""]
[{"$f":"ROW(A88)-13","v":75},{"$nulls":7},"　",{"$nulls":3},119,"",{"$nulls":4},"",null,"","       ","       ","","","","","","","","","","",null,"","             ","             ","","","","","","","","","","","","","",null,""]
[{"$f":"ROW(A89)-13","v":76},{"$nulls":7},"　",{"$nulls":3},119,"",{"$nulls":4},"",null,"","       ","       ","","","","","","","","","","",null,"","             ","             ","","","","","","","","","","","","","",null,""]
[{"$f":"ROW(A90)-13","v":77},{"$nulls":7},"　",{"$nulls":3},119,"",{"$nulls":4},"",null,"","       ","       ","","","","","","","","","","",null,"","             ","             ","","","","","","","","","","","","","",null,""]
[{"$f":"ROW(A91)-13","v":78},{"$nulls":7},"　",{"$nulls":3},119,"",{"$nulls":4},"",null,"","       ","       ","","","","","","","","","","",null,"","             ","             ","","","","","","","","","","","","","",null,""]
[{"$f":"ROW(A92)-13","v":79},{"$nulls":7},"　",{"$nulls":3},119,"",{"$nulls":4},"",null,"","       ","       ","","","","","","","","","","",null,"","             ","             ","","","","","","","","","","","","","",null,""]
[{"$f":"ROW(A93)-13","v":80},{"$nulls":7},"　",{"$nulls":3},119,"",{"$nulls":4},"",null,"","       ","       ","","","","","","","","","","",null,"","             ","             ","","","","","","","","","","","","","",null,""]
[{"$f":"ROW(A94)-13","v":81},{"$nulls":7},"　",{"$nulls":3},119,"",{"$nulls":4},"",null,"","       ","       ","","","","","","","","","","",null,"","             ","             ","","","","","","","","","","","","","",null,""]
[{"$f":"ROW(A95)-13","v":82},{"$nulls":7},"　",{"$nulls":3},119,"",{"$nulls":4},"",null,"","       ","       ","","","","","","","","","","",null,"","             ","             ","","","","","","","","","","","","","",null,""]
[83,{"$nulls":7},"　",{"$nulls":3},119,"",{"$nulls":4},"",null,"","       ","       ","","","","","","","","","","",null,"","             ","             ","","","","","","","","","","","","","",null,""]
[84,{"$nulls":7},"　",{"$nulls":3},119,"",{"$nulls":4},"",null,"","       ","       ","","","","","","","","","","",null,"","             ","             ","","","","","","","","","","","","","",null,""]
[85,{"$nulls":7},"　",{"$nulls":3},119,"",{"$nulls":4},"",null,"","       ","       ","","","","","","","","","","",null,"","             ","             ","","","","","","","","","","","","","",null,""]
[86,{"$nulls":7},"　",{"$nulls":3},119,"",{"$nulls":4},"",null,"","       ","       ","","","","","","","","","","",null,"","             ","             ","","","","","","","","","","","","","",null,""]
[87,{"$nulls":7},"　",{"$nulls":3},119,"",{"$nulls":6},"","       ","       ","","","","","","","","","","",null,"","             ","             ","","","","","","","","","","","","","",null,""]
[88,{"$nulls":7},"　",{"$nulls":3},119,"",{"$nulls":4},"",null,"","       ","       ","","","","","","","","","","",null,"","             ","             ","","","","","","","","","","","","","",null,""]
[89,{"$nulls":7},"　",{"$nulls":3},119,"",{"$nulls":4},"",null,"","       ","       ","","","","","","","","","","",null,"","             ","             ","","","","","","","","","","","","","",null,""]
[90,{"$nulls":7},"　",{"$nulls":3},119,"",{"$nulls":4},"",null,"","       ","       ","","","","","","","","","","",null,"","             ","             ","","","","","","","","","","","","","",null,""]
[91,{"$nulls":7},"　",{"$nulls":3},119,"",{"$nulls":4},"",null,"","       ","       ","","","","","","","","","","",null,"","             ","             ","","","","","","","","","","","","","",null,""]
[92,{"$nulls":7},"　",{"$nulls":3},119,"",{"$nulls":4},"",null,"","       ","       ","","","","","","","","","","",null,"","             ","             ","","","","","","","","","","","","","",null,""]
[93,{"$nulls":7},"　",{"$nulls":3},119,"",{"$nulls":4},"",null,"","       ","       ","","","","","","","","","","",null,"","             ","             ","","","","","","","","","","","","","",null,""]
[94,{"$nulls":7},"　",{"$nulls":3},119,"",{"$nulls":4},"",null,"","       ","       ","","","","","","","","","","",null,"","             ","             ","","","","","","","","","","","","","",null,""]
[95,{"$nulls":7},"　",{"$nulls":3},119,"",{"$nulls":4},"",null,"","       ","       ","","","","","","","","","","",null,"","             ","             ","","","","","","","","","","","","","",null,""]
[96,{"$nulls":7},"　",{"$nulls":3},119,"",{"$nulls":4},"",null,"","       ","       ","","","","","","","","","","",null,"","             ","             ","","","","","","","","","","","","","",null,""]
[97,{"$nulls":7},"　",{"$nulls":3},119,"",{"$nulls":4},"",null,{"$f":"IF(ISERROR(VLOOKUP($I110,INDIRECT($AW$1&\"!$E$2:$AH$800\"),14,0)),\"\",VLOOKUP($I110,INDIRECT($AW$1&\"!$E$2:$AH$800\"),14,0))","v":""},"       ","       ",{"$f":"IF(ISERROR(VLOOKUP($I110,INDIRECT($AW$1&\"!$E$2:$AH$800\"),15,0)),\"\",VLOOKUP($I110,INDIRECT($AW$1&\"!$E$2:$AH$800\"),15,0))","v":""},{"$f":"IF(ISERROR(VLOOKUP($I110,INDIRECT($AW$1&\"!$E$2:$AH$800\"),16,0)),\"\",VLOOKUP($I110,INDIRECT($AW$1&\"!$E$2:$AH$800\"),16,0))","v":""},{"$f":"IF(ISERROR(VLOOKUP($I110,INDIRECT($AW$1&\"!$E$2:$AH$800\"),17,0)),\"\",VLOOKUP($I110,INDIRECT($AW$1&\"!$E$2:$AH$800\"),17,0))","v":""},{"$f":"IF(ISERROR(VLOOKUP($I110,INDIRECT($AW$1&\"!$E$2:$AH$800\"),18,0)),\"\",VLOOKUP($I110,INDIRECT($AW$1&\"!$E$2:$AH$800\"),18,0))","v":""},{"$f":"IF(ISERROR(VLOOKUP($I110,INDIRECT($AW$1&\"!$E$2:$AH$800\"),19,0)),\"\",VLOOKUP($I110,INDIRECT($AW$1&\"!$E$2:$AH$800\"),19,0))","v":""},{"$f":"IF(ISERROR(VLOOKUP($I110,INDIRECT($AW$1&\"!$E$2:$AH$800\"),20,0)),\"\",VLOOKUP($I110,INDIRECT($AW$1&\"!$E$2:$AH$800\"),20,0))","v":""},{"$f":"IF(ISERROR(VLOOKUP($I110,INDIRECT($AW$1&\"!$E$2:$AH$800\"),21,0)),\"\",VLOOKUP($I110,INDIRECT($AW$1&\"!$E$2:$AH$800\"),21,0))","v":""},{"$f":"IF(ISERROR(VLOOKUP($I110,INDIRECT($AW$1&\"!$E$2:$AH$800\"),22,0)),\"\",VLOOKUP($I110,INDIRECT($AW$1&\"!$E$2:$AH$800\"),22,0))","v":""},{"$f":"IF(ISERROR(VLOOKUP($I110,INDIRECT($AW$1&\"!$E$2:$AH$800\"),30,0)),\"\",VLOOKUP($I110,INDIRECT($AW$1&\"!$E$2:$AH$800\"),30,0))","v":""},{"$f":"IF(ISERROR(VLOOKUP($I110,INDIRECT($AW$1&\"!$E$2:$AH$800\"),29,0)),\"\",VLOOKUP($I110,INDIRECT($AW$1&\"!$E$2:$AH$800\"),29,0))","v":""},null,{"$f":"IF(ISERROR(VLOOKUP($I110,INDIRECT($AV$1&\"!$E$2:$AH$800\"),14,0)),\"\",VLOOKUP($I110,INDIRECT($AV$1&\"!$E$2:$AH$800\"),14,0))","v":""},"             ","             ",{"$f":"IF(ISERROR(VLOOKUP($I110,INDIRECT($AV$1&\"!$E$2:$AH$800\"),15,0)),\"\",VLOOKUP($I110,INDIRECT($AV$1&\"!$E$2:$AH$800\"),15,0))","v":""},{"$f":"IF(ISERROR(VLOOKUP($I110,INDIRECT($AV$1&\"!$E$2:$AH$800\"),16,0)),\"\",VLOOKUP($I110,INDIRECT($AV$1&\"!$E$2:$AH$800\"),16,0))","v":""},{"$f":"IF(ISERROR(VLOOKUP($I110,INDIRECT($AV$1&\"!$E$2:$AH$800\"),17,0)),\"\",VLOOKUP($I110,INDIRECT($AV$1&\"!$E$2:$AH$800\"),17,0))","v":""},{"$f":"IF(ISERROR(VLOOKUP($I110,INDIRECT($AV$1&\"!$E$2:$AH$800\"),18,0)),\"\",VLOOKUP($I110,INDIRECT($AV$1&\"!$E$2:$AH$800\"),18,0))","v":""},{"$f":"IF(ISERROR(VLOOKUP($I110,INDIRECT($AV$1&\"!$E$2:$AH$800\"),19,0)),\"\",VLOOKUP($I110,INDIRECT($AV$1&\"!$E$2:$AH$800\"),19,0))","v":""},"",{"$f":"IF(ISERROR(VLOOKUP($I110,INDIRECT($AV$1&\"!$E$2:$AH$800\"),21,0)),\"\",VLOOKUP($I110,INDIRECT($AV$1&\"!$E$2:$AH$800\"),21,0))","v":""},"","","","","","",null,""]
[98,{"$nulls":7},"　",{"$nulls":3},119,"",{"$nulls":4},"",null,"","       ","       ","","","","","","","","","","",null,"","             ","             ","","","","","","","","","","","","","",null,""]
[99,{"$nulls":7},"　",{"$nulls":3},119,"",{"$nulls":4},"",null,"","       ","       ","","","","","","","","","","",null,"","             ","             ","","","","","","","","","","","","","",null,""]
[100,{"$nulls":7},"　",{"$nulls":3},119,"",{"$nulls":4},"",null,"","       ","       ","","","","","","","","","","",null,"","             ","             ","","","","","","","","","","","","","",null,""]
[101,{"$nulls":7},"　",{"$nulls":3},119,"",{"$nulls":4},"",null,"","       ","       ","","","","","","","","","","",null,"","             ","             ","","","","","","","","","","","","","",null,""]
[102,{"$nulls":7},"　",{"$nulls":3},119,"",{"$nulls":4},"",null,"","       ","       ","","","","","","","","","","",null,"","             ","             ","","","","","","","","","","","","","",null,""]
[103,{"$nulls":7},"　",{"$nulls":3},119,"",{"$nulls":4},"",null,"","       ","       ","","","","","","","","","","",null,"","             ","             ","","","","","","","","","","","","","",null,""]
[104,{"$nulls":7},"　",{"$nulls":3},119,"",{"$nulls":4},"",null,"","       ","       ","","","","","","","","","","",null,"","             ","             ","","","","","","","","","","","","","",null,""]
[105,{"$nulls":7},"　",{"$nulls":3},119,"",{"$nulls":6},"","       ","       ","","","","","","","","","","",null,"","             ","             ","","","","","","","","","","","","","",null,""]
[106,{"$nulls":7},"　",{"$nulls":3},119,"",{"$nulls":4},"",null,"","       ","       ","","","","","","","","","","",null,"","             ","             ","","","","","","","","","","","","","",null,""]
[107,{"$nulls":7},"　",{"$nulls":3},119,"",{"$nulls":4},"",null,"","       ","       ","","","","","","","","","","",null,"","             ","             ","","","","","","","","","","","","","",null,""]
[108,{"$nulls":7},"　",{"$nulls":3},119,"",{"$nulls":4},"",null,"","       ","       ","","","","","","","","","","",null,"","             ","             ","","","","","","","","","","","","","",null,""]
[109,{"$nulls":7},"　",{"$nulls":3},119,"",{"$nulls":4},"",null,"","       ","       ","","","","","","","","","","",null,"","             ","             ","","","","","","","","","","","","","",null,""]
[110,{"$nulls":7},"　",{"$nulls":3},119,"",{"$nulls":4},"",null,"","       ","       ","","","","","","","","","","",null,"","             ","             ","","","","","","","","","","","","","",null,""]
[111,{"$nulls":7},"　",{"$nulls":3},119,"",{"$nulls":4},"",null,"","       ","       ","","","","","","","","","","",null,"","             ","             ","","","","","","","","","","","","","",null,""]
[112,{"$nulls":7},"　",{"$nulls":3},119,"",{"$nulls":4},"",null,"","       ","       ","","","","","","","","","","",null,"","             ","             ","","","","","","","","","","","","","",null,""]
[113,{"$nulls":7},"　",{"$nulls":3},119,"",{"$nulls":4},"",null,"","       ","       ","","","","","","","","","","",null,"","             ","             ","","","","","","","","","","","","","",null,""]
[114,{"$nulls":7},"　",{"$nulls":3},119,"",{"$nulls":4},"",null,"","       ","       ","","","","","","","","","","",null,"","             ","             ","","","","","","","","","","","","","",null,""]
[115,{"$nulls":7},"　",{"$nulls":3},119,"",{"$nulls":4},"",null,"","       ","       ","","","","","","","","","","",null,"","             ","             ","","","","","","","","","","","","","",null,""]
[116,{"$nulls":7},"　",{"$nulls":3},119,"",{"$nulls":4},"",null,"","       ","       ","","","","","","","","","","",null,"","             ","             ","","","","","","","","","","","","","",null,""]
[117,{"$nulls":7},"　",{"$nulls":3},119,"",{"$nulls":4},"",null,"","       ","       ","","","","","","","","","","",null,"","             ","             ","","","","","","","","","","","","","",null,""]
[118,{"$nulls":7},"　",{"$nulls":3},119,"",{"$nulls":4},"",null,"","       ","       ","","","","","","","","","","",null,"","             ","             ","","","","","","","","","","","","","",null,""]
[119,{"$nulls":7},"　",{"$nulls":3},119,"",{"$nulls":4},"",null,"","       ","       ","","","","","","","","","","",null,"","             ","             ","","","","","","","","","","","","","",null,""]
[120,{"$nulls":7},"　",{"$nulls":3},119,"",{"$nulls":4},"",null,"","       ","       ","","","","","","","","","","",null,"","             ","             ","","","","","","","","","","","","","",null,""]
[121,{"$nulls":7},"　",{"$nulls":3},119,"",{"$nulls":4},"",null,"","       ","       ","","","","","","","","","","",null,"","             ","             ","","","","","","","","","","","","","",null,""]
[122,{"$nulls":7},"　",null,null,"",119,"",{"$nulls":4},"",null,"","       ","       ","","","","","","","","","","",null,"","             ","             ","","","","","","","","","","","","","",null,""]
[123,{"$nulls":7},"　",null,null,"",119,"",{"$nulls":4},"",null,"","       ","       ","","","","","","","","","","",null,"","             ","             ","","","","","","","","","","","","","",null,""]
[124,{"$nulls":7},"　",null,null,"",119,"",{"$nulls":3},"","",null,"","       ","       ","","","","","","","","","","",null,"","             ","             ","","","","","","","","","","","","","",null,""]
[125,{"$nulls":7},"　",null,null,"",119,"",{"$nulls":3},"","",null,"","       ","       ","","","","","","","","","","",null,"","             ","             ","","","","","","","","","","","","","",null,""]
[126,{"$nulls":7},"　",null,null,"",119,"",{"$nulls":3},"","",null,"","       ","       ","","","","","","","","","","",null,"","             ","             ","","","","","","","","","","","","","",null,""]
[127,{"$nulls":7},"　",null,null,"",119,"",{"$nulls":3},"","",null,"","       ","       ","","","","","","","","","","",null,"","             ","             ","","","","","","","","","","","","","",null,""]
[128,{"$nulls":7},"　",null,null,"",119,"",{"$nulls":3},"","",null,"","       ","       ","","","","","","","","","","",null,"","             ","             ","","","","","","","","","","","","","",null,""]
[129,{"$nulls":7},"　",null,null,"",119,"",{"$nulls":3},"","",null,{"$f":"IF(ISERROR(VLOOKUP($I142,INDIRECT($AW$1&\"!$E$2:$AH$800\"),14,0)),\"\",VLOOKUP($I142,INDIRECT($AW$1&\"!$E$2:$AH$800\"),14,0))","v":""},"       ","       ",{"$f":"IF(ISERROR(VLOOKUP($I142,INDIRECT($AW$1&\"!$E$2:$AH$800\"),15,0)),\"\",VLOOKUP($I142,INDIRECT($AW$1&\"!$E$2:$AH$800\"),15,0))","v":""},{"$f":"IF(ISERROR(VLOOKUP($I142,INDIRECT($AW$1&\"!$E$2:$AH$800\"),16,0)),\"\",VLOOKUP($I142,INDIRECT($AW$1&\"!$E$2:$AH$800\"),16,0))","v":""},{"$f":"IF(ISERROR(VLOOKUP($I142,INDIRECT($AW$1&\"!$E$2:$AH$800\"),17,0)),\"\",VLOOKUP($I142,INDIRECT($AW$1&\"!$E$2:$AH$800\"),17,0))","v":""},{"$f":"IF(ISERROR(VLOOKUP($I142,INDIRECT($AW$1&\"!$E$2:$AH$800\"),18,0)),\"\",VLOOKUP($I142,INDIRECT($AW$1&\"!$E$2:$AH$800\"),18,0))","v":""},{"$f":"IF(ISERROR(VLOOKUP($I142,INDIRECT($AW$1&\"!$E$2:$AH$800\"),19,0)),\"\",VLOOKUP($I142,INDIRECT($AW$1&\"!$E$2:$AH$800\"),19,0))","v":""},{"$f":"IF(ISERROR(VLOOKUP($I142,INDIRECT($AW$1&\"!$E$2:$AH$800\"),20,0)),\"\",VLOOKUP($I142,INDIRECT($AW$1&\"!$E$2:$AH$800\"),20,0))","v":""},{"$f":"IF(ISERROR(VLOOKUP($I142,INDIRECT($AW$1&\"!$E$2:$AH$800\"),21,0)),\"\",VLOOKUP($I142,INDIRECT($AW$1&\"!$E$2:$AH$800\"),21,0))","v":""},{"$f":"IF(ISERROR(VLOOKUP($I142,INDIRECT($AW$1&\"!$E$2:$AH$800\"),22,0)),\"\",VLOOKUP($I142,INDIRECT($AW$1&\"!$E$2:$AH$800\"),22,0))","v":""},{"$f":"IF(ISERROR(VLOOKUP($I142,INDIRECT($AW$1&\"!$E$2:$AH$800\"),30,0)),\"\",VLOOKUP($I142,INDIRECT($AW$1&\"!$E$2:$AH$800\"),30,0))","v":""},{"$f":"IF(ISERROR(VLOOKUP($I142,INDIRECT($AW$1&\"!$E$2:$AH$800\"),29,0)),\"\",VLOOKUP($I142,INDIRECT($AW$1&\"!$E$2:$AH$800\"),29,0))","v":""},null,{"$f":"IF(ISERROR(VLOOKUP($I142,INDIRECT($AV$1&\"!$E$2:$AH$800\"),14,0)),\"\",VLOOKUP($I142,INDIRECT($AV$1&\"!$E$2:$AH$800\"),14,0))","v":""},"             ","             ",{"$f":"IF(ISERROR(VLOOKUP($I142,INDIRECT($AV$1&\"!$E$2:$AH$800\"),15,0)),\"\",VLOOKUP($I142,INDIRECT($AV$1&\"!$E$2:$AH$800\"),15,0))","v":""},{"$f":"IF(ISERROR(VLOOKUP($I142,INDIRECT($AV$1&\"!$E$2:$AH$800\"),16,0)),\"\",VLOOKUP($I142,INDIRECT($AV$1&\"!$E$2:$AH$800\"),16,0))","v":""},{"$f":"IF(ISERROR(VLOOKUP($I142,INDIRECT($AV$1&\"!$E$2:$AH$800\"),17,0)),\"\",VLOOKUP($I142,INDIRECT($AV$1&\"!$E$2:$AH$800\"),17,0))","v":""},{"$f":"IF(ISERROR(VLOOKUP($I142,INDIRECT($AV$1&\"!$E$2:$AH$800\"),18,0)),\"\",VLOOKUP($I142,INDIRECT($AV$1&\"!$E$2:$AH$800\"),18,0))","v":""},{"$f":"IF(ISERROR(VLOOKUP($I142,INDIRECT($AV$1&\"!$E$2:$AH$800\"),19,0)),\"\",VLOOKUP($I142,INDIRECT($AV$1&\"!$E$2:$AH$800\"),19,0))","v":""},{"$f":"IF(ISERROR(VLOOKUP($I142,INDIRECT($AV$1&\"!$E$2:$AH$800\"),20,0)),\"\",VLOOKUP($I142,INDIRECT($AV$1&\"!$E$2:$AH$800\"),20,0))","v":""},"","","","","","","",null,""]
[130,{"$nulls":7},{"$f":"G143&\"　\"&H143","v":"　"},null,null,"",119,"",{"$nulls":3},"","",null,"",{"$f":"IF(ISERROR(SUBSTITUTE(W143,0,\"\")),\"\",SUBSTITUTE(W143,0,\"\"))","v":"       "},{"$f":"IF(ISERROR(CONCATENATE(X143,\" \",Y143,,\" \",Z143,,\" \",AA143,,\" \",AB143,,\" \",AC143,,\" \",AD143,,\" \",AE143)),\"\",CONCATENATE(X143,\" \",Y143,,\" \",Z143,,\" \",AA143,,\" \",AB143,,\" \",AC143,,\" \",AD143,,\" \",AE143))","v":"       "},"","","","","","","","","","",null,"",{"$f":"IF(ISERROR(SUBSTITUTE(AK143,0,\"\")),\"\",SUBSTITUTE(AK143,0,\"\"))","v":"             "},{"$f":"IF(ISERROR(CONCATENATE(AL143,\" \",AM143,,\" \",AN143,,\" \",AO143,,\" \",AP143,,\" \",AQ143,,\" \",AR143,,\" \",AS143,\" \",AT143,\" \",AU143,\" \",AV143,\" \",AW143,\" \",AX143,\" \",AZ143)),\"\",CONCATENATE(AL143,\" \",AM143,,\" \",AN143,,\" \",AO143,,\" \",AP143,,\" \",AQ143,,\" \",AR143,,\" \",AS143,\" \",AT143,\" \",AU143,\" \",AV143,\" \",AW143,\" \",AX143,\" \",AZ143))","v":"             "},"","","","","","","",{"$f":"IF(ISERROR(VLOOKUP($I143,INDIRECT($AV$1&\"!$E$2:$AH$800\"),22,0)),\"\",VLOOKUP($I143,INDIRECT($AV$1&\"!$E$2:$AH$800\"),22,0))","v":""},{"$f":"IF(ISERROR(VLOOKUP($I143,INDIRECT($AV$1&\"!$E$2:$AH$800\"),23,0)),\"\",VLOOKUP($I143,INDIRECT($AV$1&\"!$E$2:$AH$800\"),23,0))","v":""},{"$f":"IF(ISERROR(VLOOKUP($I143,INDIRECT($AV$1&\"!$E$2:$AH$800\"),24,0)),\"\",VLOOKUP($I143,INDIRECT($AV$1&\"!$E$2:$AH$800\"),24,0))","v":""},{"$f":"IF(ISERROR(VLOOKUP($I143,INDIRECT($AV$1&\"!$E$2:$AH$800\"),25,0)),\"\",VLOOKUP($I143,INDIRECT($AV$1&\"!$E$2:$AH$800\"),25,0))","v":""},{"$f":"IF(ISERROR(VLOOKUP($I143,INDIRECT($AV$1&\"!$E$2:$AH$800\"),26,0)),\"\",VLOOKUP($I143,INDIRECT($AV$1&\"!$E$2:$AH$800\"),26,0))","v":""},{"$f":"IF(ISERROR(VLOOKUP($I143,INDIRECT($AV$1&\"!$E$2:$AH$800\"),27,0)),\"\",VLOOKUP($I143,INDIRECT($AV$1&\"!$E$2:$AH$800\"),27,0))","v":""},null,{"$f":"IF(ISERROR(VLOOKUP($I143,INDIRECT($AV$1&\"!$E$2:$AH$800\"),28,0)),\"\",VLOOKUP($I143,INDIRECT($AV$1&\"!$E$2:$AH$800\"),28,0))","v":""}]
[131,{"$nulls":7},"　",{"$nulls":3},{"$f":"DATEDIF(K144,\"2019/4/1\",\"Y\")","v":119},{"$f":"IF(M144=119,\"\",M144)","v":""},{"$nulls":6},"","       ","       ","","","","","","","","","","",null,"","             ","             ","","","","","","","","","","","","","",null,""]
[132,{"$nulls":7},"　",null,null,"",119,"",null,"",null,"","",null,"","       ","       ","","","","","","","","","","",null,"","             ","             ","","","","","","","","","","","","","",null,""]
[133,{"$nulls":7},"　",null,null,"",119,"",null,"",null,"","",null,"","       ","       ","","","","","","","","","","",null,"","             ","             ","","","","","","","","","","","","","",null,""]
[134,{"$nulls":7},"　",null,null,"",119,"",null,"",null,"","",null,"","       ","       ","","","","","","","","","","",null,"","             ","             ","","","","","","","","","","","","","",null,""]
[135,{"$nulls":7},"　",null,null,"",119,"",null,"",null,"","",null,"","       ","       ","","","","","","","","","","",null,"","             ","             ","","","","","","","","","","","","","",null,""]
[136,{"$nulls":7},"　",null,null,"",119,"",null,"",null,"","",null,"","       ","       ","","","","","","","","","","",null,"","             ","             ","","","","","","","","","","","","","",null,""]
[137,{"$nulls":7},"　",null,null,"",119,"",null,"",null,"","",null,"","       ","       ","","","","","","","","","","",null,"","             ","             ","","","","","","","","","","","","","",null,""]
[138,{"$nulls":7},"　",null,null,"",119,"",null,"",null,"","",null,"","       ","       ","","","","","","","","","","",null,"","             ","             ","","","","","","","","","","","","","",null,""]
[139,{"$nulls":7},"　",null,null,"",119,"",null,"",null,"","",null,"","       ","       ","","","","","","","","","","",null,"","             ","             ","","","","","","","","","","","","","",null,""]
[140,{"$nulls":7},"　",null,null,"",119,"",null,"",null,"","",null,"","       ","       ","","","","","","","","","","",null,"","             ","             ","","","","","","","","","","","","","",null,""]
[141,{"$nulls":7},"　",null,null,"",119,"",null,"",null,"","",null,"","       ","       ","","","","","","","","","","",null,"","             ","             ","","","","","","","","","","","","","",null,""]
[142,{"$nulls":7},"　",null,null,"",119,"",null,"",null,"","",null,"","       ","       ","","","","","","","","","","",null,"","             ","             ","","","","","","","","","","","","","",null,""]
[143,{"$nulls":7},"　",{"$nulls":3},119,"",{"$nulls":6},"","       ","       ","","","","","","","","","","",null,"","             ","             ","","","","","","","","","","","","","",null,""]
[144,{"$nulls":7},"　",{"$nulls":3},119,"",{"$nulls":6},"","       ","       ","","","","","","","","","","",null,"","             ","             ","","","","","","","","","","","","","",null,""]
[145,{"$nulls":7},"　",{"$nulls":3},119,"",{"$nulls":6},"","       ","       ","","","","","","","","","","",null,"","             ","             ","","","","","","","","","","","","","",null,""]

{"sheet":"torikomi","index":1,"n_rows":262,"n_cols":53,"rows_kept":262,"hidden":true}
[]
[null,"予約日_西暦8桁","時間帯","契約コード(親番)","契約コード(枝番)","団体ｺｰﾄﾞ(親)","団体ｺｰﾄﾞ(枝)","コースコード","個人番号_ｼｽﾃﾑ桁数適用","カナ氏名","漢字氏名","性別","生年月日_西暦8桁","所属ｺｰﾄﾞ","所属内番号","保険者番号","保険証記号","保険証番号","送付先区分","自宅_郵便番号","自宅_住所１","自宅_住所2","自宅_ＴＥＬ","協会健保整理番号","受診券整理番号","受診券有効期限","追加項目①","追加・削除区分①","追加項目②","追加・削除区分②","追加項目③","追加・削除区分③","追加項目④","追加・削除区分④","追加項目⑤","追加・削除区分⑤","追加項目⑥","追加・削除区分⑥","追加項目⑦","追加・削除区分⑦","追加項目⑧","追加・削除区分⑧","追加項目⑨","追加・削除区分⑨","追加項目⑩","追加・削除区分⑩","予約時ｺﾒﾝﾄ","属性要素4(分会)","属性要素5(群)","連絡先_郵便番号","連絡先_住所１","連絡先_住所２","連絡先_TEL"]
[null,{"$f":"IF(spreedResult.!B14<>\"\",TEXT(spreedResult.!B14,\"YYYY\")&TEXT(spreedResult.!B14,\"MM\")&TEXT(spreedResult.!B14,\"DD\"),\"\")","v":""},{"$f":"IF(spreedResult.!C14<>\"\",VLOOKUP(spreedResult.!C14,spreedResult.!$AT$2:$AU$12,2,0),\"\")","v":""},{"$nulls":4},{"$f":"IF(spreedResult.!O14<>\"\",VLOOKUP(spreedResult.!O14,Course!$A$2:$B$612,2,0),\"\")","v":""},null,{"$f":"CONCATENATE(TRIM(ASC(spreedResult.!E14)),\" \",TRIM(ASC(spreedResult.!F14)))","v":" "},{"$f":"CONCATENATE(TRIM(spreedResult.!G14),\"　\",TRIM(spreedResult.!H14))","v":"　"},{"$f":"IFERROR(VLOOKUP(spreedResult.!J14,spreedResult.!$AW$4:$AX$5,2,0),\"\")","v":""},{"$f":"IF(spreedResult.!K14<>\"\",TEXT(spreedResult.!K14,\"YYYY\")&TEXT(spreedResult.!K14,\"MM\")&TEXT(spreedResult.!K14,\"DD\"),\"\")","v":""},null,null,{"$f":"IF(spreedResult.!$E14<>\"\",spreedResult.!$C$10,\"\")","v":""},{"$f":"IF(spreedResult.!$E14<>\"\",spreedResult.!$C$9,\"\")","v":""},{"$f":"IF(spreedResult.!L14<>\"\",spreedResult.!L14,\"\")","v":""},{"$f":"IF(spreedResult.!G14<>\"\",IF(spreedResult.!$H$8=\"左記ご住所に送付\",\"2\",\"\"),\"\")","v":""},{"$nulls":8},{"$f":"IF(ISNUMBER(AA3),\"1\",\"\")","v":""},null,{"$f":"IF(ISNUMBER(AC3),\"1\",\"\")","v":""},null,{"$f":"IF(ISNUMBER(AE3),\"1\",\"\")","v":""},null,{"$f":"IF(ISNUMBER(AG3),\"1\",\"\")","v":""},null,{"$f":"IF(ISNUMBER(AI3),\"1\",\"\")","v":""},null,{"$f":"IF(ISNUMBER(AK3),\"1\",\"\")","v":""},null,{"$f":"IF(ISNUMBER(AM3),\"1\",\"\")","v":""},null,{"$f":"IF(ISNUMBER(AO3),\"1\",\"\")","v":""},null,{"$f":"IF(ISNUMBER(AQ3),\"1\",\"\")","v":""},null,{"$f":"IF(ISNUMBER(AS3),\"1\",\"\")","v":""}]
[null,{"$f":"IF(spreedResult.!B15<>\"\",TEXT(spreedResult.!B15,\"YYYY\")&TEXT(spreedResult.!B15,\"MM\")&TEXT(spreedResult.!B15,\"DD\"),\"\")","v":""},{"$f":"IF(spreedResult.!C15<>\"\",VLOOKUP(spreedResult.!C15,spreedResult.!$AT$2:$AU$12,2,0),\"\")","v":""},{"$nulls":4},{"$f":"IF(spreedResult.!O15<>\"\",VLOOKUP(spreedResult.!O15,Course!$A$2:$B$612,2,0),\"\")","v":""},null,{"$f":"CONCATENATE(TRIM(ASC(spreedResult.!E15)),\" \",TRIM(ASC(spreedResult.!F15)))","v":" "},{"$f":"CONCATENATE(TRIM(spreedResult.!G15),\"　\",TRIM(spreedResult.!H15))","v":"　"},{"$f":"IFERROR(VLOOKUP(spreedResult.!J15,spreedResult.!$AW$4:$AX$5,2,0),\"\")","v":""},{"$f":"IF(spreedResult.!K15<>\"\",TEXT(spreedResult.!K15,\"YYYY\")&TEXT(spreedResult.!K15,\"MM\")&TEXT(spreedResult.!K15,\"DD\"),\"\")","v":""},null,null,{"$f":"IF(spreedResult.!$E15<>\"\",spreedResult.!$C$10,\"\")","v":""},{"$f":"IF(spreedResult.!$E15<>\"\",spreedResult.!$C$9,\"\")","v":""},{"$f":"IF(spreedResult.!L15<>\"\",spreedResult.!L15,\"\")","v":""},{"$f":"IF(spreedResult.!G15<>\"\",IF(spreedResult.!$H$8=\"左記ご住所に送付\",\"2\",\"\"),\"\")","v":""},{"$nulls":8},{"$f":"IF(ISNUMBER(AA4),\"1\",\"\")","v":""},null,{"$f":"IF(ISNUMBER(AC4),\"1\",\"\")","v":""},null,{"$f":"IF(ISNUMBER(AE4),\"1\",\"\")","v":""},null,{"$f":"IF(ISNUMBER(AG4),\"1\",\"\")","v":""},null,{"$f":"IF(ISNUMBER(AI4),\"1\",\"\")","v":""},null,{"$f":"IF(ISNUMBER(AK4),\"1\",\"\")","v":""},null,{"$f":"IF(ISNUMBER(AM4),\"1\",\"\")","v":""},null,{"$f":"IF(ISNUMBER(AO4),\"1\",\"\")","v":""},null,{"$f":"IF(ISNUMBER(AQ4),\"1\",\"\")","v":""},null,{"$f":"IF(ISNUMBER(AS4),\"1\",\"\")","v":""}]
[null,{"$f":"IF(spreedResult.!B16<>\"\",TEXT(spreedResult.!B16,\"YYYY\")&TEXT(spreedResult.!B16,\"MM\")&TEXT(spreedResult.!B16,\"DD\"),\"\")","v":""},{"$f":"IF(spreedResult.!C16<>\"\",VLOOKUP(spreedResult.!C16,spreedResult.!$AT$2:$AU$12,2,0),\"\")","v":""},{"$nulls":4},{"$f":"IF(spreedResult.!O16<>\"\",VLOOKUP(spreedResult.!O16,Course!$A$2:$B$612,2,0),\"\")","v":""},null,{"$f":"CONCATENATE(TRIM(ASC(spreedResult.!E16)),\" \",TRIM(ASC(spreedResult.!F16)))","v":" "},{"$f":"CONCATENATE(TRIM(spreedResult.!G16),\"　\",TRIM(spreedResult.!H16))","v":"　"},{"$f":"IFERROR(VLOOKUP(spreedResult.!J16,spreedResult.!$AW$4:$AX$5,2,0),\"\")","v":""},{"$f":"IF(spreedResult.!K16<>\"\",TEXT(spreedResult.!K16,\"YYYY\")&TEXT(spreedResult.!K16,\"MM\")&TEXT(spreedResult.!K16,\"DD\"),\"\")","v":""},null,null,{"$f":"IF(spreedResult.!$E16<>\"\",spreedResult.!$C$10,\"\")","v":""},{"$f":"IF(spreedResult.!$E16<>\"\",spreedResult.!$C$9,\"\")","v":""},{"$f":"IF(spreedResult.!L16<>\"\",spreedResult.!L16,\"\")","v":""},{"$f":"IF(spreedResult.!G16<>\"\",IF(spreedResult.!$H$8=\"左記ご住所に送付\",\"2\",\"\"),\"\")","v":""},{"$nulls":8},"",null,"",null,"",null,"",null,"",null,"",null,"",null,"",null,"",null,""]
[null,{"$f":"IF(spreedResult.!B17<>\"\",TEXT(spreedResult.!B17,\"YYYY\")&TEXT(spreedResult.!B17,\"MM\")&TEXT(spreedResult.!B17,\"DD\"),\"\")","v":""},{"$f":"IF(spreedResult.!C17<>\"\",VLOOKUP(spreedResult.!C17,spreedResult.!$AT$2:$AU$12,2,0),\"\")","v":""},{"$nulls":4},{"$f":"IF(spreedResult.!O17<>\"\",VLOOKUP(spreedResult.!O17,Course!$A$2:$B$612,2,0),\"\")","v":""},null,{"$f":"CONCATENATE(TRIM(ASC(spreedResult.!E17)),\" \",TRIM(ASC(spreedResult.!F17)))","v":" "},{"$f":"CONCATENATE(TRIM(spreedResult.!G17),\"　\",TRIM(spreedResult.!H17))","v":"　"},{"$f":"IFERROR(VLOOKUP(spreedResult.!J17,spreedResult.!$AW$4:$AX$5,2,0),\"\")","v":""},{"$f":"IF(spreedResult.!K17<>\"\",TEXT(spreedResult.!K17,\"YYYY\")&TEXT(spreedResult.!K17,\"MM\")&TEXT(spreedResult.!K17,\"DD\"),\"\")","v":""},null,null,{"$f":"IF(spreedResult.!$E17<>\"\",spreedResult.!$C$10,\"\")","v":""},{"$f":"IF(spreedResult.!$E17<>\"\",spreedResult.!$C$9,\"\")","v":""},{"$f":"IF(spreedResult.!L17<>\"\",spreedResult.!L17,\"\")","v":""},{"$f":"IF(spreedResult.!G17<>\"\",IF(spreedResult.!$H$8=\"左記ご住所に送付\",\"2\",\"\"),\"\")","v":""},{"$nulls":8},"",null,"",null,"",null,"",null,"",null,"",null,"",null,"",null,"",null,""]
[null,{"$f":"IF(spreedResult.!B18<>\"\",TEXT(spreedResult.!B18,\"YYYY\")&TEXT(spreedResult.!B18,\"MM\")&TEXT(spreedResult.!B18,\"DD\"),\"\")","v":""},{"$f":"IF(spreedResult.!C18<>\"\",VLOOKUP(spreedResult.!C18,spreedResult.!$AT$2:$AU$12,2,0),\"\")","v":""},{"$nulls":4},{"$f":"IF(spreedResult.!O18<>\"\",VLOOKUP(spreedResult.!O18,Course!$A$2:$B$612,2,0),\"\")","v":""},null,{"$f":"CONCATENATE(TRIM(ASC(spreedResult.!E18)),\" \",TRIM(ASC(spreedResult.!F18)))","v":" "},{"$f":"CONCATENATE(TRIM(spreedResult.!G18),\"　\",TRIM(spreedResult.!H18))","v":"　"},{"$f":"IFERROR(VLOOKUP(spreedResult.!J18,spreedResult.!$AW$4:$AX$5,2,0),\"\")","v":""},{"$f":"IF(spreedResult.!K18<>\"\",TEXT(spreedResult.!K18,\"YYYY\")&TEXT(spreedResult.!K18,\"MM\")&TEXT(spreedResult.!K18,\"DD\"),\"\")","v":""},null,null,{"$f":"IF(spreedResult.!$E18<>\"\",spreedResult.!$C$10,\"\")","v":""},{"$f":"IF(spreedResult.!$E18<>\"\",spreedResult.!$C$9,\"\")","v":""},{"$f":"IF(spreedResult.!L18<>\"\",spreedResult.!L18,\"\")","v":""},{"$f":"IF(spreedResult.!G18<>\"\",IF(spreedResult.!$H$8=\"左記ご住所に送付\",\"2\",\"\"),\"\")","v":""},{"$nulls":8},"",null,"",null,"",null,"",null,"",null,"",null,"",null,"",null,"",null,""]
[null,{"$f":"IF(spreedResult.!B19<>\"\",TEXT(spreedResult.!B19,\"YYYY\")&TEXT(spreedResult.!B19,\"MM\")&TEXT(spreedResult.!B19,\"DD\"),\"\")","v":""},{"$f":"IF(spreedResult.!C19<>\"\",VLOOKUP(spreedResult.!C19,spreedResult.!$AT$2:$AU$12,2,0),\"\")","v":""},{"$nulls":4},{"$f":"IF(spreedResult.!O19<>\"\",VLOOKUP(spreedResult.!O19,Course!$A$2:$B$612,2,0),\"\")","v":""},null,{"$f":"CONCATENATE(TRIM(ASC(spreedResult.!E19)),\" \",TRIM(ASC(spreedResult.!F19)))","v":" "},{"$f":"CONCATENATE(TRIM(spreedResult.!G19),\"　\",TRIM(spreedResult.!H19))","v":"　"},{"$f":"IFERROR(VLOOKUP(spreedResult.!J19,spreedResult.!$AW$4:$AX$5,2,0),\"\")","v":""},{"$f":"IF(spreedResult.!K19<>\"\",TEXT(spreedResult.!K19,\"YYYY\")&TEXT(spreedResult.!K19,\"MM\")&TEXT(spreedResult.!K19,\"DD\"),\"\")","v":""},null,null,{"$f":"IF(spreedResult.!$E19<>\"\",spreedResult.!$C$10,\"\")","v":""},{"$f":"IF(spreedResult.!$E19<>\"\",spreedResult.!$C$9,\"\")","v":""},{"$f":"IF(spreedResult.!L19<>\"\",spreedResult.!L19,\"\")","v":""},{"$f":"IF(spreedResult.!G19<>\"\",IF(spreedResult.!$H$8=\"左記ご住所に送付\",\"2\",\"\"),\"\")","v":""},{"$nulls":8},"",null,"",null,"",null,"",null,"",null,"",null,"",null,"",null,"",null,""]
[null,{"$f":"IF(spreedResult.!B20<>\"\",TEXT(spreedResult.!B20,\"YYYY\")&TEXT(spreedResult.!B20,\"MM\")&TEXT(spreedResult.!B20,\"DD\"),\"\")","v":""},{"$f":"IF(spreedResult.!C20<>\"\",VLOOKUP(spreedResult.!C20,spreedResult.!$AT$2:$AU$12,2,0),\"\")","v":""},{"$nulls":4},{"$f":"IF(spreedResult.!O20<>\"\",VLOOKUP(spreedResult.!O20,Course!$A$2:$B$612,2,0),\"\")","v":""},null,{"$f":"CONCATENATE(TRIM(ASC(spreedResult.!E20)),\" \",TRIM(ASC(spreedResult.!F20)))","v":" "},{"$f":"CONCATENATE(TRIM(spreedResult.!G20),\"　\",TRIM(spreedResult.!H20))","v":"　"},{"$f":"IFERROR(VLOOKUP(spreedResult.!J20,spreedResult.!$AW$4:$AX$5,2,0),\"\")","v":""},{"$f":"IF(spreedResult.!K20<>\"\",TEXT(spreedResult.!K20,\"YYYY\")&TEXT(spreedResult.!K20,\"MM\")&TEXT(spreedResult.!K20,\"DD\"),\"\")","v":""},null,null,{"$f":"IF(spreedResult.!$E20<>\"\",spreedResult.!$C$10,\"\")","v":""},{"$f":"IF(spreedResult.!$E20<>\"\",spreedResult.!$C$9,\"\")","v":""},{"$f":"IF(spreedResult.!L20<>\"\",spreedResult.!L20,\"\")","v":""},{"$f":"IF(spreedResult.!G20<>\"\",IF(spreedResult.!$H$8=\"左記ご住所に送付\",\"2\",\"\"),\"\")","v":""},{"$nulls":8},"",null,"",null,"",null,"",null,"",null,"",null,"",null,"",null,"",null,""]
[null,{"$f":"IF(spreedResult.!B21<>\"\",TEXT(spreedResult.!B21,\"YYYY\")&TEXT(spreedResult.!B21,\"MM\")&TEXT(spreedResult.!B21,\"DD\"),\"\")","v":""},{"$f":"IF(spreedResult.!C21<>\"\",VLOOKUP(spreedResult.!C21,spreedResult.!$AT$2:$AU$12,2,0),\"\")","v":""},{"$nulls":4},{"$f":"IF(spreedResult.!O21<>\"\",VLOOKUP(spreedResult.!O21,Course!$A$2:$B$612,2,0),\"\")","v":""},null,{"$f":"CONCATENATE(TRIM(ASC(spreedResult.!E21)),\" \",TRIM(ASC(spreedResult.!F21)))","v":" "},{"$f":"CONCATENATE(TRIM(spreedResult.!G21),\"　\",TRIM(spreedResult.!H21))","v":"　"},{"$f":"IFERROR(VLOOKUP(spreedResult.!J21,spreedResult.!$AW$4:$AX$5,2,0),\"\")","v":""},{"$f":"IF(spreedResult.!K21<>\"\",TEXT(spreedResult.!K21,\"YYYY\")&TEXT(spreedResult.!K21,\"MM\")&TEXT(spreedResult.!K21,\"DD\"),\"\")","v":""},null,null,{"$f":"IF(spreedResult.!$E21<>\"\",spreedResult.!$C$10,\"\")","v":""},{"$f":"IF(spreedResult.!$E21<>\"\",spreedResult.!$C$9,\"\")","v":""},{"$f":"IF(spreedResult.!L21<>\"\",spreedResult.!L21,\"\")","v":""},{"$f":"IF(spreedResult.!G21<>\"\",IF(spreedResult.!$H$8=\"左記ご住所に送付\",\"2\",\"\"),\"\")","v":""},{"$nulls":8},"",null,"",null,"",null,"",null,"",null,"",null,"",null,"",null,"",null,""]
[null,{"$f":"IF(spreedResult.!B22<>\"\",TEXT(spreedResult.!B22,\"YYYY\")&TEXT(spreedResult.!B22,\"MM\")&TEXT(spreedResult.!B22,\"DD\"),\"\")","v":""},{"$f":"IF(spreedResult.!C22<>\"\",VLOOKUP(spreedResult.!C22,spreedResult.!$AT$2:$AU$12,2,0),\"\")","v":""},{"$nulls":4},{"$f":"IF(spreedResult.!O22<>\"\",VLOOKUP(spreedResult.!O22,Course!$A$2:$B$612,2,0),\"\")","v":""},null,{"$f":"CONCATENATE(TRIM(ASC(spreedResult.!E22)),\" \",TRIM(ASC(spreedResult.!F22)))","v":" "},{"$f":"CONCATENATE(TRIM(spreedResult.!G22),\"　\",TRIM(spreedResult.!H22))","v":"　"},{"$f":"IFERROR(VLOOKUP(spreedResult.!J22,spreedResult.!$AW$4:$AX$5,2,0),\"\")","v":""},{"$f":"IF(spreedResult.!K22<>\"\",TEXT(spreedResult.!K22,\"YYYY\")&TEXT(spreedResult.!K22,\"MM\")&TEXT(spreedResult.!K22,\"DD\"),\"\")","v":""},null,null,{"$f":"IF(spreedResult.!$E22<>\"\",spreedResult.!$C$10,\"\")","v":""},{"$f":"IF(spreedResult.!$E22<>\"\",spreedResult.!$C$9,\"\")","v":""},{"$f":"IF(spreedResult.!L22<>\"\",spreedResult.!L22,\"\")","v":""},{"$f":"IF(spreedResult.!G22<>\"\",IF(spreedResult.!$H$8=\"左記ご住所に送付\",\"2\",\"\"),\"\")","v":""},{"$nulls":8},"",null,"",null,"",null,"",null,"",null,"",null,"",null,"",null,"",null,""]
[null,{"$f":"IF(spreedResult.!B23<>\"\",TEXT(spreedResult.!B23,\"YYYY\")&TEXT(spreedResult.!B23,\"MM\")&TEXT(spreedResult.!B23,\"DD\"),\"\")","v":""},{"$f":"IF(spreedResult.!C23<>\"\",VLOOKUP(spreedResult.!C23,spreedResult.!$AT$2:$AU$12,2,0),\"\")","v":""},{"$nulls":4},{"$f":"IF(spreedResult.!O23<>\"\",VLOOKUP(spreedResult.!O23,Course!$A$2:$B$612,2,0),\"\")","v":""},null,{"$f":"CONCATENATE(TRIM(ASC(spreedResult.!E23)),\" \",TRIM(ASC(spreedResult.!F23)))","v":" "},{"$f":"CONCATENATE(TRIM(spreedResult.!G23),\"　\",TRIM(spreedResult.!H23))","v":"　"},{"$f":"IFERROR(VLOOKUP(spreedResult.!J23,spreedResult.!$AW$4:$AX$5,2,0),\"\")","v":""},{"$f":"IF(spreedResult.!K23<>\"\",TEXT(spreedResult.!K23,\"YYYY\")&TEXT(spreedResult.!K23,\"MM\")&TEXT(spreedResult.!K23,\"DD\"),\"\")","v":""},null,null,{"$f":"IF(spreedResult.!$E23<>\"\",spreedResult.!$C$10,\"\")","v":""},{"$f":"IF(spreedResult.!$E23<>\"\",spreedResult.!$C$9,\"\")","v":""},{"$f":"IF(spreedResult.!L23<>\"\",spreedResult.!L23,\"\")","v":""},{"$f":"IF(spreedResult.!G23<>\"\",IF(spreedResult.!$H$8=\"左記ご住所に送付\",\"2\",\"\"),\"\")","v":""},{"$nulls":8},"",null,"",null,"",null,"",null,"",null,"",null,"",null,"",null,"",null,""]
[null,{"$f":"IF(spreedResult.!B24<>\"\",TEXT(spreedResult.!B24,\"YYYY\")&TEXT(spreedResult.!B24,\"MM\")&TEXT(spreedResult.!B24,\"DD\"),\"\")","v":""},{"$f":"IF(spreedResult.!C24<>\"\",VLOOKUP(spreedResult.!C24,spreedResult.!$AT$2:$AU$12,2,0),\"\")","v":""},{"$nulls":4},{"$f":"IF(spreedResult.!O24<>\"\",VLOOKUP(spreedResult.!O24,Course!$A$2:$B$612,2,0),\"\")","v":""},null,{"$f":"CONCATENATE(TRIM(ASC(spreedResult.!E24)),\" \",TRIM(ASC(spreedResult.!F24)))","v":" "},{"$f":"CONCATENATE(TRIM(spreedResult.!G24),\"　\",TRIM(spreedResult.!H24))","v":"　"},{"$f":"IFERROR(VLOOKUP(spreedResult.!J24,spreedResult.!$AW$4:$AX$5,2,0),\"\")","v":""},{"$f":"IF(spreedResult.!K24<>\"\",TEXT(spreedResult.!K24,\"YYYY\")&TEXT(spreedResult.!K24,\"MM\")&TEXT(spreedResult.!K24,\"DD\"),\"\")","v":""},null,null,{"$f":"IF(spreedResult.!$E24<>\"\",spreedResult.!$C$10,\"\")","v":""},{"$f":"IF(spreedResult.!$E24<>\"\",spreedResult.!$C$9,\"\")","v":""},{"$f":"IF(spreedResult.!L24<>\"\",spreedResult.!L24,\"\")","v":""},{"$f":"IF(spreedResult.!G24<>\"\",IF(spreedResult.!$H$8=\"左記ご住所に送付\",\"2\",\"\"),\"\")","v":""},{"$nulls":8},"",null,"",null,"",null,"",null,"",null,"",null,"",null,"",null,"",null,""]
[null,{"$f":"IF(spreedResult.!B25<>\"\",TEXT(spreedResult.!B25,\"YYYY\")&TEXT(spreedResult.!B25,\"MM\")&TEXT(spreedResult.!B25,\"DD\"),\"\")","v":""},{"$f":"IF(spreedResult.!C25<>\"\",VLOOKUP(spreedResult.!C25,spreedResult.!$AT$2:$AU$12,2,0),\"\")","v":""},{"$nulls":4},{"$f":"IF(spreedResult.!O25<>\"\",VLOOKUP(spreedResult.!O25,Course!$A$2:$B$612,2,0),\"\")","v":""},null,{"$f":"CONCATENATE(TRIM(ASC(spreedResult.!E25)),\" \",TRIM(ASC(spreedResult.!F25)))","v":" "},{"$f":"CONCATENATE(TRIM(spreedResult.!G25),\"　\",TRIM(spreedResult.!H25))","v":"　"},{"$f":"IFERROR(VLOOKUP(spreedResult.!J25,spreedResult.!$AW$4:$AX$5,2,0),\"\")","v":""},{"$f":"IF(spreedResult.!K25<>\"\",TEXT(spreedResult.!K25,\"YYYY\")&TEXT(spreedResult.!K25,\"MM\")&TEXT(spreedResult.!K25,\"DD\"),\"\")","v":""},null,null,{"$f":"IF(spreedResult.!$E25<>\"\",spreedResult.!$C$10,\"\")","v":""},{"$f":"IF(spreedResult.!$E25<>\"\",spreedResult.!$C$9,\"\")","v":""},{"$f":"IF(spreedResult.!L25<>\"\",spreedResult.!L25,\"\")","v":""},{"$f":"IF(spreedResult.!G25<>\"\",IF(spreedResult.!$H$8=\"左記ご住所に送付\",\"2\",\"\"),\"\")","v":""},{"$nulls":8},"",null,"",null,"",null,"",null,"",null,"",null,"",null,"",null,"",null,""]
[null,{"$f":"IF(spreedResult.!B26<>\"\",TEXT(spreedResult.!B26,\"YYYY\")&TEXT(spreedResult.!B26,\"MM\")&TEXT(spreedResult.!B26,\"DD\"),\"\")","v":""},{"$f":"IF(spreedResult.!C26<>\"\",VLOOKUP(spreedResult.!C26,spreedResult.!$AT$2:$AU$12,2,0),\"\")","v":""},{"$nulls":4},{"$f":"IF(spreedResult.!O26<>\"\",VLOOKUP(spreedResult.!O26,Course!$A$2:$B$612,2,0),\"\")","v":""},null,{"$f":"CONCATENATE(TRIM(ASC(spreedResult.!E26)),\" \",TRIM(ASC(spreedResult.!F26)))","v":" "},{"$f":"CONCATENATE(TRIM(spreedResult.!G26),\"　\",TRIM(spreedResult.!H26))","v":"　"},{"$f":"IFERROR(VLOOKUP(spreedResult.!J26,spreedResult.!$AW$4:$AX$5,2,0),\"\")","v":""},{"$f":"IF(spreedResult.!K26<>\"\",TEXT(spreedResult.!K26,\"YYYY\")&TEXT(spreedResult.!K26,\"MM\")&TEXT(spreedResult.!K26,\"DD\"),\"\")","v":""},null,null,{"$f":"IF(spreedResult.!$E26<>\"\",spreedResult.!$C$10,\"\")","v":""},{"$f":"IF(spreedResult.!$E26<>\"\",spreedResult.!$C$9,\"\")","v":""},{"$f":"IF(spreedResult.!L26<>\"\",spreedResult.!L26,\"\")","v":""},{"$f":"IF(spreedResult.!G26<>\"\",IF(spreedResult.!$H$8=\"左記ご住所に送付\",\"2\",\"\"),\"\")","v":""},{"$nulls":8},"",null,"",null,"",null,"",null,"",null,"",null,"",null,"",null,"",null,""]
[null,{"$f":"IF(spreedResult.!B27<>\"\",TEXT(spreedResult.!B27,\"YYYY\")&TEXT(spreedResult.!B27,\"MM\")&TEXT(spreedResult.!B27,\"DD\"),\"\")","v":""},{"$f":"IF(spreedResult.!C27<>\"\",VLOOKUP(spreedResult.!C27,spreedResult.!$AT$2:$AU$12,2,0),\"\")","v":""},{"$nulls":4},{"$f":"IF(spreedResult.!O27<>\"\",VLOOKUP(spreedResult.!O27,Course!$A$2:$B$612,2,0),\"\")","v":""},null,{"$f":"CONCATENATE(TRIM(ASC(spreedResult.!E27)),\" \",TRIM(ASC(spreedResult.!F27)))","v":" "},{"$f":"CONCATENATE(TRIM(spreedResult.!G27),\"　\",TRIM(spreedResult.!H27))","v":"　"},{"$f":"IFERROR(VLOOKUP(spreedResult.!J27,spreedResult.!$AW$4:$AX$5,2,0),\"\")","v":""},{"$f":"IF(spreedResult.!K27<>\"\",TEXT(spreedResult.!K27,\"YYYY\")&TEXT(spreedResult.!K27,\"MM\")&TEXT(spreedResult.!K27,\"DD\"),\"\")","v":""},null,null,{"$f":"IF(spreedResult.!$E27<>\"\",spreedResult.!$C$10,\"\")","v":""},{"$f":"IF(spreedResult.!$E27<>\"\",spreedResult.!$C$9,\"\")","v":""},{"$f":"IF(spreedResult.!L27<>\"\",spreedResult.!L27,\"\")","v":""},{"$f":"IF(spreedResult.!G27<>\"\",IF(spreedResult.!$H$8=\"左記ご住所に送付\",\"2\",\"\"),\"\")","v":""},{"$nulls":8},"",null,"",null,"",null,"",null,"",null,"",null,"",null,"",null,"",null,""]
[null,{"$f":"IF(spreedResult.!B28<>\"\",TEXT(spreedResult.!B28,\"YYYY\")&TEXT(spreedResult.!B28,\"MM\")&TEXT(spreedResult.!B28,\"DD\"),\"\")","v":""},{"$f":"IF(spreedResult.!C28<>\"\",VLOOKUP(spreedResult.!C28,spreedResult.!$AT$2:$AU$12,2,0),\"\")","v":""},{"$nulls":4},{"$f":"IF(spreedResult.!O28<>\"\",VLOOKUP(spreedResult.!O28,Course!$A$2:$B$612,2,0),\"\")","v":""},null,{"$f":"CONCATENATE(TRIM(ASC(spreedResult.!E28)),\" \",TRIM(ASC(spreedResult.!F28)))","v":" "},{"$f":"CONCATENATE(TRIM(spreedResult.!G28),\"　\",TRIM(spreedResult.!H28))","v":"　"},{"$f":"IFERROR(VLOOKUP(spreedResult.!J28,spreedResult.!$AW$4:$AX$5,2,0),\"\")","v":""},{"$f":"IF(spreedResult.!K28<>\"\",TEXT(spreedResult.!K28,\"YYYY\")&TEXT(spreedResult.!K28,\"MM\")&TEXT(spreedResult.!K28,\"DD\"),\"\")","v":""},null,null,{"$f":"IF(spreedResult.!$E28<>\"\",spreedResult.!$C$10,\"\")","v":""},{"$f":"IF(spreedResult.!$E28<>\"\",spreedResult.!$C$9,\"\")","v":""},{"$f":"IF(spreedResult.!L28<>\"\",spreedResult.!L28,\"\")","v":""},{"$f":"IF(spreedResult.!G28<>\"\",IF(spreedResult.!$H$8=\"左記ご住所に送付\",\"2\",\"\"),\"\")","v":""},{"$nulls":8},"",null,"",null,"",null,"",null,"",null,"",null,"",null,"",null,"",null,""]
[null,{"$f":"IF(spreedResult.!B29<>\"\",TEXT(spreedResult.!B29,\"YYYY\")&TEXT(spreedResult.!B29,\"MM\")&TEXT(spreedResult.!B29,\"DD\"),\"\")","v":""},{"$f":"IF(spreedResult.!C29<>\"\",VLOOKUP(spreedResult.!C29,spreedResult.!$AT$2:$AU$12,2,0),\"\")","v":""},{"$nulls":4},{"$f":"IF(spreedResult.!O29<>\"\",VLOOKUP(spreedResult.!O29,Course!$A$2:$B$612,2,0),\"\")","v":""},null,{"$f":"CONCATENATE(TRIM(ASC(spreedResult.!E29)),\" \",TRIM(ASC(spreedResult.!F29)))","v":" "},{"$f":"CONCATENATE(TRIM(spreedResult.!G29),\"　\",TRIM(spreedResult.!H29))","v":"　"},{"$f":"IFERROR(VLOOKUP(spreedResult.!J29,spreedResult.!$AW$4:$AX$5,2,0),\"\")","v":""},{"$f":"IF(spreedResult.!K29<>\"\",TEXT(spreedResult.!K29,\"YYYY\")&TEXT(spreedResult.!K29,\"MM\")&TEXT(spreedResult.!K29,\"DD\"),\"\")","v":""},null,null,{"$f":"IF(spreedResult.!$E29<>\"\",spreedResult.!$C$10,\"\")","v":""},{"$f":"IF(spreedResult.!$E29<>\"\",spreedResult.!$C$9,\"\")","v":""},{"$f":"IF(spreedResult.!L29<>\"\",spreedResult.!L29,\"\")","v":""},{"$f":"IF(spreedResult.!G29<>\"\",IF(spreedResult.!$H$8=\"左記ご住所に送付\",\"2\",\"\"),\"\")","v":""},{"$nulls":8},"",null,"",null,"",null,"",null,"",null,"",null,"",null,"",null,"",null,""]
[null,{"$f":"IF(spreedResult.!B30<>\"\",TEXT(spreedResult.!B30,\"YYYY\")&TEXT(spreedResult.!B30,\"MM\")&TEXT(spreedResult.!B30,\"DD\"),\"\")","v":""},{"$f":"IF(spreedResult.!C30<>\"\",VLOOKUP(spreedResult.!C30,spreedResult.!$AT$2:$AU$12,2,0),\"\")","v":""},{"$nulls":4},{"$f":"IF(spreedResult.!O30<>\"\",VLOOKUP(spreedResult.!O30,Course!$A$2:$B$612,2,0),\"\")","v":""},null,{"$f":"CONCATENATE(TRIM(ASC(spreedResult.!E30)),\" \",TRIM(ASC(spreedResult.!F30)))","v":" "},{"$f":"CONCATENATE(TRIM(spreedResult.!G30),\"　\",TRIM(spreedResult.!H30))","v":"　"},{"$f":"IFERROR(VLOOKUP(spreedResult.!J30,spreedResult.!$AW$4:$AX$5,2,0),\"\")","v":""},{"$f":"IF(spreedResult.!K30<>\"\",TEXT(spreedResult.!K30,\"YYYY\")&TEXT(spreedResult.!K30,\"MM\")&TEXT(spreedResult.!K30,\"DD\"),\"\")","v":""},null,null,{"$f":"IF(spreedResult.!$E30<>\"\",spreedResult.!$C$10,\"\")","v":""},{"$f":"IF(spreedResult.!$E30<>\"\",spreedResult.!$C$9,\"\")","v":""},{"$f":"IF(spreedResult.!L30<>\"\",spreedResult.!L30,\"\")","v":""},{"$f":"IF(spreedResult.!G30<>\"\",IF(spreedResult.!$H$8=\"左記ご住所に送付\",\"2\",\"\"),\"\")","v":""},{"$nulls":8},"",null,"",null,"",null,"",null,"",null,"",null,"",null,"",null,"",null,""]
[null,{"$f":"IF(spreedResult.!B31<>\"\",TEXT(spreedResult.!B31,\"YYYY\")&TEXT(spreedResult.!B31,\"MM\")&TEXT(spreedResult.!B31,\"DD\"),\"\")","v":""},{"$f":"IF(spreedResult.!C31<>\"\",VLOOKUP(spreedResult.!C31,spreedResult.!$AT$2:$AU$12,2,0),\"\")","v":""},{"$nulls":4},{"$f":"IF(spreedResult.!O31<>\"\",VLOOKUP(spreedResult.!O31,Course!$A$2:$B$612,2,0),\"\")","v":""},null,{"$f":"CONCATENATE(TRIM(ASC(spreedResult.!E31)),\" \",TRIM(ASC(spreedResult.!F31)))","v":" "},{"$f":"CONCATENATE(TRIM(spreedResult.!G31),\"　\",TRIM(spreedResult.!H31))","v":"　"},{"$f":"IFERROR(VLOOKUP(spreedResult.!J31,spreedResult.!$AW$4:$AX$5,2,0),\"\")","v":""},{"$f":"IF(spreedResult.!K31<>\"\",TEXT(spreedResult.!K31,\"YYYY\")&TEXT(spreedResult.!K31,\"MM\")&TEXT(spreedResult.!K31,\"DD\"),\"\")","v":""},null,null,{"$f":"IF(spreedResult.!$E31<>\"\",spreedResult.!$C$10,\"\")","v":""},{"$f":"IF(spreedResult.!$E31<>\"\",spreedResult.!$C$9,\"\")","v":""},{"$f":"IF(spreedResult.!L31<>\"\",spreedResult.!L31,\"\")","v":""},{"$f":"IF(spreedResult.!G31<>\"\",IF(spreedResult.!$H$8=\"左記ご住所に送付\",\"2\",\"\"),\"\")","v":""},{"$nulls":8},"",null,"",null,"",null,"",null,"",null,"",null,"",null,"",null,"",null,""]
[null,{"$f":"IF(spreedResult.!B32<>\"\",TEXT(spreedResult.!B32,\"YYYY\")&TEXT(spreedResult.!B32,\"MM\")&TEXT(spreedResult.!B32,\"DD\"),\"\")","v":""},{"$f":"IF(spreedResult.!C32<>\"\",VLOOKUP(spreedResult.!C32,spreedResult.!$AT$2:$AU$12,2,0),\"\")","v":""},{"$nulls":4},{"$f":"IF(spreedResult.!O32<>\"\",VLOOKUP(spreedResult.!O32,Course!$A$2:$B$612,2,0),\"\")","v":""},null,{"$f":"CONCATENATE(TRIM(ASC(spreedResult.!E32)),\" \",TRIM(ASC(spreedResult.!F32)))","v":" "},{"$f":"CONCATENATE(TRIM(spreedResult.!G32),\"　\",TRIM(spreedResult.!H32))","v":"　"},{"$f":"IFERROR(VLOOKUP(spreedResult.!J32,spreedResult.!$AW$4:$AX$5,2,0),\"\")","v":""},{"$f":"IF(spreedResult.!K32<>\"\",TEXT(spreedResult.!K32,\"YYYY\")&TEXT(spreedResult.!K32,\"MM\")&TEXT(spreedResult.!K32,\"DD\"),\"\")","v":""},null,null,{"$f":"IF(spreedResult.!$E32<>\"\",spreedResult.!$C$10,\"\")","v":""},{"$f":"IF(spreedResult.!$E32<>\"\",spreedResult.!$C$9,\"\")","v":""},{"$f":"IF(spreedResult.!L32<>\"\",spreedResult.!L32,\"\")","v":""},{"$f":"IF(spreedResult.!G32<>\"\",IF(spreedResult.!$H$8=\"左記ご住所に送付\",\"2\",\"\"),\"\")","v":""},{"$nulls":8},"",null,"",null,"",null,"",null,"",null,"",null,"",null,"",null,"",null,""]
[null,{"$f":"IF(spreedResult.!B33<>\"\",TEXT(spreedResult.!B33,\"YYYY\")&TEXT(spreedResult.!B33,\"MM\")&TEXT(spreedResult.!B33,\"DD\"),\"\")","v":""},{"$f":"IF(spreedResult.!C33<>\"\",VLOOKUP(spreedResult.!C33,spreedResult.!$AT$2:$AU$12,2,0),\"\")","v":""},{"$nulls":4},{"$f":"IF(spreedResult.!O33<>\"\",VLOOKUP(spreedResult.!O33,Course!$A$2:$B$612,2,0),\"\")","v":""},null,{"$f":"CONCATENATE(TRIM(ASC(spreedResult.!E33)),\" \",TRIM(ASC(spreedResult.!F33)))","v":" "},{"$f":"CONCATENATE(TRIM(spreedResult.!G33),\"　\",TRIM(spreedResult.!H33))","v":"　"},{"$f":"IFERROR(VLOOKUP(spreedResult.!J33,spreedResult.!$AW$4:$AX$5,2,0),\"\")","v":""},{"$f":"IF(spreedResult.!K33<>\"\",TEXT(spreedResult.!K33,\"YYYY\")&TEXT(spreedResult.!K33,\"MM\")&TEXT(spreedResult.!K33,\"DD\"),\"\")","v":""},null,null,{"$f":"IF(spreedResult.!$E33<>\"\",spreedResult.!$C$10,\"\")","v":""},{"$f":"IF(spreedResult.!$E33<>\"\",spreedResult.!$C$9,\"\")","v":""},{"$f":"IF(spreedResult.!L33<>\"\",spreedResult.!L33,\"\")","v":""},{"$f":"IF(spreedResult.!G33<>\"\",IF(spreedResult.!$H$8=\"左記ご住所に送付\",\"2\",\"\"),\"\")","v":""},{"$nulls":8},"",null,"",null,"",null,"",null,"",null,"",null,"",null,"",null,"",null,""]
[null,{"$f":"IF(spreedResult.!B34<>\"\",TEXT(spreedResult.!B34,\"YYYY\")&TEXT(spreedResult.!B34,\"MM\")&TEXT(spreedResult.!B34,\"DD\"),\"\")","v":""},{"$f":"IF(spreedResult.!C34<>\"\",VLOOKUP(spreedResult.!C34,spreedResult.!$AT$2:$AU$12,2,0),\"\")","v":""},{"$nulls":4},{"$f":"IF(spreedResult.!O34<>\"\",VLOOKUP(spreedResult.!O34,Course!$A$2:$B$612,2,0),\"\")","v":""},null,{"$f":"CONCATENATE(TRIM(ASC(spreedResult.!E34)),\" \",TRIM(ASC(spreedResult.!F34)))","v":" "},{"$f":"CONCATENATE(TRIM(spreedResult.!G34),\"　\",TRIM(spreedResult.!H34))","v":"　"},{"$f":"IFERROR(VLOOKUP(spreedResult.!J34,spreedResult.!$AW$4:$AX$5,2,0),\"\")","v":""},{"$f":"IF(spreedResult.!K34<>\"\",TEXT(spreedResult.!K34,\"YYYY\")&TEXT(spreedResult.!K34,\"MM\")&TEXT(spreedResult.!K34,\"DD\"),\"\")","v":""},null,null,{"$f":"IF(spreedResult.!$E34<>\"\",spreedResult.!$C$10,\"\")","v":""},{"$f":"IF(spreedResult.!$E34<>\"\",spreedResult.!$C$9,\"\")","v":""},{"$f":"IF(spreedResult.!L34<>\"\",spreedResult.!L34,\"\")","v":""},{"$f":"IF(spreedResult.!G34<>\"\",IF(spreedResult.!$H$8=\"左記ご住所に送付\",\"2\",\"\"),\"\")","v":""},{"$nulls":8},"",null,"",null,"",null,"",null,"",null,"",null,"",null,"",null,"",null,""]
[null,{"$f":"IF(spreedResult.!B35<>\"\",TEXT(spreedResult.!B35,\"YYYY\")&TEXT(spreedResult.!B35,\"MM\")&TEXT(spreedResult.!B35,\"DD\"),\"\")","v":""},{"$f":"IF(spreedResult.!C35<>\"\",VLOOKUP(spreedResult.!C35,spreedResult.!$AT$2:$AU$12,2,0),\"\")","v":""},{"$nulls":4},{"$f":"IF(spreedResult.!O35<>\"\",VLOOKUP(spreedResult.!O35,Course!$A$2:$B$612,2,0),\"\")","v":""},null,{"$f":"CONCATENATE(TRIM(ASC(spreedResult.!E35)),\" \",TRIM(ASC(spreedResult.!F35)))","v":" "},{"$f":"CONCATENATE(TRIM(spreedResult.!G35),\"　\",TRIM(spreedResult.!H35))","v":"　"},{"$f":"IFERROR(VLOOKUP(spreedResult.!J35,spreedResult.!$AW$4:$AX$5,2,0),\"\")","v":""},{"$f":"IF(spreedResult.!K35<>\"\",TEXT(spreedResult.!K35,\"YYYY\")&TEXT(spreedResult.!K35,\"MM\")&TEXT(spreedResult.!K35,\"DD\"),\"\")","v":""},null,null,{"$f":"IF(spreedResult.!$E35<>\"\",spreedResult.!$C$10,\"\")","v":""},{"$f":"IF(spreedResult.!$E35<>\"\",spreedResult.!$C$9,\"\")","v":""},{"$f":"IF(spreedResult.!L35<>\"\",spreedResult.!L35,\"\")","v":""},{"$f":"IF(spreedResult.!G35<>\"\",IF(spreedResult.!$H$8=\"左記ご住所に送付\",\"2\",\"\"),\"\")","v":""},{"$nulls":8},"",null,"",null,"",null,"",null,"",null,"",null,"",null,"",null,"",null,""]
[null,{"$f":"IF(spreedResult.!B36<>\"\",TEXT(spreedResult.!B36,\"YYYY\")&TEXT(spreedResult.!B36,\"MM\")&TEXT(spreedResult.!B36,\"DD\"),\"\")","v":""},{"$f":"IF(spreedResult.!C36<>\"\",VLOOKUP(spreedResult.!C36,spreedResult.!$AT$2:$AU$12,2,0),\"\")","v":""},{"$nulls":4},{"$f":"IF(spreedResult.!O36<>\"\",VLOOKUP(spreedResult.!O36,Course!$A$2:$B$612,2,0),\"\")","v":""},null,{"$f":"CONCATENATE(TRIM(ASC(spreedResult.!E36)),\" \",TRIM(ASC(spreedResult.!F36)))","v":" "},{"$f":"CONCATENATE(TRIM(spreedResult.!G36),\"　\",TRIM(spreedResult.!H36))","v":"　"},{"$f":"IFERROR(VLOOKUP(spreedResult.!J36,spreedResult.!$AW$4:$AX$5,2,0),\"\")","v":""},{"$f":"IF(spreedResult.!K36<>\"\",TEXT(spreedResult.!K36,\"YYYY\")&TEXT(spreedResult.!K36,\"MM\")&TEXT(spreedResult.!K36,\"DD\"),\"\")","v":""},null,null,{"$f":"IF(spreedResult.!$E36<>\"\",spreedResult.!$C$10,\"\")","v":""},{"$f":"IF(spreedResult.!$E36<>\"\",spreedResult.!$C$9,\"\")","v":""},{"$f":"IF(spreedResult.!L36<>\"\",spreedResult.!L36,\"\")","v":""},{"$f":"IF(spreedResult.!G36<>\"\",IF(spreedResult.!$H$8=\"左記ご住所に送付\",\"2\",\"\"),\"\")","v":""},{"$nulls":8},"",null,"",null,"",null,"",null,"",null,"",null,"",null,"",null,"",null,""]
[null,{"$f":"IF(spreedResult.!B37<>\"\",TEXT(spreedResult.!B37,\"YYYY\")&TEXT(spreedResult.!B37,\"MM\")&TEXT(spreedResult.!B37,\"DD\"),\"\")","v":""},{"$f":"IF(spreedResult.!C37<>\"\",VLOOKUP(spreedResult.!C37,spreedResult.!$AT$2:$AU$12,2,0),\"\")","v":""},{"$nulls":4},{"$f":"IF(spreedResult.!O37<>\"\",VLOOKUP(spreedResult.!O37,Course!$A$2:$B$612,2,0),\"\")","v":""},null,{"$f":"CONCATENATE(TRIM(ASC(spreedResult.!E37)),\" \",TRIM(ASC(spreedResult.!F37)))","v":" "},{"$f":"CONCATENATE(TRIM(spreedResult.!G37),\"　\",TRIM(spreedResult.!H37))","v":"　"},{"$f":"IFERROR(VLOOKUP(spreedResult.!J37,spreedResult.!$AW$4:$AX$5,2,0),\"\")","v":""},{"$f":"IF(spreedResult.!K37<>\"\",TEXT(spreedResult.!K37,\"YYYY\")&TEXT(spreedResult.!K37,\"MM\")&TEXT(spreedResult.!K37,\"DD\"),\"\")","v":""},null,null,{"$f":"IF(spreedResult.!$E37<>\"\",spreedResult.!$C$10,\"\")","v":""},{"$f":"IF(spreedResult.!$E37<>\"\",spreedResult.!$C$9,\"\")","v":""},{"$f":"IF(spreedResult.!L37<>\"\",spreedResult.!L37,\"\")","v":""},{"$f":"IF(spreedResult.!G37<>\"\",IF(spreedResult.!$H$8=\"左記ご住所に送付\",\"2\",\"\"),\"\")","v":""},{"$nulls":8},"",null,"",null,"",null,"",null,"",null,"",null,"",null,"",null,"",null,""]
[null,{"$f":"IF(spreedResult.!B38<>\"\",TEXT(spreedResult.!B38,\"YYYY\")&TEXT(spreedResult.!B38,\"MM\")&TEXT(spreedResult.!B38,\"DD\"),\"\")","v":""},{"$f":"IF(spreedResult.!C38<>\"\",VLOOKUP(spreedResult.!C38,spreedResult.!$AT$2:$AU$12,2,0),\"\")","v":""},{"$nulls":4},{"$f":"IF(spreedResult.!O38<>\"\",VLOOKUP(spreedResult.!O38,Course!$A$2:$B$612,2,0),\"\")","v":""},null,{"$f":"CONCATENATE(TRIM(ASC(spreedResult.!E38)),\" \",TRIM(ASC(spreedResult.!F38)))","v":" "},{"$f":"CONCATENATE(TRIM(spreedResult.!G38),\"　\",TRIM(spreedResult.!H38))","v":"　"},{"$f":"IFERROR(VLOOKUP(spreedResult.!J38,spreedResult.!$AW$4:$AX$5,2,0),\"\")","v":""},{"$f":"IF(spreedResult.!K38<>\"\",TEXT(spreedResult.!K38,\"YYYY\")&TEXT(spreedResult.!K38,\"MM\")&TEXT(spreedResult.!K38,\"DD\"),\"\")","v":""},null,null,{"$f":"IF(spreedResult.!$E38<>\"\",spreedResult.!$C$10,\"\")","v":""},{"$f":"IF(spreedResult.!$E38<>\"\",spreedResult.!$C$9,\"\")","v":""},{"$f":"IF(spreedResult.!L38<>\"\",spreedResult.!L38,\"\")","v":""},{"$f":"IF(spreedResult.!G38<>\"\",IF(spreedResult.!$H$8=\"左記ご住所に送付\",\"2\",\"\"),\"\")","v":""},{"$nulls":8},"",null,"",null,"",null,"",null,"",null,"",null,"",null,"",null,"",null,""]
[null,{"$f":"IF(spreedResult.!B39<>\"\",TEXT(spreedResult.!B39,\"YYYY\")&TEXT(spreedResult.!B39,\"MM\")&TEXT(spreedResult.!B39,\"DD\"),\"\")","v":""},{"$f":"IF(spreedResult.!C39<>\"\",VLOOKUP(spreedResult.!C39,spreedResult.!$AT$2:$AU$12,2,0),\"\")","v":""},{"$nulls":4},{"$f":"IF(spreedResult.!O39<>\"\",VLOOKUP(spreedResult.!O39,Course!$A$2:$B$612,2,0),\"\")","v":""},null,{"$f":"CONCATENATE(TRIM(ASC(spreedResult.!E39)),\" \",TRIM(ASC(spreedResult.!F39)))","v":" "},{"$f":"CONCATENATE(TRIM(spreedResult.!G39),\"　\",TRIM(spreedResult.!H39))","v":"　"},{"$f":"IFERROR(VLOOKUP(spreedResult.!J39,spreedResult.!$AW$4:$AX$5,2,0),\"\")","v":""},{"$f":"IF(spreedResult.!K39<>\"\",TEXT(spreedResult.!K39,\"YYYY\")&TEXT(spreedResult.!K39,\"MM\")&TEXT(spreedResult.!K39,\"DD\"),\"\")","v":""},null,null,{"$f":"IF(spreedResult.!$E39<>\"\",spreedResult.!$C$10,\"\")","v":""},{"$f":"IF(spreedResult.!$E39<>\"\",spreedResult.!$C$9,\"\")","v":""},{"$f":"IF(spreedResult.!L39<>\"\",spreedResult.!L39,\"\")","v":""},{"$f":"IF(spreedResult.!G39<>\"\",IF(spreedResult.!$H$8=\"左記ご住所に送付\",\"2\",\"\"),\"\")","v":""},{"$nulls":8},"",null,"",null,"",null,"",null,"",null,"",null,"",null,"",null,"",null,""]
[null,{"$f":"IF(spreedResult.!B40<>\"\",TEXT(spreedResult.!B40,\"YYYY\")&TEXT(spreedResult.!B40,\"MM\")&TEXT(spreedResult.!B40,\"DD\"),\"\")","v":""},{"$f":"IF(spreedResult.!C40<>\"\",VLOOKUP(spreedResult.!C40,spreedResult.!$AT$2:$AU$12,2,0),\"\")","v":""},{"$nulls":4},{"$f":"IF(spreedResult.!O40<>\"\",VLOOKUP(spreedResult.!O40,Course!$A$2:$B$612,2,0),\"\")","v":""},null,{"$f":"CONCATENATE(TRIM(ASC(spreedResult.!E40)),\" \",TRIM(ASC(spreedResult.!F40)))","v":" "},{"$f":"CONCATENATE(TRIM(spreedResult.!G40),\"　\",TRIM(spreedResult.!H40))","v":"　"},{"$f":"IFERROR(VLOOKUP(spreedResult.!J40,spreedResult.!$AW$4:$AX$5,2,0),\"\")","v":""},{"$f":"IF(spreedResult.!K40<>\"\",TEXT(spreedResult.!K40,\"YYYY\")&TEXT(spreedResult.!K40,\"MM\")&TEXT(spreedResult.!K40,\"DD\"),\"\")","v":""},null,null,{"$f":"IF(spreedResult.!$E40<>\"\",spreedResult.!$C$10,\"\")","v":""},{"$f":"IF(spreedResult.!$E40<>\"\",spreedResult.!$C$9,\"\")","v":""},{"$f":"IF(spreedResult.!L40<>\"\",spreedResult.!L40,\"\")","v":""},{"$f":"IF(spreedResult.!G40<>\"\",IF(spreedResult.!$H$8=\"左記ご住所に送付\",\"2\",\"\"),\"\")","v":""},{"$nulls":8},"",null,"",null,"",null,"",null,"",null,"",null,"",null,"",null,"",null,""]
[null,{"$f":"IF(spreedResult.!B41<>\"\",TEXT(spreedResult.!B41,\"YYYY\")&TEXT(spreedResult.!B41,\"MM\")&TEXT(spreedResult.!B41,\"DD\"),\"\")","v":""},{"$f":"IF(spreedResult.!C41<>\"\",VLOOKUP(spreedResult.!C41,spreedResult.!$AT$2:$AU$12,2,0),\"\")","v":""},{"$nulls":4},{"$f":"IF(spreedResult.!O41<>\"\",VLOOKUP(spreedResult.!O41,Course!$A$2:$B$612,2,0),\"\")","v":""},null,{"$f":"CONCATENATE(TRIM(ASC(spreedResult.!E41)),\" \",TRIM(ASC(spreedResult.!F41)))","v":" "},{"$f":"CONCATENATE(TRIM(spreedResult.!G41),\"　\",TRIM(spreedResult.!H41))","v":"　"},{"$f":"IFERROR(VLOOKUP(spreedResult.!J41,spreedResult.!$AW$4:$AX$5,2,0),\"\")","v":""},{"$f":"IF(spreedResult.!K41<>\"\",TEXT(spreedResult.!K41,\"YYYY\")&TEXT(spreedResult.!K41,\"MM\")&TEXT(spreedResult.!K41,\"DD\"),\"\")","v":""},null,null,{"$f":"IF(spreedResult.!$E41<>\"\",spreedResult.!$C$10,\"\")","v":""},{"$f":"IF(spreedResult.!$E41<>\"\",spreedResult.!$C$9,\"\")","v":""},{"$f":"IF(spreedResult.!L41<>\"\",spreedResult.!L41,\"\")","v":""},{"$f":"IF(spreedResult.!G41<>\"\",IF(spreedResult.!$H$8=\"左記ご住所に送付\",\"2\",\"\"),\"\")","v":""},{"$nulls":8},"",null,"",null,"",null,"",null,"",null,"",null,"",null,"",null,"",null,""]
[null,{"$f":"IF(spreedResult.!B42<>\"\",TEXT(spreedResult.!B42,\"YYYY\")&TEXT(spreedResult.!B42,\"MM\")&TEXT(spreedResult.!B42,\"DD\"),\"\")","v":""},{"$f":"IF(spreedResult.!C42<>\"\",VLOOKUP(spreedResult.!C42,spreedResult.!$AT$2:$AU$12,2,0),\"\")","v":""},{"$nulls":4},{"$f":"IF(spreedResult.!O42<>\"\",VLOOKUP(spreedResult.!O42,Course!$A$2:$B$612,2,0),\"\")","v":""},null,{"$f":"CONCATENATE(TRIM(ASC(spreedResult.!E42)),\" \",TRIM(ASC(spreedResult.!F42)))","v":" "},{"$f":"CONCATENATE(TRIM(spreedResult.!G42),\"　\",TRIM(spreedResult.!H42))","v":"　"},{"$f":"IFERROR(VLOOKUP(spreedResult.!J42,spreedResult.!$AW$4:$AX$5,2,0),\"\")","v":""},{"$f":"IF(spreedResult.!K42<>\"\",TEXT(spreedResult.!K42,\"YYYY\")&TEXT(spreedResult.!K42,\"MM\")&TEXT(spreedResult.!K42,\"DD\"),\"\")","v":""},null,null,{"$f":"IF(spreedResult.!$E42<>\"\",spreedResult.!$C$10,\"\")","v":""},{"$f":"IF(spreedResult.!$E42<>\"\",spreedResult.!$C$9,\"\")","v":""},{"$f":"IF(spreedResult.!L42<>\"\",spreedResult.!L42,\"\")","v":""},{"$f":"IF(spreedResult.!G42<>\"\",IF(spreedResult.!$H$8=\"左記ご住所に送付\",\"2\",\"\"),\"\")","v":""},{"$nulls":8},"",null,"",null,"",null,"",null,"",null,"",null,"",null,"",null,"",null,""]
[null,{"$f":"IF(spreedResult.!B43<>\"\",TEXT(spreedResult.!B43,\"YYYY\")&TEXT(spreedResult.!B43,\"MM\")&TEXT(spreedResult.!B43,\"DD\"),\"\")","v":""},{"$f":"IF(spreedResult.!C43<>\"\",VLOOKUP(spreedResult.!C43,spreedResult.!$AT$2:$AU$12,2,0),\"\")","v":""},{"$nulls":4},{"$f":"IF(spreedResult.!O43<>\"\",VLOOKUP(spreedResult.!O43,Course!$A$2:$B$612,2,0),\"\")","v":""},null,{"$f":"CONCATENATE(TRIM(ASC(spreedResult.!E43)),\" \",TRIM(ASC(spreedResult.!F43)))","v":" "},{"$f":"CONCATENATE(TRIM(spreedResult.!G43),\"　\",TRIM(spreedResult.!H43))","v":"　"},{"$f":"IFERROR(VLOOKUP(spreedResult.!J43,spreedResult.!$AW$4:$AX$5,2,0),\"\")","v":""},{"$f":"IF(spreedResult.!K43<>\"\",TEXT(spreedResult.!K43,\"YYYY\")&TEXT(spreedResult.!K43,\"MM\")&TEXT(spreedResult.!K43,\"DD\"),\"\")","v":""},null,null,{"$f":"IF(spreedResult.!$E43<>\"\",spreedResult.!$C$10,\"\")","v":""},{"$f":"IF(spreedResult.!$E43<>\"\",spreedResult.!$C$9,\"\")","v":""},{"$f":"IF(spreedResult.!L43<>\"\",spreedResult.!L43,\"\")","v":""},{"$f":"IF(spreedResult.!G43<>\"\",IF(spreedResult.!$H$8=\"左記ご住所に送付\",\"2\",\"\"),\"\")","v":""},{"$nulls":8},"",null,"",null,"",null,"",null,"",null,"",null,"",null,"",null,"",null,""]
[null,{"$f":"IF(spreedResult.!B44<>\"\",TEXT(spreedResult.!B44,\"YYYY\")&TEXT(spreedResult.!B44,\"MM\")&TEXT(spreedResult.!B44,\"DD\"),\"\")","v":""},{"$f":"IF(spreedResult.!C44<>\"\",VLOOKUP(spreedResult.!C44,spreedResult.!$AT$2:$AU$12,2,0),\"\")","v":""},{"$nulls":4},{"$f":"IF(spreedResult.!O44<>\"\",VLOOKUP(spreedResult.!O44,Course!$A$2:$B$612,2,0),\"\")","v":""},null,{"$f":"CONCATENATE(TRIM(ASC(spreedResult.!E44)),\" \",TRIM(ASC(spreedResult.!F44)))","v":" "},{"$f":"CONCATENATE(TRIM(spreedResult.!G44),\"　\",TRIM(spreedResult.!H44))","v":"　"},{"$f":"IFERROR(VLOOKUP(spreedResult.!J44,spreedResult.!$AW$4:$AX$5,2,0),\"\")","v":""},{"$f":"IF(spreedResult.!K44<>\"\",TEXT(spreedResult.!K44,\"YYYY\")&TEXT(spreedResult.!K44,\"MM\")&TEXT(spreedResult.!K44,\"DD\"),\"\")","v":""},null,null,{"$f":"IF(spreedResult.!$E44<>\"\",spreedResult.!$C$10,\"\")","v":""},{"$f":"IF(spreedResult.!$E44<>\"\",spreedResult.!$C$9,\"\")","v":""},{"$f":"IF(spreedResult.!L44<>\"\",spreedResult.!L44,\"\")","v":""},{"$f":"IF(spreedResult.!G44<>\"\",IF(spreedResult.!$H$8=\"左記ご住所に送付\",\"2\",\"\"),\"\")","v":""},{"$nulls":8},"",null,"",null,"",null,"",null,"",null,"",null,"",null,"",null,"",null,""]
[null,{"$f":"IF(spreedResult.!B45<>\"\",TEXT(spreedResult.!B45,\"YYYY\")&TEXT(spreedResult.!B45,\"MM\")&TEXT(spreedResult.!B45,\"DD\"),\"\")","v":""},{"$f":"IF(spreedResult.!C45<>\"\",VLOOKUP(spreedResult.!C45,spreedResult.!$AT$2:$AU$12,2,0),\"\")","v":""},{"$nulls":4},{"$f":"IF(spreedResult.!O45<>\"\",VLOOKUP(spreedResult.!O45,Course!$A$2:$B$612,2,0),\"\")","v":""},null,{"$f":"CONCATENATE(TRIM(ASC(spreedResult.!E45)),\" \",TRIM(ASC(spreedResult.!F45)))","v":" "},{"$f":"CONCATENATE(TRIM(spreedResult.!G45),\"　\",TRIM(spreedResult.!H45))","v":"　"},{"$f":"IFERROR(VLOOKUP(spreedResult.!J45,spreedResult.!$AW$4:$AX$5,2,0),\"\")","v":""},{"$f":"IF(spreedResult.!K45<>\"\",TEXT(spreedResult.!K45,\"YYYY\")&TEXT(spreedResult.!K45,\"MM\")&TEXT(spreedResult.!K45,\"DD\"),\"\")","v":""},null,null,{"$f":"IF(spreedResult.!$E45<>\"\",spreedResult.!$C$10,\"\")","v":""},{"$f":"IF(spreedResult.!$E45<>\"\",spreedResult.!$C$9,\"\")","v":""},{"$f":"IF(spreedResult.!L45<>\"\",spreedResult.!L45,\"\")","v":""},{"$f":"IF(spreedResult.!G45<>\"\",IF(spreedResult.!$H$8=\"左記ご住所に送付\",\"2\",\"\"),\"\")","v":""},{"$nulls":8},"",null,"",null,"",null,"",null,"",null,"",null,"",null,"",null,"",null,""]
[null,{"$f":"IF(spreedResult.!B46<>\"\",TEXT(spreedResult.!B46,\"YYYY\")&TEXT(spreedResult.!B46,\"MM\")&TEXT(spreedResult.!B46,\"DD\"),\"\")","v":""},{"$f":"IF(spreedResult.!C46<>\"\",VLOOKUP(spreedResult.!C46,spreedResult.!$AT$2:$AU$12,2,0),\"\")","v":""},{"$nulls":4},{"$f":"IF(spreedResult.!O46<>\"\",VLOOKUP(spreedResult.!O46,Course!$A$2:$B$612,2,0),\"\")","v":""},null,{"$f":"CONCATENATE(TRIM(ASC(spreedResult.!E46)),\" \",TRIM(ASC(spreedResult.!F46)))","v":" "},{"$f":"CONCATENATE(TRIM(spreedResult.!G46),\"　\",TRIM(spreedResult.!H46))","v":"　"},{"$f":"IFERROR(VLOOKUP(spreedResult.!J46,spreedResult.!$AW$4:$AX$5,2,0),\"\")","v":""},{"$f":"IF(spreedResult.!K46<>\"\",TEXT(spreedResult.!K46,\"YYYY\")&TEXT(spreedResult.!K46,\"MM\")&TEXT(spreedResult.!K46,\"DD\"),\"\")","v":""},null,null,{"$f":"IF(spreedResult.!$E46<>\"\",spreedResult.!$C$10,\"\")","v":""},{"$f":"IF(spreedResult.!$E46<>\"\",spreedResult.!$C$9,\"\")","v":""},{"$f":"IF(spreedResult.!L46<>\"\",spreedResult.!L46,\"\")","v":""},{"$f":"IF(spreedResult.!G46<>\"\",IF(spreedResult.!$H$8=\"左記ご住所に送付\",\"2\",\"\"),\"\")","v":""},{"$nulls":8},"",null,"",null,"",null,"",null,"",null,"",null,"",null,"",null,"",null,""]
[null,{"$f":"IF(spreedResult.!B47<>\"\",TEXT(spreedResult.!B47,\"YYYY\")&TEXT(spreedResult.!B47,\"MM\")&TEXT(spreedResult.!B47,\"DD\"),\"\")","v":""},{"$f":"IF(spreedResult.!C47<>\"\",VLOOKUP(spreedResult.!C47,spreedResult.!$AT$2:$AU$12,2,0),\"\")","v":""},{"$nulls":4},{"$f":"IF(spreedResult.!O47<>\"\",VLOOKUP(spreedResult.!O47,Course!$A$2:$B$612,2,0),\"\")","v":""},null,{"$f":"CONCATENATE(TRIM(ASC(spreedResult.!E47)),\" \",TRIM(ASC(spreedResult.!F47)))","v":" "},{"$f":"CONCATENATE(TRIM(spreedResult.!G47),\"　\",TRIM(spreedResult.!H47))","v":"　"},{"$f":"IFERROR(VLOOKUP(spreedResult.!J47,spreedResult.!$AW$4:$AX$5,2,0),\"\")","v":""},{"$f":"IF(spreedResult.!K47<>\"\",TEXT(spreedResult.!K47,\"YYYY\")&TEXT(spreedResult.!K47,\"MM\")&TEXT(spreedResult.!K47,\"DD\"),\"\")","v":""},null,null,{"$f":"IF(spreedResult.!$E47<>\"\",spreedResult.!$C$10,\"\")","v":""},{"$f":"IF(spreedResult.!$E47<>\"\",spreedResult.!$C$9,\"\")","v":""},{"$f":"IF(spreedResult.!L47<>\"\",spreedResult.!L47,\"\")","v":""},{"$f":"IF(spreedResult.!G47<>\"\",IF(spreedResult.!$H$8=\"左記ご住所に送付\",\"2\",\"\"),\"\")","v":""},{"$nulls":8},"",null,"",null,"",null,"",null,"",null,"",null,"",null,"",null,"",null,""]
[null,{"$f":"IF(spreedResult.!B48<>\"\",TEXT(spreedResult.!B48,\"YYYY\")&TEXT(spreedResult.!B48,\"MM\")&TEXT(spreedResult.!B48,\"DD\"),\"\")","v":""},{"$f":"IF(spreedResult.!C48<>\"\",VLOOKUP(spreedResult.!C48,spreedResult.!$AT$2:$AU$12,2,0),\"\")","v":""},{"$nulls":4},{"$f":"IF(spreedResult.!O48<>\"\",VLOOKUP(spreedResult.!O48,Course!$A$2:$B$612,2,0),\"\")","v":""},null,{"$f":"CONCATENATE(TRIM(ASC(spreedResult.!E48)),\" \",TRIM(ASC(spreedResult.!F48)))","v":" "},{"$f":"CONCATENATE(TRIM(spreedResult.!G48),\"　\",TRIM(spreedResult.!H48))","v":"　"},{"$f":"IFERROR(VLOOKUP(spreedResult.!J48,spreedResult.!$AW$4:$AX$5,2,0),\"\")","v":""},{"$f":"IF(spreedResult.!K48<>\"\",TEXT(spreedResult.!K48,\"YYYY\")&TEXT(spreedResult.!K48,\"MM\")&TEXT(spreedResult.!K48,\"DD\"),\"\")","v":""},null,null,{"$f":"IF(spreedResult.!$E48<>\"\",spreedResult.!$C$10,\"\")","v":""},{"$f":"IF(spreedResult.!$E48<>\"\",spreedResult.!$C$9,\"\")","v":""},{"$f":"IF(spreedResult.!L48<>\"\",spreedResult.!L48,\"\")","v":""},{"$f":"IF(spreedResult.!G48<>\"\",IF(spreedResult.!$H$8=\"左記ご住所に送付\",\"2\",\"\"),\"\")","v":""},{"$nulls":8},"",null,"",null,"",null,"",null,"",null,"",null,"",null,"",null,"",null,""]
[null,{"$f":"IF(spreedResult.!B49<>\"\",TEXT(spreedResult.!B49,\"YYYY\")&TEXT(spreedResult.!B49,\"MM\")&TEXT(spreedResult.!B49,\"DD\"),\"\")","v":""},{"$f":"IF(spreedResult.!C49<>\"\",VLOOKUP(spreedResult.!C49,spreedResult.!$AT$2:$AU$12,2,0),\"\")","v":""},{"$nulls":4},{"$f":"IF(spreedResult.!O49<>\"\",VLOOKUP(spreedResult.!O49,Course!$A$2:$B$612,2,0),\"\")","v":""},null,{"$f":"CONCATENATE(TRIM(ASC(spreedResult.!E49)),\" \",TRIM(ASC(spreedResult.!F49)))","v":" "},{"$f":"CONCATENATE(TRIM(spreedResult.!G49),\"　\",TRIM(spreedResult.!H49))","v":"　"},{"$f":"IFERROR(VLOOKUP(spreedResult.!J49,spreedResult.!$AW$4:$AX$5,2,0),\"\")","v":""},{"$f":"IF(spreedResult.!K49<>\"\",TEXT(spreedResult.!K49,\"YYYY\")&TEXT(spreedResult.!K49,\"MM\")&TEXT(spreedResult.!K49,\"DD\"),\"\")","v":""},null,null,{"$f":"IF(spreedResult.!$E49<>\"\",spreedResult.!$C$10,\"\")","v":""},{"$f":"IF(spreedResult.!$E49<>\"\",spreedResult.!$C$9,\"\")","v":""},{"$f":"IF(spreedResult.!L49<>\"\",spreedResult.!L49,\"\")","v":""},{"$f":"IF(spreedResult.!G49<>\"\",IF(spreedResult.!$H$8=\"左記ご住所に送付\",\"2\",\"\"),\"\")","v":""},{"$nulls":8},"",null,"",null,"",null,"",null,"",null,"",null,"",null,"",null,"",null,""]
[null,{"$f":"IF(spreedResult.!B50<>\"\",TEXT(spreedResult.!B50,\"YYYY\")&TEXT(spreedResult.!B50,\"MM\")&TEXT(spreedResult.!B50,\"DD\"),\"\")","v":""},{"$f":"IF(spreedResult.!C50<>\"\",VLOOKUP(spreedResult.!C50,spreedResult.!$AT$2:$AU$12,2,0),\"\")","v":""},{"$nulls":4},{"$f":"IF(spreedResult.!O50<>\"\",VLOOKUP(spreedResult.!O50,Course!$A$2:$B$612,2,0),\"\")","v":""},null,{"$f":"CONCATENATE(TRIM(ASC(spreedResult.!E50)),\" \",TRIM(ASC(spreedResult.!F50)))","v":" "},{"$f":"CONCATENATE(TRIM(spreedResult.!G50),\"　\",TRIM(spreedResult.!H50))","v":"　"},{"$f":"IFERROR(VLOOKUP(spreedResult.!J50,spreedResult.!$AW$4:$AX$5,2,0),\"\")","v":""},{"$f":"IF(spreedResult.!K50<>\"\",TEXT(spreedResult.!K50,\"YYYY\")&TEXT(spreedResult.!K50,\"MM\")&TEXT(spreedResult.!K50,\"DD\"),\"\")","v":""},null,null,{"$f":"IF(spreedResult.!$E50<>\"\",spreedResult.!$C$10,\"\")","v":""},{"$f":"IF(spreedResult.!$E50<>\"\",spreedResult.!$C$9,\"\")","v":""},{"$f":"IF(spreedResult.!L50<>\"\",spreedResult.!L50,\"\")","v":""},{"$f":"IF(spreedResult.!G50<>\"\",IF(spreedResult.!$H$8=\"左記ご住所に送付\",\"2\",\"\"),\"\")","v":""},{"$nulls":8},"",null,"",null,"",null,"",null,"",null,"",null,"",null,"",null,"",null,""]
[null,{"$f":"IF(spreedResult.!B51<>\"\",TEXT(spreedResult.!B51,\"YYYY\")&TEXT(spreedResult.!B51,\"MM\")&TEXT(spreedResult.!B51,\"DD\"),\"\")","v":""},{"$f":"IF(spreedResult.!C51<>\"\",VLOOKUP(spreedResult.!C51,spreedResult.!$AT$2:$AU$12,2,0),\"\")","v":""},{"$nulls":4},{"$f":"IF(spreedResult.!O51<>\"\",VLOOKUP(spreedResult.!O51,Course!$A$2:$B$612,2,0),\"\")","v":""},null,{"$f":"CONCATENATE(TRIM(ASC(spreedResult.!E51)),\" \",TRIM(ASC(spreedResult.!F51)))","v":" "},{"$f":"CONCATENATE(TRIM(spreedResult.!G51),\"　\",TRIM(spreedResult.!H51))","v":"　"},{"$f":"IFERROR(VLOOKUP(spreedResult.!J51,spreedResult.!$AW$4:$AX$5,2,0),\"\")","v":""},{"$f":"IF(spreedResult.!K51<>\"\",TEXT(spreedResult.!K51,\"YYYY\")&TEXT(spreedResult.!K51,\"MM\")&TEXT(spreedResult.!K51,\"DD\"),\"\")","v":""},null,null,{"$f":"IF(spreedResult.!$E51<>\"\",spreedResult.!$C$10,\"\")","v":""},{"$f":"IF(spreedResult.!$E51<>\"\",spreedResult.!$C$9,\"\")","v":""},{"$f":"IF(spreedResult.!L51<>\"\",spreedResult.!L51,\"\")","v":""},{"$f":"IF(spreedResult.!G51<>\"\",IF(spreedResult.!$H$8=\"左記ご住所に送付\",\"2\",\"\"),\"\")","v":""},{"$nulls":8},"",null,"",null,"",null,"",null,"",null,"",null,"",null,"",null,"",null,""]
[null,{"$f":"IF(spreedResult.!B52<>\"\",TEXT(spreedResult.!B52,\"YYYY\")&TEXT(spreedResult.!B52,\"MM\")&TEXT(spreedResult.!B52,\"DD\"),\"\")","v":""},{"$f":"IF(spreedResult.!C52<>\"\",VLOOKUP(spreedResult.!C52,spreedResult.!$AT$2:$AU$12,2,0),\"\")","v":""},{"$nulls":4},{"$f":"IF(spreedResult.!O52<>\"\",VLOOKUP(spreedResult.!O52,Course!$A$2:$B$612,2,0),\"\")","v":""},null,{"$f":"CONCATENATE(TRIM(ASC(spreedResult.!E52)),\" \",TRIM(ASC(spreedResult.!F52)))","v":" "},{"$f":"CONCATENATE(TRIM(spreedResult.!G52),\"　\",TRIM(spreedResult.!H52))","v":"　"},{"$f":"IFERROR(VLOOKUP(spreedResult.!J52,spreedResult.!$AW$4:$AX$5,2,0),\"\")","v":""},{"$f":"IF(spreedResult.!K52<>\"\",TEXT(spreedResult.!K52,\"YYYY\")&TEXT(spreedResult.!K52,\"MM\")&TEXT(spreedResult.!K52,\"DD\"),\"\")","v":""},null,null,{"$f":"IF(spreedResult.!$E52<>\"\",spreedResult.!$C$10,\"\")","v":""},{"$f":"IF(spreedResult.!$E52<>\"\",spreedResult.!$C$9,\"\")","v":""},{"$f":"IF(spreedResult.!L52<>\"\",spreedResult.!L52,\"\")","v":""},{"$f":"IF(spreedResult.!G52<>\"\",IF(spreedResult.!$H$8=\"左記ご住所に送付\",\"2\",\"\"),\"\")","v":""},{"$nulls":8},"",null,"",null,"",null,"",null,"",null,"",null,"",null,"",null,"",null,""]
[null,{"$f":"IF(spreedResult.!B53<>\"\",TEXT(spreedResult.!B53,\"YYYY\")&TEXT(spreedResult.!B53,\"MM\")&TEXT(spreedResult.!B53,\"DD\"),\"\")","v":""},{"$f":"IF(spreedResult.!C53<>\"\",VLOOKUP(spreedResult.!C53,spreedResult.!$AT$2:$AU$12,2,0),\"\")","v":""},{"$nulls":4},{"$f":"IF(spreedResult.!O53<>\"\",VLOOKUP(spreedResult.!O53,Course!$A$2:$B$612,2,0),\"\")","v":""},null,{"$f":"CONCATENATE(TRIM(ASC(spreedResult.!E53)),\" \",TRIM(ASC(spreedResult.!F53)))","v":" "},{"$f":"CONCATENATE(TRIM(spreedResult.!G53),\"　\",TRIM(spreedResult.!H53))","v":"　"},{"$f":"IFERROR(VLOOKUP(spreedResult.!J53,spreedResult.!$AW$4:$AX$5,2,0),\"\")","v":""},{"$f":"IF(spreedResult.!K53<>\"\",TEXT(spreedResult.!K53,\"YYYY\")&TEXT(spreedResult.!K53,\"MM\")&TEXT(spreedResult.!K53,\"DD\"),\"\")","v":""},null,null,{"$f":"IF(spreedResult.!$E53<>\"\",spreedResult.!$C$10,\"\")","v":""},{"$f":"IF(spreedResult.!$E53<>\"\",spreedResult.!$C$9,\"\")","v":""},{"$f":"IF(spreedResult.!L53<>\"\",spreedResult.!L53,\"\")","v":""},{"$f":"IF(spreedResult.!G53<>\"\",IF(spreedResult.!$H$8=\"左記ご住所に送付\",\"2\",\"\"),\"\")","v":""},{"$nulls":8},"",null,"",null,"",null,"",null,"",null,"",null,"",null,"",null,"",null,""]
[null,{"$f":"IF(spreedResult.!B54<>\"\",TEXT(spreedResult.!B54,\"YYYY\")&TEXT(spreedResult.!B54,\"MM\")&TEXT(spreedResult.!B54,\"DD\"),\"\")","v":""},{"$f":"IF(spreedResult.!C54<>\"\",VLOOKUP(spreedResult.!C54,spreedResult.!$AT$2:$AU$12,2,0),\"\")","v":""},{"$nulls":4},{"$f":"IF(spreedResult.!O54<>\"\",VLOOKUP(spreedResult.!O54,Course!$A$2:$B$612,2,0),\"\")","v":""},null,{"$f":"CONCATENATE(TRIM(ASC(spreedResult.!E54)),\" \",TRIM(ASC(spreedResult.!F54)))","v":" "},{"$f":"CONCATENATE(TRIM(spreedResult.!G54),\"　\",TRIM(spreedResult.!H54))","v":"　"},{"$f":"IFERROR(VLOOKUP(spreedResult.!J54,spreedResult.!$AW$4:$AX$5,2,0),\"\")","v":""},{"$f":"IF(spreedResult.!K54<>\"\",TEXT(spreedResult.!K54,\"YYYY\")&TEXT(spreedResult.!K54,\"MM\")&TEXT(spreedResult.!K54,\"DD\"),\"\")","v":""},null,null,{"$f":"IF(spreedResult.!$E54<>\"\",spreedResult.!$C$10,\"\")","v":""},{"$f":"IF(spreedResult.!$E54<>\"\",spreedResult.!$C$9,\"\")","v":""},{"$f":"IF(spreedResult.!L54<>\"\",spreedResult.!L54,\"\")","v":""},{"$f":"IF(spreedResult.!G54<>\"\",IF(spreedResult.!$H$8=\"左記ご住所に送付\",\"2\",\"\"),\"\")","v":""},{"$nulls":8},"",null,"",null,"",null,"",null,"",null,"",null,"",null,"",null,"",null,""]
[null,{"$f":"IF(spreedResult.!B55<>\"\",TEXT(spreedResult.!B55,\"YYYY\")&TEXT(spreedResult.!B55,\"MM\")&TEXT(spreedResult.!B55,\"DD\"),\"\")","v":""},{"$f":"IF(spreedResult.!C55<>\"\",VLOOKUP(spreedResult.!C55,spreedResult.!$AT$2:$AU$12,2,0),\"\")","v":""},{"$nulls":4},{"$f":"IF(spreedResult.!O55<>\"\",VLOOKUP(spreedResult.!O55,Course!$A$2:$B$612,2,0),\"\")","v":""},null,{"$f":"CONCATENATE(TRIM(ASC(spreedResult.!E55)),\" \",TRIM(ASC(spreedResult.!F55)))","v":" "},{"$f":"CONCATENATE(TRIM(spreedResult.!G55),\"　\",TRIM(spreedResult.!H55))","v":"　"},{"$f":"IFERROR(VLOOKUP(spreedResult.!J55,spreedResult.!$AW$4:$AX$5,2,0),\"\")","v":""},{"$f":"IF(spreedResult.!K55<>\"\",TEXT(spreedResult.!K55,\"YYYY\")&TEXT(spreedResult.!K55,\"MM\")&TEXT(spreedResult.!K55,\"DD\"),\"\")","v":""},null,null,{"$f":"IF(spreedResult.!$E55<>\"\",spreedResult.!$C$10,\"\")","v":""},{"$f":"IF(spreedResult.!$E55<>\"\",spreedResult.!$C$9,\"\")","v":""},{"$f":"IF(spreedResult.!L55<>\"\",spreedResult.!L55,\"\")","v":""},{"$f":"IF(spreedResult.!G55<>\"\",IF(spreedResult.!$H$8=\"左記ご住所に送付\",\"2\",\"\"),\"\")","v":""},{"$nulls":8},"",null,"",null,"",null,"",null,"",null,"",null,"",null,"",null,"",null,""]
[null,{"$f":"IF(spreedResult.!B56<>\"\",TEXT(spreedResult.!B56,\"YYYY\")&TEXT(spreedResult.!B56,\"MM\")&TEXT(spreedResult.!B56,\"DD\"),\"\")","v":""},{"$f":"IF(spreedResult.!C56<>\"\",VLOOKUP(spreedResult.!C56,spreedResult.!$AT$2:$AU$12,2,0),\"\")","v":""},{"$nulls":4},{"$f":"IF(spreedResult.!O56<>\"\",VLOOKUP(spreedResult.!O56,Course!$A$2:$B$612,2,0),\"\")","v":""},null,{"$f":"CONCATENATE(TRIM(ASC(spreedResult.!E56)),\" \",TRIM(ASC(spreedResult.!F56)))","v":" "},{"$f":"CONCATENATE(TRIM(spreedResult.!G56),\"　\",TRIM(spreedResult.!H56))","v":"　"},{"$f":"IFERROR(VLOOKUP(spreedResult.!J56,spreedResult.!$AW$4:$AX$5,2,0),\"\")","v":""},{"$f":"IF(spreedResult.!K56<>\"\",TEXT(spreedResult.!K56,\"YYYY\")&TEXT(spreedResult.!K56,\"MM\")&TEXT(spreedResult.!K56,\"DD\"),\"\")","v":""},null,null,{"$f":"IF(spreedResult.!$E56<>\"\",spreedResult.!$C$10,\"\")","v":""},{"$f":"IF(spreedResult.!$E56<>\"\",spreedResult.!$C$9,\"\")","v":""},{"$f":"IF(spreedResult.!L56<>\"\",spreedResult.!L56,\"\")","v":""},{"$f":"IF(spreedResult.!G56<>\"\",IF(spreedResult.!$H$8=\"左記ご住所に送付\",\"2\",\"\"),\"\")","v":""},{"$nulls":8},"",null,"",null,"",null,"",null,"",null,"",null,"",null,"",null,"",null,""]
[null,{"$f":"IF(spreedResult.!B57<>\"\",TEXT(spreedResult.!B57,\"YYYY\")&TEXT(spreedResult.!B57,\"MM\")&TEXT(spreedResult.!B57,\"DD\"),\"\")","v":""},{"$f":"IF(spreedResult.!C57<>\"\",VLOOKUP(spreedResult.!C57,spreedResult.!$AT$2:$AU$12,2,0),\"\")","v":""},{"$nulls":4},{"$f":"IF(spreedResult.!O57<>\"\",VLOOKUP(spreedResult.!O57,Course!$A$2:$B$612,2,0),\"\")","v":""},null,{"$f":"CONCATENATE(TRIM(ASC(spreedResult.!E57)),\" \",TRIM(ASC(spreedResult.!F57)))","v":" "},{"$f":"CONCATENATE(TRIM(spreedResult.!G57),\"　\",TRIM(spreedResult.!H57))","v":"　"},{"$f":"IFERROR(VLOOKUP(spreedResult.!J57,spreedResult.!$AW$4:$AX$5,2,0),\"\")","v":""},{"$f":"IF(spreedResult.!K57<>\"\",TEXT(spreedResult.!K57,\"YYYY\")&TEXT(spreedResult.!K57,\"MM\")&TEXT(spreedResult.!K57,\"DD\"),\"\")","v":""},null,null,{"$f":"IF(spreedResult.!$E57<>\"\",spreedResult.!$C$10,\"\")","v":""},{"$f":"IF(spreedResult.!$E57<>\"\",spreedResult.!$C$9,\"\")","v":""},{"$f":"IF(spreedResult.!L57<>\"\",spreedResult.!L57,\"\")","v":""},{"$f":"IF(spreedResult.!G57<>\"\",IF(spreedResult.!$H$8=\"左記ご住所に送付\",\"2\",\"\"),\"\")","v":""},{"$nulls":8},"",null,"",null,"",null,"",null,"",null,"",null,"",null,"",null,"",null,""]
[null,{"$f":"IF(spreedResult.!B58<>\"\",TEXT(spreedResult.!B58,\"YYYY\")&TEXT(spreedResult.!B58,\"MM\")&TEXT(spreedResult.!B58,\"DD\"),\"\")","v":""},{"$f":"IF(spreedResult.!C58<>\"\",VLOOKUP(spreedResult.!C58,spreedResult.!$AT$2:$AU$12,2,0),\"\")","v":""},{"$nulls":4},{"$f":"IF(spreedResult.!O58<>\"\",VLOOKUP(spreedResult.!O58,Course!$A$2:$B$612,2,0),\"\")","v":""},null,{"$f":"CONCATENATE(TRIM(ASC(spreedResult.!E58)),\" \",TRIM(ASC(spreedResult.!F58)))","v":" "},{"$f":"CONCATENATE(TRIM(spreedResult.!G58),\"　\",TRIM(spreedResult.!H58))","v":"　"},{"$f":"IFERROR(VLOOKUP(spreedResult.!J58,spreedResult.!$AW$4:$AX$5,2,0),\"\")","v":""},{"$f":"IF(spreedResult.!K58<>\"\",TEXT(spreedResult.!K58,\"YYYY\")&TEXT(spreedResult.!K58,\"MM\")&TEXT(spreedResult.!K58,\"DD\"),\"\")","v":""},null,null,{"$f":"IF(spreedResult.!$E58<>\"\",spreedResult.!$C$10,\"\")","v":""},{"$f":"IF(spreedResult.!$E58<>\"\",spreedResult.!$C$9,\"\")","v":""},{"$f":"IF(spreedResult.!L58<>\"\",spreedResult.!L58,\"\")","v":""},{"$f":"IF(spreedResult.!G58<>\"\",IF(spreedResult.!$H$8=\"左記ご住所に送付\",\"2\",\"\"),\"\")","v":""},{"$nulls":8},"",null,"",null,"",null,"",null,"",null,"",null,"",null,"",null,"",null,""]
[null,{"$f":"IF(spreedResult.!B59<>\"\",TEXT(spreedResult.!B59,\"YYYY\")&TEXT(spreedResult.!B59,\"MM\")&TEXT(spreedResult.!B59,\"DD\"),\"\")","v":""},{"$f":"IF(spreedResult.!C59<>\"\",VLOOKUP(spreedResult.!C59,spreedResult.!$AT$2:$AU$12,2,0),\"\")","v":""},{"$nulls":4},{"$f":"IF(spreedResult.!O59<>\"\",VLOOKUP(spreedResult.!O59,Course!$A$2:$B$612,2,0),\"\")","v":""},null,{"$f":"CONCATENATE(TRIM(ASC(spreedResult.!E59)),\" \",TRIM(ASC(spreedResult.!F59)))","v":" "},{"$f":"CONCATENATE(TRIM(spreedResult.!G59),\"　\",TRIM(spreedResult.!H59))","v":"　"},{"$f":"IFERROR(VLOOKUP(spreedResult.!J59,spreedResult.!$AW$4:$AX$5,2,0),\"\")","v":""},{"$f":"IF(spreedResult.!K59<>\"\",TEXT(spreedResult.!K59,\"YYYY\")&TEXT(spreedResult.!K59,\"MM\")&TEXT(spreedResult.!K59,\"DD\"),\"\")","v":""},null,null,{"$f":"IF(spreedResult.!$E59<>\"\",spreedResult.!$C$10,\"\")","v":""},{"$f":"IF(spreedResult.!$E59<>\"\",spreedResult.!$C$9,\"\")","v":""},{"$f":"IF(spreedResult.!L59<>\"\",spreedResult.!L59,\"\")","v":""},{"$f":"IF(spreedResult.!G59<>\"\",IF(spreedResult.!$H$8=\"左記ご住所に送付\",\"2\",\"\"),\"\")","v":""},{"$nulls":8},"",null,"",null,"",null,"",null,"",null,"",null,"",null,"",null,"",null,""]
[null,{"$f":"IF(spreedResult.!B60<>\"\",TEXT(spreedResult.!B60,\"YYYY\")&TEXT(spreedResult.!B60,\"MM\")&TEXT(spreedResult.!B60,\"DD\"),\"\")","v":""},{"$f":"IF(spreedResult.!C60<>\"\",VLOOKUP(spreedResult.!C60,spreedResult.!$AT$2:$AU$12,2,0),\"\")","v":""},{"$nulls":4},{"$f":"IF(spreedResult.!O60<>\"\",VLOOKUP(spreedResult.!O60,Course!$A$2:$B$612,2,0),\"\")","v":""},null,{"$f":"CONCATENATE(TRIM(ASC(spreedResult.!E60)),\" \",TRIM(ASC(spreedResult.!F60)))","v":" "},{"$f":"CONCATENATE(TRIM(spreedResult.!G60),\"　\",TRIM(spreedResult.!H60))","v":"　"},{"$f":"IFERROR(VLOOKUP(spreedResult.!J60,spreedResult.!$AW$4:$AX$5,2,0),\"\")","v":""},{"$f":"IF(spreedResult.!K60<>\"\",TEXT(spreedResult.!K60,\"YYYY\")&TEXT(spreedResult.!K60,\"MM\")&TEXT(spreedResult.!K60,\"DD\"),\"\")","v":""},null,null,{"$f":"IF(spreedResult.!$E60<>\"\",spreedResult.!$C$10,\"\")","v":""},{"$f":"IF(spreedResult.!$E60<>\"\",spreedResult.!$C$9,\"\")","v":""},{"$f":"IF(spreedResult.!L60<>\"\",spreedResult.!L60,\"\")","v":""},{"$f":"IF(spreedResult.!G60<>\"\",IF(spreedResult.!$H$8=\"左記ご住所に送付\",\"2\",\"\"),\"\")","v":""},{"$nulls":8},"",null,"",null,"",null,"",null,"",null,"",null,"",null,"",null,"",null,""]
[null,{"$f":"IF(spreedResult.!B61<>\"\",TEXT(spreedResult.!B61,\"YYYY\")&TEXT(spreedResult.!B61,\"MM\")&TEXT(spreedResult.!B61,\"DD\"),\"\")","v":""},{"$f":"IF(spreedResult.!C61<>\"\",VLOOKUP(spreedResult.!C61,spreedResult.!$AT$2:$AU$12,2,0),\"\")","v":""},{"$nulls":4},{"$f":"IF(spreedResult.!O61<>\"\",VLOOKUP(spreedResult.!O61,Course!$A$2:$B$612,2,0),\"\")","v":""},null,{"$f":"CONCATENATE(TRIM(ASC(spreedResult.!E61)),\" \",TRIM(ASC(spreedResult.!F61)))","v":" "},{"$f":"CONCATENATE(TRIM(spreedResult.!G61),\"　\",TRIM(spreedResult.!H61))","v":"　"},{"$f":"IFERROR(VLOOKUP(spreedResult.!J61,spreedResult.!$AW$4:$AX$5,2,0),\"\")","v":""},{"$f":"IF(spreedResult.!K61<>\"\",TEXT(spreedResult.!K61,\"YYYY\")&TEXT(spreedResult.!K61,\"MM\")&TEXT(spreedResult.!K61,\"DD\"),\"\")","v":""},null,null,{"$f":"IF(spreedResult.!$E61<>\"\",spreedResult.!$C$10,\"\")","v":""},{"$f":"IF(spreedResult.!$E61<>\"\",spreedResult.!$C$9,\"\")","v":""},{"$f":"IF(spreedResult.!L61<>\"\",spreedResult.!L61,\"\")","v":""},{"$f":"IF(spreedResult.!G61<>\"\",IF(spreedResult.!$H$8=\"左記ご住所に送付\",\"2\",\"\"),\"\")","v":""},{"$nulls":8},"",null,"",null,"",null,"",null,"",null,"",null,"",null,"",null,"",null,""]
[null,{"$f":"IF(spreedResult.!B62<>\"\",TEXT(spreedResult.!B62,\"YYYY\")&TEXT(spreedResult.!B62,\"MM\")&TEXT(spreedResult.!B62,\"DD\"),\"\")","v":""},{"$f":"IF(spreedResult.!C62<>\"\",VLOOKUP(spreedResult.!C62,spreedResult.!$AT$2:$AU$12,2,0),\"\")","v":""},{"$nulls":4},{"$f":"IF(spreedResult.!O62<>\"\",VLOOKUP(spreedResult.!O62,Course!$A$2:$B$612,2,0),\"\")","v":""},null,{"$f":"CONCATENATE(TRIM(ASC(spreedResult.!E62)),\" \",TRIM(ASC(spreedResult.!F62)))","v":" "},{"$f":"CONCATENATE(TRIM(spreedResult.!G62),\"　\",TRIM(spreedResult.!H62))","v":"　"},{"$f":"IFERROR(VLOOKUP(spreedResult.!J62,spreedResult.!$AW$4:$AX$5,2,0),\"\")","v":""},{"$f":"IF(spreedResult.!K62<>\"\",TEXT(spreedResult.!K62,\"YYYY\")&TEXT(spreedResult.!K62,\"MM\")&TEXT(spreedResult.!K62,\"DD\"),\"\")","v":""},null,null,{"$f":"IF(spreedResult.!$E62<>\"\",spreedResult.!$C$10,\"\")","v":""},{"$f":"IF(spreedResult.!$E62<>\"\",spreedResult.!$C$9,\"\")","v":""},{"$f":"IF(spreedResult.!L62<>\"\",spreedResult.!L62,\"\")","v":""},{"$f":"IF(spreedResult.!G62<>\"\",IF(spreedResult.!$H$8=\"左記ご住所に送付\",\"2\",\"\"),\"\")","v":""},{"$nulls":8},{"$f":"IF(ISNUMBER(AA51),\"1\",\"\")","v":""},null,"",null,{"$f":"IF(ISNUMBER(AE51),\"1\",\"\")","v":""},null,{"$f":"IF(ISNUMBER(AG51),\"1\",\"\")","v":""},null,{"$f":"IF(ISNUMBER(AI51),\"1\",\"\")","v":""},null,{"$f":"IF(ISNUMBER(AK51),\"1\",\"\")","v":""},null,{"$f":"IF(ISNUMBER(AM51),\"1\",\"\")","v":""},null,{"$f":"IF(ISNUMBER(AO51),\"1\",\"\")","v":""},null,{"$f":"IF(ISNUMBER(AQ51),\"1\",\"\")","v":""},null,{"$f":"IF(ISNUMBER(AS51),\"1\",\"\")","v":""}]
[null,{"$f":"IF(spreedResult.!B63<>\"\",TEXT(spreedResult.!B63,\"YYYY\")&TEXT(spreedResult.!B63,\"MM\")&TEXT(spreedResult.!B63,\"DD\"),\"\")","v":""},{"$f":"IF(spreedResult.!C63<>\"\",VLOOKUP(spreedResult.!C63,spreedResult.!$AT$2:$AU$12,2,0),\"\")","v":""},{"$nulls":4},{"$f":"IF(spreedResult.!O63<>\"\",VLOOKUP(spreedResult.!O63,Course!$A$2:$B$612,2,0),\"\")","v":""},null,{"$f":"CONCATENATE(TRIM(ASC(spreedResult.!E63)),\" \",TRIM(ASC(spreedResult.!F63)))","v":" "},{"$f":"CONCATENATE(TRIM(spreedResult.!G63),\"　\",TRIM(spreedResult.!H63))","v":"　"},{"$f":"IFERROR(VLOOKUP(spreedResult.!J63,spreedResult.!$AW$4:$AX$5,2,0),\"\")","v":""},{"$f":"IF(spreedResult.!K63<>\"\",TEXT(spreedResult.!K63,\"YYYY\")&TEXT(spreedResult.!K63,\"MM\")&TEXT(spreedResult.!K63,\"DD\"),\"\")","v":""},null,null,{"$f":"IF(spreedResult.!$E63<>\"\",spreedResult.!$C$10,\"\")","v":""},{"$f":"IF(spreedResult.!$E63<>\"\",spreedResult.!$C$9,\"\")","v":""},{"$f":"IF(spreedResult.!L63<>\"\",spreedResult.!L63,\"\")","v":""},{"$f":"IF(spreedResult.!G63<>\"\",IF(spreedResult.!$H$8=\"左記ご住所に送付\",\"2\",\"\"),\"\")","v":""},{"$nulls":8},"",null,"",null,{"$f":"IF(ISNUMBER(AE52),\"1\",\"\")","v":""},null,{"$f":"IF(ISNUMBER(AG52),\"1\",\"\")","v":""},null,{"$f":"IF(ISNUMBER(AI52),\"1\",\"\")","v":""},null,{"$f":"IF(ISNUMBER(AK52),\"1\",\"\")","v":""},null,{"$f":"IF(ISNUMBER(AM52),\"1\",\"\")","v":""},null,{"$f":"IF(ISNUMBER(AO52),\"1\",\"\")","v":""},null,{"$f":"IF(ISNUMBER(AQ52),\"1\",\"\")","v":""},null,{"$f":"IF(ISNUMBER(AS52),\"1\",\"\")","v":""}]
[null,{"$f":"IF(spreedResult.!B64<>\"\",TEXT(spreedResult.!B64,\"YYYY\")&TEXT(spreedResult.!B64,\"MM\")&TEXT(spreedResult.!B64,\"DD\"),\"\")","v":""},{"$f":"IF(spreedResult.!C64<>\"\",VLOOKUP(spreedResult.!C64,spreedResult.!$AT$2:$AU$12,2,0),\"\")","v":""},{"$nulls":4},{"$f":"IF(spreedResult.!O64<>\"\",VLOOKUP(spreedResult.!O64,Course!$A$2:$B$612,2,0),\"\")","v":""},null,{"$f":"CONCATENATE(TRIM(ASC(spreedResult.!E64)),\" \",TRIM(ASC(spreedResult.!F64)))","v":" "},{"$f":"CONCATENATE(TRIM(spreedResult.!G64),\"　\",TRIM(spreedResult.!H64))","v":"　"},{"$f":"IFERROR(VLOOKUP(spreedResult.!J64,spreedResult.!$AW$4:$AX$5,2,0),\"\")","v":""},{"$f":"IF(spreedResult.!K64<>\"\",TEXT(spreedResult.!K64,\"YYYY\")&TEXT(spreedResult.!K64,\"MM\")&TEXT(spreedResult.!K64,\"DD\"),\"\")","v":""},null,null,{"$f":"IF(spreedResult.!$E64<>\"\",spreedResult.!$C$10,\"\")","v":""},{"$f":"IF(spreedResult.!$E64<>\"\",spreedResult.!$C$9,\"\")","v":""},{"$f":"IF(spreedResult.!L64<>\"\",spreedResult.!L64,\"\")","v":""},{"$f":"IF(spreedResult.!G64<>\"\",IF(spreedResult.!$H$8=\"左記ご住所に送付\",\"2\",\"\"),\"\")","v":""},{"$nulls":8},"",null,"",null,{"$f":"IF(ISNUMBER(AE53),\"1\",\"\")","v":""},null,{"$f":"IF(ISNUMBER(AG53),\"1\",\"\")","v":""},null,{"$f":"IF(ISNUMBER(AI53),\"1\",\"\")","v":""},null,{"$f":"IF(ISNUMBER(AK53),\"1\",\"\")","v":""},null,{"$f":"IF(ISNUMBER(AM53),\"1\",\"\")","v":""},null,{"$f":"IF(ISNUMBER(AO53),\"1\",\"\")","v":""},null,{"$f":"IF(ISNUMBER(AQ53),\"1\",\"\")","v":""},null,{"$f":"IF(ISNUMBER(AS53),\"1\",\"\")","v":""}]
[null,{"$f":"IF(spreedResult.!B65<>\"\",TEXT(spreedResult.!B65,\"YYYY\")&TEXT(spreedResult.!B65,\"MM\")&TEXT(spreedResult.!B65,\"DD\"),\"\")","v":""},{"$f":"IF(spreedResult.!C65<>\"\",VLOOKUP(spreedResult.!C65,spreedResult.!$AT$2:$AU$12,2,0),\"\")","v":""},{"$nulls":4},{"$f":"IF(spreedResult.!O65<>\"\",VLOOKUP(spreedResult.!O65,Course!$A$2:$B$612,2,0),\"\")","v":""},null,{"$f":"CONCATENATE(TRIM(ASC(spreedResult.!E65)),\" \",TRIM(ASC(spreedResult.!F65)))","v":" "},{"$f":"CONCATENATE(TRIM(spreedResult.!G65),\"　\",TRIM(spreedResult.!H65))","v":"　"},{"$f":"IFERROR(VLOOKUP(spreedResult.!J65,spreedResult.!$AW$4:$AX$5,2,0),\"\")","v":""},{"$f":"IF(spreedResult.!K65<>\"\",TEXT(spreedResult.!K65,\"YYYY\")&TEXT(spreedResult.!K65,\"MM\")&TEXT(spreedResult.!K65,\"DD\"),\"\")","v":""},null,null,{"$f":"IF(spreedResult.!$E65<>\"\",spreedResult.!$C$10,\"\")","v":""},{"$f":"IF(spreedResult.!$E65<>\"\",spreedResult.!$C$9,\"\")","v":""},{"$f":"IF(spreedResult.!L65<>\"\",spreedResult.!L65,\"\")","v":""},{"$f":"IF(spreedResult.!G65<>\"\",IF(spreedResult.!$H$8=\"左記ご住所に送付\",\"2\",\"\"),\"\")","v":""},{"$nulls":8},"",null,"",null,{"$f":"IF(ISNUMBER(AE54),\"1\",\"\")","v":""},null,{"$f":"IF(ISNUMBER(AG54),\"1\",\"\")","v":""},null,{"$f":"IF(ISNUMBER(AI54),\"1\",\"\")","v":""},null,{"$f":"IF(ISNUMBER(AK54),\"1\",\"\")","v":""},null,{"$f":"IF(ISNUMBER(AM54),\"1\",\"\")","v":""},null,{"$f":"IF(ISNUMBER(AO54),\"1\",\"\")","v":""},null,{"$f":"IF(ISNUMBER(AQ54),\"1\",\"\")","v":""},null,{"$f":"IF(ISNUMBER(AS54),\"1\",\"\")","v":""}]
[null,{"$f":"IF(spreedResult.!B66<>\"\",TEXT(spreedResult.!B66,\"YYYY\")&TEXT(spreedResult.!B66,\"MM\")&TEXT(spreedResult.!B66,\"DD\"),\"\")","v":""},{"$f":"IF(spreedResult.!C66<>\"\",VLOOKUP(spreedResult.!C66,spreedResult.!$AT$2:$AU$12,2,0),\"\")","v":""},{"$nulls":4},{"$f":"IF(spreedResult.!O66<>\"\",VLOOKUP(spreedResult.!O66,Course!$A$2:$B$612,2,0),\"\")","v":""},null,{"$f":"CONCATENATE(TRIM(ASC(spreedResult.!E66)),\" \",TRIM(ASC(spreedResult.!F66)))","v":" "},{"$f":"CONCATENATE(TRIM(spreedResult.!G66),\"　\",TRIM(spreedResult.!H66))","v":"　"},{"$f":"IFERROR(VLOOKUP(spreedResult.!J66,spreedResult.!$AW$4:$AX$5,2,0),\"\")","v":""},{"$f":"IF(spreedResult.!K66<>\"\",TEXT(spreedResult.!K66,\"YYYY\")&TEXT(spreedResult.!K66,\"MM\")&TEXT(spreedResult.!K66,\"DD\"),\"\")","v":""},null,null,{"$f":"IF(spreedResult.!$E66<>\"\",spreedResult.!$C$10,\"\")","v":""},{"$f":"IF(spreedResult.!$E66<>\"\",spreedResult.!$C$9,\"\")","v":""},{"$f":"IF(spreedResult.!L66<>\"\",spreedResult.!L66,\"\")","v":""},{"$f":"IF(spreedResult.!G66<>\"\",IF(spreedResult.!$H$8=\"左記ご住所に送付\",\"2\",\"\"),\"\")","v":""},{"$nulls":8},"",null,"",null,{"$f":"IF(ISNUMBER(AE55),\"1\",\"\")","v":""},null,{"$f":"IF(ISNUMBER(AG55),\"1\",\"\")","v":""},null,{"$f":"IF(ISNUMBER(AI55),\"1\",\"\")","v":""},null,{"$f":"IF(ISNUMBER(AK55),\"1\",\"\")","v":""},null,{"$f":"IF(ISNUMBER(AM55),\"1\",\"\")","v":""},null,{"$f":"IF(ISNUMBER(AO55),\"1\",\"\")","v":""},null,{"$f":"IF(ISNUMBER(AQ55),\"1\",\"\")","v":""},null,{"$f":"IF(ISNUMBER(AS55),\"1\",\"\")","v":""}]
[null,{"$f":"IF(spreedResult.!B67<>\"\",TEXT(spreedResult.!B67,\"YYYY\")&TEXT(spreedResult.!B67,\"MM\")&TEXT(spreedResult.!B67,\"DD\"),\"\")","v":""},{"$f":"IF(spreedResult.!C67<>\"\",VLOOKUP(spreedResult.!C67,spreedResult.!$AT$2:$AU$12,2,0),\"\")","v":""},{"$nulls":4},{"$f":"IF(spreedResult.!O67<>\"\",VLOOKUP(spreedResult.!O67,Course!$A$2:$B$612,2,0),\"\")","v":""},null,{"$f":"CONCATENATE(TRIM(ASC(spreedResult.!E67)),\" \",TRIM(ASC(spreedResult.!F67)))","v":" "},{"$f":"CONCATENATE(TRIM(spreedResult.!G67),\"　\",TRIM(spreedResult.!H67))","v":"　"},{"$f":"IFERROR(VLOOKUP(spreedResult.!J67,spreedResult.!$AW$4:$AX$5,2,0),\"\")","v":""},{"$f":"IF(spreedResult.!K67<>\"\",TEXT(spreedResult.!K67,\"YYYY\")&TEXT(spreedResult.!K67,\"MM\")&TEXT(spreedResult.!K67,\"DD\"),\"\")","v":""},null,null,{"$f":"IF(spreedResult.!$E67<>\"\",spreedResult.!$C$10,\"\")","v":""},{"$f":"IF(spreedResult.!$E67<>\"\",spreedResult.!$C$9,\"\")","v":""},{"$f":"IF(spreedResult.!L67<>\"\",spreedResult.!L67,\"\")","v":""},{"$f":"IF(spreedResult.!G67<>\"\",IF(spreedResult.!$H$8=\"左記ご住所に送付\",\"2\",\"\"),\"\")","v":""},{"$nulls":8},"",null,"",null,{"$f":"IF(ISNUMBER(AE56),\"1\",\"\")","v":""},null,{"$f":"IF(ISNUMBER(AG56),\"1\",\"\")","v":""},null,{"$f":"IF(ISNUMBER(AI56),\"1\",\"\")","v":""},null,{"$f":"IF(ISNUMBER(AK56),\"1\",\"\")","v":""},null,{"$f":"IF(ISNUMBER(AM56),\"1\",\"\")","v":""},null,{"$f":"IF(ISNUMBER(AO56),\"1\",\"\")","v":""},null,{"$f":"IF(ISNUMBER(AQ56),\"1\",\"\")","v":""},null,{"$f":"IF(ISNUMBER(AS56),\"1\",\"\")","v":""}]
[null,{"$f":"IF(spreedResult.!B68<>\"\",TEXT(spreedResult.!B68,\"YYYY\")&TEXT(spreedResult.!B68,\"MM\")&TEXT(spreedResult.!B68,\"DD\"),\"\")","v":""},{"$f":"IF(spreedResult.!C68<>\"\",VLOOKUP(spreedResult.!C68,spreedResult.!$AT$2:$AU$12,2,0),\"\")","v":""},{"$nulls":4},{"$f":"IF(spreedResult.!O68<>\"\",VLOOKUP(spreedResult.!O68,Course!$A$2:$B$612,2,0),\"\")","v":""},null,{"$f":"CONCATENATE(TRIM(ASC(spreedResult.!E68)),\" \",TRIM(ASC(spreedResult.!F68)))","v":" "},{"$f":"CONCATENATE(TRIM(spreedResult.!G68),\"　\",TRIM(spreedResult.!H68))","v":"　"},{"$f":"IFERROR(VLOOKUP(spreedResult.!J68,spreedResult.!$AW$4:$AX$5,2,0),\"\")","v":""},{"$f":"IF(spreedResult.!K68<>\"\",TEXT(spreedResult.!K68,\"YYYY\")&TEXT(spreedResult.!K68,\"MM\")&TEXT(spreedResult.!K68,\"DD\"),\"\")","v":""},null,null,{"$f":"IF(spreedResult.!$E68<>\"\",spreedResult.!$C$10,\"\")","v":""},{"$f":"IF(spreedResult.!$E68<>\"\",spreedResult.!$C$9,\"\")","v":""},{"$f":"IF(spreedResult.!L68<>\"\",spreedResult.!L68,\"\")","v":""},{"$f":"IF(spreedResult.!G68<>\"\",IF(spreedResult.!$H$8=\"左記ご住所に送付\",\"2\",\"\"),\"\")","v":""},{"$nulls":8},"",null,"",null,{"$f":"IF(ISNUMBER(AE57),\"1\",\"\")","v":""},null,{"$f":"IF(ISNUMBER(AG57),\"1\",\"\")","v":""},null,{"$f":"IF(ISNUMBER(AI57),\"1\",\"\")","v":""},null,{"$f":"IF(ISNUMBER(AK57),\"1\",\"\")","v":""},null,{"$f":"IF(ISNUMBER(AM57),\"1\",\"\")","v":""},null,{"$f":"IF(ISNUMBER(AO57),\"1\",\"\")","v":""},null,{"$f":"IF(ISNUMBER(AQ57),\"1\",\"\")","v":""},null,{"$f":"IF(ISNUMBER(AS57),\"1\",\"\")","v":""}]
[null,{"$f":"IF(spreedResult.!B69<>\"\",TEXT(spreedResult.!B69,\"YYYY\")&TEXT(spreedResult.!B69,\"MM\")&TEXT(spreedResult.!B69,\"DD\"),\"\")","v":""},{"$f":"IF(spreedResult.!C69<>\"\",VLOOKUP(spreedResult.!C69,spreedResult.!$AT$2:$AU$12,2,0),\"\")","v":""},{"$nulls":4},{"$f":"IF(spreedResult.!O69<>\"\",VLOOKUP(spreedResult.!O69,Course!$A$2:$B$612,2,0),\"\")","v":""},null,{"$f":"CONCATENATE(TRIM(ASC(spreedResult.!E69)),\" \",TRIM(ASC(spreedResult.!F69)))","v":" "},{"$f":"CONCATENATE(TRIM(spreedResult.!G69),\"　\",TRIM(spreedResult.!H69))","v":"　"},{"$f":"IFERROR(VLOOKUP(spreedResult.!J69,spreedResult.!$AW$4:$AX$5,2,0),\"\")","v":""},{"$f":"IF(spreedResult.!K69<>\"\",TEXT(spreedResult.!K69,\"YYYY\")&TEXT(spreedResult.!K69,\"MM\")&TEXT(spreedResult.!K69,\"DD\"),\"\")","v":""},null,null,{"$f":"IF(spreedResult.!$E69<>\"\",spreedResult.!$C$10,\"\")","v":""},{"$f":"IF(spreedResult.!$E69<>\"\",spreedResult.!$C$9,\"\")","v":""},{"$f":"IF(spreedResult.!L69<>\"\",spreedResult.!L69,\"\")","v":""},{"$f":"IF(spreedResult.!G69<>\"\",IF(spreedResult.!$H$8=\"左記ご住所に送付\",\"2\",\"\"),\"\")","v":""},{"$nulls":8},"",null,"",null,{"$f":"IF(ISNUMBER(AE58),\"1\",\"\")","v":""},null,{"$f":"IF(ISNUMBER(AG58),\"1\",\"\")","v":""},null,{"$f":"IF(ISNUMBER(AI58),\"1\",\"\")","v":""},null,{"$f":"IF(ISNUMBER(AK58),\"1\",\"\")","v":""},null,{"$f":"IF(ISNUMBER(AM58),\"1\",\"\")","v":""},null,{"$f":"IF(ISNUMBER(AO58),\"1\",\"\")","v":""},null,{"$f":"IF(ISNUMBER(AQ58),\"1\",\"\")","v":""},null,{"$f":"IF(ISNUMBER(AS58),\"1\",\"\")","v":""}]
[null,{"$f":"IF(spreedResult.!B70<>\"\",TEXT(spreedResult.!B70,\"YYYY\")&TEXT(spreedResult.!B70,\"MM\")&TEXT(spreedResult.!B70,\"DD\"),\"\")","v":""},{"$f":"IF(spreedResult.!C70<>\"\",VLOOKUP(spreedResult.!C70,spreedResult.!$AT$2:$AU$12,2,0),\"\")","v":""},{"$nulls":4},{"$f":"IF(spreedResult.!O70<>\"\",VLOOKUP(spreedResult.!O70,Course!$A$2:$B$612,2,0),\"\")","v":""},null,{"$f":"CONCATENATE(TRIM(ASC(spreedResult.!E70)),\" \",TRIM(ASC(spreedResult.!F70)))","v":" "},{"$f":"CONCATENATE(TRIM(spreedResult.!G70),\"　\",TRIM(spreedResult.!H70))","v":"　"},{"$f":"IFERROR(VLOOKUP(spreedResult.!J70,spreedResult.!$AW$4:$AX$5,2,0),\"\")","v":""},{"$f":"IF(spreedResult.!K70<>\"\",TEXT(spreedResult.!K70,\"YYYY\")&TEXT(spreedResult.!K70,\"MM\")&TEXT(spreedResult.!K70,\"DD\"),\"\")","v":""},null,null,{"$f":"IF(spreedResult.!$E70<>\"\",spreedResult.!$C$10,\"\")","v":""},{"$f":"IF(spreedResult.!$E70<>\"\",spreedResult.!$C$9,\"\")","v":""},{"$f":"IF(spreedResult.!L70<>\"\",spreedResult.!L70,\"\")","v":""},{"$f":"IF(spreedResult.!G70<>\"\",IF(spreedResult.!$H$8=\"左記ご住所に送付\",\"2\",\"\"),\"\")","v":""},{"$nulls":8},"",null,"",null,{"$f":"IF(ISNUMBER(AE59),\"1\",\"\")","v":""},null,{"$f":"IF(ISNUMBER(AG59),\"1\",\"\")","v":""},null,{"$f":"IF(ISNUMBER(AI59),\"1\",\"\")","v":""},null,{"$f":"IF(ISNUMBER(AK59),\"1\",\"\")","v":""},null,{"$f":"IF(ISNUMBER(AM59),\"1\",\"\")","v":""},null,{"$f":"IF(ISNUMBER(AO59),\"1\",\"\")","v":""},null,{"$f":"IF(ISNUMBER(AQ59),\"1\",\"\")","v":""},null,{"$f":"IF(ISNUMBER(AS59),\"1\",\"\")","v":""}]
[null,{"$f":"IF(spreedResult.!B71<>\"\",TEXT(spreedResult.!B71,\"YYYY\")&TEXT(spreedResult.!B71,\"MM\")&TEXT(spreedResult.!B71,\"DD\"),\"\")","v":""},{"$f":"IF(spreedResult.!C71<>\"\",VLOOKUP(spreedResult.!C71,spreedResult.!$AT$2:$AU$12,2,0),\"\")","v":""},{"$nulls":4},{"$f":"IF(spreedResult.!O71<>\"\",VLOOKUP(spreedResult.!O71,Course!$A$2:$B$612,2,0),\"\")","v":""},null,{"$f":"CONCATENATE(TRIM(ASC(spreedResult.!E71)),\" \",TRIM(ASC(spreedResult.!F71)))","v":" "},{"$f":"CONCATENATE(TRIM(spreedResult.!G71),\"　\",TRIM(spreedResult.!H71))","v":"　"},{"$f":"IFERROR(VLOOKUP(spreedResult.!J71,spreedResult.!$AW$4:$AX$5,2,0),\"\")","v":""},{"$f":"IF(spreedResult.!K71<>\"\",TEXT(spreedResult.!K71,\"YYYY\")&TEXT(spreedResult.!K71,\"MM\")&TEXT(spreedResult.!K71,\"DD\"),\"\")","v":""},null,null,{"$f":"IF(spreedResult.!$E71<>\"\",spreedResult.!$C$10,\"\")","v":""},{"$f":"IF(spreedResult.!$E71<>\"\",spreedResult.!$C$9,\"\")","v":""},{"$f":"IF(spreedResult.!L71<>\"\",spreedResult.!L71,\"\")","v":""},{"$f":"IF(spreedResult.!G71<>\"\",IF(spreedResult.!$H$8=\"左記ご住所に送付\",\"2\",\"\"),\"\")","v":""},{"$nulls":8},"",null,"",null,{"$f":"IF(ISNUMBER(AE60),\"1\",\"\")","v":""},null,{"$f":"IF(ISNUMBER(AG60),\"1\",\"\")","v":""},null,{"$f":"IF(ISNUMBER(AI60),\"1\",\"\")","v":""},null,{"$f":"IF(ISNUMBER(AK60),\"1\",\"\")","v":""},null,{"$f":"IF(ISNUMBER(AM60),\"1\",\"\")","v":""},null,{"$f":"IF(ISNUMBER(AO60),\"1\",\"\")","v":""},null,{"$f":"IF(ISNUMBER(AQ60),\"1\",\"\")","v":""},null,{"$f":"IF(ISNUMBER(AS60),\"1\",\"\")","v":""}]
[null,{"$f":"IF(spreedResult.!B72<>\"\",TEXT(spreedResult.!B72,\"YYYY\")&TEXT(spreedResult.!B72,\"MM\")&TEXT(spreedResult.!B72,\"DD\"),\"\")","v":""},{"$f":"IF(spreedResult.!C72<>\"\",VLOOKUP(spreedResult.!C72,spreedResult.!$AT$2:$AU$12,2,0),\"\")","v":""},{"$nulls":4},{"$f":"IF(spreedResult.!O72<>\"\",VLOOKUP(spreedResult.!O72,Course!$A$2:$B$612,2,0),\"\")","v":""},null,{"$f":"CONCATENATE(TRIM(ASC(spreedResult.!E72)),\" \",TRIM(ASC(spreedResult.!F72)))","v":" "},{"$f":"CONCATENATE(TRIM(spreedResult.!G72),\"　\",TRIM(spreedResult.!H72))","v":"　"},{"$f":"IFERROR(VLOOKUP(spreedResult.!J72,spreedResult.!$AW$4:$AX$5,2,0),\"\")","v":""},{"$f":"IF(spreedResult.!K72<>\"\",TEXT(spreedResult.!K72,\"YYYY\")&TEXT(spreedResult.!K72,\"MM\")&TEXT(spreedResult.!K72,\"DD\"),\"\")","v":""},null,null,{"$f":"IF(spreedResult.!$E72<>\"\",spreedResult.!$C$10,\"\")","v":""},{"$f":"IF(spreedResult.!$E72<>\"\",spreedResult.!$C$9,\"\")","v":""},{"$f":"IF(spreedResult.!L72<>\"\",spreedResult.!L72,\"\")","v":""},{"$f":"IF(spreedResult.!G72<>\"\",IF(spreedResult.!$H$8=\"左記ご住所に送付\",\"2\",\"\"),\"\")","v":""},{"$nulls":8},"",null,"",null,{"$f":"IF(ISNUMBER(AE61),\"1\",\"\")","v":""},null,{"$f":"IF(ISNUMBER(AG61),\"1\",\"\")","v":""},null,{"$f":"IF(ISNUMBER(AI61),\"1\",\"\")","v":""},null,{"$f":"IF(ISNUMBER(AK61),\"1\",\"\")","v":""},null,{"$f":"IF(ISNUMBER(AM61),\"1\",\"\")","v":""},null,{"$f":"IF(ISNUMBER(AO61),\"1\",\"\")","v":""},null,{"$f":"IF(ISNUMBER(AQ61),\"1\",\"\")","v":""},null,{"$f":"IF(ISNUMBER(AS61),\"1\",\"\")","v":""}]
[null,{"$f":"IF(spreedResult.!B73<>\"\",TEXT(spreedResult.!B73,\"YYYY\")&TEXT(spreedResult.!B73,\"MM\")&TEXT(spreedResult.!B73,\"DD\"),\"\")","v":""},{"$f":"IF(spreedResult.!C73<>\"\",VLOOKUP(spreedResult.!C73,spreedResult.!$AT$2:$AU$12,2,0),\"\")","v":""},{"$nulls":4},{"$f":"IF(spreedResult.!O73<>\"\",VLOOKUP(spreedResult.!O73,Course!$A$2:$B$612,2,0),\"\")","v":""},null,{"$f":"CONCATENATE(TRIM(ASC(spreedResult.!E73)),\" \",TRIM(ASC(spreedResult.!F73)))","v":" "},{"$f":"CONCATENATE(TRIM(spreedResult.!G73),\"　\",TRIM(spreedResult.!H73))","v":"　"},{"$f":"IFERROR(VLOOKUP(spreedResult.!J73,spreedResult.!$AW$4:$AX$5,2,0),\"\")","v":""},{"$f":"IF(spreedResult.!K73<>\"\",TEXT(spreedResult.!K73,\"YYYY\")&TEXT(spreedResult.!K73,\"MM\")&TEXT(spreedResult.!K73,\"DD\"),\"\")","v":""},null,null,{"$f":"IF(spreedResult.!$E73<>\"\",spreedResult.!$C$10,\"\")","v":""},{"$f":"IF(spreedResult.!$E73<>\"\",spreedResult.!$C$9,\"\")","v":""},{"$f":"IF(spreedResult.!L73<>\"\",spreedResult.!L73,\"\")","v":""},{"$f":"IF(spreedResult.!G73<>\"\",IF(spreedResult.!$H$8=\"左記ご住所に送付\",\"2\",\"\"),\"\")","v":""},{"$nulls":8},"",null,"",null,{"$f":"IF(ISNUMBER(AE62),\"1\",\"\")","v":""},null,{"$f":"IF(ISNUMBER(AG62),\"1\",\"\")","v":""},null,{"$f":"IF(ISNUMBER(AI62),\"1\",\"\")","v":""},null,{"$f":"IF(ISNUMBER(AK62),\"1\",\"\")","v":""},null,{"$f":"IF(ISNUMBER(AM62),\"1\",\"\")","v":""},null,{"$f":"IF(ISNUMBER(AO62),\"1\",\"\")","v":""},null,{"$f":"IF(ISNUMBER(AQ62),\"1\",\"\")","v":""},null,{"$f":"IF(ISNUMBER(AS62),\"1\",\"\")","v":""}]
[null,{"$f":"IF(spreedResult.!B74<>\"\",TEXT(spreedResult.!B74,\"YYYY\")&TEXT(spreedResult.!B74,\"MM\")&TEXT(spreedResult.!B74,\"DD\"),\"\")","v":""},{"$f":"IF(spreedResult.!C74<>\"\",VLOOKUP(spreedResult.!C74,spreedResult.!$AT$2:$AU$12,2,0),\"\")","v":""},{"$nulls":4},{"$f":"IF(spreedResult.!O74<>\"\",VLOOKUP(spreedResult.!O74,Course!$A$2:$B$612,2,0),\"\")","v":""},null,{"$f":"CONCATENATE(TRIM(ASC(spreedResult.!E74)),\" \",TRIM(ASC(spreedResult.!F74)))","v":" "},{"$f":"CONCATENATE(TRIM(spreedResult.!G74),\"　\",TRIM(spreedResult.!H74))","v":"　"},{"$f":"IFERROR(VLOOKUP(spreedResult.!J74,spreedResult.!$AW$4:$AX$5,2,0),\"\")","v":""},{"$f":"IF(spreedResult.!K74<>\"\",TEXT(spreedResult.!K74,\"YYYY\")&TEXT(spreedResult.!K74,\"MM\")&TEXT(spreedResult.!K74,\"DD\"),\"\")","v":""},null,null,{"$f":"IF(spreedResult.!$E74<>\"\",spreedResult.!$C$10,\"\")","v":""},{"$f":"IF(spreedResult.!$E74<>\"\",spreedResult.!$C$9,\"\")","v":""},{"$f":"IF(spreedResult.!L74<>\"\",spreedResult.!L74,\"\")","v":""},{"$f":"IF(spreedResult.!G74<>\"\",IF(spreedResult.!$H$8=\"左記ご住所に送付\",\"2\",\"\"),\"\")","v":""},{"$nulls":8},"",null,"",null,{"$f":"IF(ISNUMBER(AE63),\"1\",\"\")","v":""},null,{"$f":"IF(ISNUMBER(AG63),\"1\",\"\")","v":""},null,{"$f":"IF(ISNUMBER(AI63),\"1\",\"\")","v":""},null,{"$f":"IF(ISNUMBER(AK63),\"1\",\"\")","v":""},null,{"$f":"IF(ISNUMBER(AM63),\"1\",\"\")","v":""},null,{"$f":"IF(ISNUMBER(AO63),\"1\",\"\")","v":""},null,{"$f":"IF(ISNUMBER(AQ63),\"1\",\"\")","v":""},null,{"$f":"IF(ISNUMBER(AS63),\"1\",\"\")","v":""}]
[null,{"$f":"IF(spreedResult.!B75<>\"\",TEXT(spreedResult.!B75,\"YYYY\")&TEXT(spreedResult.!B75,\"MM\")&TEXT(spreedResult.!B75,\"DD\"),\"\")","v":""},{"$f":"IF(spreedResult.!C75<>\"\",VLOOKUP(spreedResult.!C75,spreedResult.!$AT$2:$AU$12,2,0),\"\")","v":""},{"$nulls":4},{"$f":"IF(spreedResult.!O75<>\"\",VLOOKUP(spreedResult.!O75,Course!$A$2:$B$612,2,0),\"\")","v":""},null,{"$f":"CONCATENATE(TRIM(ASC(spreedResult.!E75)),\" \",TRIM(ASC(spreedResult.!F75)))","v":" "},{"$f":"CONCATENATE(TRIM(spreedResult.!G75),\"　\",TRIM(spreedResult.!H75))","v":"　"},{"$f":"IFERROR(VLOOKUP(spreedResult.!J75,spreedResult.!$AW$4:$AX$5,2,0),\"\")","v":""},{"$f":"IF(spreedResult.!K75<>\"\",TEXT(spreedResult.!K75,\"YYYY\")&TEXT(spreedResult.!K75,\"MM\")&TEXT(spreedResult.!K75,\"DD\"),\"\")","v":""},null,null,{"$f":"IF(spreedResult.!$E75<>\"\",spreedResult.!$C$10,\"\")","v":""},{"$f":"IF(spreedResult.!$E75<>\"\",spreedResult.!$C$9,\"\")","v":""},{"$f":"IF(spreedResult.!L75<>\"\",spreedResult.!L75,\"\")","v":""},{"$f":"IF(spreedResult.!G75<>\"\",IF(spreedResult.!$H$8=\"左記ご住所に送付\",\"2\",\"\"),\"\")","v":""},{"$nulls":8},"",null,"",null,{"$f":"IF(ISNUMBER(AE64),\"1\",\"\")","v":""},null,{"$f":"IF(ISNUMBER(AG64),\"1\",\"\")","v":""},null,{"$f":"IF(ISNUMBER(AI64),\"1\",\"\")","v":""},null,{"$f":"IF(ISNUMBER(AK64),\"1\",\"\")","v":""},null,{"$f":"IF(ISNUMBER(AM64),\"1\",\"\")","v":""},null,{"$f":"IF(ISNUMBER(AO64),\"1\",\"\")","v":""},null,{"$f":"IF(ISNUMBER(AQ64),\"1\",\"\")","v":""},null,{"$f":"IF(ISNUMBER(AS64),\"1\",\"\")","v":""}]
[null,{"$f":"IF(spreedResult.!B76<>\"\",TEXT(spreedResult.!B76,\"YYYY\")&TEXT(spreedResult.!B76,\"MM\")&TEXT(spreedResult.!B76,\"DD\"),\"\")","v":""},{"$f":"IF(spreedResult.!C76<>\"\",VLOOKUP(spreedResult.!C76,spreedResult.!$AT$2:$AU$12,2,0),\"\")","v":""},{"$nulls":4},{"$f":"IF(spreedResult.!O76<>\"\",VLOOKUP(spreedResult.!O76,Course!$A$2:$B$612,2,0),\"\")","v":""},null,{"$f":"CONCATENATE(TRIM(ASC(spreedResult.!E76)),\" \",TRIM(ASC(spreedResult.!F76)))","v":" "},{"$f":"CONCATENATE(TRIM(spreedResult.!G76),\"　\",TRIM(spreedResult.!H76))","v":"　"},{"$f":"IFERROR(VLOOKUP(spreedResult.!J76,spreedResult.!$AW$4:$AX$5,2,0),\"\")","v":""},{"$f":"IF(spreedResult.!K76<>\"\",TEXT(spreedResult.!K76,\"YYYY\")&TEXT(spreedResult.!K76,\"MM\")&TEXT(spreedResult.!K76,\"DD\"),\"\")","v":""},null,null,{"$f":"IF(spreedResult.!$E76<>\"\",spreedResult.!$C$10,\"\")","v":""},{"$f":"IF(spreedResult.!$E76<>\"\",spreedResult.!$C$9,\"\")","v":""},{"$f":"IF(spreedResult.!L76<>\"\",spreedResult.!L76,\"\")","v":""},{"$f":"IF(spreedResult.!G76<>\"\",IF(spreedResult.!$H$8=\"左記ご住所に送付\",\"2\",\"\"),\"\")","v":""},{"$nulls":8},"",null,"",null,{"$f":"IF(ISNUMBER(AE65),\"1\",\"\")","v":""},null,{"$f":"IF(ISNUMBER(AG65),\"1\",\"\")","v":""},null,{"$f":"IF(ISNUMBER(AI65),\"1\",\"\")","v":""},null,{"$f":"IF(ISNUMBER(AK65),\"1\",\"\")","v":""},null,{"$f":"IF(ISNUMBER(AM65),\"1\",\"\")","v":""},null,{"$f":"IF(ISNUMBER(AO65),\"1\",\"\")","v":""},null,{"$f":"IF(ISNUMBER(AQ65),\"1\",\"\")","v":""},null,{"$f":"IF(ISNUMBER(AS65),\"1\",\"\")","v":""}]
[null,{"$f":"IF(spreedResult.!B77<>\"\",TEXT(spreedResult.!B77,\"YYYY\")&TEXT(spreedResult.!B77,\"MM\")&TEXT(spreedResult.!B77,\"DD\"),\"\")","v":""},{"$f":"IF(spreedResult.!C77<>\"\",VLOOKUP(spreedResult.!C77,spreedResult.!$AT$2:$AU$12,2,0),\"\")","v":""},{"$nulls":4},{"$f":"IF(spreedResult.!O77<>\"\",VLOOKUP(spreedResult.!O77,Course!$A$2:$B$612,2,0),\"\")","v":""},null,{"$f":"CONCATENATE(TRIM(ASC(spreedResult.!E77)),\" \",TRIM(ASC(spreedResult.!F77)))","v":" "},{"$f":"CONCATENATE(TRIM(spreedResult.!G77),\"　\",TRIM(spreedResult.!H77))","v":"　"},{"$f":"IFERROR(VLOOKUP(spreedResult.!J77,spreedResult.!$AW$4:$AX$5,2,0),\"\")","v":""},{"$f":"IF(spreedResult.!K77<>\"\",TEXT(spreedResult.!K77,\"YYYY\")&TEXT(spreedResult.!K77,\"MM\")&TEXT(spreedResult.!K77,\"DD\"),\"\")","v":""},null,null,{"$f":"IF(spreedResult.!$E77<>\"\",spreedResult.!$C$10,\"\")","v":""},{"$f":"IF(spreedResult.!$E77<>\"\",spreedResult.!$C$9,\"\")","v":""},{"$f":"IF(spreedResult.!L77<>\"\",spreedResult.!L77,\"\")","v":""},{"$f":"IF(spreedResult.!G77<>\"\",IF(spreedResult.!$H$8=\"左記ご住所に送付\",\"2\",\"\"),\"\")","v":""},{"$nulls":8},"",null,"",null,{"$f":"IF(ISNUMBER(AE66),\"1\",\"\")","v":""},null,{"$f":"IF(ISNUMBER(AG66),\"1\",\"\")","v":""},null,{"$f":"IF(ISNUMBER(AI66),\"1\",\"\")","v":""},null,{"$f":"IF(ISNUMBER(AK66),\"1\",\"\")","v":""},null,{"$f":"IF(ISNUMBER(AM66),\"1\",\"\")","v":""},null,{"$f":"IF(ISNUMBER(AO66),\"1\",\"\")","v":""},null,{"$f":"IF(ISNUMBER(AQ66),\"1\",\"\")","v":""},null,{"$f":"IF(ISNUMBER(AS66),\"1\",\"\")","v":""}]
[null,{"$f":"IF(spreedResult.!B78<>\"\",TEXT(spreedResult.!B78,\"YYYY\")&TEXT(spreedResult.!B78,\"MM\")&TEXT(spreedResult.!B78,\"DD\"),\"\")","v":""},{"$f":"IF(spreedResult.!C78<>\"\",VLOOKUP(spreedResult.!C78,spreedResult.!$AT$2:$AU$12,2,0),\"\")","v":""},{"$nulls":4},{"$f":"IF(spreedResult.!O78<>\"\",VLOOKUP(spreedResult.!O78,Course!$A$2:$B$612,2,0),\"\")","v":""},null,{"$f":"CONCATENATE(TRIM(ASC(spreedResult.!E78)),\" \",TRIM(ASC(spreedResult.!F78)))","v":" "},{"$f":"CONCATENATE(TRIM(spreedResult.!G78),\"　\",TRIM(spreedResult.!H78))","v":"　"},{"$f":"IFERROR(VLOOKUP(spreedResult.!J78,spreedResult.!$AW$4:$AX$5,2,0),\"\")","v":""},{"$f":"IF(spreedResult.!K78<>\"\",TEXT(spreedResult.!K78,\"YYYY\")&TEXT(spreedResult.!K78,\"MM\")&TEXT(spreedResult.!K78,\"DD\"),\"\")","v":""},null,null,{"$f":"IF(spreedResult.!$E78<>\"\",spreedResult.!$C$10,\"\")","v":""},{"$f":"IF(spreedResult.!$E78<>\"\",spreedResult.!$C$9,\"\")","v":""},{"$f":"IF(spreedResult.!L78<>\"\",spreedResult.!L78,\"\")","v":""},{"$f":"IF(spreedResult.!G78<>\"\",IF(spreedResult.!$H$8=\"左記ご住所に送付\",\"2\",\"\"),\"\")","v":""},{"$nulls":8},"",null,"",null,{"$f":"IF(ISNUMBER(AE67),\"1\",\"\")","v":""},null,{"$f":"IF(ISNUMBER(AG67),\"1\",\"\")","v":""},null,{"$f":"IF(ISNUMBER(AI67),\"1\",\"\")","v":""},null,{"$f":"IF(ISNUMBER(AK67),\"1\",\"\")","v":""},null,{"$f":"IF(ISNUMBER(AM67),\"1\",\"\")","v":""},null,{"$f":"IF(ISNUMBER(AO67),\"1\",\"\")","v":""},null,{"$f":"IF(ISNUMBER(AQ67),\"1\",\"\")","v":""},null,{"$f":"IF(ISNUMBER(AS67),\"1\",\"\")","v":""}]
[null,{"$f":"IF(spreedResult.!B79<>\"\",TEXT(spreedResult.!B79,\"YYYY\")&TEXT(spreedResult.!B79,\"MM\")&TEXT(spreedResult.!B79,\"DD\"),\"\")","v":""},{"$f":"IF(spreedResult.!C79<>\"\",VLOOKUP(spreedResult.!C79,spreedResult.!$AT$2:$AU$12,2,0),\"\")","v":""},{"$nulls":4},{"$f":"IF(spreedResult.!O79<>\"\",VLOOKUP(spreedResult.!O79,Course!$A$2:$B$612,2,0),\"\")","v":""},null,{"$f":"CONCATENATE(TRIM(ASC(spreedResult.!E79)),\" \",TRIM(ASC(spreedResult.!F79)))","v":" "},{"$f":"CONCATENATE(TRIM(spreedResult.!G79),\"　\",TRIM(spreedResult.!H79))","v":"　"},{"$f":"IFERROR(VLOOKUP(spreedResult.!J79,spreedResult.!$AW$4:$AX$5,2,0),\"\")","v":""},{"$f":"IF(spreedResult.!K79<>\"\",TEXT(spreedResult.!K79,\"YYYY\")&TEXT(spreedResult.!K79,\"MM\")&TEXT(spreedResult.!K79,\"DD\"),\"\")","v":""},null,null,{"$f":"IF(spreedResult.!$E79<>\"\",spreedResult.!$C$10,\"\")","v":""},{"$f":"IF(spreedResult.!$E79<>\"\",spreedResult.!$C$9,\"\")","v":""},{"$f":"IF(spreedResult.!L79<>\"\",spreedResult.!L79,\"\")","v":""},{"$f":"IF(spreedResult.!G79<>\"\",IF(spreedResult.!$H$8=\"左記ご住所に送付\",\"2\",\"\"),\"\")","v":""},{"$nulls":8},{"$f":"IF(ISNUMBER(AA68),\"1\",\"\")","v":""},null,"",null,{"$f":"IF(ISNUMBER(AE68),\"1\",\"\")","v":""},null,{"$f":"IF(ISNUMBER(AG68),\"1\",\"\")","v":""},null,{"$f":"IF(ISNUMBER(AI68),\"1\",\"\")","v":""},null,{"$f":"IF(ISNUMBER(AK68),\"1\",\"\")","v":""},null,{"$f":"IF(ISNUMBER(AM68),\"1\",\"\")","v":""},null,{"$f":"IF(ISNUMBER(AO68),\"1\",\"\")","v":""},null,{"$f":"IF(ISNUMBER(AQ68),\"1\",\"\")","v":""},null,{"$f":"IF(ISNUMBER(AS68),\"1\",\"\")","v":""}]
[null,{"$f":"IF(spreedResult.!B80<>\"\",TEXT(spreedResult.!B80,\"YYYY\")&TEXT(spreedResult.!B80,\"MM\")&TEXT(spreedResult.!B80,\"DD\"),\"\")","v":""},{"$f":"IF(spreedResult.!C80<>\"\",VLOOKUP(spreedResult.!C80,spreedResult.!$AT$2:$AU$12,2,0),\"\")","v":""},{"$nulls":4},{"$f":"IF(spreedResult.!O80<>\"\",VLOOKUP(spreedResult.!O80,Course!$A$2:$B$612,2,0),\"\")","v":""},null,{"$f":"CONCATENATE(TRIM(ASC(spreedResult.!E80)),\" \",TRIM(ASC(spreedResult.!F80)))","v":" "},{"$f":"CONCATENATE(TRIM(spreedResult.!G80),\"　\",TRIM(spreedResult.!H80))","v":"　"},{"$f":"IFERROR(VLOOKUP(spreedResult.!J80,spreedResult.!$AW$4:$AX$5,2,0),\"\")","v":""},{"$f":"IF(spreedResult.!K80<>\"\",TEXT(spreedResult.!K80,\"YYYY\")&TEXT(spreedResult.!K80,\"MM\")&TEXT(spreedResult.!K80,\"DD\"),\"\")","v":""},null,null,{"$f":"IF(spreedResult.!$E80<>\"\",spreedResult.!$C$10,\"\")","v":""},{"$f":"IF(spreedResult.!$E80<>\"\",spreedResult.!$C$9,\"\")","v":""},{"$f":"IF(spreedResult.!L80<>\"\",spreedResult.!L80,\"\")","v":""},{"$f":"IF(spreedResult.!G80<>\"\",IF(spreedResult.!$H$8=\"左記ご住所に送付\",\"2\",\"\"),\"\")","v":""},{"$nulls":8},"",null,"",null,{"$f":"IF(ISNUMBER(AE69),\"1\",\"\")","v":""},null,{"$f":"IF(ISNUMBER(AG69),\"1\",\"\")","v":""},null,{"$f":"IF(ISNUMBER(AI69),\"1\",\"\")","v":""},null,{"$f":"IF(ISNUMBER(AK69),\"1\",\"\")","v":""},null,{"$f":"IF(ISNUMBER(AM69),\"1\",\"\")","v":""},null,{"$f":"IF(ISNUMBER(AO69),\"1\",\"\")","v":""},null,{"$f":"IF(ISNUMBER(AQ69),\"1\",\"\")","v":""},null,{"$f":"IF(ISNUMBER(AS69),\"1\",\"\")","v":""}]
[null,{"$f":"IF(spreedResult.!B81<>\"\",TEXT(spreedResult.!B81,\"YYYY\")&TEXT(spreedResult.!B81,\"MM\")&TEXT(spreedResult.!B81,\"DD\"),\"\")","v":""},{"$f":"IF(spreedResult.!C81<>\"\",VLOOKUP(spreedResult.!C81,spreedResult.!$AT$2:$AU$12,2,0),\"\")","v":""},{"$nulls":4},{"$f":"IF(spreedResult.!O81<>\"\",VLOOKUP(spreedResult.!O81,Course!$A$2:$B$612,2,0),\"\")","v":""},null,{"$f":"CONCATENATE(TRIM(ASC(spreedResult.!E81)),\" \",TRIM(ASC(spreedResult.!F81)))","v":" "},{"$f":"CONCATENATE(TRIM(spreedResult.!G81),\"　\",TRIM(spreedResult.!H81))","v":"　"},{"$f":"IFERROR(VLOOKUP(spreedResult.!J81,spreedResult.!$AW$4:$AX$5,2,0),\"\")","v":""},{"$f":"IF(spreedResult.!K81<>\"\",TEXT(spreedResult.!K81,\"YYYY\")&TEXT(spreedResult.!K81,\"MM\")&TEXT(spreedResult.!K81,\"DD\"),\"\")","v":""},null,null,{"$f":"IF(spreedResult.!$E81<>\"\",spreedResult.!$C$10,\"\")","v":""},{"$f":"IF(spreedResult.!$E81<>\"\",spreedResult.!$C$9,\"\")","v":""},{"$f":"IF(spreedResult.!L81<>\"\",spreedResult.!L81,\"\")","v":""},{"$f":"IF(spreedResult.!G81<>\"\",IF(spreedResult.!$H$8=\"左記ご住所に送付\",\"2\",\"\"),\"\")","v":""},{"$nulls":8},"",null,"",null,{"$f":"IF(ISNUMBER(AE70),\"1\",\"\")","v":""},null,{"$f":"IF(ISNUMBER(AG70),\"1\",\"\")","v":""},null,{"$f":"IF(ISNUMBER(AI70),\"1\",\"\")","v":""},null,{"$f":"IF(ISNUMBER(AK70),\"1\",\"\")","v":""},null,{"$f":"IF(ISNUMBER(AM70),\"1\",\"\")","v":""},null,{"$f":"IF(ISNUMBER(AO70),\"1\",\"\")","v":""},null,{"$f":"IF(ISNUMBER(AQ70),\"1\",\"\")","v":""},null,{"$f":"IF(ISNUMBER(AS70),\"1\",\"\")","v":""}]
[null,{"$f":"IF(spreedResult.!B82<>\"\",TEXT(spreedResult.!B82,\"YYYY\")&TEXT(spreedResult.!B82,\"MM\")&TEXT(spreedResult.!B82,\"DD\"),\"\")","v":""},{"$f":"IF(spreedResult.!C82<>\"\",VLOOKUP(spreedResult.!C82,spreedResult.!$AT$2:$AU$12,2,0),\"\")","v":""},{"$nulls":4},{"$f":"IF(spreedResult.!O82<>\"\",VLOOKUP(spreedResult.!O82,Course!$A$2:$B$612,2,0),\"\")","v":""},null,{"$f":"CONCATENATE(TRIM(ASC(spreedResult.!E82)),\" \",TRIM(ASC(spreedResult.!F82)))","v":" "},{"$f":"CONCATENATE(TRIM(spreedResult.!G82),\"　\",TRIM(spreedResult.!H82))","v":"　"},{"$f":"IFERROR(VLOOKUP(spreedResult.!J82,spreedResult.!$AW$4:$AX$5,2,0),\"\")","v":""},{"$f":"IF(spreedResult.!K82<>\"\",TEXT(spreedResult.!K82,\"YYYY\")&TEXT(spreedResult.!K82,\"MM\")&TEXT(spreedResult.!K82,\"DD\"),\"\")","v":""},null,null,{"$f":"IF(spreedResult.!$E82<>\"\",spreedResult.!$C$10,\"\")","v":""},{"$f":"IF(spreedResult.!$E82<>\"\",spreedResult.!$C$9,\"\")","v":""},{"$f":"IF(spreedResult.!L82<>\"\",spreedResult.!L82,\"\")","v":""},{"$f":"IF(spreedResult.!G82<>\"\",IF(spreedResult.!$H$8=\"左記ご住所に送付\",\"2\",\"\"),\"\")","v":""},{"$nulls":8},"",null,"",null,{"$f":"IF(ISNUMBER(AE71),\"1\",\"\")","v":""},null,{"$f":"IF(ISNUMBER(AG71),\"1\",\"\")","v":""},null,{"$f":"IF(ISNUMBER(AI71),\"1\",\"\")","v":""},null,{"$f":"IF(ISNUMBER(AK71),\"1\",\"\")","v":""},null,{"$f":"IF(ISNUMBER(AM71),\"1\",\"\")","v":""},null,{"$f":"IF(ISNUMBER(AO71),\"1\",\"\")","v":""},null,{"$f":"IF(ISNUMBER(AQ71),\"1\",\"\")","v":""},null,{"$f":"IF(ISNUMBER(AS71),\"1\",\"\")","v":""}]
[null,{"$f":"IF(spreedResult.!B83<>\"\",TEXT(spreedResult.!B83,\"YYYY\")&TEXT(spreedResult.!B83,\"MM\")&TEXT(spreedResult.!B83,\"DD\"),\"\")","v":""},{"$f":"IF(spreedResult.!C83<>\"\",VLOOKUP(spreedResult.!C83,spreedResult.!$AT$2:$AU$12,2,0),\"\")","v":""},{"$nulls":4},{"$f":"IF(spreedResult.!O83<>\"\",VLOOKUP(spreedResult.!O83,Course!$A$2:$B$612,2,0),\"\")","v":""},null,{"$f":"CONCATENATE(TRIM(ASC(spreedResult.!E83)),\" \",TRIM(ASC(spreedResult.!F83)))","v":" "},{"$f":"CONCATENATE(TRIM(spreedResult.!G83),\"　\",TRIM(spreedResult.!H83))","v":"　"},{"$f":"IFERROR(VLOOKUP(spreedResult.!J83,spreedResult.!$AW$4:$AX$5,2,0),\"\")","v":""},{"$f":"IF(spreedResult.!K83<>\"\",TEXT(spreedResult.!K83,\"YYYY\")&TEXT(spreedResult.!K83,\"MM\")&TEXT(spreedResult.!K83,\"DD\"),\"\")","v":""},null,null,{"$f":"IF(spreedResult.!$E83<>\"\",spreedResult.!$C$10,\"\")","v":""},{"$f":"IF(spreedResult.!$E83<>\"\",spreedResult.!$C$9,\"\")","v":""},{"$f":"IF(spreedResult.!L83<>\"\",spreedResult.!L83,\"\")","v":""},{"$f":"IF(spreedResult.!G83<>\"\",IF(spreedResult.!$H$8=\"左記ご住所に送付\",\"2\",\"\"),\"\")","v":""},{"$nulls":8},"",null,"",null,{"$f":"IF(ISNUMBER(AE72),\"1\",\"\")","v":""},null,{"$f":"IF(ISNUMBER(AG72),\"1\",\"\")","v":""},null,{"$f":"IF(ISNUMBER(AI72),\"1\",\"\")","v":""},null,{"$f":"IF(ISNUMBER(AK72),\"1\",\"\")","v":""},null,{"$f":"IF(ISNUMBER(AM72),\"1\",\"\")","v":""},null,{"$f":"IF(ISNUMBER(AO72),\"1\",\"\")","v":""},null,{"$f":"IF(ISNUMBER(AQ72),\"1\",\"\")","v":""},null,{"$f":"IF(ISNUMBER(AS72),\"1\",\"\")","v":""}]
[null,{"$f":"IF(spreedResult.!B84<>\"\",TEXT(spreedResult.!B84,\"YYYY\")&TEXT(spreedResult.!B84,\"MM\")&TEXT(spreedResult.!B84,\"DD\"),\"\")","v":""},{"$f":"IF(spreedResult.!C84<>\"\",VLOOKUP(spreedResult.!C84,spreedResult.!$AT$2:$AU$12,2,0),\"\")","v":""},{"$nulls":4},{"$f":"IF(spreedResult.!O84<>\"\",VLOOKUP(spreedResult.!O84,Course!$A$2:$B$612,2,0),\"\")","v":""},null,{"$f":"CONCATENATE(TRIM(ASC(spreedResult.!E84)),\" \",TRIM(ASC(spreedResult.!F84)))","v":" "},{"$f":"CONCATENATE(TRIM(spreedResult.!G84),\"　\",TRIM(spreedResult.!H84))","v":"　"},{"$f":"IFERROR(VLOOKUP(spreedResult.!J84,spreedResult.!$AW$4:$AX$5,2,0),\"\")","v":""},{"$f":"IF(spreedResult.!K84<>\"\",TEXT(spreedResult.!K84,\"YYYY\")&TEXT(spreedResult.!K84,\"MM\")&TEXT(spreedResult.!K84,\"DD\"),\"\")","v":""},null,null,{"$f":"IF(spreedResult.!$E84<>\"\",spreedResult.!$C$10,\"\")","v":""},{"$f":"IF(spreedResult.!$E84<>\"\",spreedResult.!$C$9,\"\")","v":""},{"$f":"IF(spreedResult.!L84<>\"\",spreedResult.!L84,\"\")","v":""},{"$f":"IF(spreedResult.!G84<>\"\",IF(spreedResult.!$H$8=\"左記ご住所に送付\",\"2\",\"\"),\"\")","v":""},{"$nulls":8},"",null,"",null,{"$f":"IF(ISNUMBER(AE73),\"1\",\"\")","v":""},null,{"$f":"IF(ISNUMBER(AG73),\"1\",\"\")","v":""},null,{"$f":"IF(ISNUMBER(AI73),\"1\",\"\")","v":""},null,{"$f":"IF(ISNUMBER(AK73),\"1\",\"\")","v":""},null,{"$f":"IF(ISNUMBER(AM73),\"1\",\"\")","v":""},null,{"$f":"IF(ISNUMBER(AO73),\"1\",\"\")","v":""},null,{"$f":"IF(ISNUMBER(AQ73),\"1\",\"\")","v":""},null,{"$f":"IF(ISNUMBER(AS73),\"1\",\"\")","v":""}]
[null,{"$f":"IF(spreedResult.!B85<>\"\",TEXT(spreedResult.!B85,\"YYYY\")&TEXT(spreedResult.!B85,\"MM\")&TEXT(spreedResult.!B85,\"DD\"),\"\")","v":""},{"$f":"IF(spreedResult.!C85<>\"\",VLOOKUP(spreedResult.!C85,spreedResult.!$AT$2:$AU$12,2,0),\"\")","v":""},{"$nulls":4},{"$f":"IF(spreedResult.!O85<>\"\",VLOOKUP(spreedResult.!O85,Course!$A$2:$B$612,2,0),\"\")","v":""},null,{"$f":"CONCATENATE(TRIM(ASC(spreedResult.!E85)),\" \",TRIM(ASC(spreedResult.!F85)))","v":" "},{"$f":"CONCATENATE(TRIM(spreedResult.!G85),\"　\",TRIM(spreedResult.!H85))","v":"　"},{"$f":"IFERROR(VLOOKUP(spreedResult.!J85,spreedResult.!$AW$4:$AX$5,2,0),\"\")","v":""},{"$f":"IF(spreedResult.!K85<>\"\",TEXT(spreedResult.!K85,\"YYYY\")&TEXT(spreedResult.!K85,\"MM\")&TEXT(spreedResult.!K85,\"DD\"),\"\")","v":""},null,null,{"$f":"IF(spreedResult.!$E85<>\"\",spreedResult.!$C$10,\"\")","v":""},{"$f":"IF(spreedResult.!$E85<>\"\",spreedResult.!$C$9,\"\")","v":""},{"$f":"IF(spreedResult.!L85<>\"\",spreedResult.!L85,\"\")","v":""},{"$f":"IF(spreedResult.!G85<>\"\",IF(spreedResult.!$H$8=\"左記ご住所に送付\",\"2\",\"\"),\"\")","v":""},{"$nulls":8},"",null,"",null,{"$f":"IF(ISNUMBER(AE74),\"1\",\"\")","v":""},null,{"$f":"IF(ISNUMBER(AG74),\"1\",\"\")","v":""},null,{"$f":"IF(ISNUMBER(AI74),\"1\",\"\")","v":""},null,{"$f":"IF(ISNUMBER(AK74),\"1\",\"\")","v":""},null,{"$f":"IF(ISNUMBER(AM74),\"1\",\"\")","v":""},null,{"$f":"IF(ISNUMBER(AO74),\"1\",\"\")","v":""},null,{"$f":"IF(ISNUMBER(AQ74),\"1\",\"\")","v":""},null,{"$f":"IF(ISNUMBER(AS74),\"1\",\"\")","v":""}]
[null,{"$f":"IF(spreedResult.!B86<>\"\",TEXT(spreedResult.!B86,\"YYYY\")&TEXT(spreedResult.!B86,\"MM\")&TEXT(spreedResult.!B86,\"DD\"),\"\")","v":""},{"$f":"IF(spreedResult.!C86<>\"\",VLOOKUP(spreedResult.!C86,spreedResult.!$AT$2:$AU$12,2,0),\"\")","v":""},{"$nulls":4},{"$f":"IF(spreedResult.!O86<>\"\",VLOOKUP(spreedResult.!O86,Course!$A$2:$B$612,2,0),\"\")","v":""},null,{"$f":"CONCATENATE(TRIM(ASC(spreedResult.!E86)),\" \",TRIM(ASC(spreedResult.!F86)))","v":" "},{"$f":"CONCATENATE(TRIM(spreedResult.!G86),\"　\",TRIM(spreedResult.!H86))","v":"　"},{"$f":"IFERROR(VLOOKUP(spreedResult.!J86,spreedResult.!$AW$4:$AX$5,2,0),\"\")","v":""},{"$f":"IF(spreedResult.!K86<>\"\",TEXT(spreedResult.!K86,\"YYYY\")&TEXT(spreedResult.!K86,\"MM\")&TEXT(spreedResult.!K86,\"DD\"),\"\")","v":""},null,null,{"$f":"IF(spreedResult.!$E86<>\"\",spreedResult.!$C$10,\"\")","v":""},{"$f":"IF(spreedResult.!$E86<>\"\",spreedResult.!$C$9,\"\")","v":""},{"$f":"IF(spreedResult.!L86<>\"\",spreedResult.!L86,\"\")","v":""},{"$f":"IF(spreedResult.!G86<>\"\",IF(spreedResult.!$H$8=\"左記ご住所に送付\",\"2\",\"\"),\"\")","v":""},{"$nulls":8},"",null,"",null,{"$f":"IF(ISNUMBER(AE75),\"1\",\"\")","v":""},null,{"$f":"IF(ISNUMBER(AG75),\"1\",\"\")","v":""},null,{"$f":"IF(ISNUMBER(AI75),\"1\",\"\")","v":""},null,{"$f":"IF(ISNUMBER(AK75),\"1\",\"\")","v":""},null,{"$f":"IF(ISNUMBER(AM75),\"1\",\"\")","v":""},null,{"$f":"IF(ISNUMBER(AO75),\"1\",\"\")","v":""},null,{"$f":"IF(ISNUMBER(AQ75),\"1\",\"\")","v":""},null,{"$f":"IF(ISNUMBER(AS75),\"1\",\"\")","v":""}]
[null,{"$f":"IF(spreedResult.!B87<>\"\",TEXT(spreedResult.!B87,\"YYYY\")&TEXT(spreedResult.!B87,\"MM\")&TEXT(spreedResult.!B87,\"DD\"),\"\")","v":""},{"$f":"IF(spreedResult.!C87<>\"\",VLOOKUP(spreedResult.!C87,spreedResult.!$AT$2:$AU$12,2,0),\"\")","v":""},{"$nulls":4},{"$f":"IF(spreedResult.!O87<>\"\",VLOOKUP(spreedResult.!O87,Course!$A$2:$B$612,2,0),\"\")","v":""},null,{"$f":"CONCATENATE(TRIM(ASC(spreedResult.!E87)),\" \",TRIM(ASC(spreedResult.!F87)))","v":" "},{"$f":"CONCATENATE(TRIM(spreedResult.!G87),\"　\",TRIM(spreedResult.!H87))","v":"　"},{"$f":"IFERROR(VLOOKUP(spreedResult.!J87,spreedResult.!$AW$4:$AX$5,2,0),\"\")","v":""},{"$f":"IF(spreedResult.!K87<>\"\",TEXT(spreedResult.!K87,\"YYYY\")&TEXT(spreedResult.!K87,\"MM\")&TEXT(spreedResult.!K87,\"DD\"),\"\")","v":""},null,null,{"$f":"IF(spreedResult.!$E87<>\"\",spreedResult.!$C$10,\"\")","v":""},{"$f":"IF(spreedResult.!$E87<>\"\",spreedResult.!$C$9,\"\")","v":""},{"$f":"IF(spreedResult.!L87<>\"\",spreedResult.!L87,\"\")","v":""},{"$f":"IF(spreedResult.!G87<>\"\",IF(spreedResult.!$H$8=\"左記ご住所に送付\",\"2\",\"\"),\"\")","v":""},{"$nulls":8},"",null,"",null,{"$f":"IF(ISNUMBER(AE76),\"1\",\"\")","v":""},null,{"$f":"IF(ISNUMBER(AG76),\"1\",\"\")","v":""},null,{"$f":"IF(ISNUMBER(AI76),\"1\",\"\")","v":""},null,{"$f":"IF(ISNUMBER(AK76),\"1\",\"\")","v":""},null,{"$f":"IF(ISNUMBER(AM76),\"1\",\"\")","v":""},null,{"$f":"IF(ISNUMBER(AO76),\"1\",\"\")","v":""},null,{"$f":"IF(ISNUMBER(AQ76),\"1\",\"\")","v":""},null,{"$f":"IF(ISNUMBER(AS76),\"1\",\"\")","v":""}]
[null,{"$f":"IF(spreedResult.!B88<>\"\",TEXT(spreedResult.!B88,\"YYYY\")&TEXT(spreedResult.!B88,\"MM\")&TEXT(spreedResult.!B88,\"DD\"),\"\")","v":""},{"$f":"IF(spreedResult.!C88<>\"\",VLOOKUP(spreedResult.!C88,spreedResult.!$AT$2:$AU$12,2,0),\"\")","v":""},{"$nulls":4},{"$f":"IF(spreedResult.!O88<>\"\",VLOOKUP(spreedResult.!O88,Course!$A$2:$B$612,2,0),\"\")","v":""},null,{"$f":"CONCATENATE(TRIM(ASC(spreedResult.!E88)),\" \",TRIM(ASC(spreedResult.!F88)))","v":" "},{"$f":"CONCATENATE(TRIM(spreedResult.!G88),\"　\",TRIM(spreedResult.!H88))","v":"　"},{"$f":"IFERROR(VLOOKUP(spreedResult.!J88,spreedResult.!$AW$4:$AX$5,2,0),\"\")","v":""},{"$f":"IF(spreedResult.!K88<>\"\",TEXT(spreedResult.!K88,\"YYYY\")&TEXT(spreedResult.!K88,\"MM\")&TEXT(spreedResult.!K88,\"DD\"),\"\")","v":""},null,null,{"$f":"IF(spreedResult.!$E88<>\"\",spreedResult.!$C$10,\"\")","v":""},{"$f":"IF(spreedResult.!$E88<>\"\",spreedResult.!$C$9,\"\")","v":""},{"$f":"IF(spreedResult.!L88<>\"\",spreedResult.!L88,\"\")","v":""},{"$f":"IF(spreedResult.!G88<>\"\",IF(spreedResult.!$H$8=\"左記ご住所に送付\",\"2\",\"\"),\"\")","v":""},{"$nulls":8},"",null,"",null,{"$f":"IF(ISNUMBER(AE77),\"1\",\"\")","v":""},null,{"$f":"IF(ISNUMBER(AG77),\"1\",\"\")","v":""},null,{"$f":"IF(ISNUMBER(AI77),\"1\",\"\")","v":""},null,{"$f":"IF(ISNUMBER(AK77),\"1\",\"\")","v":""},null,{"$f":"IF(ISNUMBER(AM77),\"1\",\"\")","v":""},null,{"$f":"IF(ISNUMBER(AO77),\"1\",\"\")","v":""},null,{"$f":"IF(ISNUMBER(AQ77),\"1\",\"\")","v":""},null,{"$f":"IF(ISNUMBER(AS77),\"1\",\"\")","v":""}]
[null,{"$f":"IF(spreedResult.!B89<>\"\",TEXT(spreedResult.!B89,\"YYYY\")&TEXT(spreedResult.!B89,\"MM\")&TEXT(spreedResult.!B89,\"DD\"),\"\")","v":""},{"$f":"IF(spreedResult.!C89<>\"\",VLOOKUP(spreedResult.!C89,spreedResult.!$AT$2:$AU$12,2,0),\"\")","v":""},{"$nulls":4},{"$f":"IF(spreedResult.!O89<>\"\",VLOOKUP(spreedResult.!O89,Course!$A$2:$B$612,2,0),\"\")","v":""},null,{"$f":"CONCATENATE(TRIM(ASC(spreedResult.!E89)),\" \",TRIM(ASC(spreedResult.!F89)))","v":" "},{"$f":"CONCATENATE(TRIM(spreedResult.!G89),\"　\",TRIM(spreedResult.!H89))","v":"　"},{"$f":"IFERROR(VLOOKUP(spreedResult.!J89,spreedResult.!$AW$4:$AX$5,2,0),\"\")","v":""},{"$f":"IF(spreedResult.!K89<>\"\",TEXT(spreedResult.!K89,\"YYYY\")&TEXT(spreedResult.!K89,\"MM\")&TEXT(spreedResult.!K89,\"DD\"),\"\")","v":""},null,null,{"$f":"IF(spreedResult.!$E89<>\"\",spreedResult.!$C$10,\"\")","v":""},{"$f":"IF(spreedResult.!$E89<>\"\",spreedResult.!$C$9,\"\")","v":""},{"$f":"IF(spreedResult.!L89<>\"\",spreedResult.!L89,\"\")","v":""},{"$f":"IF(spreedResult.!G89<>\"\",IF(spreedResult.!$H$8=\"左記ご住所に送付\",\"2\",\"\"),\"\")","v":""},{"$nulls":8},"",null,"",null,{"$f":"IF(ISNUMBER(AE78),\"1\",\"\")","v":""},null,{"$f":"IF(ISNUMBER(AG78),\"1\",\"\")","v":""},null,{"$f":"IF(ISNUMBER(AI78),\"1\",\"\")","v":""},null,{"$f":"IF(ISNUMBER(AK78),\"1\",\"\")","v":""},null,{"$f":"IF(ISNUMBER(AM78),\"1\",\"\")","v":""},null,{"$f":"IF(ISNUMBER(AO78),\"1\",\"\")","v":""},null,{"$f":"IF(ISNUMBER(AQ78),\"1\",\"\")","v":""},null,{"$f":"IF(ISNUMBER(AS78),\"1\",\"\")","v":""}]
[null,{"$f":"IF(spreedResult.!B90<>\"\",TEXT(spreedResult.!B90,\"YYYY\")&TEXT(spreedResult.!B90,\"MM\")&TEXT(spreedResult.!B90,\"DD\"),\"\")","v":""},{"$f":"IF(spreedResult.!C90<>\"\",VLOOKUP(spreedResult.!C90,spreedResult.!$AT$2:$AU$12,2,0),\"\")","v":""},{"$nulls":4},{"$f":"IF(spreedResult.!O90<>\"\",VLOOKUP(spreedResult.!O90,Course!$A$2:$B$612,2,0),\"\")","v":""},null,{"$f":"CONCATENATE(TRIM(ASC(spreedResult.!E90)),\" \",TRIM(ASC(spreedResult.!F90)))","v":" "},{"$f":"CONCATENATE(TRIM(spreedResult.!G90),\"　\",TRIM(spreedResult.!H90))","v":"　"},{"$f":"IFERROR(VLOOKUP(spreedResult.!J90,spreedResult.!$AW$4:$AX$5,2,0),\"\")","v":""},{"$f":"IF(spreedResult.!K90<>\"\",TEXT(spreedResult.!K90,\"YYYY\")&TEXT(spreedResult.!K90,\"MM\")&TEXT(spreedResult.!K90,\"DD\"),\"\")","v":""},null,null,{"$f":"IF(spreedResult.!$E90<>\"\",spreedResult.!$C$10,\"\")","v":""},{"$f":"IF(spreedResult.!$E90<>\"\",spreedResult.!$C$9,\"\")","v":""},{"$f":"IF(spreedResult.!L90<>\"\",spreedResult.!L90,\"\")","v":""},{"$f":"IF(spreedResult.!G90<>\"\",IF(spreedResult.!$H$8=\"左記ご住所に送付\",\"2\",\"\"),\"\")","v":""},{"$nulls":8},"",null,"",null,{"$f":"IF(ISNUMBER(AE79),\"1\",\"\")","v":""},null,{"$f":"IF(ISNUMBER(AG79),\"1\",\"\")","v":""},null,{"$f":"IF(ISNUMBER(AI79),\"1\",\"\")","v":""},null,{"$f":"IF(ISNUMBER(AK79),\"1\",\"\")","v":""},null,{"$f":"IF(ISNUMBER(AM79),\"1\",\"\")","v":""},null,{"$f":"IF(ISNUMBER(AO79),\"1\",\"\")","v":""},null,{"$f":"IF(ISNUMBER(AQ79),\"1\",\"\")","v":""},null,{"$f":"IF(ISNUMBER(AS79),\"1\",\"\")","v":""}]
[null,{"$f":"IF(spreedResult.!B91<>\"\",TEXT(spreedResult.!B91,\"YYYY\")&TEXT(spreedResult.!B91,\"MM\")&TEXT(spreedResult.!B91,\"DD\"),\"\")","v":""},{"$f":"IF(spreedResult.!C91<>\"\",VLOOKUP(spreedResult.!C91,spreedResult.!$AT$2:$AU$12,2,0),\"\")","v":""},{"$nulls":4},{"$f":"IF(spreedResult.!O91<>\"\",VLOOKUP(spreedResult.!O91,Course!$A$2:$B$612,2,0),\"\")","v":""},null,{"$f":"CONCATENATE(TRIM(ASC(spreedResult.!E91)),\" \",TRIM(ASC(spreedResult.!F91)))","v":" "},{"$f":"CONCATENATE(TRIM(spreedResult.!G91),\"　\",TRIM(spreedResult.!H91))","v":"　"},{"$f":"IFERROR(VLOOKUP(spreedResult.!J91,spreedResult.!$AW$4:$AX$5,2,0),\"\")","v":""},{"$f":"IF(spreedResult.!K91<>\"\",TEXT(spreedResult.!K91,\"YYYY\")&TEXT(spreedResult.!K91,\"MM\")&TEXT(spreedResult.!K91,\"DD\"),\"\")","v":""},null,null,{"$f":"IF(spreedResult.!$E91<>\"\",spreedResult.!$C$10,\"\")","v":""},{"$f":"IF(spreedResult.!$E91<>\"\",spreedResult.!$C$9,\"\")","v":""},{"$f":"IF(spreedResult.!L91<>\"\",spreedResult.!L91,\"\")","v":""},{"$f":"IF(spreedResult.!G91<>\"\",IF(spreedResult.!$H$8=\"左記ご住所に送付\",\"2\",\"\"),\"\")","v":""},{"$nulls":8},"",null,"",null,{"$f":"IF(ISNUMBER(AE80),\"1\",\"\")","v":""},null,{"$f":"IF(ISNUMBER(AG80),\"1\",\"\")","v":""},null,{"$f":"IF(ISNUMBER(AI80),\"1\",\"\")","v":""},null,{"$f":"IF(ISNUMBER(AK80),\"1\",\"\")","v":""},null,{"$f":"IF(ISNUMBER(AM80),\"1\",\"\")","v":""},null,{"$f":"IF(ISNUMBER(AO80),\"1\",\"\")","v":""},null,{"$f":"IF(ISNUMBER(AQ80),\"1\",\"\")","v":""},null,{"$f":"IF(ISNUMBER(AS80),\"1\",\"\")","v":""}]
[null,{"$f":"IF(spreedResult.!B92<>\"\",TEXT(spreedResult.!B92,\"YYYY\")&TEXT(spreedResult.!B92,\"MM\")&TEXT(spreedResult.!B92,\"DD\"),\"\")","v":""},{"$f":"IF(spreedResult.!C92<>\"\",VLOOKUP(spreedResult.!C92,spreedResult.!$AT$2:$AU$12,2,0),\"\")","v":""},{"$nulls":4},{"$f":"IF(spreedResult.!O92<>\"\",VLOOKUP(spreedResult.!O92,Course!$A$2:$B$612,2,0),\"\")","v":""},null,{"$f":"CONCATENATE(TRIM(ASC(spreedResult.!E92)),\" \",TRIM(ASC(spreedResult.!F92)))","v":" "},{"$f":"CONCATENATE(TRIM(spreedResult.!G92),\"　\",TRIM(spreedResult.!H92))","v":"　"},{"$f":"IFERROR(VLOOKUP(spreedResult.!J92,spreedResult.!$AW$4:$AX$5,2,0),\"\")","v":""},{"$f":"IF(spreedResult.!K92<>\"\",TEXT(spreedResult.!K92,\"YYYY\")&TEXT(spreedResult.!K92,\"MM\")&TEXT(spreedResult.!K92,\"DD\"),\"\")","v":""},null,null,{"$f":"IF(spreedResult.!$E92<>\"\",spreedResult.!$C$10,\"\")","v":""},{"$f":"IF(spreedResult.!$E92<>\"\",spreedResult.!$C$9,\"\")","v":""},{"$f":"IF(spreedResult.!L92<>\"\",spreedResult.!L92,\"\")","v":""},{"$f":"IF(spreedResult.!G92<>\"\",IF(spreedResult.!$H$8=\"左記ご住所に送付\",\"2\",\"\"),\"\")","v":""},{"$nulls":8},"",null,"",null,{"$f":"IF(ISNUMBER(AE81),\"1\",\"\")","v":""},null,{"$f":"IF(ISNUMBER(AG81),\"1\",\"\")","v":""},null,{"$f":"IF(ISNUMBER(AI81),\"1\",\"\")","v":""},null,{"$f":"IF(ISNUMBER(AK81),\"1\",\"\")","v":""},null,{"$f":"IF(ISNUMBER(AM81),\"1\",\"\")","v":""},null,{"$f":"IF(ISNUMBER(AO81),\"1\",\"\")","v":""},null,{"$f":"IF(ISNUMBER(AQ81),\"1\",\"\")","v":""},null,{"$f":"IF(ISNUMBER(AS81),\"1\",\"\")","v":""}]
[null,{"$f":"IF(spreedResult.!B93<>\"\",TEXT(spreedResult.!B93,\"YYYY\")&TEXT(spreedResult.!B93,\"MM\")&TEXT(spreedResult.!B93,\"DD\"),\"\")","v":""},{"$f":"IF(spreedResult.!C93<>\"\",VLOOKUP(spreedResult.!C93,spreedResult.!$AT$2:$AU$12,2,0),\"\")","v":""},{"$nulls":4},{"$f":"IF(spreedResult.!O93<>\"\",VLOOKUP(spreedResult.!O93,Course!$A$2:$B$612,2,0),\"\")","v":""},null,{"$f":"CONCATENATE(TRIM(ASC(spreedResult.!E93)),\" \",TRIM(ASC(spreedResult.!F93)))","v":" "},{"$f":"CONCATENATE(TRIM(spreedResult.!G93),\"　\",TRIM(spreedResult.!H93))","v":"　"},{"$f":"IFERROR(VLOOKUP(spreedResult.!J93,spreedResult.!$AW$4:$AX$5,2,0),\"\")","v":""},{"$f":"IF(spreedResult.!K93<>\"\",TEXT(spreedResult.!K93,\"YYYY\")&TEXT(spreedResult.!K93,\"MM\")&TEXT(spreedResult.!K93,\"DD\"),\"\")","v":""},null,null,{"$f":"IF(spreedResult.!$E93<>\"\",spreedResult.!$C$10,\"\")","v":""},{"$f":"IF(spreedResult.!$E93<>\"\",spreedResult.!$C$9,\"\")","v":""},{"$f":"IF(spreedResult.!L93<>\"\",spreedResult.!L93,\"\")","v":""},{"$f":"IF(spreedResult.!G93<>\"\",IF(spreedResult.!$H$8=\"左記ご住所に送付\",\"2\",\"\"),\"\")","v":""},{"$nulls":8},"",null,"",null,{"$f":"IF(ISNUMBER(AE82),\"1\",\"\")","v":""},null,{"$f":"IF(ISNUMBER(AG82),\"1\",\"\")","v":""},null,{"$f":"IF(ISNUMBER(AI82),\"1\",\"\")","v":""},null,{"$f":"IF(ISNUMBER(AK82),\"1\",\"\")","v":""},null,{"$f":"IF(ISNUMBER(AM82),\"1\",\"\")","v":""},null,{"$f":"IF(ISNUMBER(AO82),\"1\",\"\")","v":""},null,{"$f":"IF(ISNUMBER(AQ82),\"1\",\"\")","v":""},null,{"$f":"IF(ISNUMBER(AS82),\"1\",\"\")","v":""}]
[null,{"$f":"IF(spreedResult.!B94<>\"\",TEXT(spreedResult.!B94,\"YYYY\")&TEXT(spreedResult.!B94,\"MM\")&TEXT(spreedResult.!B94,\"DD\"),\"\")","v":""},{"$f":"IF(spreedResult.!C94<>\"\",VLOOKUP(spreedResult.!C94,spreedResult.!$AT$2:$AU$12,2,0),\"\")","v":""},{"$nulls":4},{"$f":"IF(spreedResult.!O94<>\"\",VLOOKUP(spreedResult.!O94,Course!$A$2:$B$612,2,0),\"\")","v":""},null,{"$f":"CONCATENATE(TRIM(ASC(spreedResult.!E94)),\" \",TRIM(ASC(spreedResult.!F94)))","v":" "},{"$f":"CONCATENATE(TRIM(spreedResult.!G94),\"　\",TRIM(spreedResult.!H94))","v":"　"},{"$f":"IFERROR(VLOOKUP(spreedResult.!J94,spreedResult.!$AW$4:$AX$5,2,0),\"\")","v":""},{"$f":"IF(spreedResult.!K94<>\"\",TEXT(spreedResult.!K94,\"YYYY\")&TEXT(spreedResult.!K94,\"MM\")&TEXT(spreedResult.!K94,\"DD\"),\"\")","v":""},null,null,{"$f":"IF(spreedResult.!$E94<>\"\",spreedResult.!$C$10,\"\")","v":""},{"$f":"IF(spreedResult.!$E94<>\"\",spreedResult.!$C$9,\"\")","v":""},{"$f":"IF(spreedResult.!L94<>\"\",spreedResult.!L94,\"\")","v":""},{"$f":"IF(spreedResult.!G94<>\"\",IF(spreedResult.!$H$8=\"左記ご住所に送付\",\"2\",\"\"),\"\")","v":""},{"$nulls":8},"",null,"",null,{"$f":"IF(ISNUMBER(AE83),\"1\",\"\")","v":""},null,{"$f":"IF(ISNUMBER(AG83),\"1\",\"\")","v":""},null,{"$f":"IF(ISNUMBER(AI83),\"1\",\"\")","v":""},null,{"$f":"IF(ISNUMBER(AK83),\"1\",\"\")","v":""},null,{"$f":"IF(ISNUMBER(AM83),\"1\",\"\")","v":""},null,{"$f":"IF(ISNUMBER(AO83),\"1\",\"\")","v":""},null,{"$f":"IF(ISNUMBER(AQ83),\"1\",\"\")","v":""},null,{"$f":"IF(ISNUMBER(AS83),\"1\",\"\")","v":""}]
[null,{"$f":"IF(spreedResult.!B95<>\"\",TEXT(spreedResult.!B95,\"YYYY\")&TEXT(spreedResult.!B95,\"MM\")&TEXT(spreedResult.!B95,\"DD\"),\"\")","v":""},{"$f":"IF(spreedResult.!C95<>\"\",VLOOKUP(spreedResult.!C95,spreedResult.!$AT$2:$AU$12,2,0),\"\")","v":""},{"$nulls":4},{"$f":"IF(spreedResult.!O95<>\"\",VLOOKUP(spreedResult.!O95,Course!$A$2:$B$612,2,0),\"\")","v":""},null,{"$f":"CONCATENATE(TRIM(ASC(spreedResult.!E95)),\" \",TRIM(ASC(spreedResult.!F95)))","v":" "},{"$f":"CONCATENATE(TRIM(spreedResult.!G95),\"　\",TRIM(spreedResult.!H95))","v":"　"},{"$f":"IFERROR(VLOOKUP(spreedResult.!J95,spreedResult.!$AW$4:$AX$5,2,0),\"\")","v":""},{"$f":"IF(spreedResult.!K95<>\"\",TEXT(spreedResult.!K95,\"YYYY\")&TEXT(spreedResult.!K95,\"MM\")&TEXT(spreedResult.!K95,\"DD\"),\"\")","v":""},null,null,{"$f":"IF(spreedResult.!$E95<>\"\",spreedResult.!$C$10,\"\")","v":""},{"$f":"IF(spreedResult.!$E95<>\"\",spreedResult.!$C$9,\"\")","v":""},{"$f":"IF(spreedResult.!L95<>\"\",spreedResult.!L95,\"\")","v":""},{"$f":"IF(spreedResult.!G95<>\"\",IF(spreedResult.!$H$8=\"左記ご住所に送付\",\"2\",\"\"),\"\")","v":""},{"$nulls":8},"",null,"",null,{"$f":"IF(ISNUMBER(AE84),\"1\",\"\")","v":""},null,{"$f":"IF(ISNUMBER(AG84),\"1\",\"\")","v":""},null,{"$f":"IF(ISNUMBER(AI84),\"1\",\"\")","v":""},null,{"$f":"IF(ISNUMBER(AK84),\"1\",\"\")","v":""},null,{"$f":"IF(ISNUMBER(AM84),\"1\",\"\")","v":""},null,{"$f":"IF(ISNUMBER(AO84),\"1\",\"\")","v":""},null,{"$f":"IF(ISNUMBER(AQ84),\"1\",\"\")","v":""},null,{"$f":"IF(ISNUMBER(AS84),\"1\",\"\")","v":""}]
[null,{"$f":"IF(spreedResult.!B96<>\"\",TEXT(spreedResult.!B96,\"YYYY\")&TEXT(spreedResult.!B96,\"MM\")&TEXT(spreedResult.!B96,\"DD\"),\"\")","v":""},{"$f":"IF(spreedResult.!C96<>\"\",VLOOKUP(spreedResult.!C96,spreedResult.!$AT$2:$AU$12,2,0),\"\")","v":""},{"$nulls":4},{"$f":"IF(spreedResult.!O96<>\"\",VLOOKUP(spreedResult.!O96,Course!$A$2:$B$612,2,0),\"\")","v":""},null,{"$f":"CONCATENATE(TRIM(ASC(spreedResult.!E96)),\" \",TRIM(ASC(spreedResult.!F96)))","v":" "},{"$f":"CONCATENATE(TRIM(spreedResult.!G96),\"　\",TRIM(spreedResult.!H96))","v":"　"},{"$f":"IFERROR(VLOOKUP(spreedResult.!J96,spreedResult.!$AW$4:$AX$5,2,0),\"\")","v":""},{"$f":"IF(spreedResult.!K96<>\"\",TEXT(spreedResult.!K96,\"YYYY\")&TEXT(spreedResult.!K96,\"MM\")&TEXT(spreedResult.!K96,\"DD\"),\"\")","v":""},null,null,{"$f":"IF(spreedResult.!$E96<>\"\",spreedResult.!$C$10,\"\")","v":""},{"$f":"IF(spreedResult.!$E96<>\"\",spreedResult.!$C$9,\"\")","v":""},{"$f":"IF(spreedResult.!L96<>\"\",spreedResult.!L96,\"\")","v":""},{"$f":"IF(spreedResult.!G96<>\"\",IF(spreedResult.!$H$8=\"左記ご住所に送付\",\"2\",\"\"),\"\")","v":""},{"$nulls":8},"",null,"",null,{"$f":"IF(ISNUMBER(AE85),\"1\",\"\")","v":""},null,{"$f":"IF(ISNUMBER(AG85),\"1\",\"\")","v":""},null,{"$f":"IF(ISNUMBER(AI85),\"1\",\"\")","v":""},null,{"$f":"IF(ISNUMBER(AK85),\"1\",\"\")","v":""},null,{"$f":"IF(ISNUMBER(AM85),\"1\",\"\")","v":""},null,{"$f":"IF(ISNUMBER(AO85),\"1\",\"\")","v":""},null,{"$f":"IF(ISNUMBER(AQ85),\"1\",\"\")","v":""},null,{"$f":"IF(ISNUMBER(AS85),\"1\",\"\")","v":""}]
[null,{"$f":"IF(spreedResult.!B97<>\"\",TEXT(spreedResult.!B97,\"YYYY\")&TEXT(spreedResult.!B97,\"MM\")&TEXT(spreedResult.!B97,\"DD\"),\"\")","v":""},{"$f":"IF(spreedResult.!C97<>\"\",VLOOKUP(spreedResult.!C97,spreedResult.!$AT$2:$AU$12,2,0),\"\")","v":""},{"$nulls":4},{"$f":"IF(spreedResult.!O97<>\"\",VLOOKUP(spreedResult.!O97,Course!$A$2:$B$612,2,0),\"\")","v":""},null,{"$f":"CONCATENATE(TRIM(ASC(spreedResult.!E97)),\" \",TRIM(ASC(spreedResult.!F97)))","v":" "},{"$f":"CONCATENATE(TRIM(spreedResult.!G97),\"　\",TRIM(spreedResult.!H97))","v":"　"},{"$f":"IFERROR(VLOOKUP(spreedResult.!J97,spreedResult.!$AW$4:$AX$5,2,0),\"\")","v":""},{"$f":"IF(spreedResult.!K97<>\"\",TEXT(spreedResult.!K97,\"YYYY\")&TEXT(spreedResult.!K97,\"MM\")&TEXT(spreedResult.!K97,\"DD\"),\"\")","v":""},null,null,{"$f":"IF(spreedResult.!$E97<>\"\",spreedResult.!$C$10,\"\")","v":""},{"$f":"IF(spreedResult.!$E97<>\"\",spreedResult.!$C$9,\"\")","v":""},{"$f":"IF(spreedResult.!L97<>\"\",spreedResult.!L97,\"\")","v":""},{"$f":"IF(spreedResult.!G97<>\"\",IF(spreedResult.!$H$8=\"左記ご住所に送付\",\"2\",\"\"),\"\")","v":""},{"$nulls":8},"",null,"",null,{"$f":"IF(ISNUMBER(AE86),\"1\",\"\")","v":""},null,{"$f":"IF(ISNUMBER(AG86),\"1\",\"\")","v":""},null,{"$f":"IF(ISNUMBER(AI86),\"1\",\"\")","v":""},null,{"$f":"IF(ISNUMBER(AK86),\"1\",\"\")","v":""},null,{"$f":"IF(ISNUMBER(AM86),\"1\",\"\")","v":""},null,{"$f":"IF(ISNUMBER(AO86),\"1\",\"\")","v":""},null,{"$f":"IF(ISNUMBER(AQ86),\"1\",\"\")","v":""},null,{"$f":"IF(ISNUMBER(AS86),\"1\",\"\")","v":""}]
[null,{"$f":"IF(spreedResult.!B98<>\"\",TEXT(spreedResult.!B98,\"YYYY\")&TEXT(spreedResult.!B98,\"MM\")&TEXT(spreedResult.!B98,\"DD\"),\"\")","v":""},{"$f":"IF(spreedResult.!C98<>\"\",VLOOKUP(spreedResult.!C98,spreedResult.!$AT$2:$AU$12,2,0),\"\")","v":""},{"$nulls":4},{"$f":"IF(spreedResult.!O98<>\"\",VLOOKUP(spreedResult.!O98,Course!$A$2:$B$612,2,0),\"\")","v":""},null,{"$f":"CONCATENATE(TRIM(ASC(spreedResult.!E98)),\" \",TRIM(ASC(spreedResult.!F98)))","v":" "},{"$f":"CONCATENATE(TRIM(spreedResult.!G98),\"　\",TRIM(spreedResult.!H98))","v":"　"},{"$f":"IFERROR(VLOOKUP(spreedResult.!J98,spreedResult.!$AW$4:$AX$5,2,0),\"\")","v":""},{"$f":"IF(spreedResult.!K98<>\"\",TEXT(spreedResult.!K98,\"YYYY\")&TEXT(spreedResult.!K98,\"MM\")&TEXT(spreedResult.!K98,\"DD\"),\"\")","v":""},null,null,{"$f":"IF(spreedResult.!$E98<>\"\",spreedResult.!$C$10,\"\")","v":""},{"$f":"IF(spreedResult.!$E98<>\"\",spreedResult.!$C$9,\"\")","v":""},{"$f":"IF(spreedResult.!L98<>\"\",spreedResult.!L98,\"\")","v":""},{"$f":"IF(spreedResult.!G98<>\"\",IF(spreedResult.!$H$8=\"左記ご住所に送付\",\"2\",\"\"),\"\")","v":""},{"$nulls":8},"",null,"",null,{"$f":"IF(ISNUMBER(AE87),\"1\",\"\")","v":""},null,{"$f":"IF(ISNUMBER(AG87),\"1\",\"\")","v":""},null,{"$f":"IF(ISNUMBER(AI87),\"1\",\"\")","v":""},null,{"$f":"IF(ISNUMBER(AK87),\"1\",\"\")","v":""},null,{"$f":"IF(ISNUMBER(AM87),\"1\",\"\")","v":""},null,{"$f":"IF(ISNUMBER(AO87),\"1\",\"\")","v":""},null,{"$f":"IF(ISNUMBER(AQ87),\"1\",\"\")","v":""},null,{"$f":"IF(ISNUMBER(AS87),\"1\",\"\")","v":""}]
[null,{"$f":"IF(spreedResult.!B99<>\"\",TEXT(spreedResult.!B99,\"YYYY\")&TEXT(spreedResult.!B99,\"MM\")&TEXT(spreedResult.!B99,\"DD\"),\"\")","v":""},{"$f":"IF(spreedResult.!C99<>\"\",VLOOKUP(spreedResult.!C99,spreedResult.!$AT$2:$AU$12,2,0),\"\")","v":""},{"$nulls":4},{"$f":"IF(spreedResult.!O99<>\"\",VLOOKUP(spreedResult.!O99,Course!$A$2:$B$612,2,0),\"\")","v":""},null,{"$f":"CONCATENATE(TRIM(ASC(spreedResult.!E99)),\" \",TRIM(ASC(spreedResult.!F99)))","v":" "},{"$f":"CONCATENATE(TRIM(spreedResult.!G99),\"　\",TRIM(spreedResult.!H99))","v":"　"},{"$f":"IFERROR(VLOOKUP(spreedResult.!J99,spreedResult.!$AW$4:$AX$5,2,0),\"\")","v":""},{"$f":"IF(spreedResult.!K99<>\"\",TEXT(spreedResult.!K99,\"YYYY\")&TEXT(spreedResult.!K99,\"MM\")&TEXT(spreedResult.!K99,\"DD\"),\"\")","v":""},null,null,{"$f":"IF(spreedResult.!$E99<>\"\",spreedResult.!$C$10,\"\")","v":""},{"$f":"IF(spreedResult.!$E99<>\"\",spreedResult.!$C$9,\"\")","v":""},{"$f":"IF(spreedResult.!L99<>\"\",spreedResult.!L99,\"\")","v":""},{"$f":"IF(spreedResult.!G99<>\"\",IF(spreedResult.!$H$8=\"左記ご住所に送付\",\"2\",\"\"),\"\")","v":""},{"$nulls":8},"",null,"",null,{"$f":"IF(ISNUMBER(AE88),\"1\",\"\")","v":""},null,{"$f":"IF(ISNUMBER(AG88),\"1\",\"\")","v":""},null,{"$f":"IF(ISNUMBER(AI88),\"1\",\"\")","v":""},null,{"$f":"IF(ISNUMBER(AK88),\"1\",\"\")","v":""},null,{"$f":"IF(ISNUMBER(AM88),\"1\",\"\")","v":""},null,{"$f":"IF(ISNUMBER(AO88),\"1\",\"\")","v":""},null,{"$f":"IF(ISNUMBER(AQ88),\"1\",\"\")","v":""},null,{"$f":"IF(ISNUMBER(AS88),\"1\",\"\")","v":""}]
[null,{"$f":"IF(spreedResult.!B100<>\"\",TEXT(spreedResult.!B100,\"YYYY\")&TEXT(spreedResult.!B100,\"MM\")&TEXT(spreedResult.!B100,\"DD\"),\"\")","v":""},{"$f":"IF(spreedResult.!C100<>\"\",VLOOKUP(spreedResult.!C100,spreedResult.!$AT$2:$AU$12,2,0),\"\")","v":""},{"$nulls":4},{"$f":"IF(spreedResult.!O100<>\"\",VLOOKUP(spreedResult.!O100,Course!$A$2:$B$612,2,0),\"\")","v":""},null,{"$f":"CONCATENATE(TRIM(ASC(spreedResult.!E100)),\" \",TRIM(ASC(spreedResult.!F100)))","v":" "},{"$f":"CONCATENATE(TRIM(spreedResult.!G100),\"　\",TRIM(spreedResult.!H100))","v":"　"},{"$f":"IFERROR(VLOOKUP(spreedResult.!J100,spreedResult.!$AW$4:$AX$5,2,0),\"\")","v":""},{"$f":"IF(spreedResult.!K100<>\"\",TEXT(spreedResult.!K100,\"YYYY\")&TEXT(spreedResult.!K100,\"MM\")&TEXT(spreedResult.!K100,\"DD\"),\"\")","v":""},null,null,{"$f":"IF(spreedResult.!$E100<>\"\",spreedResult.!$C$10,\"\")","v":""},{"$f":"IF(spreedResult.!$E100<>\"\",spreedResult.!$C$9,\"\")","v":""},{"$f":"IF(spreedResult.!L100<>\"\",spreedResult.!L100,\"\")","v":""},{"$f":"IF(spreedResult.!G100<>\"\",IF(spreedResult.!$H$8=\"左記ご住所に送付\",\"2\",\"\"),\"\")","v":""},{"$nulls":8},"",null,"",null,{"$f":"IF(ISNUMBER(AE89),\"1\",\"\")","v":""},null,{"$f":"IF(ISNUMBER(AG89),\"1\",\"\")","v":""},null,{"$f":"IF(ISNUMBER(AI89),\"1\",\"\")","v":""},null,{"$f":"IF(ISNUMBER(AK89),\"1\",\"\")","v":""},null,{"$f":"IF(ISNUMBER(AM89),\"1\",\"\")","v":""},null,{"$f":"IF(ISNUMBER(AO89),\"1\",\"\")","v":""},null,{"$f":"IF(ISNUMBER(AQ89),\"1\",\"\")","v":""},null,{"$f":"IF(ISNUMBER(AS89),\"1\",\"\")","v":""}]
[null,{"$f":"IF(spreedResult.!B101<>\"\",TEXT(spreedResult.!B101,\"YYYY\")&TEXT(spreedResult.!B101,\"MM\")&TEXT(spreedResult.!B101,\"DD\"),\"\")","v":""},{"$f":"IF(spreedResult.!C101<>\"\",VLOOKUP(spreedResult.!C101,spreedResult.!$AT$2:$AU$12,2,0),\"\")","v":""},{"$nulls":4},{"$f":"IF(spreedResult.!O101<>\"\",VLOOKUP(spreedResult.!O101,Course!$A$2:$B$612,2,0),\"\")","v":""},null,{"$f":"CONCATENATE(TRIM(ASC(spreedResult.!E101)),\" \",TRIM(ASC(spreedResult.!F101)))","v":" "},{"$f":"CONCATENATE(TRIM(spreedResult.!G101),\"　\",TRIM(spreedResult.!H101))","v":"　"},{"$f":"IFERROR(VLOOKUP(spreedResult.!J101,spreedResult.!$AW$4:$AX$5,2,0),\"\")","v":""},{"$f":"IF(spreedResult.!K101<>\"\",TEXT(spreedResult.!K101,\"YYYY\")&TEXT(spreedResult.!K101,\"MM\")&TEXT(spreedResult.!K101,\"DD\"),\"\")","v":""},null,null,{"$f":"IF(spreedResult.!$E101<>\"\",spreedResult.!$C$10,\"\")","v":""},{"$f":"IF(spreedResult.!$E101<>\"\",spreedResult.!$C$9,\"\")","v":""},{"$f":"IF(spreedResult.!L101<>\"\",spreedResult.!L101,\"\")","v":""},{"$f":"IF(spreedResult.!G101<>\"\",IF(spreedResult.!$H$8=\"左記ご住所に送付\",\"2\",\"\"),\"\")","v":""},{"$nulls":8},"",null,"",null,{"$f":"IF(ISNUMBER(AE90),\"1\",\"\")","v":""},null,{"$f":"IF(ISNUMBER(AG90),\"1\",\"\")","v":""},null,{"$f":"IF(ISNUMBER(AI90),\"1\",\"\")","v":""},null,{"$f":"IF(ISNUMBER(AK90),\"1\",\"\")","v":""},null,{"$f":"IF(ISNUMBER(AM90),\"1\",\"\")","v":""},null,{"$f":"IF(ISNUMBER(AO90),\"1\",\"\")","v":""},null,{"$f":"IF(ISNUMBER(AQ90),\"1\",\"\")","v":""},null,{"$f":"IF(ISNUMBER(AS90),\"1\",\"\")","v":""}]
[null,{"$f":"IF(spreedResult.!B102<>\"\",TEXT(spreedResult.!B102,\"YYYY\")&TEXT(spreedResult.!B102,\"MM\")&TEXT(spreedResult.!B102,\"DD\"),\"\")","v":""},{"$f":"IF(spreedResult.!C102<>\"\",VLOOKUP(spreedResult.!C102,spreedResult.!$AT$2:$AU$12,2,0),\"\")","v":""},{"$nulls":4},{"$f":"IF(spreedResult.!O102<>\"\",VLOOKUP(spreedResult.!O102,Course!$A$2:$B$612,2,0),\"\")","v":""},null,{"$f":"CONCATENATE(TRIM(ASC(spreedResult.!E102)),\" \",TRIM(ASC(spreedResult.!F102)))","v":" "},{"$f":"CONCATENATE(TRIM(spreedResult.!G102),\"　\",TRIM(spreedResult.!H102))","v":"　"},{"$f":"IFERROR(VLOOKUP(spreedResult.!J102,spreedResult.!$AW$4:$AX$5,2,0),\"\")","v":""},{"$f":"IF(spreedResult.!K102<>\"\",TEXT(spreedResult.!K102,\"YYYY\")&TEXT(spreedResult.!K102,\"MM\")&TEXT(spreedResult.!K102,\"DD\"),\"\")","v":""},null,null,{"$f":"IF(spreedResult.!$E102<>\"\",spreedResult.!$C$10,\"\")","v":""},{"$f":"IF(spreedResult.!$E102<>\"\",spreedResult.!$C$9,\"\")","v":""},{"$f":"IF(spreedResult.!L102<>\"\",spreedResult.!L102,\"\")","v":""},{"$f":"IF(spreedResult.!G102<>\"\",IF(spreedResult.!$H$8=\"左記ご住所に送付\",\"2\",\"\"),\"\")","v":""},{"$nulls":8},"",null,"",null,{"$f":"IF(ISNUMBER(AE91),\"1\",\"\")","v":""},null,{"$f":"IF(ISNUMBER(AG91),\"1\",\"\")","v":""},null,{"$f":"IF(ISNUMBER(AI91),\"1\",\"\")","v":""},null,{"$f":"IF(ISNUMBER(AK91),\"1\",\"\")","v":""},null,{"$f":"IF(ISNUMBER(AM91),\"1\",\"\")","v":""},null,{"$f":"IF(ISNUMBER(AO91),\"1\",\"\")","v":""},null,{"$f":"IF(ISNUMBER(AQ91),\"1\",\"\")","v":""},null,{"$f":"IF(ISNUMBER(AS91),\"1\",\"\")","v":""}]
[null,{"$f":"IF(spreedResult.!B103<>\"\",TEXT(spreedResult.!B103,\"YYYY\")&TEXT(spreedResult.!B103,\"MM\")&TEXT(spreedResult.!B103,\"DD\"),\"\")","v":""},{"$f":"IF(spreedResult.!C103<>\"\",VLOOKUP(spreedResult.!C103,spreedResult.!$AT$2:$AU$12,2,0),\"\")","v":""},{"$nulls":4},{"$f":"IF(spreedResult.!O103<>\"\",VLOOKUP(spreedResult.!O103,Course!$A$2:$B$612,2,0),\"\")","v":""},null,{"$f":"CONCATENATE(TRIM(ASC(spreedResult.!E103)),\" \",TRIM(ASC(spreedResult.!F103)))","v":" "},{"$f":"CONCATENATE(TRIM(spreedResult.!G103),\"　\",TRIM(spreedResult.!H103))","v":"　"},{"$f":"IFERROR(VLOOKUP(spreedResult.!J103,spreedResult.!$AW$4:$AX$5,2,0),\"\")","v":""},{"$f":"IF(spreedResult.!K103<>\"\",TEXT(spreedResult.!K103,\"YYYY\")&TEXT(spreedResult.!K103,\"MM\")&TEXT(spreedResult.!K103,\"DD\"),\"\")","v":""},null,null,{"$f":"IF(spreedResult.!$E103<>\"\",spreedResult.!$C$10,\"\")","v":""},{"$f":"IF(spreedResult.!$E103<>\"\",spreedResult.!$C$9,\"\")","v":""},{"$f":"IF(spreedResult.!L103<>\"\",spreedResult.!L103,\"\")","v":""},{"$f":"IF(spreedResult.!G103<>\"\",IF(spreedResult.!$H$8=\"左記ご住所に送付\",\"2\",\"\"),\"\")","v":""},{"$nulls":8},"",null,"",null,{"$f":"IF(ISNUMBER(AE92),\"1\",\"\")","v":""},null,{"$f":"IF(ISNUMBER(AG92),\"1\",\"\")","v":""},null,{"$f":"IF(ISNUMBER(AI92),\"1\",\"\")","v":""},null,{"$f":"IF(ISNUMBER(AK92),\"1\",\"\")","v":""},null,{"$f":"IF(ISNUMBER(AM92),\"1\",\"\")","v":""},null,{"$f":"IF(ISNUMBER(AO92),\"1\",\"\")","v":""},null,{"$f":"IF(ISNUMBER(AQ92),\"1\",\"\")","v":""},null,{"$f":"IF(ISNUMBER(AS92),\"1\",\"\")","v":""}]
[null,{"$f":"IF(spreedResult.!B104<>\"\",TEXT(spreedResult.!B104,\"YYYY\")&TEXT(spreedResult.!B104,\"MM\")&TEXT(spreedResult.!B104,\"DD\"),\"\")","v":""},{"$f":"IF(spreedResult.!C104<>\"\",VLOOKUP(spreedResult.!C104,spreedResult.!$AT$2:$AU$12,2,0),\"\")","v":""},{"$nulls":4},{"$f":"IF(spreedResult.!O104<>\"\",VLOOKUP(spreedResult.!O104,Course!$A$2:$B$612,2,0),\"\")","v":""},null,{"$f":"CONCATENATE(TRIM(ASC(spreedResult.!E104)),\" \",TRIM(ASC(spreedResult.!F104)))","v":" "},{"$f":"CONCATENATE(TRIM(spreedResult.!G104),\"　\",TRIM(spreedResult.!H104))","v":"　"},{"$f":"IFERROR(VLOOKUP(spreedResult.!J104,spreedResult.!$AW$4:$AX$5,2,0),\"\")","v":""},{"$f":"IF(spreedResult.!K104<>\"\",TEXT(spreedResult.!K104,\"YYYY\")&TEXT(spreedResult.!K104,\"MM\")&TEXT(spreedResult.!K104,\"DD\"),\"\")","v":""},null,null,{"$f":"IF(spreedResult.!$E104<>\"\",spreedResult.!$C$10,\"\")","v":""},{"$f":"IF(spreedResult.!$E104<>\"\",spreedResult.!$C$9,\"\")","v":""},{"$f":"IF(spreedResult.!L104<>\"\",spreedResult.!L104,\"\")","v":""},{"$f":"IF(spreedResult.!G104<>\"\",IF(spreedResult.!$H$8=\"左記ご住所に送付\",\"2\",\"\"),\"\")","v":""},{"$nulls":8},"",null,"",null,{"$f":"IF(ISNUMBER(AE93),\"1\",\"\")","v":""},null,{"$f":"IF(ISNUMBER(AG93),\"1\",\"\")","v":""},null,{"$f":"IF(ISNUMBER(AI93),\"1\",\"\")","v":""},null,{"$f":"IF(ISNUMBER(AK93),\"1\",\"\")","v":""},null,{"$f":"IF(ISNUMBER(AM93),\"1\",\"\")","v":""},null,{"$f":"IF(ISNUMBER(AO93),\"1\",\"\")","v":""},null,{"$f":"IF(ISNUMBER(AQ93),\"1\",\"\")","v":""},null,{"$f":"IF(ISNUMBER(AS93),\"1\",\"\")","v":""}]
[null,{"$f":"IF(spreedResult.!B105<>\"\",TEXT(spreedResult.!B105,\"YYYY\")&TEXT(spreedResult.!B105,\"MM\")&TEXT(spreedResult.!B105,\"DD\"),\"\")","v":""},{"$f":"IF(spreedResult.!C105<>\"\",VLOOKUP(spreedResult.!C105,spreedResult.!$AT$2:$AU$12,2,0),\"\")","v":""},{"$nulls":4},{"$f":"IF(spreedResult.!O105<>\"\",VLOOKUP(spreedResult.!O105,Course!$A$2:$B$612,2,0),\"\")","v":""},null,{"$f":"CONCATENATE(TRIM(ASC(spreedResult.!E105)),\" \",TRIM(ASC(spreedResult.!F105)))","v":" "},{"$f":"CONCATENATE(TRIM(spreedResult.!G105),\"　\",TRIM(spreedResult.!H105))","v":"　"},{"$f":"IFERROR(VLOOKUP(spreedResult.!J105,spreedResult.!$AW$4:$AX$5,2,0),\"\")","v":""},{"$f":"IF(spreedResult.!K105<>\"\",TEXT(spreedResult.!K105,\"YYYY\")&TEXT(spreedResult.!K105,\"MM\")&TEXT(spreedResult.!K105,\"DD\"),\"\")","v":""},null,null,{"$f":"IF(spreedResult.!$E105<>\"\",spreedResult.!$C$10,\"\")","v":""},{"$f":"IF(spreedResult.!$E105<>\"\",spreedResult.!$C$9,\"\")","v":""},{"$f":"IF(spreedResult.!L105<>\"\",spreedResult.!L105,\"\")","v":""},{"$f":"IF(spreedResult.!G105<>\"\",IF(spreedResult.!$H$8=\"左記ご住所に送付\",\"2\",\"\"),\"\")","v":""},{"$nulls":8},"",null,"",null,{"$f":"IF(ISNUMBER(AE94),\"1\",\"\")","v":""},null,{"$f":"IF(ISNUMBER(AG94),\"1\",\"\")","v":""},null,{"$f":"IF(ISNUMBER(AI94),\"1\",\"\")","v":""},null,{"$f":"IF(ISNUMBER(AK94),\"1\",\"\")","v":""},null,{"$f":"IF(ISNUMBER(AM94),\"1\",\"\")","v":""},null,{"$f":"IF(ISNUMBER(AO94),\"1\",\"\")","v":""},null,{"$f":"IF(ISNUMBER(AQ94),\"1\",\"\")","v":""},null,{"$f":"IF(ISNUMBER(AS94),\"1\",\"\")","v":""}]
[null,{"$f":"IF(spreedResult.!B106<>\"\",TEXT(spreedResult.!B106,\"YYYY\")&TEXT(spreedResult.!B106,\"MM\")&TEXT(spreedResult.!B106,\"DD\"),\"\")","v":""},{"$f":"IF(spreedResult.!C106<>\"\",VLOOKUP(spreedResult.!C106,spreedResult.!$AT$2:$AU$12,2,0),\"\")","v":""},{"$nulls":4},{"$f":"IF(spreedResult.!O106<>\"\",VLOOKUP(spreedResult.!O106,Course!$A$2:$B$612,2,0),\"\")","v":""},null,{"$f":"CONCATENATE(TRIM(ASC(spreedResult.!E106)),\" \",TRIM(ASC(spreedResult.!F106)))","v":" "},{"$f":"CONCATENATE(TRIM(spreedResult.!G106),\"　\",TRIM(spreedResult.!H106))","v":"　"},{"$f":"IFERROR(VLOOKUP(spreedResult.!J106,spreedResult.!$AW$4:$AX$5,2,0),\"\")","v":""},{"$f":"IF(spreedResult.!K106<>\"\",TEXT(spreedResult.!K106,\"YYYY\")&TEXT(spreedResult.!K106,\"MM\")&TEXT(spreedResult.!K106,\"DD\"),\"\")","v":""},null,null,{"$f":"IF(spreedResult.!$E106<>\"\",spreedResult.!$C$10,\"\")","v":""},{"$f":"IF(spreedResult.!$E106<>\"\",spreedResult.!$C$9,\"\")","v":""},{"$f":"IF(spreedResult.!L106<>\"\",spreedResult.!L106,\"\")","v":""},{"$f":"IF(spreedResult.!G106<>\"\",IF(spreedResult.!$H$8=\"左記ご住所に送付\",\"2\",\"\"),\"\")","v":""},{"$nulls":8},"",null,"",null,{"$f":"IF(ISNUMBER(AE95),\"1\",\"\")","v":""},null,{"$f":"IF(ISNUMBER(AG95),\"1\",\"\")","v":""},null,{"$f":"IF(ISNUMBER(AI95),\"1\",\"\")","v":""},null,{"$f":"IF(ISNUMBER(AK95),\"1\",\"\")","v":""},null,{"$f":"IF(ISNUMBER(AM95),\"1\",\"\")","v":""},null,{"$f":"IF(ISNUMBER(AO95),\"1\",\"\")","v":""},null,{"$f":"IF(ISNUMBER(AQ95),\"1\",\"\")","v":""},null,{"$f":"IF(ISNUMBER(AS95),\"1\",\"\")","v":""}]
[null,{"$f":"IF(spreedResult.!B107<>\"\",TEXT(spreedResult.!B107,\"YYYY\")&TEXT(spreedResult.!B107,\"MM\")&TEXT(spreedResult.!B107,\"DD\"),\"\")","v":""},{"$f":"IF(spreedResult.!C107<>\"\",VLOOKUP(spreedResult.!C107,spreedResult.!$AT$2:$AU$12,2,0),\"\")","v":""},{"$nulls":4},{"$f":"IF(spreedResult.!O107<>\"\",VLOOKUP(spreedResult.!O107,Course!$A$2:$B$612,2,0),\"\")","v":""},null,{"$f":"CONCATENATE(TRIM(ASC(spreedResult.!E107)),\" \",TRIM(ASC(spreedResult.!F107)))","v":" "},{"$f":"CONCATENATE(TRIM(spreedResult.!G107),\"　\",TRIM(spreedResult.!H107))","v":"　"},{"$f":"IFERROR(VLOOKUP(spreedResult.!J107,spreedResult.!$AW$4:$AX$5,2,0),\"\")","v":""},{"$f":"IF(spreedResult.!K107<>\"\",TEXT(spreedResult.!K107,\"YYYY\")&TEXT(spreedResult.!K107,\"MM\")&TEXT(spreedResult.!K107,\"DD\"),\"\")","v":""},null,null,{"$f":"IF(spreedResult.!$E107<>\"\",spreedResult.!$C$10,\"\")","v":""},{"$f":"IF(spreedResult.!$E107<>\"\",spreedResult.!$C$9,\"\")","v":""},{"$f":"IF(spreedResult.!L107<>\"\",spreedResult.!L107,\"\")","v":""},{"$f":"IF(spreedResult.!G107<>\"\",IF(spreedResult.!$H$8=\"左記ご住所に送付\",\"2\",\"\"),\"\")","v":""},{"$nulls":8},"",null,"",null,{"$f":"IF(ISNUMBER(AE96),\"1\",\"\")","v":""},null,{"$f":"IF(ISNUMBER(AG96),\"1\",\"\")","v":""},null,{"$f":"IF(ISNUMBER(AI96),\"1\",\"\")","v":""},null,{"$f":"IF(ISNUMBER(AK96),\"1\",\"\")","v":""},null,{"$f":"IF(ISNUMBER(AM96),\"1\",\"\")","v":""},null,{"$f":"IF(ISNUMBER(AO96),\"1\",\"\")","v":""},null,{"$f":"IF(ISNUMBER(AQ96),\"1\",\"\")","v":""},null,{"$f":"IF(ISNUMBER(AS96),\"1\",\"\")","v":""}]
[null,{"$f":"IF(spreedResult.!B108<>\"\",TEXT(spreedResult.!B108,\"YYYY\")&TEXT(spreedResult.!B108,\"MM\")&TEXT(spreedResult.!B108,\"DD\"),\"\")","v":""},{"$f":"IF(spreedResult.!C108<>\"\",VLOOKUP(spreedResult.!C108,spreedResult.!$AT$2:$AU$12,2,0),\"\")","v":""},{"$nulls":4},{"$f":"IF(spreedResult.!O108<>\"\",VLOOKUP(spreedResult.!O108,Course!$A$2:$B$612,2,0),\"\")","v":""},null,{"$f":"CONCATENATE(TRIM(ASC(spreedResult.!E108)),\" \",TRIM(ASC(spreedResult.!F108)))","v":" "},{"$f":"CONCATENATE(TRIM(spreedResult.!G108),\"　\",TRIM(spreedResult.!H108))","v":"　"},{"$f":"IFERROR(VLOOKUP(spreedResult.!J108,spreedResult.!$AW$4:$AX$5,2,0),\"\")","v":""},{"$f":"IF(spreedResult.!K108<>\"\",TEXT(spreedResult.!K108,\"YYYY\")&TEXT(spreedResult.!K108,\"MM\")&TEXT(spreedResult.!K108,\"DD\"),\"\")","v":""},null,null,{"$f":"IF(spreedResult.!$E108<>\"\",spreedResult.!$C$10,\"\")","v":""},{"$f":"IF(spreedResult.!$E108<>\"\",spreedResult.!$C$9,\"\")","v":""},{"$f":"IF(spreedResult.!L108<>\"\",spreedResult.!L108,\"\")","v":""},{"$f":"IF(spreedResult.!G108<>\"\",IF(spreedResult.!$H$8=\"左記ご住所に送付\",\"2\",\"\"),\"\")","v":""},{"$nulls":8},"",null,"",null,{"$f":"IF(ISNUMBER(AE97),\"1\",\"\")","v":""},null,{"$f":"IF(ISNUMBER(AG97),\"1\",\"\")","v":""},null,{"$f":"IF(ISNUMBER(AI97),\"1\",\"\")","v":""},null,{"$f":"IF(ISNUMBER(AK97),\"1\",\"\")","v":""},null,{"$f":"IF(ISNUMBER(AM97),\"1\",\"\")","v":""},null,{"$f":"IF(ISNUMBER(AO97),\"1\",\"\")","v":""},null,{"$f":"IF(ISNUMBER(AQ97),\"1\",\"\")","v":""},null,{"$f":"IF(ISNUMBER(AS97),\"1\",\"\")","v":""}]
[null,{"$f":"IF(spreedResult.!B109<>\"\",TEXT(spreedResult.!B109,\"YYYY\")&TEXT(spreedResult.!B109,\"MM\")&TEXT(spreedResult.!B109,\"DD\"),\"\")","v":""},{"$f":"IF(spreedResult.!C109<>\"\",VLOOKUP(spreedResult.!C109,spreedResult.!$AT$2:$AU$12,2,0),\"\")","v":""},{"$nulls":4},{"$f":"IF(spreedResult.!O109<>\"\",VLOOKUP(spreedResult.!O109,Course!$A$2:$B$612,2,0),\"\")","v":""},null,{"$f":"CONCATENATE(TRIM(ASC(spreedResult.!E109)),\" \",TRIM(ASC(spreedResult.!F109)))","v":" "},{"$f":"CONCATENATE(TRIM(spreedResult.!G109),\"　\",TRIM(spreedResult.!H109))","v":"　"},{"$f":"IFERROR(VLOOKUP(spreedResult.!J109,spreedResult.!$AW$4:$AX$5,2,0),\"\")","v":""},{"$f":"IF(spreedResult.!K109<>\"\",TEXT(spreedResult.!K109,\"YYYY\")&TEXT(spreedResult.!K109,\"MM\")&TEXT(spreedResult.!K109,\"DD\"),\"\")","v":""},null,null,{"$f":"IF(spreedResult.!$E109<>\"\",spreedResult.!$C$10,\"\")","v":""},{"$f":"IF(spreedResult.!$E109<>\"\",spreedResult.!$C$9,\"\")","v":""},{"$f":"IF(spreedResult.!L109<>\"\",spreedResult.!L109,\"\")","v":""},{"$f":"IF(spreedResult.!G109<>\"\",IF(spreedResult.!$H$8=\"左記ご住所に送付\",\"2\",\"\"),\"\")","v":""},{"$nulls":8},"",null,"",null,{"$f":"IF(ISNUMBER(AE98),\"1\",\"\")","v":""},null,{"$f":"IF(ISNUMBER(AG98),\"1\",\"\")","v":""},null,{"$f":"IF(ISNUMBER(AI98),\"1\",\"\")","v":""},null,{"$f":"IF(ISNUMBER(AK98),\"1\",\"\")","v":""},null,{"$f":"IF(ISNUMBER(AM98),\"1\",\"\")","v":""},null,{"$f":"IF(ISNUMBER(AO98),\"1\",\"\")","v":""},null,{"$f":"IF(ISNUMBER(AQ98),\"1\",\"\")","v":""},null,{"$f":"IF(ISNUMBER(AS98),\"1\",\"\")","v":""}]
[null,{"$f":"IF(spreedResult.!B110<>\"\",TEXT(spreedResult.!B110,\"YYYY\")&TEXT(spreedResult.!B110,\"MM\")&TEXT(spreedResult.!B110,\"DD\"),\"\")","v":""},{"$f":"IF(spreedResult.!C110<>\"\",VLOOKUP(spreedResult.!C110,spreedResult.!$AT$2:$AU$12,2,0),\"\")","v":""},{"$nulls":4},{"$f":"IF(spreedResult.!O110<>\"\",VLOOKUP(spreedResult.!O110,Course!$A$2:$B$612,2,0),\"\")","v":""},null,{"$f":"CONCATENATE(TRIM(ASC(spreedResult.!E110)),\" \",TRIM(ASC(spreedResult.!F110)))","v":" "},{"$f":"CONCATENATE(TRIM(spreedResult.!G110),\"　\",TRIM(spreedResult.!H110))","v":"　"},{"$f":"IFERROR(VLOOKUP(spreedResult.!J110,spreedResult.!$AW$4:$AX$5,2,0),\"\")","v":""},{"$f":"IF(spreedResult.!K110<>\"\",TEXT(spreedResult.!K110,\"YYYY\")&TEXT(spreedResult.!K110,\"MM\")&TEXT(spreedResult.!K110,\"DD\"),\"\")","v":""},null,null,{"$f":"IF(spreedResult.!$E110<>\"\",spreedResult.!$C$10,\"\")","v":""},{"$f":"IF(spreedResult.!$E110<>\"\",spreedResult.!$C$9,\"\")","v":""},{"$f":"IF(spreedResult.!L110<>\"\",spreedResult.!L110,\"\")","v":""},{"$f":"IF(spreedResult.!G110<>\"\",IF(spreedResult.!$H$8=\"左記ご住所に送付\",\"2\",\"\"),\"\")","v":""},{"$nulls":8},"",null,"",null,{"$f":"IF(ISNUMBER(AE99),\"1\",\"\")","v":""},null,{"$f":"IF(ISNUMBER(AG99),\"1\",\"\")","v":""},null,{"$f":"IF(ISNUMBER(AI99),\"1\",\"\")","v":""},null,{"$f":"IF(ISNUMBER(AK99),\"1\",\"\")","v":""},null,{"$f":"IF(ISNUMBER(AM99),\"1\",\"\")","v":""},null,{"$f":"IF(ISNUMBER(AO99),\"1\",\"\")","v":""},null,{"$f":"IF(ISNUMBER(AQ99),\"1\",\"\")","v":""},null,{"$f":"IF(ISNUMBER(AS99),\"1\",\"\")","v":""}]
[null,{"$f":"IF(spreedResult.!B111<>\"\",TEXT(spreedResult.!B111,\"YYYY\")&TEXT(spreedResult.!B111,\"MM\")&TEXT(spreedResult.!B111,\"DD\"),\"\")","v":""},{"$f":"IF(spreedResult.!C111<>\"\",VLOOKUP(spreedResult.!C111,spreedResult.!$AT$2:$AU$12,2,0),\"\")","v":""},{"$nulls":4},{"$f":"IF(spreedResult.!O111<>\"\",VLOOKUP(spreedResult.!O111,Course!$A$2:$B$612,2,0),\"\")","v":""},null,{"$f":"CONCATENATE(TRIM(ASC(spreedResult.!E111)),\" \",TRIM(ASC(spreedResult.!F111)))","v":" "},{"$f":"CONCATENATE(TRIM(spreedResult.!G111),\"　\",TRIM(spreedResult.!H111))","v":"　"},{"$f":"IFERROR(VLOOKUP(spreedResult.!J111,spreedResult.!$AW$4:$AX$5,2,0),\"\")","v":""},{"$f":"IF(spreedResult.!K111<>\"\",TEXT(spreedResult.!K111,\"YYYY\")&TEXT(spreedResult.!K111,\"MM\")&TEXT(spreedResult.!K111,\"DD\"),\"\")","v":""},null,null,{"$f":"IF(spreedResult.!$E111<>\"\",spreedResult.!$C$10,\"\")","v":""},{"$f":"IF(spreedResult.!$E111<>\"\",spreedResult.!$C$9,\"\")","v":""},{"$f":"IF(spreedResult.!L111<>\"\",spreedResult.!L111,\"\")","v":""},{"$f":"IF(spreedResult.!G111<>\"\",IF(spreedResult.!$H$8=\"左記ご住所に送付\",\"2\",\"\"),\"\")","v":""},{"$nulls":8},"",null,"",null,{"$f":"IF(ISNUMBER(AE100),\"1\",\"\")","v":""},null,{"$f":"IF(ISNUMBER(AG100),\"1\",\"\")","v":""},null,{"$f":"IF(ISNUMBER(AI100),\"1\",\"\")","v":""},null,{"$f":"IF(ISNUMBER(AK100),\"1\",\"\")","v":""},null,{"$f":"IF(ISNUMBER(AM100),\"1\",\"\")","v":""},null,{"$f":"IF(ISNUMBER(AO100),\"1\",\"\")","v":""},null,{"$f":"IF(ISNUMBER(AQ100),\"1\",\"\")","v":""},null,{"$f":"IF(ISNUMBER(AS100),\"1\",\"\")","v":""}]
[null,{"$f":"IF(spreedResult.!B112<>\"\",TEXT(spreedResult.!B112,\"YYYY\")&TEXT(spreedResult.!B112,\"MM\")&TEXT(spreedResult.!B112,\"DD\"),\"\")","v":""},{"$f":"IF(spreedResult.!C112<>\"\",VLOOKUP(spreedResult.!C112,spreedResult.!$AT$2:$AU$12,2,0),\"\")","v":""},{"$nulls":4},{"$f":"IF(spreedResult.!O112<>\"\",VLOOKUP(spreedResult.!O112,Course!$A$2:$B$612,2,0),\"\")","v":""},null,{"$f":"CONCATENATE(TRIM(ASC(spreedResult.!E112)),\" \",TRIM(ASC(spreedResult.!F112)))","v":" "},{"$f":"CONCATENATE(TRIM(spreedResult.!G112),\"　\",TRIM(spreedResult.!H112))","v":"　"},{"$f":"IFERROR(VLOOKUP(spreedResult.!J112,spreedResult.!$AW$4:$AX$5,2,0),\"\")","v":""},{"$f":"IF(spreedResult.!K112<>\"\",TEXT(spreedResult.!K112,\"YYYY\")&TEXT(spreedResult.!K112,\"MM\")&TEXT(spreedResult.!K112,\"DD\"),\"\")","v":""},null,null,{"$f":"IF(spreedResult.!$E112<>\"\",spreedResult.!$C$10,\"\")","v":""},{"$f":"IF(spreedResult.!$E112<>\"\",spreedResult.!$C$9,\"\")","v":""},{"$f":"IF(spreedResult.!L112<>\"\",spreedResult.!L112,\"\")","v":""},{"$f":"IF(spreedResult.!G112<>\"\",IF(spreedResult.!$H$8=\"左記ご住所に送付\",\"2\",\"\"),\"\")","v":""},{"$nulls":8},"",null,"",null,{"$f":"IF(ISNUMBER(AE101),\"1\",\"\")","v":""},null,{"$f":"IF(ISNUMBER(AG101),\"1\",\"\")","v":""},null,{"$f":"IF(ISNUMBER(AI101),\"1\",\"\")","v":""},null,{"$f":"IF(ISNUMBER(AK101),\"1\",\"\")","v":""},null,{"$f":"IF(ISNUMBER(AM101),\"1\",\"\")","v":""},null,{"$f":"IF(ISNUMBER(AO101),\"1\",\"\")","v":""},null,{"$f":"IF(ISNUMBER(AQ101),\"1\",\"\")","v":""},null,{"$f":"IF(ISNUMBER(AS101),\"1\",\"\")","v":""}]
[null,{"$f":"IF(spreedResult.!B113<>\"\",TEXT(spreedResult.!B113,\"YYYY\")&TEXT(spreedResult.!B113,\"MM\")&TEXT(spreedResult.!B113,\"DD\"),\"\")","v":""},{"$f":"IF(spreedResult.!C113<>\"\",VLOOKUP(spreedResult.!C113,spreedResult.!$AT$2:$AU$12,2,0),\"\")","v":""},{"$nulls":4},{"$f":"IF(spreedResult.!O113<>\"\",VLOOKUP(spreedResult.!O113,Course!$A$2:$B$612,2,0),\"\")","v":""},null,{"$f":"CONCATENATE(TRIM(ASC(spreedResult.!E113)),\" \",TRIM(ASC(spreedResult.!F113)))","v":" "},{"$f":"CONCATENATE(TRIM(spreedResult.!G113),\"　\",TRIM(spreedResult.!H113))","v":"　"},{"$f":"IFERROR(VLOOKUP(spreedResult.!J113,spreedResult.!$AW$4:$AX$5,2,0),\"\")","v":""},{"$f":"IF(spreedResult.!K113<>\"\",TEXT(spreedResult.!K113,\"YYYY\")&TEXT(spreedResult.!K113,\"MM\")&TEXT(spreedResult.!K113,\"DD\"),\"\")","v":""},null,null,{"$f":"IF(spreedResult.!$E113<>\"\",spreedResult.!$C$10,\"\")","v":""},{"$f":"IF(spreedResult.!$E113<>\"\",spreedResult.!$C$9,\"\")","v":""},{"$f":"IF(spreedResult.!L113<>\"\",spreedResult.!L113,\"\")","v":""},{"$f":"IF(spreedResult.!G113<>\"\",IF(spreedResult.!$H$8=\"左記ご住所に送付\",\"2\",\"\"),\"\")","v":""},{"$nulls":8},"",null,"",null,{"$f":"IF(ISNUMBER(AE102),\"1\",\"\")","v":""},null,{"$f":"IF(ISNUMBER(AG102),\"1\",\"\")","v":""},null,{"$f":"IF(ISNUMBER(AI102),\"1\",\"\")","v":""},null,{"$f":"IF(ISNUMBER(AK102),\"1\",\"\")","v":""},null,{"$f":"IF(ISNUMBER(AM102),\"1\",\"\")","v":""},null,{"$f":"IF(ISNUMBER(AO102),\"1\",\"\")","v":""},null,{"$f":"IF(ISNUMBER(AQ102),\"1\",\"\")","v":""},null,{"$f":"IF(ISNUMBER(AS102),\"1\",\"\")","v":""}]
[null,{"$f":"IF(spreedResult.!B114<>\"\",TEXT(spreedResult.!B114,\"YYYY\")&TEXT(spreedResult.!B114,\"MM\")&TEXT(spreedResult.!B114,\"DD\"),\"\")","v":""},{"$f":"IF(spreedResult.!C114<>\"\",VLOOKUP(spreedResult.!C114,spreedResult.!$AT$2:$AU$12,2,0),\"\")","v":""},{"$nulls":4},{"$f":"IF(spreedResult.!O114<>\"\",VLOOKUP(spreedResult.!O114,Course!$A$2:$B$612,2,0),\"\")","v":""},null,{"$f":"CONCATENATE(TRIM(ASC(spreedResult.!E114)),\" \",TRIM(ASC(spreedResult.!F114)))","v":" "},{"$f":"CONCATENATE(TRIM(spreedResult.!G114),\"　\",TRIM(spreedResult.!H114))","v":"　"},{"$f":"IFERROR(VLOOKUP(spreedResult.!J114,spreedResult.!$AW$4:$AX$5,2,0),\"\")","v":""},{"$f":"IF(spreedResult.!K114<>\"\",TEXT(spreedResult.!K114,\"YYYY\")&TEXT(spreedResult.!K114,\"MM\")&TEXT(spreedResult.!K114,\"DD\"),\"\")","v":""},null,null,{"$f":"IF(spreedResult.!$E114<>\"\",spreedResult.!$C$10,\"\")","v":""},{"$f":"IF(spreedResult.!$E114<>\"\",spreedResult.!$C$9,\"\")","v":""},{"$f":"IF(spreedResult.!L114<>\"\",spreedResult.!L114,\"\")","v":""},{"$f":"IF(spreedResult.!G114<>\"\",IF(spreedResult.!$H$8=\"左記ご住所に送付\",\"2\",\"\"),\"\")","v":""},{"$nulls":8},"",null,"",null,{"$f":"IF(ISNUMBER(AE103),\"1\",\"\")","v":""},null,{"$f":"IF(ISNUMBER(AG103),\"1\",\"\")","v":""},null,{"$f":"IF(ISNUMBER(AI103),\"1\",\"\")","v":""},null,{"$f":"IF(ISNUMBER(AK103),\"1\",\"\")","v":""},null,{"$f":"IF(ISNUMBER(AM103),\"1\",\"\")","v":""},null,{"$f":"IF(ISNUMBER(AO103),\"1\",\"\")","v":""},null,{"$f":"IF(ISNUMBER(AQ103),\"1\",\"\")","v":""},null,{"$f":"IF(ISNUMBER(AS103),\"1\",\"\")","v":""}]
[null,{"$f":"IF(spreedResult.!B115<>\"\",TEXT(spreedResult.!B115,\"YYYY\")&TEXT(spreedResult.!B115,\"MM\")&TEXT(spreedResult.!B115,\"DD\"),\"\")","v":""},{"$f":"IF(spreedResult.!C115<>\"\",VLOOKUP(spreedResult.!C115,spreedResult.!$AT$2:$AU$12,2,0),\"\")","v":""},{"$nulls":4},{"$f":"IF(spreedResult.!O115<>\"\",VLOOKUP(spreedResult.!O115,Course!$A$2:$B$612,2,0),\"\")","v":""},null,{"$f":"CONCATENATE(TRIM(ASC(spreedResult.!E115)),\" \",TRIM(ASC(spreedResult.!F115)))","v":" "},{"$f":"CONCATENATE(TRIM(spreedResult.!G115),\"　\",TRIM(spreedResult.!H115))","v":"　"},{"$f":"IFERROR(VLOOKUP(spreedResult.!J115,spreedResult.!$AW$4:$AX$5,2,0),\"\")","v":""},{"$f":"IF(spreedResult.!K115<>\"\",TEXT(spreedResult.!K115,\"YYYY\")&TEXT(spreedResult.!K115,\"MM\")&TEXT(spreedResult.!K115,\"DD\"),\"\")","v":""},null,null,{"$f":"IF(spreedResult.!$E115<>\"\",spreedResult.!$C$10,\"\")","v":""},{"$f":"IF(spreedResult.!$E115<>\"\",spreedResult.!$C$9,\"\")","v":""},{"$f":"IF(spreedResult.!L115<>\"\",spreedResult.!L115,\"\")","v":""},{"$f":"IF(spreedResult.!G115<>\"\",IF(spreedResult.!$H$8=\"左記ご住所に送付\",\"2\",\"\"),\"\")","v":""},{"$nulls":8},"",null,"",null,{"$f":"IF(ISNUMBER(AE104),\"1\",\"\")","v":""},null,{"$f":"IF(ISNUMBER(AG104),\"1\",\"\")","v":""},null,{"$f":"IF(ISNUMBER(AI104),\"1\",\"\")","v":""},null,{"$f":"IF(ISNUMBER(AK104),\"1\",\"\")","v":""},null,{"$f":"IF(ISNUMBER(AM104),\"1\",\"\")","v":""},null,{"$f":"IF(ISNUMBER(AO104),\"1\",\"\")","v":""},null,{"$f":"IF(ISNUMBER(AQ104),\"1\",\"\")","v":""},null,{"$f":"IF(ISNUMBER(AS104),\"1\",\"\")","v":""}]
[null,{"$f":"IF(spreedResult.!B116<>\"\",TEXT(spreedResult.!B116,\"YYYY\")&TEXT(spreedResult.!B116,\"MM\")&TEXT(spreedResult.!B116,\"DD\"),\"\")","v":""},{"$f":"IF(spreedResult.!C116<>\"\",VLOOKUP(spreedResult.!C116,spreedResult.!$AT$2:$AU$12,2,0),\"\")","v":""},{"$nulls":4},{"$f":"IF(spreedResult.!O116<>\"\",VLOOKUP(spreedResult.!O116,Course!$A$2:$B$612,2,0),\"\")","v":""},null,{"$f":"CONCATENATE(TRIM(ASC(spreedResult.!E116)),\" \",TRIM(ASC(spreedResult.!F116)))","v":" "},{"$f":"CONCATENATE(TRIM(spreedResult.!G116),\"　\",TRIM(spreedResult.!H116))","v":"　"},{"$f":"IFERROR(VLOOKUP(spreedResult.!J116,spreedResult.!$AW$4:$AX$5,2,0),\"\")","v":""},{"$f":"IF(spreedResult.!K116<>\"\",TEXT(spreedResult.!K116,\"YYYY\")&TEXT(spreedResult.!K116,\"MM\")&TEXT(spreedResult.!K116,\"DD\"),\"\")","v":""},null,null,{"$f":"IF(spreedResult.!$E116<>\"\",spreedResult.!$C$10,\"\")","v":""},{"$f":"IF(spreedResult.!$E116<>\"\",spreedResult.!$C$9,\"\")","v":""},{"$f":"IF(spreedResult.!L116<>\"\",spreedResult.!L116,\"\")","v":""},{"$f":"IF(spreedResult.!G116<>\"\",IF(spreedResult.!$H$8=\"左記ご住所に送付\",\"2\",\"\"),\"\")","v":""},{"$nulls":8},"",null,"",null,{"$f":"IF(ISNUMBER(AE105),\"1\",\"\")","v":""},null,{"$f":"IF(ISNUMBER(AG105),\"1\",\"\")","v":""},null,{"$f":"IF(ISNUMBER(AI105),\"1\",\"\")","v":""},null,{"$f":"IF(ISNUMBER(AK105),\"1\",\"\")","v":""},null,{"$f":"IF(ISNUMBER(AM105),\"1\",\"\")","v":""},null,{"$f":"IF(ISNUMBER(AO105),\"1\",\"\")","v":""},null,{"$f":"IF(ISNUMBER(AQ105),\"1\",\"\")","v":""},null,{"$f":"IF(ISNUMBER(AS105),\"1\",\"\")","v":""}]
[null,{"$f":"IF(spreedResult.!B117<>\"\",TEXT(spreedResult.!B117,\"YYYY\")&TEXT(spreedResult.!B117,\"MM\")&TEXT(spreedResult.!B117,\"DD\"),\"\")","v":""},{"$f":"IF(spreedResult.!C117<>\"\",VLOOKUP(spreedResult.!C117,spreedResult.!$AT$2:$AU$12,2,0),\"\")","v":""},{"$nulls":4},{"$f":"IF(spreedResult.!O117<>\"\",VLOOKUP(spreedResult.!O117,Course!$A$2:$B$612,2,0),\"\")","v":""},null,{"$f":"CONCATENATE(TRIM(ASC(spreedResult.!E117)),\" \",TRIM(ASC(spreedResult.!F117)))","v":" "},{"$f":"CONCATENATE(TRIM(spreedResult.!G117),\"　\",TRIM(spreedResult.!H117))","v":"　"},{"$f":"IFERROR(VLOOKUP(spreedResult.!J117,spreedResult.!$AW$4:$AX$5,2,0),\"\")","v":""},{"$f":"IF(spreedResult.!K117<>\"\",TEXT(spreedResult.!K117,\"YYYY\")&TEXT(spreedResult.!K117,\"MM\")&TEXT(spreedResult.!K117,\"DD\"),\"\")","v":""},null,null,{"$f":"IF(spreedResult.!$E117<>\"\",spreedResult.!$C$10,\"\")","v":""},{"$f":"IF(spreedResult.!$E117<>\"\",spreedResult.!$C$9,\"\")","v":""},{"$f":"IF(spreedResult.!L117<>\"\",spreedResult.!L117,\"\")","v":""},{"$f":"IF(spreedResult.!G117<>\"\",IF(spreedResult.!$H$8=\"左記ご住所に送付\",\"2\",\"\"),\"\")","v":""},{"$nulls":8},"",null,"",null,{"$f":"IF(ISNUMBER(AE106),\"1\",\"\")","v":""},null,{"$f":"IF(ISNUMBER(AG106),\"1\",\"\")","v":""},null,{"$f":"IF(ISNUMBER(AI106),\"1\",\"\")","v":""},null,{"$f":"IF(ISNUMBER(AK106),\"1\",\"\")","v":""},null,{"$f":"IF(ISNUMBER(AM106),\"1\",\"\")","v":""},null,{"$f":"IF(ISNUMBER(AO106),\"1\",\"\")","v":""},null,{"$f":"IF(ISNUMBER(AQ106),\"1\",\"\")","v":""},null,{"$f":"IF(ISNUMBER(AS106),\"1\",\"\")","v":""}]
[null,{"$f":"IF(spreedResult.!B118<>\"\",TEXT(spreedResult.!B118,\"YYYY\")&TEXT(spreedResult.!B118,\"MM\")&TEXT(spreedResult.!B118,\"DD\"),\"\")","v":""},{"$f":"IF(spreedResult.!C118<>\"\",VLOOKUP(spreedResult.!C118,spreedResult.!$AT$2:$AU$12,2,0),\"\")","v":""},{"$nulls":4},{"$f":"IF(spreedResult.!O118<>\"\",VLOOKUP(spreedResult.!O118,Course!$A$2:$B$612,2,0),\"\")","v":""},null,{"$f":"CONCATENATE(TRIM(ASC(spreedResult.!E118)),\" \",TRIM(ASC(spreedResult.!F118)))","v":" "},{"$f":"CONCATENATE(TRIM(spreedResult.!G118),\"　\",TRIM(spreedResult.!H118))","v":"　"},{"$f":"IFERROR(VLOOKUP(spreedResult.!J118,spreedResult.!$AW$4:$AX$5,2,0),\"\")","v":""},{"$f":"IF(spreedResult.!K118<>\"\",TEXT(spreedResult.!K118,\"YYYY\")&TEXT(spreedResult.!K118,\"MM\")&TEXT(spreedResult.!K118,\"DD\"),\"\")","v":""},null,null,{"$f":"IF(spreedResult.!$E118<>\"\",spreedResult.!$C$10,\"\")","v":""},{"$f":"IF(spreedResult.!$E118<>\"\",spreedResult.!$C$9,\"\")","v":""},{"$f":"IF(spreedResult.!L118<>\"\",spreedResult.!L118,\"\")","v":""},{"$f":"IF(spreedResult.!G118<>\"\",IF(spreedResult.!$H$8=\"左記ご住所に送付\",\"2\",\"\"),\"\")","v":""},{"$nulls":8},"",null,"",null,{"$f":"IF(ISNUMBER(AE107),\"1\",\"\")","v":""},null,{"$f":"IF(ISNUMBER(AG107),\"1\",\"\")","v":""},null,{"$f":"IF(ISNUMBER(AI107),\"1\",\"\")","v":""},null,{"$f":"IF(ISNUMBER(AK107),\"1\",\"\")","v":""},null,{"$f":"IF(ISNUMBER(AM107),\"1\",\"\")","v":""},null,{"$f":"IF(ISNUMBER(AO107),\"1\",\"\")","v":""},null,{"$f":"IF(ISNUMBER(AQ107),\"1\",\"\")","v":""},null,{"$f":"IF(ISNUMBER(AS107),\"1\",\"\")","v":""}]
[null,{"$f":"IF(spreedResult.!B119<>\"\",TEXT(spreedResult.!B119,\"YYYY\")&TEXT(spreedResult.!B119,\"MM\")&TEXT(spreedResult.!B119,\"DD\"),\"\")","v":""},{"$f":"IF(spreedResult.!C119<>\"\",VLOOKUP(spreedResult.!C119,spreedResult.!$AT$2:$AU$12,2,0),\"\")","v":""},{"$nulls":4},{"$f":"IF(spreedResult.!O119<>\"\",VLOOKUP(spreedResult.!O119,Course!$A$2:$B$612,2,0),\"\")","v":""},null,{"$f":"CONCATENATE(TRIM(ASC(spreedResult.!E119)),\" \",TRIM(ASC(spreedResult.!F119)))","v":" "},{"$f":"CONCATENATE(TRIM(spreedResult.!G119),\"　\",TRIM(spreedResult.!H119))","v":"　"},{"$f":"IFERROR(VLOOKUP(spreedResult.!J119,spreedResult.!$AW$4:$AX$5,2,0),\"\")","v":""},{"$f":"IF(spreedResult.!K119<>\"\",TEXT(spreedResult.!K119,\"YYYY\")&TEXT(spreedResult.!K119,\"MM\")&TEXT(spreedResult.!K119,\"DD\"),\"\")","v":""},null,null,{"$f":"IF(spreedResult.!$E119<>\"\",spreedResult.!$C$10,\"\")","v":""},{"$f":"IF(spreedResult.!$E119<>\"\",spreedResult.!$C$9,\"\")","v":""},{"$f":"IF(spreedResult.!L119<>\"\",spreedResult.!L119,\"\")","v":""},{"$f":"IF(spreedResult.!G119<>\"\",IF(spreedResult.!$H$8=\"左記ご住所に送付\",\"2\",\"\"),\"\")","v":""},{"$nulls":8},"",null,"",null,{"$f":"IF(ISNUMBER(AE108),\"1\",\"\")","v":""},null,{"$f":"IF(ISNUMBER(AG108),\"1\",\"\")","v":""},null,{"$f":"IF(ISNUMBER(AI108),\"1\",\"\")","v":""},null,{"$f":"IF(ISNUMBER(AK108),\"1\",\"\")","v":""},null,{"$f":"IF(ISNUMBER(AM108),\"1\",\"\")","v":""},null,{"$f":"IF(ISNUMBER(AO108),\"1\",\"\")","v":""},null,{"$f":"IF(ISNUMBER(AQ108),\"1\",\"\")","v":""},null,{"$f":"IF(ISNUMBER(AS108),\"1\",\"\")","v":""}]
[null,{"$f":"IF(spreedResult.!B120<>\"\",TEXT(spreedResult.!B120,\"YYYY\")&TEXT(spreedResult.!B120,\"MM\")&TEXT(spreedResult.!B120,\"DD\"),\"\")","v":""},{"$f":"IF(spreedResult.!C120<>\"\",VLOOKUP(spreedResult.!C120,spreedResult.!$AT$2:$AU$12,2,0),\"\")","v":""},{"$nulls":4},{"$f":"IF(spreedResult.!O120<>\"\",VLOOKUP(spreedResult.!O120,Course!$A$2:$B$612,2,0),\"\")","v":""},null,{"$f":"CONCATENATE(TRIM(ASC(spreedResult.!E120)),\" \",TRIM(ASC(spreedResult.!F120)))","v":" "},{"$f":"CONCATENATE(TRIM(spreedResult.!G120),\"　\",TRIM(spreedResult.!H120))","v":"　"},{"$f":"IFERROR(VLOOKUP(spreedResult.!J120,spreedResult.!$AW$4:$AX$5,2,0),\"\")","v":""},{"$f":"IF(spreedResult.!K120<>\"\",TEXT(spreedResult.!K120,\"YYYY\")&TEXT(spreedResult.!K120,\"MM\")&TEXT(spreedResult.!K120,\"DD\"),\"\")","v":""},null,null,{"$f":"IF(spreedResult.!$E120<>\"\",spreedResult.!$C$10,\"\")","v":""},{"$f":"IF(spreedResult.!$E120<>\"\",spreedResult.!$C$9,\"\")","v":""},{"$f":"IF(spreedResult.!L120<>\"\",spreedResult.!L120,\"\")","v":""},{"$f":"IF(spreedResult.!G120<>\"\",IF(spreedResult.!$H$8=\"左記ご住所に送付\",\"2\",\"\"),\"\")","v":""},{"$nulls":8},"",null,"",null,{"$f":"IF(ISNUMBER(AE109),\"1\",\"\")","v":""},null,{"$f":"IF(ISNUMBER(AG109),\"1\",\"\")","v":""},null,{"$f":"IF(ISNUMBER(AI109),\"1\",\"\")","v":""},null,{"$f":"IF(ISNUMBER(AK109),\"1\",\"\")","v":""},null,{"$f":"IF(ISNUMBER(AM109),\"1\",\"\")","v":""},null,{"$f":"IF(ISNUMBER(AO109),\"1\",\"\")","v":""},null,{"$f":"IF(ISNUMBER(AQ109),\"1\",\"\")","v":""},null,{"$f":"IF(ISNUMBER(AS109),\"1\",\"\")","v":""}]
[null,{"$f":"IF(spreedResult.!B121<>\"\",TEXT(spreedResult.!B121,\"YYYY\")&TEXT(spreedResult.!B121,\"MM\")&TEXT(spreedResult.!B121,\"DD\"),\"\")","v":""},{"$f":"IF(spreedResult.!C121<>\"\",VLOOKUP(spreedResult.!C121,spreedResult.!$AT$2:$AU$12,2,0),\"\")","v":""},{"$nulls":4},{"$f":"IF(spreedResult.!O121<>\"\",VLOOKUP(spreedResult.!O121,Course!$A$2:$B$612,2,0),\"\")","v":""},null,{"$f":"CONCATENATE(TRIM(ASC(spreedResult.!E121)),\" \",TRIM(ASC(spreedResult.!F121)))","v":" "},{"$f":"CONCATENATE(TRIM(spreedResult.!G121),\"　\",TRIM(spreedResult.!H121))","v":"　"},{"$f":"IFERROR(VLOOKUP(spreedResult.!J121,spreedResult.!$AW$4:$AX$5,2,0),\"\")","v":""},{"$f":"IF(spreedResult.!K121<>\"\",TEXT(spreedResult.!K121,\"YYYY\")&TEXT(spreedResult.!K121,\"MM\")&TEXT(spreedResult.!K121,\"DD\"),\"\")","v":""},null,null,{"$f":"IF(spreedResult.!$E121<>\"\",spreedResult.!$C$10,\"\")","v":""},{"$f":"IF(spreedResult.!$E121<>\"\",spreedResult.!$C$9,\"\")","v":""},{"$f":"IF(spreedResult.!L121<>\"\",spreedResult.!L121,\"\")","v":""},{"$f":"IF(spreedResult.!G121<>\"\",IF(spreedResult.!$H$8=\"左記ご住所に送付\",\"2\",\"\"),\"\")","v":""},{"$nulls":8},"",null,"",null,{"$f":"IF(ISNUMBER(AE110),\"1\",\"\")","v":""},null,{"$f":"IF(ISNUMBER(AG110),\"1\",\"\")","v":""},null,{"$f":"IF(ISNUMBER(AI110),\"1\",\"\")","v":""},null,{"$f":"IF(ISNUMBER(AK110),\"1\",\"\")","v":""},null,{"$f":"IF(ISNUMBER(AM110),\"1\",\"\")","v":""},null,{"$f":"IF(ISNUMBER(AO110),\"1\",\"\")","v":""},null,{"$f":"IF(ISNUMBER(AQ110),\"1\",\"\")","v":""},null,{"$f":"IF(ISNUMBER(AS110),\"1\",\"\")","v":""}]
[null,{"$f":"IF(spreedResult.!B122<>\"\",TEXT(spreedResult.!B122,\"YYYY\")&TEXT(spreedResult.!B122,\"MM\")&TEXT(spreedResult.!B122,\"DD\"),\"\")","v":""},{"$f":"IF(spreedResult.!C122<>\"\",VLOOKUP(spreedResult.!C122,spreedResult.!$AT$2:$AU$12,2,0),\"\")","v":""},{"$nulls":4},{"$f":"IF(spreedResult.!O122<>\"\",VLOOKUP(spreedResult.!O122,Course!$A$2:$B$612,2,0),\"\")","v":""},null,{"$f":"CONCATENATE(TRIM(ASC(spreedResult.!E122)),\" \",TRIM(ASC(spreedResult.!F122)))","v":" "},{"$f":"CONCATENATE(TRIM(spreedResult.!G122),\"　\",TRIM(spreedResult.!H122))","v":"　"},{"$f":"IFERROR(VLOOKUP(spreedResult.!J122,spreedResult.!$AW$4:$AX$5,2,0),\"\")","v":""},{"$f":"IF(spreedResult.!K122<>\"\",TEXT(spreedResult.!K122,\"YYYY\")&TEXT(spreedResult.!K122,\"MM\")&TEXT(spreedResult.!K122,\"DD\"),\"\")","v":""},null,null,{"$f":"IF(spreedResult.!$E122<>\"\",spreedResult.!$C$10,\"\")","v":""},{"$f":"IF(spreedResult.!$E122<>\"\",spreedResult.!$C$9,\"\")","v":""},{"$f":"IF(spreedResult.!L122<>\"\",spreedResult.!L122,\"\")","v":""},{"$f":"IF(spreedResult.!G122<>\"\",IF(spreedResult.!$H$8=\"左記ご住所に送付\",\"2\",\"\"),\"\")","v":""},{"$nulls":8},"",null,"",null,{"$f":"IF(ISNUMBER(AE111),\"1\",\"\")","v":""},null,{"$f":"IF(ISNUMBER(AG111),\"1\",\"\")","v":""},null,{"$f":"IF(ISNUMBER(AI111),\"1\",\"\")","v":""},null,{"$f":"IF(ISNUMBER(AK111),\"1\",\"\")","v":""},null,{"$f":"IF(ISNUMBER(AM111),\"1\",\"\")","v":""},null,{"$f":"IF(ISNUMBER(AO111),\"1\",\"\")","v":""},null,{"$f":"IF(ISNUMBER(AQ111),\"1\",\"\")","v":""},null,{"$f":"IF(ISNUMBER(AS111),\"1\",\"\")","v":""}]
[null,{"$f":"IF(spreedResult.!B123<>\"\",TEXT(spreedResult.!B123,\"YYYY\")&TEXT(spreedResult.!B123,\"MM\")&TEXT(spreedResult.!B123,\"DD\"),\"\")","v":""},{"$f":"IF(spreedResult.!C123<>\"\",VLOOKUP(spreedResult.!C123,spreedResult.!$AT$2:$AU$12,2,0),\"\")","v":""},{"$nulls":4},{"$f":"IF(spreedResult.!O123<>\"\",VLOOKUP(spreedResult.!O123,Course!$A$2:$B$612,2,0),\"\")","v":""},null,{"$f":"CONCATENATE(TRIM(ASC(spreedResult.!E123)),\" \",TRIM(ASC(spreedResult.!F123)))","v":" "},{"$f":"CONCATENATE(TRIM(spreedResult.!G123),\"　\",TRIM(spreedResult.!H123))","v":"　"},{"$f":"IFERROR(VLOOKUP(spreedResult.!J123,spreedResult.!$AW$4:$AX$5,2,0),\"\")","v":""},{"$f":"IF(spreedResult.!K123<>\"\",TEXT(spreedResult.!K123,\"YYYY\")&TEXT(spreedResult.!K123,\"MM\")&TEXT(spreedResult.!K123,\"DD\"),\"\")","v":""},null,null,{"$f":"IF(spreedResult.!$E123<>\"\",spreedResult.!$C$10,\"\")","v":""},{"$f":"IF(spreedResult.!$E123<>\"\",spreedResult.!$C$9,\"\")","v":""},{"$f":"IF(spreedResult.!L123<>\"\",spreedResult.!L123,\"\")","v":""},{"$f":"IF(spreedResult.!G123<>\"\",IF(spreedResult.!$H$8=\"左記ご住所に送付\",\"2\",\"\"),\"\")","v":""},{"$nulls":8},"",null,"",null,{"$f":"IF(ISNUMBER(AE112),\"1\",\"\")","v":""},null,{"$f":"IF(ISNUMBER(AG112),\"1\",\"\")","v":""},null,{"$f":"IF(ISNUMBER(AI112),\"1\",\"\")","v":""},null,{"$f":"IF(ISNUMBER(AK112),\"1\",\"\")","v":""},null,{"$f":"IF(ISNUMBER(AM112),\"1\",\"\")","v":""},null,{"$f":"IF(ISNUMBER(AO112),\"1\",\"\")","v":""},null,{"$f":"IF(ISNUMBER(AQ112),\"1\",\"\")","v":""},null,{"$f":"IF(ISNUMBER(AS112),\"1\",\"\")","v":""}]
[null,{"$f":"IF(spreedResult.!B124<>\"\",TEXT(spreedResult.!B124,\"YYYY\")&TEXT(spreedResult.!B124,\"MM\")&TEXT(spreedResult.!B124,\"DD\"),\"\")","v":""},{"$f":"IF(spreedResult.!C124<>\"\",VLOOKUP(spreedResult.!C124,spreedResult.!$AT$2:$AU$12,2,0),\"\")","v":""},{"$nulls":4},{"$f":"IF(spreedResult.!O124<>\"\",VLOOKUP(spreedResult.!O124,Course!$A$2:$B$612,2,0),\"\")","v":""},null,{"$f":"CONCATENATE(TRIM(ASC(spreedResult.!E124)),\" \",TRIM(ASC(spreedResult.!F124)))","v":" "},{"$f":"CONCATENATE(TRIM(spreedResult.!G124),\"　\",TRIM(spreedResult.!H124))","v":"　"},{"$f":"IFERROR(VLOOKUP(spreedResult.!J124,spreedResult.!$AW$4:$AX$5,2,0),\"\")","v":""},{"$f":"IF(spreedResult.!K124<>\"\",TEXT(spreedResult.!K124,\"YYYY\")&TEXT(spreedResult.!K124,\"MM\")&TEXT(spreedResult.!K124,\"DD\"),\"\")","v":""},null,null,{"$f":"IF(spreedResult.!$E124<>\"\",spreedResult.!$C$10,\"\")","v":""},{"$f":"IF(spreedResult.!$E124<>\"\",spreedResult.!$C$9,\"\")","v":""},{"$f":"IF(spreedResult.!L124<>\"\",spreedResult.!L124,\"\")","v":""},{"$f":"IF(spreedResult.!G124<>\"\",IF(spreedResult.!$H$8=\"左記ご住所に送付\",\"2\",\"\"),\"\")","v":""},{"$nulls":8},"",null,"",null,{"$f":"IF(ISNUMBER(AE113),\"1\",\"\")","v":""},null,{"$f":"IF(ISNUMBER(AG113),\"1\",\"\")","v":""},null,{"$f":"IF(ISNUMBER(AI113),\"1\",\"\")","v":""},null,{"$f":"IF(ISNUMBER(AK113),\"1\",\"\")","v":""},null,{"$f":"IF(ISNUMBER(AM113),\"1\",\"\")","v":""},null,{"$f":"IF(ISNUMBER(AO113),\"1\",\"\")","v":""},null,{"$f":"IF(ISNUMBER(AQ113),\"1\",\"\")","v":""},null,{"$f":"IF(ISNUMBER(AS113),\"1\",\"\")","v":""}]
[null,{"$f":"IF(spreedResult.!B125<>\"\",TEXT(spreedResult.!B125,\"YYYY\")&TEXT(spreedResult.!B125,\"MM\")&TEXT(spreedResult.!B125,\"DD\"),\"\")","v":""},{"$f":"IF(spreedResult.!C125<>\"\",VLOOKUP(spreedResult.!C125,spreedResult.!$AT$2:$AU$12,2,0),\"\")","v":""},{"$nulls":4},{"$f":"IF(spreedResult.!O125<>\"\",VLOOKUP(spreedResult.!O125,Course!$A$2:$B$612,2,0),\"\")","v":""},null,{"$f":"CONCATENATE(TRIM(ASC(spreedResult.!E125)),\" \",TRIM(ASC(spreedResult.!F125)))","v":" "},{"$f":"CONCATENATE(TRIM(spreedResult.!G125),\"　\",TRIM(spreedResult.!H125))","v":"　"},{"$f":"IFERROR(VLOOKUP(spreedResult.!J125,spreedResult.!$AW$4:$AX$5,2,0),\"\")","v":""},{"$f":"IF(spreedResult.!K125<>\"\",TEXT(spreedResult.!K125,\"YYYY\")&TEXT(spreedResult.!K125,\"MM\")&TEXT(spreedResult.!K125,\"DD\"),\"\")","v":""},null,null,{"$f":"IF(spreedResult.!$E125<>\"\",spreedResult.!$C$10,\"\")","v":""},{"$f":"IF(spreedResult.!$E125<>\"\",spreedResult.!$C$9,\"\")","v":""},{"$f":"IF(spreedResult.!L125<>\"\",spreedResult.!L125,\"\")","v":""},{"$f":"IF(spreedResult.!G125<>\"\",IF(spreedResult.!$H$8=\"左記ご住所に送付\",\"2\",\"\"),\"\")","v":""},{"$nulls":8},"",null,"",null,{"$f":"IF(ISNUMBER(AE114),\"1\",\"\")","v":""},null,{"$f":"IF(ISNUMBER(AG114),\"1\",\"\")","v":""},null,{"$f":"IF(ISNUMBER(AI114),\"1\",\"\")","v":""},null,{"$f":"IF(ISNUMBER(AK114),\"1\",\"\")","v":""},null,{"$f":"IF(ISNUMBER(AM114),\"1\",\"\")","v":""},null,{"$f":"IF(ISNUMBER(AO114),\"1\",\"\")","v":""},null,{"$f":"IF(ISNUMBER(AQ114),\"1\",\"\")","v":""},null,{"$f":"IF(ISNUMBER(AS114),\"1\",\"\")","v":""}]
[null,{"$f":"IF(spreedResult.!B126<>\"\",TEXT(spreedResult.!B126,\"YYYY\")&TEXT(spreedResult.!B126,\"MM\")&TEXT(spreedResult.!B126,\"DD\"),\"\")","v":""},{"$f":"IF(spreedResult.!C126<>\"\",VLOOKUP(spreedResult.!C126,spreedResult.!$AT$2:$AU$12,2,0),\"\")","v":""},{"$nulls":4},{"$f":"IF(spreedResult.!O126<>\"\",VLOOKUP(spreedResult.!O126,Course!$A$2:$B$612,2,0),\"\")","v":""},null,{"$f":"CONCATENATE(TRIM(ASC(spreedResult.!E126)),\" \",TRIM(ASC(spreedResult.!F126)))","v":" "},{"$f":"CONCATENATE(TRIM(spreedResult.!G126),\"　\",TRIM(spreedResult.!H126))","v":"　"},{"$f":"IFERROR(VLOOKUP(spreedResult.!J126,spreedResult.!$AW$4:$AX$5,2,0),\"\")","v":""},{"$f":"IF(spreedResult.!K126<>\"\",TEXT(spreedResult.!K126,\"YYYY\")&TEXT(spreedResult.!K126,\"MM\")&TEXT(spreedResult.!K126,\"DD\"),\"\")","v":""},null,null,{"$f":"IF(spreedResult.!$E126<>\"\",spreedResult.!$C$10,\"\")","v":""},{"$f":"IF(spreedResult.!$E126<>\"\",spreedResult.!$C$9,\"\")","v":""},{"$f":"IF(spreedResult.!L126<>\"\",spreedResult.!L126,\"\")","v":""},{"$f":"IF(spreedResult.!G126<>\"\",IF(spreedResult.!$H$8=\"左記ご住所に送付\",\"2\",\"\"),\"\")","v":""},{"$nulls":8},"",null,"",null,{"$f":"IF(ISNUMBER(AE115),\"1\",\"\")","v":""},null,{"$f":"IF(ISNUMBER(AG115),\"1\",\"\")","v":""},null,{"$f":"IF(ISNUMBER(AI115),\"1\",\"\")","v":""},null,{"$f":"IF(ISNUMBER(AK115),\"1\",\"\")","v":""},null,{"$f":"IF(ISNUMBER(AM115),\"1\",\"\")","v":""},null,{"$f":"IF(ISNUMBER(AO115),\"1\",\"\")","v":""},null,{"$f":"IF(ISNUMBER(AQ115),\"1\",\"\")","v":""},null,{"$f":"IF(ISNUMBER(AS115),\"1\",\"\")","v":""}]
[null,{"$f":"IF(spreedResult.!B127<>\"\",TEXT(spreedResult.!B127,\"YYYY\")&TEXT(spreedResult.!B127,\"MM\")&TEXT(spreedResult.!B127,\"DD\"),\"\")","v":""},{"$f":"IF(spreedResult.!C127<>\"\",VLOOKUP(spreedResult.!C127,spreedResult.!$AT$2:$AU$12,2,0),\"\")","v":""},{"$nulls":4},{"$f":"IF(spreedResult.!O127<>\"\",VLOOKUP(spreedResult.!O127,Course!$A$2:$B$612,2,0),\"\")","v":""},null,{"$f":"CONCATENATE(TRIM(ASC(spreedResult.!E127)),\" \",TRIM(ASC(spreedResult.!F127)))","v":" "},{"$f":"CONCATENATE(TRIM(spreedResult.!G127),\"　\",TRIM(spreedResult.!H127))","v":"　"},{"$f":"IFERROR(VLOOKUP(spreedResult.!J127,spreedResult.!$AW$4:$AX$5,2,0),\"\")","v":""},{"$f":"IF(spreedResult.!K127<>\"\",TEXT(spreedResult.!K127,\"YYYY\")&TEXT(spreedResult.!K127,\"MM\")&TEXT(spreedResult.!K127,\"DD\"),\"\")","v":""},null,null,{"$f":"IF(spreedResult.!$E127<>\"\",spreedResult.!$C$10,\"\")","v":""},{"$f":"IF(spreedResult.!$E127<>\"\",spreedResult.!$C$9,\"\")","v":""},{"$f":"IF(spreedResult.!L127<>\"\",spreedResult.!L127,\"\")","v":""},{"$f":"IF(spreedResult.!G127<>\"\",IF(spreedResult.!$H$8=\"左記ご住所に送付\",\"2\",\"\"),\"\")","v":""},{"$nulls":8},"",null,"",null,{"$f":"IF(ISNUMBER(AE116),\"1\",\"\")","v":""},null,{"$f":"IF(ISNUMBER(AG116),\"1\",\"\")","v":""},null,{"$f":"IF(ISNUMBER(AI116),\"1\",\"\")","v":""},null,{"$f":"IF(ISNUMBER(AK116),\"1\",\"\")","v":""},null,{"$f":"IF(ISNUMBER(AM116),\"1\",\"\")","v":""},null,{"$f":"IF(ISNUMBER(AO116),\"1\",\"\")","v":""},null,{"$f":"IF(ISNUMBER(AQ116),\"1\",\"\")","v":""},null,{"$f":"IF(ISNUMBER(AS116),\"1\",\"\")","v":""}]
[null,{"$f":"IF(spreedResult.!B128<>\"\",TEXT(spreedResult.!B128,\"YYYY\")&TEXT(spreedResult.!B128,\"MM\")&TEXT(spreedResult.!B128,\"DD\"),\"\")","v":""},{"$f":"IF(spreedResult.!C128<>\"\",VLOOKUP(spreedResult.!C128,spreedResult.!$AT$2:$AU$12,2,0),\"\")","v":""},{"$nulls":4},{"$f":"IF(spreedResult.!O128<>\"\",VLOOKUP(spreedResult.!O128,Course!$A$2:$B$612,2,0),\"\")","v":""},null,{"$f":"CONCATENATE(TRIM(ASC(spreedResult.!E128)),\" \",TRIM(ASC(spreedResult.!F128)))","v":" "},{"$f":"CONCATENATE(TRIM(spreedResult.!G128),\"　\",TRIM(spreedResult.!H128))","v":"　"},{"$f":"IFERROR(VLOOKUP(spreedResult.!J128,spreedResult.!$AW$4:$AX$5,2,0),\"\")","v":""},{"$f":"IF(spreedResult.!K128<>\"\",TEXT(spreedResult.!K128,\"YYYY\")&TEXT(spreedResult.!K128,\"MM\")&TEXT(spreedResult.!K128,\"DD\"),\"\")","v":""},null,null,{"$f":"IF(spreedResult.!$E128<>\"\",spreedResult.!$C$10,\"\")","v":""},{"$f":"IF(spreedResult.!$E128<>\"\",spreedResult.!$C$9,\"\")","v":""},{"$f":"IF(spreedResult.!L128<>\"\",spreedResult.!L128,\"\")","v":""},{"$f":"IF(spreedResult.!G128<>\"\",IF(spreedResult.!$H$8=\"左記ご住所に送付\",\"2\",\"\"),\"\")","v":""},{"$nulls":8},"",null,"",null,{"$f":"IF(ISNUMBER(AE117),\"1\",\"\")","v":""},null,{"$f":"IF(ISNUMBER(AG117),\"1\",\"\")","v":""},null,{"$f":"IF(ISNUMBER(AI117),\"1\",\"\")","v":""},null,{"$f":"IF(ISNUMBER(AK117),\"1\",\"\")","v":""},null,{"$f":"IF(ISNUMBER(AM117),\"1\",\"\")","v":""},null,{"$f":"IF(ISNUMBER(AO117),\"1\",\"\")","v":""},null,{"$f":"IF(ISNUMBER(AQ117),\"1\",\"\")","v":""},null,{"$f":"IF(ISNUMBER(AS117),\"1\",\"\")","v":""}]
[null,{"$f":"IF(spreedResult.!B129<>\"\",TEXT(spreedResult.!B129,\"YYYY\")&TEXT(spreedResult.!B129,\"MM\")&TEXT(spreedResult.!B129,\"DD\"),\"\")","v":""},{"$f":"IF(spreedResult.!C129<>\"\",VLOOKUP(spreedResult.!C129,spreedResult.!$AT$2:$AU$12,2,0),\"\")","v":""},{"$nulls":4},{"$f":"IF(spreedResult.!O129<>\"\",VLOOKUP(spreedResult.!O129,Course!$A$2:$B$612,2,0),\"\")","v":""},null,{"$f":"CONCATENATE(TRIM(ASC(spreedResult.!E129)),\" \",TRIM(ASC(spreedResult.!F129)))","v":" "},{"$f":"CONCATENATE(TRIM(spreedResult.!G129),\"　\",TRIM(spreedResult.!H129))","v":"　"},{"$f":"IFERROR(VLOOKUP(spreedResult.!J129,spreedResult.!$AW$4:$AX$5,2,0),\"\")","v":""},{"$f":"IF(spreedResult.!K129<>\"\",TEXT(spreedResult.!K129,\"YYYY\")&TEXT(spreedResult.!K129,\"MM\")&TEXT(spreedResult.!K129,\"DD\"),\"\")","v":""},null,null,{"$f":"IF(spreedResult.!$E129<>\"\",spreedResult.!$C$10,\"\")","v":""},{"$f":"IF(spreedResult.!$E129<>\"\",spreedResult.!$C$9,\"\")","v":""},{"$f":"IF(spreedResult.!L129<>\"\",spreedResult.!L129,\"\")","v":""},{"$f":"IF(spreedResult.!G129<>\"\",IF(spreedResult.!$H$8=\"左記ご住所に送付\",\"2\",\"\"),\"\")","v":""},{"$nulls":8},"",null,"",null,{"$f":"IF(ISNUMBER(AE118),\"1\",\"\")","v":""},null,{"$f":"IF(ISNUMBER(AG118),\"1\",\"\")","v":""},null,{"$f":"IF(ISNUMBER(AI118),\"1\",\"\")","v":""},null,{"$f":"IF(ISNUMBER(AK118),\"1\",\"\")","v":""},null,{"$f":"IF(ISNUMBER(AM118),\"1\",\"\")","v":""},null,{"$f":"IF(ISNUMBER(AO118),\"1\",\"\")","v":""},null,{"$f":"IF(ISNUMBER(AQ118),\"1\",\"\")","v":""},null,{"$f":"IF(ISNUMBER(AS118),\"1\",\"\")","v":""}]
[null,{"$f":"IF(spreedResult.!B130<>\"\",TEXT(spreedResult.!B130,\"YYYY\")&TEXT(spreedResult.!B130,\"MM\")&TEXT(spreedResult.!B130,\"DD\"),\"\")","v":""},{"$f":"IF(spreedResult.!C130<>\"\",VLOOKUP(spreedResult.!C130,spreedResult.!$AT$2:$AU$12,2,0),\"\")","v":""},{"$nulls":4},{"$f":"IF(spreedResult.!O130<>\"\",VLOOKUP(spreedResult.!O130,Course!$A$2:$B$612,2,0),\"\")","v":""},null,{"$f":"CONCATENATE(TRIM(ASC(spreedResult.!E130)),\" \",TRIM(ASC(spreedResult.!F130)))","v":" "},{"$f":"CONCATENATE(TRIM(spreedResult.!G130),\"　\",TRIM(spreedResult.!H130))","v":"　"},{"$f":"IFERROR(VLOOKUP(spreedResult.!J130,spreedResult.!$AW$4:$AX$5,2,0),\"\")","v":""},{"$f":"IF(spreedResult.!K130<>\"\",TEXT(spreedResult.!K130,\"YYYY\")&TEXT(spreedResult.!K130,\"MM\")&TEXT(spreedResult.!K130,\"DD\"),\"\")","v":""},null,null,{"$f":"IF(spreedResult.!$E130<>\"\",spreedResult.!$C$10,\"\")","v":""},{"$f":"IF(spreedResult.!$E130<>\"\",spreedResult.!$C$9,\"\")","v":""},{"$f":"IF(spreedResult.!L130<>\"\",spreedResult.!L130,\"\")","v":""},{"$f":"IF(spreedResult.!G130<>\"\",IF(spreedResult.!$H$8=\"左記ご住所に送付\",\"2\",\"\"),\"\")","v":""},{"$nulls":8},"",null,"",null,{"$f":"IF(ISNUMBER(AE119),\"1\",\"\")","v":""},null,{"$f":"IF(ISNUMBER(AG119),\"1\",\"\")","v":""},null,{"$f":"IF(ISNUMBER(AI119),\"1\",\"\")","v":""},null,{"$f":"IF(ISNUMBER(AK119),\"1\",\"\")","v":""},null,{"$f":"IF(ISNUMBER(AM119),\"1\",\"\")","v":""},null,{"$f":"IF(ISNUMBER(AO119),\"1\",\"\")","v":""},null,{"$f":"IF(ISNUMBER(AQ119),\"1\",\"\")","v":""},null,{"$f":"IF(ISNUMBER(AS119),\"1\",\"\")","v":""}]
[null,{"$f":"IF(spreedResult.!B131<>\"\",TEXT(spreedResult.!B131,\"YYYY\")&TEXT(spreedResult.!B131,\"MM\")&TEXT(spreedResult.!B131,\"DD\"),\"\")","v":""},{"$f":"IF(spreedResult.!C131<>\"\",VLOOKUP(spreedResult.!C131,spreedResult.!$AT$2:$AU$12,2,0),\"\")","v":""},{"$nulls":4},{"$f":"IF(spreedResult.!O131<>\"\",VLOOKUP(spreedResult.!O131,Course!$A$2:$B$612,2,0),\"\")","v":""},null,{"$f":"CONCATENATE(TRIM(ASC(spreedResult.!E131)),\" \",TRIM(ASC(spreedResult.!F131)))","v":" "},{"$f":"CONCATENATE(TRIM(spreedResult.!G131),\"　\",TRIM(spreedResult.!H131))","v":"　"},{"$f":"IFERROR(VLOOKUP(spreedResult.!J131,spreedResult.!$AW$4:$AX$5,2,0),\"\")","v":""},{"$f":"IF(spreedResult.!K131<>\"\",TEXT(spreedResult.!K131,\"YYYY\")&TEXT(spreedResult.!K131,\"MM\")&TEXT(spreedResult.!K131,\"DD\"),\"\")","v":""},null,null,{"$f":"IF(spreedResult.!$E131<>\"\",spreedResult.!$C$10,\"\")","v":""},{"$f":"IF(spreedResult.!$E131<>\"\",spreedResult.!$C$9,\"\")","v":""},{"$f":"IF(spreedResult.!L131<>\"\",spreedResult.!L131,\"\")","v":""},{"$f":"IF(spreedResult.!G131<>\"\",IF(spreedResult.!$H$8=\"左記ご住所に送付\",\"2\",\"\"),\"\")","v":""},{"$nulls":8},"",null,"",null,{"$f":"IF(ISNUMBER(AE120),\"1\",\"\")","v":""},null,{"$f":"IF(ISNUMBER(AG120),\"1\",\"\")","v":""},null,{"$f":"IF(ISNUMBER(AI120),\"1\",\"\")","v":""},null,{"$f":"IF(ISNUMBER(AK120),\"1\",\"\")","v":""},null,{"$f":"IF(ISNUMBER(AM120),\"1\",\"\")","v":""},null,{"$f":"IF(ISNUMBER(AO120),\"1\",\"\")","v":""},null,{"$f":"IF(ISNUMBER(AQ120),\"1\",\"\")","v":""},null,{"$f":"IF(ISNUMBER(AS120),\"1\",\"\")","v":""}]
[null,{"$f":"IF(spreedResult.!B132<>\"\",TEXT(spreedResult.!B132,\"YYYY\")&TEXT(spreedResult.!B132,\"MM\")&TEXT(spreedResult.!B132,\"DD\"),\"\")","v":""},{"$f":"IF(spreedResult.!C132<>\"\",VLOOKUP(spreedResult.!C132,spreedResult.!$AT$2:$AU$12,2,0),\"\")","v":""},{"$nulls":4},{"$f":"IF(spreedResult.!O132<>\"\",VLOOKUP(spreedResult.!O132,Course!$A$2:$B$612,2,0),\"\")","v":""},null,{"$f":"CONCATENATE(TRIM(ASC(spreedResult.!E132)),\" \",TRIM(ASC(spreedResult.!F132)))","v":" "},{"$f":"CONCATENATE(TRIM(spreedResult.!G132),\"　\",TRIM(spreedResult.!H132))","v":"　"},{"$f":"IFERROR(VLOOKUP(spreedResult.!J132,spreedResult.!$AW$4:$AX$5,2,0),\"\")","v":""},{"$f":"IF(spreedResult.!K132<>\"\",TEXT(spreedResult.!K132,\"YYYY\")&TEXT(spreedResult.!K132,\"MM\")&TEXT(spreedResult.!K132,\"DD\"),\"\")","v":""},null,null,{"$f":"IF(spreedResult.!$E132<>\"\",spreedResult.!$C$10,\"\")","v":""},{"$f":"IF(spreedResult.!$E132<>\"\",spreedResult.!$C$9,\"\")","v":""},{"$f":"IF(spreedResult.!L132<>\"\",spreedResult.!L132,\"\")","v":""},{"$f":"IF(spreedResult.!G132<>\"\",IF(spreedResult.!$H$8=\"左記ご住所に送付\",\"2\",\"\"),\"\")","v":""},{"$nulls":8},"",null,"",null,{"$f":"IF(ISNUMBER(AE121),\"1\",\"\")","v":""},null,{"$f":"IF(ISNUMBER(AG121),\"1\",\"\")","v":""},null,{"$f":"IF(ISNUMBER(AI121),\"1\",\"\")","v":""},null,{"$f":"IF(ISNUMBER(AK121),\"1\",\"\")","v":""},null,{"$f":"IF(ISNUMBER(AM121),\"1\",\"\")","v":""},null,{"$f":"IF(ISNUMBER(AO121),\"1\",\"\")","v":""},null,{"$f":"IF(ISNUMBER(AQ121),\"1\",\"\")","v":""},null,{"$f":"IF(ISNUMBER(AS121),\"1\",\"\")","v":""}]
[null,{"$f":"IF(spreedResult.!B133<>\"\",TEXT(spreedResult.!B133,\"YYYY\")&TEXT(spreedResult.!B133,\"MM\")&TEXT(spreedResult.!B133,\"DD\"),\"\")","v":""},{"$f":"IF(spreedResult.!C133<>\"\",VLOOKUP(spreedResult.!C133,spreedResult.!$AT$2:$AU$12,2,0),\"\")","v":""},{"$nulls":4},{"$f":"IF(spreedResult.!O133<>\"\",VLOOKUP(spreedResult.!O133,Course!$A$2:$B$612,2,0),\"\")","v":""},null,{"$f":"CONCATENATE(TRIM(ASC(spreedResult.!E133)),\" \",TRIM(ASC(spreedResult.!F133)))","v":" "},{"$f":"CONCATENATE(TRIM(spreedResult.!G133),\"　\",TRIM(spreedResult.!H133))","v":"　"},{"$f":"IFERROR(VLOOKUP(spreedResult.!J133,spreedResult.!$AW$4:$AX$5,2,0),\"\")","v":""},{"$f":"IF(spreedResult.!K133<>\"\",TEXT(spreedResult.!K133,\"YYYY\")&TEXT(spreedResult.!K133,\"MM\")&TEXT(spreedResult.!K133,\"DD\"),\"\")","v":""},null,null,{"$f":"IF(spreedResult.!$E133<>\"\",spreedResult.!$C$10,\"\")","v":""},{"$f":"IF(spreedResult.!$E133<>\"\",spreedResult.!$C$9,\"\")","v":""},{"$f":"IF(spreedResult.!L133<>\"\",spreedResult.!L133,\"\")","v":""},{"$f":"IF(spreedResult.!G133<>\"\",IF(spreedResult.!$H$8=\"左記ご住所に送付\",\"2\",\"\"),\"\")","v":""},{"$nulls":8},"",null,"",null,{"$f":"IF(ISNUMBER(AE122),\"1\",\"\")","v":""},null,{"$f":"IF(ISNUMBER(AG122),\"1\",\"\")","v":""},null,{"$f":"IF(ISNUMBER(AI122),\"1\",\"\")","v":""},null,{"$f":"IF(ISNUMBER(AK122),\"1\",\"\")","v":""},null,{"$f":"IF(ISNUMBER(AM122),\"1\",\"\")","v":""},null,{"$f":"IF(ISNUMBER(AO122),\"1\",\"\")","v":""},null,{"$f":"IF(ISNUMBER(AQ122),\"1\",\"\")","v":""},null,{"$f":"IF(ISNUMBER(AS122),\"1\",\"\")","v":""}]
[null,{"$f":"IF(spreedResult.!B134<>\"\",TEXT(spreedResult.!B134,\"YYYY\")&TEXT(spreedResult.!B134,\"MM\")&TEXT(spreedResult.!B134,\"DD\"),\"\")","v":""},{"$f":"IF(spreedResult.!C134<>\"\",VLOOKUP(spreedResult.!C134,spreedResult.!$AT$2:$AU$12,2,0),\"\")","v":""},{"$nulls":4},{"$f":"IF(spreedResult.!O134<>\"\",VLOOKUP(spreedResult.!O134,Course!$A$2:$B$612,2,0),\"\")","v":""},null,{"$f":"CONCATENATE(TRIM(ASC(spreedResult.!E134)),\" \",TRIM(ASC(spreedResult.!F134)))","v":" "},{"$f":"CONCATENATE(TRIM(spreedResult.!G134),\"　\",TRIM(spreedResult.!H134))","v":"　"},{"$f":"IFERROR(VLOOKUP(spreedResult.!J134,spreedResult.!$AW$4:$AX$5,2,0),\"\")","v":""},{"$f":"IF(spreedResult.!K134<>\"\",TEXT(spreedResult.!K134,\"YYYY\")&TEXT(spreedResult.!K134,\"MM\")&TEXT(spreedResult.!K134,\"DD\"),\"\")","v":""},null,null,{"$f":"IF(spreedResult.!$E134<>\"\",spreedResult.!$C$10,\"\")","v":""},{"$f":"IF(spreedResult.!$E134<>\"\",spreedResult.!$C$9,\"\")","v":""},{"$f":"IF(spreedResult.!L134<>\"\",spreedResult.!L134,\"\")","v":""},{"$f":"IF(spreedResult.!G134<>\"\",IF(spreedResult.!$H$8=\"左記ご住所に送付\",\"2\",\"\"),\"\")","v":""},{"$nulls":8},"",null,"",null,{"$f":"IF(ISNUMBER(AE123),\"1\",\"\")","v":""},null,{"$f":"IF(ISNUMBER(AG123),\"1\",\"\")","v":""},null,{"$f":"IF(ISNUMBER(AI123),\"1\",\"\")","v":""},null,{"$f":"IF(ISNUMBER(AK123),\"1\",\"\")","v":""},null,{"$f":"IF(ISNUMBER(AM123),\"1\",\"\")","v":""},null,{"$f":"IF(ISNUMBER(AO123),\"1\",\"\")","v":""},null,{"$f":"IF(ISNUMBER(AQ123),\"1\",\"\")","v":""},null,{"$f":"IF(ISNUMBER(AS123),\"1\",\"\")","v":""}]
[null,{"$f":"IF(spreedResult.!B135<>\"\",TEXT(spreedResult.!B135,\"YYYY\")&TEXT(spreedResult.!B135,\"MM\")&TEXT(spreedResult.!B135,\"DD\"),\"\")","v":""},{"$f":"IF(spreedResult.!C135<>\"\",VLOOKUP(spreedResult.!C135,spreedResult.!$AT$2:$AU$12,2,0),\"\")","v":""},{"$nulls":4},{"$f":"IF(spreedResult.!O135<>\"\",VLOOKUP(spreedResult.!O135,Course!$A$2:$B$612,2,0),\"\")","v":""},null,{"$f":"CONCATENATE(TRIM(ASC(spreedResult.!E135)),\" \",TRIM(ASC(spreedResult.!F135)))","v":" "},{"$f":"CONCATENATE(TRIM(spreedResult.!G135),\"　\",TRIM(spreedResult.!H135))","v":"　"},{"$f":"IFERROR(VLOOKUP(spreedResult.!J135,spreedResult.!$AW$4:$AX$5,2,0),\"\")","v":""},{"$f":"IF(spreedResult.!K135<>\"\",TEXT(spreedResult.!K135,\"YYYY\")&TEXT(spreedResult.!K135,\"MM\")&TEXT(spreedResult.!K135,\"DD\"),\"\")","v":""},null,null,{"$f":"IF(spreedResult.!$E135<>\"\",spreedResult.!$C$10,\"\")","v":""},{"$f":"IF(spreedResult.!$E135<>\"\",spreedResult.!$C$9,\"\")","v":""},{"$f":"IF(spreedResult.!L135<>\"\",spreedResult.!L135,\"\")","v":""},{"$f":"IF(spreedResult.!G135<>\"\",IF(spreedResult.!$H$8=\"左記ご住所に送付\",\"2\",\"\"),\"\")","v":""},{"$nulls":8},"",null,"",null,{"$f":"IF(ISNUMBER(AE124),\"1\",\"\")","v":""},null,{"$f":"IF(ISNUMBER(AG124),\"1\",\"\")","v":""},null,{"$f":"IF(ISNUMBER(AI124),\"1\",\"\")","v":""},null,{"$f":"IF(ISNUMBER(AK124),\"1\",\"\")","v":""},null,{"$f":"IF(ISNUMBER(AM124),\"1\",\"\")","v":""},null,{"$f":"IF(ISNUMBER(AO124),\"1\",\"\")","v":""},null,{"$f":"IF(ISNUMBER(AQ124),\"1\",\"\")","v":""},null,{"$f":"IF(ISNUMBER(AS124),\"1\",\"\")","v":""}]
[null,{"$f":"IF(spreedResult.!B136<>\"\",TEXT(spreedResult.!B136,\"YYYY\")&TEXT(spreedResult.!B136,\"MM\")&TEXT(spreedResult.!B136,\"DD\"),\"\")","v":""},{"$f":"IF(spreedResult.!C136<>\"\",VLOOKUP(spreedResult.!C136,spreedResult.!$AT$2:$AU$12,2,0),\"\")","v":""},{"$nulls":4},{"$f":"IF(spreedResult.!O136<>\"\",VLOOKUP(spreedResult.!O136,Course!$A$2:$B$612,2,0),\"\")","v":""},null,{"$f":"CONCATENATE(TRIM(ASC(spreedResult.!E136)),\" \",TRIM(ASC(spreedResult.!F136)))","v":" "},{"$f":"CONCATENATE(TRIM(spreedResult.!G136),\"　\",TRIM(spreedResult.!H136))","v":"　"},{"$f":"IFERROR(VLOOKUP(spreedResult.!J136,spreedResult.!$AW$4:$AX$5,2,0),\"\")","v":""},{"$f":"IF(spreedResult.!K136<>\"\",TEXT(spreedResult.!K136,\"YYYY\")&TEXT(spreedResult.!K136,\"MM\")&TEXT(spreedResult.!K136,\"DD\"),\"\")","v":""},null,null,{"$f":"IF(spreedResult.!$E136<>\"\",spreedResult.!$C$10,\"\")","v":""},{"$f":"IF(spreedResult.!$E136<>\"\",spreedResult.!$C$9,\"\")","v":""},{"$f":"IF(spreedResult.!L136<>\"\",spreedResult.!L136,\"\")","v":""},{"$f":"IF(spreedResult.!G136<>\"\",IF(spreedResult.!$H$8=\"左記ご住所に送付\",\"2\",\"\"),\"\")","v":""},{"$nulls":8},"",null,"",null,{"$f":"IF(ISNUMBER(AE125),\"1\",\"\")","v":""},null,{"$f":"IF(ISNUMBER(AG125),\"1\",\"\")","v":""},null,{"$f":"IF(ISNUMBER(AI125),\"1\",\"\")","v":""},null,{"$f":"IF(ISNUMBER(AK125),\"1\",\"\")","v":""},null,{"$f":"IF(ISNUMBER(AM125),\"1\",\"\")","v":""},null,{"$f":"IF(ISNUMBER(AO125),\"1\",\"\")","v":""},null,{"$f":"IF(ISNUMBER(AQ125),\"1\",\"\")","v":""},null,{"$f":"IF(ISNUMBER(AS125),\"1\",\"\")","v":""}]
[null,{"$f":"IF(spreedResult.!B137<>\"\",TEXT(spreedResult.!B137,\"YYYY\")&TEXT(spreedResult.!B137,\"MM\")&TEXT(spreedResult.!B137,\"DD\"),\"\")","v":""},{"$f":"IF(spreedResult.!C137<>\"\",VLOOKUP(spreedResult.!C137,spreedResult.!$AT$2:$AU$12,2,0),\"\")","v":""},{"$nulls":4},{"$f":"IF(spreedResult.!O137<>\"\",VLOOKUP(spreedResult.!O137,Course!$A$2:$B$612,2,0),\"\")","v":""},null,{"$f":"CONCATENATE(TRIM(ASC(spreedResult.!E137)),\" \",TRIM(ASC(spreedResult.!F137)))","v":" "},{"$f":"CONCATENATE(TRIM(spreedResult.!G137),\"　\",TRIM(spreedResult.!H137))","v":"　"},{"$f":"IFERROR(VLOOKUP(spreedResult.!J137,spreedResult.!$AW$4:$AX$5,2,0),\"\")","v":""},{"$f":"IF(spreedResult.!K137<>\"\",TEXT(spreedResult.!K137,\"YYYY\")&TEXT(spreedResult.!K137,\"MM\")&TEXT(spreedResult.!K137,\"DD\"),\"\")","v":""},null,null,{"$f":"IF(spreedResult.!$E137<>\"\",spreedResult.!$C$10,\"\")","v":""},{"$f":"IF(spreedResult.!$E137<>\"\",spreedResult.!$C$9,\"\")","v":""},{"$f":"IF(spreedResult.!L137<>\"\",spreedResult.!L137,\"\")","v":""},{"$f":"IF(spreedResult.!G137<>\"\",IF(spreedResult.!$H$8=\"左記ご住所に送付\",\"2\",\"\"),\"\")","v":""},{"$nulls":8},"",null,"",null,{"$f":"IF(ISNUMBER(AE126),\"1\",\"\")","v":""},null,{"$f":"IF(ISNUMBER(AG126),\"1\",\"\")","v":""},null,{"$f":"IF(ISNUMBER(AI126),\"1\",\"\")","v":""},null,{"$f":"IF(ISNUMBER(AK126),\"1\",\"\")","v":""},null,{"$f":"IF(ISNUMBER(AM126),\"1\",\"\")","v":""},null,{"$f":"IF(ISNUMBER(AO126),\"1\",\"\")","v":""},null,{"$f":"IF(ISNUMBER(AQ126),\"1\",\"\")","v":""},null,{"$f":"IF(ISNUMBER(AS126),\"1\",\"\")","v":""}]
[null,{"$f":"IF(spreedResult.!B138<>\"\",TEXT(spreedResult.!B138,\"YYYY\")&TEXT(spreedResult.!B138,\"MM\")&TEXT(spreedResult.!B138,\"DD\"),\"\")","v":""},{"$f":"IF(spreedResult.!C138<>\"\",VLOOKUP(spreedResult.!C138,spreedResult.!$AT$2:$AU$12,2,0),\"\")","v":""},{"$nulls":4},{"$f":"IF(spreedResult.!O138<>\"\",VLOOKUP(spreedResult.!O138,Course!$A$2:$B$612,2,0),\"\")","v":""},null,{"$f":"CONCATENATE(TRIM(ASC(spreedResult.!E138)),\" \",TRIM(ASC(spreedResult.!F138)))","v":" "},{"$f":"CONCATENATE(TRIM(spreedResult.!G138),\"　\",TRIM(spreedResult.!H138))","v":"　"},{"$f":"IFERROR(VLOOKUP(spreedResult.!J138,spreedResult.!$AW$4:$AX$5,2,0),\"\")","v":""},{"$f":"IF(spreedResult.!K138<>\"\",TEXT(spreedResult.!K138,\"YYYY\")&TEXT(spreedResult.!K138,\"MM\")&TEXT(spreedResult.!K138,\"DD\"),\"\")","v":""},null,null,{"$f":"IF(spreedResult.!$E138<>\"\",spreedResult.!$C$10,\"\")","v":""},{"$f":"IF(spreedResult.!$E138<>\"\",spreedResult.!$C$9,\"\")","v":""},{"$f":"IF(spreedResult.!L138<>\"\",spreedResult.!L138,\"\")","v":""},{"$f":"IF(spreedResult.!G138<>\"\",IF(spreedResult.!$H$8=\"左記ご住所に送付\",\"2\",\"\"),\"\")","v":""},{"$nulls":8},"",null,"",null,{"$f":"IF(ISNUMBER(AE127),\"1\",\"\")","v":""},null,{"$f":"IF(ISNUMBER(AG127),\"1\",\"\")","v":""},null,{"$f":"IF(ISNUMBER(AI127),\"1\",\"\")","v":""},null,{"$f":"IF(ISNUMBER(AK127),\"1\",\"\")","v":""},null,{"$f":"IF(ISNUMBER(AM127),\"1\",\"\")","v":""},null,{"$f":"IF(ISNUMBER(AO127),\"1\",\"\")","v":""},null,{"$f":"IF(ISNUMBER(AQ127),\"1\",\"\")","v":""},null,{"$f":"IF(ISNUMBER(AS127),\"1\",\"\")","v":""}]
[null,{"$f":"IF(spreedResult.!B139<>\"\",TEXT(spreedResult.!B139,\"YYYY\")&TEXT(spreedResult.!B139,\"MM\")&TEXT(spreedResult.!B139,\"DD\"),\"\")","v":""},{"$f":"IF(spreedResult.!C139<>\"\",VLOOKUP(spreedResult.!C139,spreedResult.!$AT$2:$AU$12,2,0),\"\")","v":""},{"$nulls":4},{"$f":"IF(spreedResult.!O139<>\"\",VLOOKUP(spreedResult.!O139,Course!$A$2:$B$612,2,0),\"\")","v":""},null,{"$f":"CONCATENATE(TRIM(ASC(spreedResult.!E139)),\" \",TRIM(ASC(spreedResult.!F139)))","v":" "},{"$f":"CONCATENATE(TRIM(spreedResult.!G139),\"　\",TRIM(spreedResult.!H139))","v":"　"},{"$f":"IFERROR(VLOOKUP(spreedResult.!J139,spreedResult.!$AW$4:$AX$5,2,0),\"\")","v":""},{"$f":"IF(spreedResult.!K139<>\"\",TEXT(spreedResult.!K139,\"YYYY\")&TEXT(spreedResult.!K139,\"MM\")&TEXT(spreedResult.!K139,\"DD\"),\"\")","v":""},null,null,{"$f":"IF(spreedResult.!$E139<>\"\",spreedResult.!$C$10,\"\")","v":""},{"$f":"IF(spreedResult.!$E139<>\"\",spreedResult.!$C$9,\"\")","v":""},{"$f":"IF(spreedResult.!L139<>\"\",spreedResult.!L139,\"\")","v":""},{"$f":"IF(spreedResult.!G139<>\"\",IF(spreedResult.!$H$8=\"左記ご住所に送付\",\"2\",\"\"),\"\")","v":""},{"$nulls":8},"",null,"",null,{"$f":"IF(ISNUMBER(AE128),\"1\",\"\")","v":""},null,{"$f":"IF(ISNUMBER(AG128),\"1\",\"\")","v":""},null,{"$f":"IF(ISNUMBER(AI128),\"1\",\"\")","v":""},null,{"$f":"IF(ISNUMBER(AK128),\"1\",\"\")","v":""},null,{"$f":"IF(ISNUMBER(AM128),\"1\",\"\")","v":""},null,{"$f":"IF(ISNUMBER(AO128),\"1\",\"\")","v":""},null,{"$f":"IF(ISNUMBER(AQ128),\"1\",\"\")","v":""},null,{"$f":"IF(ISNUMBER(AS128),\"1\",\"\")","v":""}]
[null,{"$f":"IF(spreedResult.!B140<>\"\",TEXT(spreedResult.!B140,\"YYYY\")&TEXT(spreedResult.!B140,\"MM\")&TEXT(spreedResult.!B140,\"DD\"),\"\")","v":""},{"$f":"IF(spreedResult.!C140<>\"\",VLOOKUP(spreedResult.!C140,spreedResult.!$AT$2:$AU$12,2,0),\"\")","v":""},{"$nulls":4},{"$f":"IF(spreedResult.!O140<>\"\",VLOOKUP(spreedResult.!O140,Course!$A$2:$B$612,2,0),\"\")","v":""},null,{"$f":"CONCATENATE(TRIM(ASC(spreedResult.!E140)),\" \",TRIM(ASC(spreedResult.!F140)))","v":" "},{"$f":"CONCATENATE(TRIM(spreedResult.!G140),\"　\",TRIM(spreedResult.!H140))","v":"　"},{"$f":"IFERROR(VLOOKUP(spreedResult.!J140,spreedResult.!$AW$4:$AX$5,2,0),\"\")","v":""},{"$f":"IF(spreedResult.!K140<>\"\",TEXT(spreedResult.!K140,\"YYYY\")&TEXT(spreedResult.!K140,\"MM\")&TEXT(spreedResult.!K140,\"DD\"),\"\")","v":""},null,null,{"$f":"IF(spreedResult.!$E140<>\"\",spreedResult.!$C$10,\"\")","v":""},{"$f":"IF(spreedResult.!$E140<>\"\",spreedResult.!$C$9,\"\")","v":""},{"$f":"IF(spreedResult.!L140<>\"\",spreedResult.!L140,\"\")","v":""},{"$f":"IF(spreedResult.!G140<>\"\",IF(spreedResult.!$H$8=\"左記ご住所に送付\",\"2\",\"\"),\"\")","v":""},{"$nulls":8},"",null,"",null,{"$f":"IF(ISNUMBER(AE129),\"1\",\"\")","v":""},null,{"$f":"IF(ISNUMBER(AG129),\"1\",\"\")","v":""},null,{"$f":"IF(ISNUMBER(AI129),\"1\",\"\")","v":""},null,{"$f":"IF(ISNUMBER(AK129),\"1\",\"\")","v":""},null,{"$f":"IF(ISNUMBER(AM129),\"1\",\"\")","v":""},null,{"$f":"IF(ISNUMBER(AO129),\"1\",\"\")","v":""},null,{"$f":"IF(ISNUMBER(AQ129),\"1\",\"\")","v":""},null,{"$f":"IF(ISNUMBER(AS129),\"1\",\"\")","v":""}]
[null,{"$f":"IF(spreedResult.!B141<>\"\",TEXT(spreedResult.!B141,\"YYYY\")&TEXT(spreedResult.!B141,\"MM\")&TEXT(spreedResult.!B141,\"DD\"),\"\")","v":""},{"$f":"IF(spreedResult.!C141<>\"\",VLOOKUP(spreedResult.!C141,spreedResult.!$AT$2:$AU$12,2,0),\"\")","v":""},{"$nulls":4},{"$f":"IF(spreedResult.!O141<>\"\",VLOOKUP(spreedResult.!O141,Course!$A$2:$B$612,2,0),\"\")","v":""},null,{"$f":"CONCATENATE(TRIM(ASC(spreedResult.!E141)),\" \",TRIM(ASC(spreedResult.!F141)))","v":" "},{"$f":"CONCATENATE(TRIM(spreedResult.!G141),\"　\",TRIM(spreedResult.!H141))","v":"　"},{"$f":"IFERROR(VLOOKUP(spreedResult.!J141,spreedResult.!$AW$4:$AX$5,2,0),\"\")","v":""},{"$f":"IF(spreedResult.!K141<>\"\",TEXT(spreedResult.!K141,\"YYYY\")&TEXT(spreedResult.!K141,\"MM\")&TEXT(spreedResult.!K141,\"DD\"),\"\")","v":""},null,null,{"$f":"IF(spreedResult.!$E141<>\"\",spreedResult.!$C$10,\"\")","v":""},{"$f":"IF(spreedResult.!$E141<>\"\",spreedResult.!$C$9,\"\")","v":""},{"$f":"IF(spreedResult.!L141<>\"\",spreedResult.!L141,\"\")","v":""},{"$f":"IF(spreedResult.!G141<>\"\",IF(spreedResult.!$H$8=\"左記ご住所に送付\",\"2\",\"\"),\"\")","v":""},{"$nulls":8},"",null,"",null,{"$f":"IF(ISNUMBER(AE130),\"1\",\"\")","v":""},null,{"$f":"IF(ISNUMBER(AG130),\"1\",\"\")","v":""},null,{"$f":"IF(ISNUMBER(AI130),\"1\",\"\")","v":""},null,{"$f":"IF(ISNUMBER(AK130),\"1\",\"\")","v":""},null,{"$f":"IF(ISNUMBER(AM130),\"1\",\"\")","v":""},null,{"$f":"IF(ISNUMBER(AO130),\"1\",\"\")","v":""},null,{"$f":"IF(ISNUMBER(AQ130),\"1\",\"\")","v":""},null,{"$f":"IF(ISNUMBER(AS130),\"1\",\"\")","v":""}]
[null,{"$f":"IF(spreedResult.!B142<>\"\",TEXT(spreedResult.!B142,\"YYYY\")&TEXT(spreedResult.!B142,\"MM\")&TEXT(spreedResult.!B142,\"DD\"),\"\")","v":""},{"$f":"IF(spreedResult.!C142<>\"\",VLOOKUP(spreedResult.!C142,spreedResult.!$AT$2:$AU$12,2,0),\"\")","v":""},{"$nulls":4},{"$f":"IF(spreedResult.!O142<>\"\",VLOOKUP(spreedResult.!O142,Course!$A$2:$B$612,2,0),\"\")","v":""},null,{"$f":"CONCATENATE(TRIM(ASC(spreedResult.!E142)),\" \",TRIM(ASC(spreedResult.!F142)))","v":" "},{"$f":"CONCATENATE(TRIM(spreedResult.!G142),\"　\",TRIM(spreedResult.!H142))","v":"　"},{"$f":"IFERROR(VLOOKUP(spreedResult.!J142,spreedResult.!$AW$4:$AX$5,2,0),\"\")","v":""},{"$f":"IF(spreedResult.!K142<>\"\",TEXT(spreedResult.!K142,\"YYYY\")&TEXT(spreedResult.!K142,\"MM\")&TEXT(spreedResult.!K142,\"DD\"),\"\")","v":""},null,null,{"$f":"IF(spreedResult.!$E142<>\"\",spreedResult.!$C$10,\"\")","v":""},{"$f":"IF(spreedResult.!$E142<>\"\",spreedResult.!$C$9,\"\")","v":""},{"$f":"IF(spreedResult.!L142<>\"\",spreedResult.!L142,\"\")","v":""},{"$f":"IF(spreedResult.!G142<>\"\",IF(spreedResult.!$H$8=\"左記ご住所に送付\",\"2\",\"\"),\"\")","v":""},{"$nulls":8},"",null,"",null,{"$f":"IF(ISNUMBER(AE131),\"1\",\"\")","v":""},null,{"$f":"IF(ISNUMBER(AG131),\"1\",\"\")","v":""},null,{"$f":"IF(ISNUMBER(AI131),\"1\",\"\")","v":""},null,{"$f":"IF(ISNUMBER(AK131),\"1\",\"\")","v":""},null,{"$f":"IF(ISNUMBER(AM131),\"1\",\"\")","v":""},null,{"$f":"IF(ISNUMBER(AO131),\"1\",\"\")","v":""},null,{"$f":"IF(ISNUMBER(AQ131),\"1\",\"\")","v":""},null,{"$f":"IF(ISNUMBER(AS131),\"1\",\"\")","v":""}]
[null,{"$f":"IF(spreedResult.!B143<>\"\",TEXT(spreedResult.!B143,\"YYYY\")&TEXT(spreedResult.!B143,\"MM\")&TEXT(spreedResult.!B143,\"DD\"),\"\")","v":""},{"$f":"IF(spreedResult.!C143<>\"\",VLOOKUP(spreedResult.!C143,spreedResult.!$AT$2:$AU$12,2,0),\"\")","v":""},{"$nulls":4},{"$f":"IF(spreedResult.!O143<>\"\",VLOOKUP(spreedResult.!O143,Course!$A$2:$B$612,2,0),\"\")","v":""},null,{"$f":"CONCATENATE(TRIM(ASC(spreedResult.!E143)),\" \",TRIM(ASC(spreedResult.!F143)))","v":" "},{"$f":"CONCATENATE(TRIM(spreedResult.!G143),\"　\",TRIM(spreedResult.!H143))","v":"　"},{"$f":"IFERROR(VLOOKUP(spreedResult.!J143,spreedResult.!$AW$4:$AX$5,2,0),\"\")","v":""},{"$f":"IF(spreedResult.!K143<>\"\",TEXT(spreedResult.!K143,\"YYYY\")&TEXT(spreedResult.!K143,\"MM\")&TEXT(spreedResult.!K143,\"DD\"),\"\")","v":""},null,null,{"$f":"IF(spreedResult.!$E143<>\"\",spreedResult.!$C$10,\"\")","v":""},{"$f":"IF(spreedResult.!$E143<>\"\",spreedResult.!$C$9,\"\")","v":""},{"$f":"IF(spreedResult.!L143<>\"\",spreedResult.!L143,\"\")","v":""},{"$f":"IF(spreedResult.!G143<>\"\",IF(spreedResult.!$H$8=\"左記ご住所に送付\",\"2\",\"\"),\"\")","v":""},{"$nulls":8},{"$f":"IF(ISNUMBER(AA132),\"1\",\"\")","v":""},null,"",null,{"$f":"IF(ISNUMBER(AE132),\"1\",\"\")","v":""},null,{"$f":"IF(ISNUMBER(AG132),\"1\",\"\")","v":""},null,{"$f":"IF(ISNUMBER(AI132),\"1\",\"\")","v":""},null,{"$f":"IF(ISNUMBER(AK132),\"1\",\"\")","v":""},null,{"$f":"IF(ISNUMBER(AM132),\"1\",\"\")","v":""},null,{"$f":"IF(ISNUMBER(AO132),\"1\",\"\")","v":""},null,{"$f":"IF(ISNUMBER(AQ132),\"1\",\"\")","v":""},null,{"$f":"IF(ISNUMBER(AS132),\"1\",\"\")","v":""}]
[null,{"$f":"IF(spreedResult.!B144<>\"\",TEXT(spreedResult.!B144,\"YYYY\")&TEXT(spreedResult.!B144,\"MM\")&TEXT(spreedResult.!B144,\"DD\"),\"\")","v":""},{"$f":"IF(spreedResult.!C144<>\"\",VLOOKUP(spreedResult.!C144,spreedResult.!$AT$2:$AU$12,2,0),\"\")","v":""},{"$nulls":4},{"$f":"IF(spreedResult.!O144<>\"\",VLOOKUP(spreedResult.!O144,Course!$A$2:$B$612,2,0),\"\")","v":""},null,{"$f":"CONCATENATE(TRIM(ASC(spreedResult.!E144)),\" \",TRIM(ASC(spreedResult.!F144)))","v":" "},{"$f":"CONCATENATE(TRIM(spreedResult.!G144),\"　\",TRIM(spreedResult.!H144))","v":"　"},{"$f":"IFERROR(VLOOKUP(spreedResult.!J144,spreedResult.!$AW$4:$AX$5,2,0),\"\")","v":""},{"$f":"IF(spreedResult.!K144<>\"\",TEXT(spreedResult.!K144,\"YYYY\")&TEXT(spreedResult.!K144,\"MM\")&TEXT(spreedResult.!K144,\"DD\"),\"\")","v":""},null,null,{"$f":"IF(spreedResult.!$E144<>\"\",spreedResult.!$C$10,\"\")","v":""},{"$f":"IF(spreedResult.!$E144<>\"\",spreedResult.!$C$9,\"\")","v":""},{"$f":"IF(spreedResult.!L144<>\"\",spreedResult.!L144,\"\")","v":""},{"$f":"IF(spreedResult.!G144<>\"\",IF(spreedResult.!$H$8=\"左記ご住所に送付\",\"2\",\"\"),\"\")","v":""},{"$nulls":8},"",null,"",null,{"$f":"IF(ISNUMBER(AE133),\"1\",\"\")","v":""},null,{"$f":"IF(ISNUMBER(AG133),\"1\",\"\")","v":""},null,{"$f":"IF(ISNUMBER(AI133),\"1\",\"\")","v":""},null,{"$f":"IF(ISNUMBER(AK133),\"1\",\"\")","v":""},null,{"$f":"IF(ISNUMBER(AM133),\"1\",\"\")","v":""},null,{"$f":"IF(ISNUMBER(AO133),\"1\",\"\")","v":""},null,{"$f":"IF(ISNUMBER(AQ133),\"1\",\"\")","v":""},null,{"$f":"IF(ISNUMBER(AS133),\"1\",\"\")","v":""}]
[null,{"$f":"IF(spreedResult.!B145<>\"\",TEXT(spreedResult.!B145,\"YYYY\")&TEXT(spreedResult.!B145,\"MM\")&TEXT(spreedResult.!B145,\"DD\"),\"\")","v":""},{"$f":"IF(spreedResult.!C145<>\"\",VLOOKUP(spreedResult.!C145,spreedResult.!$AT$2:$AU$12,2,0),\"\")","v":""},{"$nulls":4},{"$f":"IF(spreedResult.!O145<>\"\",VLOOKUP(spreedResult.!O145,Course!$A$2:$B$612,2,0),\"\")","v":""},null,{"$f":"CONCATENATE(TRIM(ASC(spreedResult.!E145)),\" \",TRIM(ASC(spreedResult.!F145)))","v":" "},{"$f":"CONCATENATE(TRIM(spreedResult.!G145),\"　\",TRIM(spreedResult.!H145))","v":"　"},{"$f":"IFERROR(VLOOKUP(spreedResult.!J145,spreedResult.!$AW$4:$AX$5,2,0),\"\")","v":""},{"$f":"IF(spreedResult.!K145<>\"\",TEXT(spreedResult.!K145,\"YYYY\")&TEXT(spreedResult.!K145,\"MM\")&TEXT(spreedResult.!K145,\"DD\"),\"\")","v":""},null,null,{"$f":"IF(spreedResult.!$E145<>\"\",spreedResult.!$C$10,\"\")","v":""},{"$f":"IF(spreedResult.!$E145<>\"\",spreedResult.!$C$9,\"\")","v":""},{"$f":"IF(spreedResult.!L145<>\"\",spreedResult.!L145,\"\")","v":""},{"$f":"IF(spreedResult.!G145<>\"\",IF(spreedResult.!$H$8=\"左記ご住所に送付\",\"2\",\"\"),\"\")","v":""},{"$nulls":8},"",null,"",null,{"$f":"IF(ISNUMBER(AE134),\"1\",\"\")","v":""},null,{"$f":"IF(ISNUMBER(AG134),\"1\",\"\")","v":""},null,{"$f":"IF(ISNUMBER(AI134),\"1\",\"\")","v":""},null,{"$f":"IF(ISNUMBER(AK134),\"1\",\"\")","v":""},null,{"$f":"IF(ISNUMBER(AM134),\"1\",\"\")","v":""},null,{"$f":"IF(ISNUMBER(AO134),\"1\",\"\")","v":""},null,{"$f":"IF(ISNUMBER(AQ134),\"1\",\"\")","v":""},null,{"$f":"IF(ISNUMBER(AS134),\"1\",\"\")","v":""}]
[null,{"$f":"IF(spreedResult.!B146<>\"\",TEXT(spreedResult.!B146,\"YYYY\")&TEXT(spreedResult.!B146,\"MM\")&TEXT(spreedResult.!B146,\"DD\"),\"\")","v":""},{"$f":"IF(spreedResult.!C146<>\"\",VLOOKUP(spreedResult.!C146,spreedResult.!$AT$2:$AU$12,2,0),\"\")","v":""},{"$nulls":4},{"$f":"IF(spreedResult.!O146<>\"\",VLOOKUP(spreedResult.!O146,Course!$A$2:$B$612,2,0),\"\")","v":""},null,{"$f":"CONCATENATE(TRIM(ASC(spreedResult.!E146)),\" \",TRIM(ASC(spreedResult.!F146)))","v":" "},{"$f":"CONCATENATE(TRIM(spreedResult.!G146),\"　\",TRIM(spreedResult.!H146))","v":"　"},{"$f":"IFERROR(VLOOKUP(spreedResult.!J146,spreedResult.!$AW$4:$AX$5,2,0),\"\")","v":""},{"$f":"IF(spreedResult.!K146<>\"\",TEXT(spreedResult.!K146,\"YYYY\")&TEXT(spreedResult.!K146,\"MM\")&TEXT(spreedResult.!K146,\"DD\"),\"\")","v":""},null,null,{"$f":"IF(spreedResult.!$E146<>\"\",spreedResult.!$C$10,\"\")","v":""},{"$f":"IF(spreedResult.!$E146<>\"\",spreedResult.!$C$9,\"\")","v":""},{"$f":"IF(spreedResult.!L146<>\"\",spreedResult.!L146,\"\")","v":""},{"$f":"IF(spreedResult.!G146<>\"\",IF(spreedResult.!$H$8=\"左記ご住所に送付\",\"2\",\"\"),\"\")","v":""},{"$nulls":8},"",null,"",null,{"$f":"IF(ISNUMBER(AE135),\"1\",\"\")","v":""},null,{"$f":"IF(ISNUMBER(AG135),\"1\",\"\")","v":""},null,{"$f":"IF(ISNUMBER(AI135),\"1\",\"\")","v":""},null,{"$f":"IF(ISNUMBER(AK135),\"1\",\"\")","v":""},null,{"$f":"IF(ISNUMBER(AM135),\"1\",\"\")","v":""},null,{"$f":"IF(ISNUMBER(AO135),\"1\",\"\")","v":""},null,{"$f":"IF(ISNUMBER(AQ135),\"1\",\"\")","v":""},null,{"$f":"IF(ISNUMBER(AS135),\"1\",\"\")","v":""}]
[null,{"$f":"IF(spreedResult.!B147<>\"\",TEXT(spreedResult.!B147,\"YYYY\")&TEXT(spreedResult.!B147,\"MM\")&TEXT(spreedResult.!B147,\"DD\"),\"\")","v":""},{"$f":"IF(spreedResult.!C147<>\"\",VLOOKUP(spreedResult.!C147,spreedResult.!$AT$2:$AU$12,2,0),\"\")","v":""},{"$nulls":4},{"$f":"IF(spreedResult.!O147<>\"\",VLOOKUP(spreedResult.!O147,Course!$A$2:$B$612,2,0),\"\")","v":""},null,{"$f":"CONCATENATE(TRIM(ASC(spreedResult.!E147)),\" \",TRIM(ASC(spreedResult.!F147)))","v":" "},{"$f":"CONCATENATE(TRIM(spreedResult.!G147),\"　\",TRIM(spreedResult.!H147))","v":"　"},{"$f":"IFERROR(VLOOKUP(spreedResult.!J147,spreedResult.!$AW$4:$AX$5,2,0),\"\")","v":""},{"$f":"IF(spreedResult.!K147<>\"\",TEXT(spreedResult.!K147,\"YYYY\")&TEXT(spreedResult.!K147,\"MM\")&TEXT(spreedResult.!K147,\"DD\"),\"\")","v":""},null,null,{"$f":"IF(spreedResult.!$E147<>\"\",spreedResult.!$C$10,\"\")","v":""},{"$f":"IF(spreedResult.!$E147<>\"\",spreedResult.!$C$9,\"\")","v":""},{"$f":"IF(spreedResult.!L147<>\"\",spreedResult.!L147,\"\")","v":""},{"$f":"IF(spreedResult.!G147<>\"\",IF(spreedResult.!$H$8=\"左記ご住所に送付\",\"2\",\"\"),\"\")","v":""},{"$nulls":8},"",null,"",null,{"$f":"IF(ISNUMBER(AE136),\"1\",\"\")","v":""},null,{"$f":"IF(ISNUMBER(AG136),\"1\",\"\")","v":""},null,{"$f":"IF(ISNUMBER(AI136),\"1\",\"\")","v":""},null,{"$f":"IF(ISNUMBER(AK136),\"1\",\"\")","v":""},null,{"$f":"IF(ISNUMBER(AM136),\"1\",\"\")","v":""},null,{"$f":"IF(ISNUMBER(AO136),\"1\",\"\")","v":""},null,{"$f":"IF(ISNUMBER(AQ136),\"1\",\"\")","v":""},null,{"$f":"IF(ISNUMBER(AS136),\"1\",\"\")","v":""}]
[null,{"$f":"IF(spreedResult.!B148<>\"\",TEXT(spreedResult.!B148,\"YYYY\")&TEXT(spreedResult.!B148,\"MM\")&TEXT(spreedResult.!B148,\"DD\"),\"\")","v":""},{"$f":"IF(spreedResult.!C148<>\"\",VLOOKUP(spreedResult.!C148,spreedResult.!$AT$2:$AU$12,2,0),\"\")","v":""},{"$nulls":4},{"$f":"IF(spreedResult.!O148<>\"\",VLOOKUP(spreedResult.!O148,Course!$A$2:$B$612,2,0),\"\")","v":""},null,{"$f":"CONCATENATE(TRIM(ASC(spreedResult.!E148)),\" \",TRIM(ASC(spreedResult.!F148)))","v":" "},{"$f":"CONCATENATE(TRIM(spreedResult.!G148),\"　\",TRIM(spreedResult.!H148))","v":"　"},{"$f":"IFERROR(VLOOKUP(spreedResult.!J148,spreedResult.!$AW$4:$AX$5,2,0),\"\")","v":""},{"$f":"IF(spreedResult.!K148<>\"\",TEXT(spreedResult.!K148,\"YYYY\")&TEXT(spreedResult.!K148,\"MM\")&TEXT(spreedResult.!K148,\"DD\"),\"\")","v":""},null,null,{"$f":"IF(spreedResult.!$E148<>\"\",spreedResult.!$C$10,\"\")","v":""},{"$f":"IF(spreedResult.!$E148<>\"\",spreedResult.!$C$9,\"\")","v":""},{"$f":"IF(spreedResult.!L148<>\"\",spreedResult.!L148,\"\")","v":""},{"$f":"IF(spreedResult.!G148<>\"\",IF(spreedResult.!$H$8=\"左記ご住所に送付\",\"2\",\"\"),\"\")","v":""},{"$nulls":8},"",null,"",null,{"$f":"IF(ISNUMBER(AE137),\"1\",\"\")","v":""},null,{"$f":"IF(ISNUMBER(AG137),\"1\",\"\")","v":""},null,{"$f":"IF(ISNUMBER(AI137),\"1\",\"\")","v":""},null,{"$f":"IF(ISNUMBER(AK137),\"1\",\"\")","v":""},null,{"$f":"IF(ISNUMBER(AM137),\"1\",\"\")","v":""},null,{"$f":"IF(ISNUMBER(AO137),\"1\",\"\")","v":""},null,{"$f":"IF(ISNUMBER(AQ137),\"1\",\"\")","v":""},null,{"$f":"IF(ISNUMBER(AS137),\"1\",\"\")","v":""}]
[null,{"$f":"IF(spreedResult.!B149<>\"\",TEXT(spreedResult.!B149,\"YYYY\")&TEXT(spreedResult.!B149,\"MM\")&TEXT(spreedResult.!B149,\"DD\"),\"\")","v":""},{"$f":"IF(spreedResult.!C149<>\"\",VLOOKUP(spreedResult.!C149,spreedResult.!$AT$2:$AU$12,2,0),\"\")","v":""},{"$nulls":4},{"$f":"IF(spreedResult.!O149<>\"\",VLOOKUP(spreedResult.!O149,Course!$A$2:$B$612,2,0),\"\")","v":""},null,{"$f":"CONCATENATE(TRIM(ASC(spreedResult.!E149)),\" \",TRIM(ASC(spreedResult.!F149)))","v":" "},{"$f":"CONCATENATE(TRIM(spreedResult.!G149),\"　\",TRIM(spreedResult.!H149))","v":"　"},{"$f":"IFERROR(VLOOKUP(spreedResult.!J149,spreedResult.!$AW$4:$AX$5,2,0),\"\")","v":""},{"$f":"IF(spreedResult.!K149<>\"\",TEXT(spreedResult.!K149,\"YYYY\")&TEXT(spreedResult.!K149,\"MM\")&TEXT(spreedResult.!K149,\"DD\"),\"\")","v":""},null,null,{"$f":"IF(spreedResult.!$E149<>\"\",spreedResult.!$C$10,\"\")","v":""},{"$f":"IF(spreedResult.!$E149<>\"\",spreedResult.!$C$9,\"\")","v":""},{"$f":"IF(spreedResult.!L149<>\"\",spreedResult.!L149,\"\")","v":""},{"$f":"IF(spreedResult.!G149<>\"\",IF(spreedResult.!$H$8=\"左記ご住所に送付\",\"2\",\"\"),\"\")","v":""},{"$nulls":8},"",null,"",null,{"$f":"IF(ISNUMBER(AE138),\"1\",\"\")","v":""},null,{"$f":"IF(ISNUMBER(AG138),\"1\",\"\")","v":""},null,{"$f":"IF(ISNUMBER(AI138),\"1\",\"\")","v":""},null,{"$f":"IF(ISNUMBER(AK138),\"1\",\"\")","v":""},null,{"$f":"IF(ISNUMBER(AM138),\"1\",\"\")","v":""},null,{"$f":"IF(ISNUMBER(AO138),\"1\",\"\")","v":""},null,{"$f":"IF(ISNUMBER(AQ138),\"1\",\"\")","v":""},null,{"$f":"IF(ISNUMBER(AS138),\"1\",\"\")","v":""}]
[null,{"$f":"IF(spreedResult.!B150<>\"\",TEXT(spreedResult.!B150,\"YYYY\")&TEXT(spreedResult.!B150,\"MM\")&TEXT(spreedResult.!B150,\"DD\"),\"\")","v":""},{"$f":"IF(spreedResult.!C150<>\"\",VLOOKUP(spreedResult.!C150,spreedResult.!$AT$2:$AU$12,2,0),\"\")","v":""},{"$nulls":4},{"$f":"IF(spreedResult.!O150<>\"\",VLOOKUP(spreedResult.!O150,Course!$A$2:$B$612,2,0),\"\")","v":""},null,{"$f":"CONCATENATE(TRIM(ASC(spreedResult.!E150)),\" \",TRIM(ASC(spreedResult.!F150)))","v":" "},{"$f":"CONCATENATE(TRIM(spreedResult.!G150),\"　\",TRIM(spreedResult.!H150))","v":"　"},{"$f":"IFERROR(VLOOKUP(spreedResult.!J150,spreedResult.!$AW$4:$AX$5,2,0),\"\")","v":""},{"$f":"IF(spreedResult.!K150<>\"\",TEXT(spreedResult.!K150,\"YYYY\")&TEXT(spreedResult.!K150,\"MM\")&TEXT(spreedResult.!K150,\"DD\"),\"\")","v":""},null,null,{"$f":"IF(spreedResult.!$E150<>\"\",spreedResult.!$C$10,\"\")","v":""},{"$f":"IF(spreedResult.!$E150<>\"\",spreedResult.!$C$9,\"\")","v":""},{"$f":"IF(spreedResult.!L150<>\"\",spreedResult.!L150,\"\")","v":""},{"$f":"IF(spreedResult.!G150<>\"\",IF(spreedResult.!$H$8=\"左記ご住所に送付\",\"2\",\"\"),\"\")","v":""},{"$nulls":8},"",null,"",null,{"$f":"IF(ISNUMBER(AE139),\"1\",\"\")","v":""},null,{"$f":"IF(ISNUMBER(AG139),\"1\",\"\")","v":""},null,{"$f":"IF(ISNUMBER(AI139),\"1\",\"\")","v":""},null,{"$f":"IF(ISNUMBER(AK139),\"1\",\"\")","v":""},null,{"$f":"IF(ISNUMBER(AM139),\"1\",\"\")","v":""},null,{"$f":"IF(ISNUMBER(AO139),\"1\",\"\")","v":""},null,{"$f":"IF(ISNUMBER(AQ139),\"1\",\"\")","v":""},null,{"$f":"IF(ISNUMBER(AS139),\"1\",\"\")","v":""}]
[null,{"$f":"IF(spreedResult.!B151<>\"\",TEXT(spreedResult.!B151,\"YYYY\")&TEXT(spreedResult.!B151,\"MM\")&TEXT(spreedResult.!B151,\"DD\"),\"\")","v":""},{"$f":"IF(spreedResult.!C151<>\"\",VLOOKUP(spreedResult.!C151,spreedResult.!$AT$2:$AU$12,2,0),\"\")","v":""},{"$nulls":4},{"$f":"IF(spreedResult.!O151<>\"\",VLOOKUP(spreedResult.!O151,Course!$A$2:$B$612,2,0),\"\")","v":""},null,{"$f":"CONCATENATE(TRIM(ASC(spreedResult.!E151)),\" \",TRIM(ASC(spreedResult.!F151)))","v":" "},{"$f":"CONCATENATE(TRIM(spreedResult.!G151),\"　\",TRIM(spreedResult.!H151))","v":"　"},{"$f":"IFERROR(VLOOKUP(spreedResult.!J151,spreedResult.!$AW$4:$AX$5,2,0),\"\")","v":""},{"$f":"IF(spreedResult.!K151<>\"\",TEXT(spreedResult.!K151,\"YYYY\")&TEXT(spreedResult.!K151,\"MM\")&TEXT(spreedResult.!K151,\"DD\"),\"\")","v":""},null,null,{"$f":"IF(spreedResult.!$E151<>\"\",spreedResult.!$C$10,\"\")","v":""},{"$f":"IF(spreedResult.!$E151<>\"\",spreedResult.!$C$9,\"\")","v":""},{"$f":"IF(spreedResult.!L151<>\"\",spreedResult.!L151,\"\")","v":""},{"$f":"IF(spreedResult.!G151<>\"\",IF(spreedResult.!$H$8=\"左記ご住所に送付\",\"2\",\"\"),\"\")","v":""},{"$nulls":8},"",null,"",null,{"$f":"IF(ISNUMBER(AE140),\"1\",\"\")","v":""},null,{"$f":"IF(ISNUMBER(AG140),\"1\",\"\")","v":""},null,{"$f":"IF(ISNUMBER(AI140),\"1\",\"\")","v":""},null,{"$f":"IF(ISNUMBER(AK140),\"1\",\"\")","v":""},null,{"$f":"IF(ISNUMBER(AM140),\"1\",\"\")","v":""},null,{"$f":"IF(ISNUMBER(AO140),\"1\",\"\")","v":""},null,{"$f":"IF(ISNUMBER(AQ140),\"1\",\"\")","v":""},null,{"$f":"IF(ISNUMBER(AS140),\"1\",\"\")","v":""}]
[null,{"$f":"IF(spreedResult.!B152<>\"\",TEXT(spreedResult.!B152,\"YYYY\")&TEXT(spreedResult.!B152,\"MM\")&TEXT(spreedResult.!B152,\"DD\"),\"\")","v":""},{"$f":"IF(spreedResult.!C152<>\"\",VLOOKUP(spreedResult.!C152,spreedResult.!$AT$2:$AU$12,2,0),\"\")","v":""},{"$nulls":4},{"$f":"IF(spreedResult.!O152<>\"\",VLOOKUP(spreedResult.!O152,Course!$A$2:$B$612,2,0),\"\")","v":""},null,{"$f":"CONCATENATE(TRIM(ASC(spreedResult.!E152)),\" \",TRIM(ASC(spreedResult.!F152)))","v":" "},{"$f":"CONCATENATE(TRIM(spreedResult.!G152),\"　\",TRIM(spreedResult.!H152))","v":"　"},{"$f":"IFERROR(VLOOKUP(spreedResult.!J152,spreedResult.!$AW$4:$AX$5,2,0),\"\")","v":""},{"$f":"IF(spreedResult.!K152<>\"\",TEXT(spreedResult.!K152,\"YYYY\")&TEXT(spreedResult.!K152,\"MM\")&TEXT(spreedResult.!K152,\"DD\"),\"\")","v":""},null,null,{"$f":"IF(spreedResult.!$E152<>\"\",spreedResult.!$C$10,\"\")","v":""},{"$f":"IF(spreedResult.!$E152<>\"\",spreedResult.!$C$9,\"\")","v":""},{"$f":"IF(spreedResult.!L152<>\"\",spreedResult.!L152,\"\")","v":""},{"$f":"IF(spreedResult.!G152<>\"\",IF(spreedResult.!$H$8=\"左記ご住所に送付\",\"2\",\"\"),\"\")","v":""},{"$nulls":8},"",null,"",null,{"$f":"IF(ISNUMBER(AE141),\"1\",\"\")","v":""},null,{"$f":"IF(ISNUMBER(AG141),\"1\",\"\")","v":""},null,{"$f":"IF(ISNUMBER(AI141),\"1\",\"\")","v":""},null,{"$f":"IF(ISNUMBER(AK141),\"1\",\"\")","v":""},null,{"$f":"IF(ISNUMBER(AM141),\"1\",\"\")","v":""},null,{"$f":"IF(ISNUMBER(AO141),\"1\",\"\")","v":""},null,{"$f":"IF(ISNUMBER(AQ141),\"1\",\"\")","v":""},null,{"$f":"IF(ISNUMBER(AS141),\"1\",\"\")","v":""}]
[null,{"$f":"IF(spreedResult.!B153<>\"\",TEXT(spreedResult.!B153,\"YYYY\")&TEXT(spreedResult.!B153,\"MM\")&TEXT(spreedResult.!B153,\"DD\"),\"\")","v":""},{"$f":"IF(spreedResult.!C153<>\"\",VLOOKUP(spreedResult.!C153,spreedResult.!$AT$2:$AU$12,2,0),\"\")","v":""},{"$nulls":4},{"$f":"IF(spreedResult.!O153<>\"\",VLOOKUP(spreedResult.!O153,Course!$A$2:$B$612,2,0),\"\")","v":""},null,{"$f":"CONCATENATE(TRIM(ASC(spreedResult.!E153)),\" \",TRIM(ASC(spreedResult.!F153)))","v":" "},{"$f":"CONCATENATE(TRIM(spreedResult.!G153),\"　\",TRIM(spreedResult.!H153))","v":"　"},{"$f":"IFERROR(VLOOKUP(spreedResult.!J153,spreedResult.!$AW$4:$AX$5,2,0),\"\")","v":""},{"$f":"IF(spreedResult.!K153<>\"\",TEXT(spreedResult.!K153,\"YYYY\")&TEXT(spreedResult.!K153,\"MM\")&TEXT(spreedResult.!K153,\"DD\"),\"\")","v":""},null,null,{"$f":"IF(spreedResult.!$E153<>\"\",spreedResult.!$C$10,\"\")","v":""},{"$f":"IF(spreedResult.!$E153<>\"\",spreedResult.!$C$9,\"\")","v":""},{"$f":"IF(spreedResult.!L153<>\"\",spreedResult.!L153,\"\")","v":""},{"$f":"IF(spreedResult.!G153<>\"\",IF(spreedResult.!$H$8=\"左記ご住所に送付\",\"2\",\"\"),\"\")","v":""},{"$nulls":8},"",null,"",null,{"$f":"IF(ISNUMBER(AE142),\"1\",\"\")","v":""},null,{"$f":"IF(ISNUMBER(AG142),\"1\",\"\")","v":""},null,{"$f":"IF(ISNUMBER(AI142),\"1\",\"\")","v":""},null,{"$f":"IF(ISNUMBER(AK142),\"1\",\"\")","v":""},null,{"$f":"IF(ISNUMBER(AM142),\"1\",\"\")","v":""},null,{"$f":"IF(ISNUMBER(AO142),\"1\",\"\")","v":""},null,{"$f":"IF(ISNUMBER(AQ142),\"1\",\"\")","v":""},null,{"$f":"IF(ISNUMBER(AS142),\"1\",\"\")","v":""}]
[null,{"$f":"IF(spreedResult.!B154<>\"\",TEXT(spreedResult.!B154,\"YYYY\")&TEXT(spreedResult.!B154,\"MM\")&TEXT(spreedResult.!B154,\"DD\"),\"\")","v":""},{"$f":"IF(spreedResult.!C154<>\"\",VLOOKUP(spreedResult.!C154,spreedResult.!$AT$2:$AU$12,2,0),\"\")","v":""},{"$nulls":4},{"$f":"IF(spreedResult.!O154<>\"\",VLOOKUP(spreedResult.!O154,Course!$A$2:$B$612,2,0),\"\")","v":""},null,{"$f":"CONCATENATE(TRIM(ASC(spreedResult.!E154)),\" \",TRIM(ASC(spreedResult.!F154)))","v":" "},{"$f":"CONCATENATE(TRIM(spreedResult.!G154),\"　\",TRIM(spreedResult.!H154))","v":"　"},{"$f":"IFERROR(VLOOKUP(spreedResult.!J154,spreedResult.!$AW$4:$AX$5,2,0),\"\")","v":""},{"$f":"IF(spreedResult.!K154<>\"\",TEXT(spreedResult.!K154,\"YYYY\")&TEXT(spreedResult.!K154,\"MM\")&TEXT(spreedResult.!K154,\"DD\"),\"\")","v":""},null,null,{"$f":"IF(spreedResult.!$E154<>\"\",spreedResult.!$C$10,\"\")","v":""},{"$f":"IF(spreedResult.!$E154<>\"\",spreedResult.!$C$9,\"\")","v":""},{"$f":"IF(spreedResult.!L154<>\"\",spreedResult.!L154,\"\")","v":""},{"$f":"IF(spreedResult.!G154<>\"\",IF(spreedResult.!$H$8=\"左記ご住所に送付\",\"2\",\"\"),\"\")","v":""},{"$nulls":8},"",null,"",null,{"$f":"IF(ISNUMBER(AE143),\"1\",\"\")","v":""},null,{"$f":"IF(ISNUMBER(AG143),\"1\",\"\")","v":""},null,{"$f":"IF(ISNUMBER(AI143),\"1\",\"\")","v":""},null,{"$f":"IF(ISNUMBER(AK143),\"1\",\"\")","v":""},null,{"$f":"IF(ISNUMBER(AM143),\"1\",\"\")","v":""},null,{"$f":"IF(ISNUMBER(AO143),\"1\",\"\")","v":""},null,{"$f":"IF(ISNUMBER(AQ143),\"1\",\"\")","v":""},null,{"$f":"IF(ISNUMBER(AS143),\"1\",\"\")","v":""}]
[null,{"$f":"IF(spreedResult.!B155<>\"\",TEXT(spreedResult.!B155,\"YYYY\")&TEXT(spreedResult.!B155,\"MM\")&TEXT(spreedResult.!B155,\"DD\"),\"\")","v":""},{"$f":"IF(spreedResult.!C155<>\"\",VLOOKUP(spreedResult.!C155,spreedResult.!$AT$2:$AU$12,2,0),\"\")","v":""},{"$nulls":4},{"$f":"IF(spreedResult.!O155<>\"\",VLOOKUP(spreedResult.!O155,Course!$A$2:$B$612,2,0),\"\")","v":""},null,{"$f":"CONCATENATE(TRIM(ASC(spreedResult.!E155)),\" \",TRIM(ASC(spreedResult.!F155)))","v":" "},{"$f":"CONCATENATE(TRIM(spreedResult.!G155),\"　\",TRIM(spreedResult.!H155))","v":"　"},{"$f":"IFERROR(VLOOKUP(spreedResult.!J155,spreedResult.!$AW$4:$AX$5,2,0),\"\")","v":""},{"$f":"IF(spreedResult.!K155<>\"\",TEXT(spreedResult.!K155,\"YYYY\")&TEXT(spreedResult.!K155,\"MM\")&TEXT(spreedResult.!K155,\"DD\"),\"\")","v":""},null,null,{"$f":"IF(spreedResult.!$E155<>\"\",spreedResult.!$C$10,\"\")","v":""},{"$f":"IF(spreedResult.!$E155<>\"\",spreedResult.!$C$9,\"\")","v":""},{"$f":"IF(spreedResult.!L155<>\"\",spreedResult.!L155,\"\")","v":""},{"$f":"IF(spreedResult.!G155<>\"\",IF(spreedResult.!$H$8=\"左記ご住所に送付\",\"2\",\"\"),\"\")","v":""},{"$nulls":8},"",null,"",null,{"$f":"IF(ISNUMBER(AE144),\"1\",\"\")","v":""},null,{"$f":"IF(ISNUMBER(AG144),\"1\",\"\")","v":""},null,{"$f":"IF(ISNUMBER(AI144),\"1\",\"\")","v":""},null,{"$f":"IF(ISNUMBER(AK144),\"1\",\"\")","v":""},null,{"$f":"IF(ISNUMBER(AM144),\"1\",\"\")","v":""},null,{"$f":"IF(ISNUMBER(AO144),\"1\",\"\")","v":""},null,{"$f":"IF(ISNUMBER(AQ144),\"1\",\"\")","v":""},null,{"$f":"IF(ISNUMBER(AS144),\"1\",\"\")","v":""}]
[null,{"$f":"IF(spreedResult.!B156<>\"\",TEXT(spreedResult.!B156,\"YYYY\")&TEXT(spreedResult.!B156,\"MM\")&TEXT(spreedResult.!B156,\"DD\"),\"\")","v":""},{"$f":"IF(spreedResult.!C156<>\"\",VLOOKUP(spreedResult.!C156,spreedResult.!$AT$2:$AU$12,2,0),\"\")","v":""},{"$nulls":4},{"$f":"IF(spreedResult.!O156<>\"\",VLOOKUP(spreedResult.!O156,Course!$A$2:$B$612,2,0),\"\")","v":""},null,{"$f":"CONCATENATE(TRIM(ASC(spreedResult.!E156)),\" \",TRIM(ASC(spreedResult.!F156)))","v":" "},{"$f":"CONCATENATE(TRIM(spreedResult.!G156),\"　\",TRIM(spreedResult.!H156))","v":"　"},{"$f":"IFERROR(VLOOKUP(spreedResult.!J156,spreedResult.!$AW$4:$AX$5,2,0),\"\")","v":""},{"$f":"IF(spreedResult.!K156<>\"\",TEXT(spreedResult.!K156,\"YYYY\")&TEXT(spreedResult.!K156,\"MM\")&TEXT(spreedResult.!K156,\"DD\"),\"\")","v":""},null,null,{"$f":"IF(spreedResult.!$E156<>\"\",spreedResult.!$C$10,\"\")","v":""},{"$f":"IF(spreedResult.!$E156<>\"\",spreedResult.!$C$9,\"\")","v":""},{"$f":"IF(spreedResult.!L156<>\"\",spreedResult.!L156,\"\")","v":""},{"$f":"IF(spreedResult.!G156<>\"\",IF(spreedResult.!$H$8=\"左記ご住所に送付\",\"2\",\"\"),\"\")","v":""},{"$nulls":8},"",null,"",null,{"$f":"IF(ISNUMBER(AE145),\"1\",\"\")","v":""},null,{"$f":"IF(ISNUMBER(AG145),\"1\",\"\")","v":""},null,{"$f":"IF(ISNUMBER(AI145),\"1\",\"\")","v":""},null,{"$f":"IF(ISNUMBER(AK145),\"1\",\"\")","v":""},null,{"$f":"IF(ISNUMBER(AM145),\"1\",\"\")","v":""},null,{"$f":"IF(ISNUMBER(AO145),\"1\",\"\")","v":""},null,{"$f":"IF(ISNUMBER(AQ145),\"1\",\"\")","v":""},null,{"$f":"IF(ISNUMBER(AS145),\"1\",\"\")","v":""}]
[null,{"$f":"IF(spreedResult.!B157<>\"\",TEXT(spreedResult.!B157,\"YYYY\")&TEXT(spreedResult.!B157,\"MM\")&TEXT(spreedResult.!B157,\"DD\"),\"\")","v":""},{"$f":"IF(spreedResult.!C157<>\"\",VLOOKUP(spreedResult.!C157,spreedResult.!$AT$2:$AU$12,2,0),\"\")","v":""},{"$nulls":4},{"$f":"IF(spreedResult.!O157<>\"\",VLOOKUP(spreedResult.!O157,Course!$A$2:$B$612,2,0),\"\")","v":""},null,{"$f":"CONCATENATE(TRIM(ASC(spreedResult.!E157)),\" \",TRIM(ASC(spreedResult.!F157)))","v":" "},{"$f":"CONCATENATE(TRIM(spreedResult.!G157),\"　\",TRIM(spreedResult.!H157))","v":"　"},{"$f":"IFERROR(VLOOKUP(spreedResult.!J157,spreedResult.!$AW$4:$AX$5,2,0),\"\")","v":""},{"$f":"IF(spreedResult.!K157<>\"\",TEXT(spreedResult.!K157,\"YYYY\")&TEXT(spreedResult.!K157,\"MM\")&TEXT(spreedResult.!K157,\"DD\"),\"\")","v":""},null,null,{"$f":"IF(spreedResult.!$E157<>\"\",spreedResult.!$C$10,\"\")","v":""},{"$f":"IF(spreedResult.!$E157<>\"\",spreedResult.!$C$9,\"\")","v":""},{"$f":"IF(spreedResult.!L157<>\"\",spreedResult.!L157,\"\")","v":""},{"$f":"IF(spreedResult.!G157<>\"\",IF(spreedResult.!$H$8=\"左記ご住所に送付\",\"2\",\"\"),\"\")","v":""},{"$nulls":8},"",null,"",null,{"$f":"IF(ISNUMBER(AE146),\"1\",\"\")","v":""},null,{"$f":"IF(ISNUMBER(AG146),\"1\",\"\")","v":""},null,{"$f":"IF(ISNUMBER(AI146),\"1\",\"\")","v":""},null,{"$f":"IF(ISNUMBER(AK146),\"1\",\"\")","v":""},null,{"$f":"IF(ISNUMBER(AM146),\"1\",\"\")","v":""},null,{"$f":"IF(ISNUMBER(AO146),\"1\",\"\")","v":""},null,{"$f":"IF(ISNUMBER(AQ146),\"1\",\"\")","v":""},null,{"$f":"IF(ISNUMBER(AS146),\"1\",\"\")","v":""}]
[null,{"$f":"IF(spreedResult.!B158<>\"\",TEXT(spreedResult.!B158,\"YYYY\")&TEXT(spreedResult.!B158,\"MM\")&TEXT(spreedResult.!B158,\"DD\"),\"\")","v":""},{"$f":"IF(spreedResult.!C158<>\"\",VLOOKUP(spreedResult.!C158,spreedResult.!$AT$2:$AU$12,2,0),\"\")","v":""},{"$nulls":4},{"$f":"IF(spreedResult.!O158<>\"\",VLOOKUP(spreedResult.!O158,Course!$A$2:$B$612,2,0),\"\")","v":""},null,{"$f":"CONCATENATE(TRIM(ASC(spreedResult.!E158)),\" \",TRIM(ASC(spreedResult.!F158)))","v":" "},{"$f":"CONCATENATE(TRIM(spreedResult.!G158),\"　\",TRIM(spreedResult.!H158))","v":"　"},{"$f":"IFERROR(VLOOKUP(spreedResult.!J158,spreedResult.!$AW$4:$AX$5,2,0),\"\")","v":""},{"$f":"IF(spreedResult.!K158<>\"\",TEXT(spreedResult.!K158,\"YYYY\")&TEXT(spreedResult.!K158,\"MM\")&TEXT(spreedResult.!K158,\"DD\"),\"\")","v":""},null,null,{"$f":"IF(spreedResult.!$E158<>\"\",spreedResult.!$C$10,\"\")","v":""},{"$f":"IF(spreedResult.!$E158<>\"\",spreedResult.!$C$9,\"\")","v":""},{"$f":"IF(spreedResult.!L158<>\"\",spreedResult.!L158,\"\")","v":""},{"$f":"IF(spreedResult.!G158<>\"\",IF(spreedResult.!$H$8=\"左記ご住所に送付\",\"2\",\"\"),\"\")","v":""},{"$nulls":8},"",null,"",null,{"$f":"IF(ISNUMBER(AE147),\"1\",\"\")","v":""},null,{"$f":"IF(ISNUMBER(AG147),\"1\",\"\")","v":""},null,{"$f":"IF(ISNUMBER(AI147),\"1\",\"\")","v":""},null,{"$f":"IF(ISNUMBER(AK147),\"1\",\"\")","v":""},null,{"$f":"IF(ISNUMBER(AM147),\"1\",\"\")","v":""},null,{"$f":"IF(ISNUMBER(AO147),\"1\",\"\")","v":""},null,{"$f":"IF(ISNUMBER(AQ147),\"1\",\"\")","v":""},null,{"$f":"IF(ISNUMBER(AS147),\"1\",\"\")","v":""}]
[null,{"$f":"IF(spreedResult.!B159<>\"\",TEXT(spreedResult.!B159,\"YYYY\")&TEXT(spreedResult.!B159,\"MM\")&TEXT(spreedResult.!B159,\"DD\"),\"\")","v":""},{"$f":"IF(spreedResult.!C159<>\"\",VLOOKUP(spreedResult.!C159,spreedResult.!$AT$2:$AU$12,2,0),\"\")","v":""},{"$nulls":4},{"$f":"IF(spreedResult.!O159<>\"\",VLOOKUP(spreedResult.!O159,Course!$A$2:$B$612,2,0),\"\")","v":""},null,{"$f":"CONCATENATE(TRIM(ASC(spreedResult.!E159)),\" \",TRIM(ASC(spreedResult.!F159)))","v":" "},{"$f":"CONCATENATE(TRIM(spreedResult.!G159),\"　\",TRIM(spreedResult.!H159))","v":"　"},{"$f":"IFERROR(VLOOKUP(spreedResult.!J159,spreedResult.!$AW$4:$AX$5,2,0),\"\")","v":""},{"$f":"IF(spreedResult.!K159<>\"\",TEXT(spreedResult.!K159,\"YYYY\")&TEXT(spreedResult.!K159,\"MM\")&TEXT(spreedResult.!K159,\"DD\"),\"\")","v":""},null,null,{"$f":"IF(spreedResult.!$E159<>\"\",spreedResult.!$C$10,\"\")","v":""},{"$f":"IF(spreedResult.!$E159<>\"\",spreedResult.!$C$9,\"\")","v":""},{"$f":"IF(spreedResult.!L159<>\"\",spreedResult.!L159,\"\")","v":""},{"$f":"IF(spreedResult.!G159<>\"\",IF(spreedResult.!$H$8=\"左記ご住所に送付\",\"2\",\"\"),\"\")","v":""},{"$nulls":8},"",null,"",null,{"$f":"IF(ISNUMBER(AE148),\"1\",\"\")","v":""},null,{"$f":"IF(ISNUMBER(AG148),\"1\",\"\")","v":""},null,{"$f":"IF(ISNUMBER(AI148),\"1\",\"\")","v":""},null,{"$f":"IF(ISNUMBER(AK148),\"1\",\"\")","v":""},null,{"$f":"IF(ISNUMBER(AM148),\"1\",\"\")","v":""},null,{"$f":"IF(ISNUMBER(AO148),\"1\",\"\")","v":""},null,{"$f":"IF(ISNUMBER(AQ148),\"1\",\"\")","v":""},null,{"$f":"IF(ISNUMBER(AS148),\"1\",\"\")","v":""}]
[null,{"$f":"IF(spreedResult.!B160<>\"\",TEXT(spreedResult.!B160,\"YYYY\")&TEXT(spreedResult.!B160,\"MM\")&TEXT(spreedResult.!B160,\"DD\"),\"\")","v":""},{"$f":"IF(spreedResult.!C160<>\"\",VLOOKUP(spreedResult.!C160,spreedResult.!$AT$2:$AU$12,2,0),\"\")","v":""},{"$nulls":4},{"$f":"IF(spreedResult.!O160<>\"\",VLOOKUP(spreedResult.!O160,Course!$A$2:$B$612,2,0),\"\")","v":""},null,{"$f":"CONCATENATE(TRIM(ASC(spreedResult.!E160)),\" \",TRIM(ASC(spreedResult.!F160)))","v":" "},{"$f":"CONCATENATE(TRIM(spreedResult.!G160),\"　\",TRIM(spreedResult.!H160))","v":"　"},{"$f":"IFERROR(VLOOKUP(spreedResult.!J160,spreedResult.!$AW$4:$AX$5,2,0),\"\")","v":""},{"$f":"IF(spreedResult.!K160<>\"\",TEXT(spreedResult.!K160,\"YYYY\")&TEXT(spreedResult.!K160,\"MM\")&TEXT(spreedResult.!K160,\"DD\"),\"\")","v":""},null,null,{"$f":"IF(spreedResult.!$E160<>\"\",spreedResult.!$C$10,\"\")","v":""},{"$f":"IF(spreedResult.!$E160<>\"\",spreedResult.!$C$9,\"\")","v":""},{"$f":"IF(spreedResult.!L160<>\"\",spreedResult.!L160,\"\")","v":""},{"$f":"IF(spreedResult.!G160<>\"\",IF(spreedResult.!$H$8=\"左記ご住所に送付\",\"2\",\"\"),\"\")","v":""},{"$nulls":8},"",null,"",null,{"$f":"IF(ISNUMBER(AE149),\"1\",\"\")","v":""},null,{"$f":"IF(ISNUMBER(AG149),\"1\",\"\")","v":""},null,{"$f":"IF(ISNUMBER(AI149),\"1\",\"\")","v":""},null,{"$f":"IF(ISNUMBER(AK149),\"1\",\"\")","v":""},null,{"$f":"IF(ISNUMBER(AM149),\"1\",\"\")","v":""},null,{"$f":"IF(ISNUMBER(AO149),\"1\",\"\")","v":""},null,{"$f":"IF(ISNUMBER(AQ149),\"1\",\"\")","v":""},null,{"$f":"IF(ISNUMBER(AS149),\"1\",\"\")","v":""}]
[null,{"$f":"IF(spreedResult.!B161<>\"\",TEXT(spreedResult.!B161,\"YYYY\")&TEXT(spreedResult.!B161,\"MM\")&TEXT(spreedResult.!B161,\"DD\"),\"\")","v":""},{"$f":"IF(spreedResult.!C161<>\"\",VLOOKUP(spreedResult.!C161,spreedResult.!$AT$2:$AU$12,2,0),\"\")","v":""},{"$nulls":4},{"$f":"IF(spreedResult.!O161<>\"\",VLOOKUP(spreedResult.!O161,Course!$A$2:$B$612,2,0),\"\")","v":""},null,{"$f":"CONCATENATE(TRIM(ASC(spreedResult.!E161)),\" \",TRIM(ASC(spreedResult.!F161)))","v":" "},{"$f":"CONCATENATE(TRIM(spreedResult.!G161),\"　\",TRIM(spreedResult.!H161))","v":"　"},{"$f":"IFERROR(VLOOKUP(spreedResult.!J161,spreedResult.!$AW$4:$AX$5,2,0),\"\")","v":""},{"$f":"IF(spreedResult.!K161<>\"\",TEXT(spreedResult.!K161,\"YYYY\")&TEXT(spreedResult.!K161,\"MM\")&TEXT(spreedResult.!K161,\"DD\"),\"\")","v":""},null,null,{"$f":"IF(spreedResult.!$E161<>\"\",spreedResult.!$C$10,\"\")","v":""},{"$f":"IF(spreedResult.!$E161<>\"\",spreedResult.!$C$9,\"\")","v":""},{"$f":"IF(spreedResult.!L161<>\"\",spreedResult.!L161,\"\")","v":""},{"$f":"IF(spreedResult.!G161<>\"\",IF(spreedResult.!$H$8=\"左記ご住所に送付\",\"2\",\"\"),\"\")","v":""},{"$nulls":8},"",null,"",null,{"$f":"IF(ISNUMBER(AE150),\"1\",\"\")","v":""},null,{"$f":"IF(ISNUMBER(AG150),\"1\",\"\")","v":""},null,{"$f":"IF(ISNUMBER(AI150),\"1\",\"\")","v":""},null,{"$f":"IF(ISNUMBER(AK150),\"1\",\"\")","v":""},null,{"$f":"IF(ISNUMBER(AM150),\"1\",\"\")","v":""},null,{"$f":"IF(ISNUMBER(AO150),\"1\",\"\")","v":""},null,{"$f":"IF(ISNUMBER(AQ150),\"1\",\"\")","v":""},null,{"$f":"IF(ISNUMBER(AS150),\"1\",\"\")","v":""}]
[null,{"$f":"IF(spreedResult.!B162<>\"\",TEXT(spreedResult.!B162,\"YYYY\")&TEXT(spreedResult.!B162,\"MM\")&TEXT(spreedResult.!B162,\"DD\"),\"\")","v":""},{"$f":"IF(spreedResult.!C162<>\"\",VLOOKUP(spreedResult.!C162,spreedResult.!$AT$2:$AU$12,2,0),\"\")","v":""},{"$nulls":4},{"$f":"IF(spreedResult.!O162<>\"\",VLOOKUP(spreedResult.!O162,Course!$A$2:$B$612,2,0),\"\")","v":""},null,{"$f":"CONCATENATE(TRIM(ASC(spreedResult.!E162)),\" \",TRIM(ASC(spreedResult.!F162)))","v":" "},{"$f":"CONCATENATE(TRIM(spreedResult.!G162),\"　\",TRIM(spreedResult.!H162))","v":"　"},{"$f":"IFERROR(VLOOKUP(spreedResult.!J162,spreedResult.!$AW$4:$AX$5,2,0),\"\")","v":""},{"$f":"IF(spreedResult.!K162<>\"\",TEXT(spreedResult.!K162,\"YYYY\")&TEXT(spreedResult.!K162,\"MM\")&TEXT(spreedResult.!K162,\"DD\"),\"\")","v":""},null,null,{"$f":"IF(spreedResult.!$E162<>\"\",spreedResult.!$C$10,\"\")","v":""},{"$f":"IF(spreedResult.!$E162<>\"\",spreedResult.!$C$9,\"\")","v":""},{"$f":"IF(spreedResult.!L162<>\"\",spreedResult.!L162,\"\")","v":""},{"$f":"IF(spreedResult.!G162<>\"\",IF(spreedResult.!$H$8=\"左記ご住所に送付\",\"2\",\"\"),\"\")","v":""},{"$nulls":8},"",null,"",null,{"$f":"IF(ISNUMBER(AE151),\"1\",\"\")","v":""},null,{"$f":"IF(ISNUMBER(AG151),\"1\",\"\")","v":""},null,{"$f":"IF(ISNUMBER(AI151),\"1\",\"\")","v":""},null,{"$f":"IF(ISNUMBER(AK151),\"1\",\"\")","v":""},null,{"$f":"IF(ISNUMBER(AM151),\"1\",\"\")","v":""},null,{"$f":"IF(ISNUMBER(AO151),\"1\",\"\")","v":""},null,{"$f":"IF(ISNUMBER(AQ151),\"1\",\"\")","v":""},null,{"$f":"IF(ISNUMBER(AS151),\"1\",\"\")","v":""}]
[null,{"$f":"IF(spreedResult.!B163<>\"\",TEXT(spreedResult.!B163,\"YYYY\")&TEXT(spreedResult.!B163,\"MM\")&TEXT(spreedResult.!B163,\"DD\"),\"\")","v":""},{"$f":"IF(spreedResult.!C163<>\"\",VLOOKUP(spreedResult.!C163,spreedResult.!$AT$2:$AU$12,2,0),\"\")","v":""},{"$nulls":4},{"$f":"IF(spreedResult.!O163<>\"\",VLOOKUP(spreedResult.!O163,Course!$A$2:$B$612,2,0),\"\")","v":""},null,{"$f":"CONCATENATE(TRIM(ASC(spreedResult.!E163)),\" \",TRIM(ASC(spreedResult.!F163)))","v":" "},{"$f":"CONCATENATE(TRIM(spreedResult.!G163),\"　\",TRIM(spreedResult.!H163))","v":"　"},{"$f":"IFERROR(VLOOKUP(spreedResult.!J163,spreedResult.!$AW$4:$AX$5,2,0),\"\")","v":""},{"$f":"IF(spreedResult.!K163<>\"\",TEXT(spreedResult.!K163,\"YYYY\")&TEXT(spreedResult.!K163,\"MM\")&TEXT(spreedResult.!K163,\"DD\"),\"\")","v":""},null,null,{"$f":"IF(spreedResult.!$E163<>\"\",spreedResult.!$C$10,\"\")","v":""},{"$f":"IF(spreedResult.!$E163<>\"\",spreedResult.!$C$9,\"\")","v":""},{"$f":"IF(spreedResult.!L163<>\"\",spreedResult.!L163,\"\")","v":""},{"$f":"IF(spreedResult.!G163<>\"\",IF(spreedResult.!$H$8=\"左記ご住所に送付\",\"2\",\"\"),\"\")","v":""},{"$nulls":8},"",null,"",null,{"$f":"IF(ISNUMBER(AE152),\"1\",\"\")","v":""},null,{"$f":"IF(ISNUMBER(AG152),\"1\",\"\")","v":""},null,{"$f":"IF(ISNUMBER(AI152),\"1\",\"\")","v":""},null,{"$f":"IF(ISNUMBER(AK152),\"1\",\"\")","v":""},null,{"$f":"IF(ISNUMBER(AM152),\"1\",\"\")","v":""},null,{"$f":"IF(ISNUMBER(AO152),\"1\",\"\")","v":""},null,{"$f":"IF(ISNUMBER(AQ152),\"1\",\"\")","v":""},null,{"$f":"IF(ISNUMBER(AS152),\"1\",\"\")","v":""}]
[null,{"$f":"IF(spreedResult.!B164<>\"\",TEXT(spreedResult.!B164,\"YYYY\")&TEXT(spreedResult.!B164,\"MM\")&TEXT(spreedResult.!B164,\"DD\"),\"\")","v":""},{"$f":"IF(spreedResult.!C164<>\"\",VLOOKUP(spreedResult.!C164,spreedResult.!$AT$2:$AU$12,2,0),\"\")","v":""},{"$nulls":4},{"$f":"IF(spreedResult.!O164<>\"\",VLOOKUP(spreedResult.!O164,Course!$A$2:$B$612,2,0),\"\")","v":""},null,{"$f":"CONCATENATE(TRIM(ASC(spreedResult.!E164)),\" \",TRIM(ASC(spreedResult.!F164)))","v":" "},{"$f":"CONCATENATE(TRIM(spreedResult.!G164),\"　\",TRIM(spreedResult.!H164))","v":"　"},{"$f":"IFERROR(VLOOKUP(spreedResult.!J164,spreedResult.!$AW$4:$AX$5,2,0),\"\")","v":""},{"$f":"IF(spreedResult.!K164<>\"\",TEXT(spreedResult.!K164,\"YYYY\")&TEXT(spreedResult.!K164,\"MM\")&TEXT(spreedResult.!K164,\"DD\"),\"\")","v":""},null,null,{"$f":"IF(spreedResult.!$E164<>\"\",spreedResult.!$C$10,\"\")","v":""},{"$f":"IF(spreedResult.!$E164<>\"\",spreedResult.!$C$9,\"\")","v":""},{"$f":"IF(spreedResult.!L164<>\"\",spreedResult.!L164,\"\")","v":""},{"$f":"IF(spreedResult.!G164<>\"\",IF(spreedResult.!$H$8=\"左記ご住所に送付\",\"2\",\"\"),\"\")","v":""},{"$nulls":8},"",null,"",null,{"$f":"IF(ISNUMBER(AE153),\"1\",\"\")","v":""},null,{"$f":"IF(ISNUMBER(AG153),\"1\",\"\")","v":""},null,{"$f":"IF(ISNUMBER(AI153),\"1\",\"\")","v":""},null,{"$f":"IF(ISNUMBER(AK153),\"1\",\"\")","v":""},null,{"$f":"IF(ISNUMBER(AM153),\"1\",\"\")","v":""},null,{"$f":"IF(ISNUMBER(AO153),\"1\",\"\")","v":""},null,{"$f":"IF(ISNUMBER(AQ153),\"1\",\"\")","v":""},null,{"$f":"IF(ISNUMBER(AS153),\"1\",\"\")","v":""}]
[null,{"$f":"IF(spreedResult.!B165<>\"\",TEXT(spreedResult.!B165,\"YYYY\")&TEXT(spreedResult.!B165,\"MM\")&TEXT(spreedResult.!B165,\"DD\"),\"\")","v":""},{"$f":"IF(spreedResult.!C165<>\"\",VLOOKUP(spreedResult.!C165,spreedResult.!$AT$2:$AU$12,2,0),\"\")","v":""},{"$nulls":4},{"$f":"IF(spreedResult.!O165<>\"\",VLOOKUP(spreedResult.!O165,Course!$A$2:$B$612,2,0),\"\")","v":""},null,{"$f":"CONCATENATE(TRIM(ASC(spreedResult.!E165)),\" \",TRIM(ASC(spreedResult.!F165)))","v":" "},{"$f":"CONCATENATE(TRIM(spreedResult.!G165),\"　\",TRIM(spreedResult.!H165))","v":"　"},{"$f":"IFERROR(VLOOKUP(spreedResult.!J165,spreedResult.!$AW$4:$AX$5,2,0),\"\")","v":""},{"$f":"IF(spreedResult.!K165<>\"\",TEXT(spreedResult.!K165,\"YYYY\")&TEXT(spreedResult.!K165,\"MM\")&TEXT(spreedResult.!K165,\"DD\"),\"\")","v":""},null,null,{"$f":"IF(spreedResult.!$E165<>\"\",spreedResult.!$C$10,\"\")","v":""},{"$f":"IF(spreedResult.!$E165<>\"\",spreedResult.!$C$9,\"\")","v":""},{"$f":"IF(spreedResult.!L165<>\"\",spreedResult.!L165,\"\")","v":""},{"$f":"IF(spreedResult.!G165<>\"\",IF(spreedResult.!$H$8=\"左記ご住所に送付\",\"2\",\"\"),\"\")","v":""},{"$nulls":8},"",null,"",null,{"$f":"IF(ISNUMBER(AE154),\"1\",\"\")","v":""},null,{"$f":"IF(ISNUMBER(AG154),\"1\",\"\")","v":""},null,{"$f":"IF(ISNUMBER(AI154),\"1\",\"\")","v":""},null,{"$f":"IF(ISNUMBER(AK154),\"1\",\"\")","v":""},null,{"$f":"IF(ISNUMBER(AM154),\"1\",\"\")","v":""},null,{"$f":"IF(ISNUMBER(AO154),\"1\",\"\")","v":""},null,{"$f":"IF(ISNUMBER(AQ154),\"1\",\"\")","v":""},null,{"$f":"IF(ISNUMBER(AS154),\"1\",\"\")","v":""}]
[null,{"$f":"IF(spreedResult.!B166<>\"\",TEXT(spreedResult.!B166,\"YYYY\")&TEXT(spreedResult.!B166,\"MM\")&TEXT(spreedResult.!B166,\"DD\"),\"\")","v":""},{"$f":"IF(spreedResult.!C166<>\"\",VLOOKUP(spreedResult.!C166,spreedResult.!$AT$2:$AU$12,2,0),\"\")","v":""},{"$nulls":4},{"$f":"IF(spreedResult.!O166<>\"\",VLOOKUP(spreedResult.!O166,Course!$A$2:$B$612,2,0),\"\")","v":""},null,{"$f":"CONCATENATE(TRIM(ASC(spreedResult.!E166)),\" \",TRIM(ASC(spreedResult.!F166)))","v":" "},{"$f":"CONCATENATE(TRIM(spreedResult.!G166),\"　\",TRIM(spreedResult.!H166))","v":"　"},{"$f":"IFERROR(VLOOKUP(spreedResult.!J166,spreedResult.!$AW$4:$AX$5,2,0),\"\")","v":""},{"$f":"IF(spreedResult.!K166<>\"\",TEXT(spreedResult.!K166,\"YYYY\")&TEXT(spreedResult.!K166,\"MM\")&TEXT(spreedResult.!K166,\"DD\"),\"\")","v":""},null,null,{"$f":"IF(spreedResult.!$E166<>\"\",spreedResult.!$C$10,\"\")","v":""},{"$f":"IF(spreedResult.!$E166<>\"\",spreedResult.!$C$9,\"\")","v":""},{"$f":"IF(spreedResult.!L166<>\"\",spreedResult.!L166,\"\")","v":""},{"$f":"IF(spreedResult.!G166<>\"\",IF(spreedResult.!$H$8=\"左記ご住所に送付\",\"2\",\"\"),\"\")","v":""},{"$nulls":8},"",null,"",null,{"$f":"IF(ISNUMBER(AE155),\"1\",\"\")","v":""},null,{"$f":"IF(ISNUMBER(AG155),\"1\",\"\")","v":""},null,{"$f":"IF(ISNUMBER(AI155),\"1\",\"\")","v":""},null,{"$f":"IF(ISNUMBER(AK155),\"1\",\"\")","v":""},null,{"$f":"IF(ISNUMBER(AM155),\"1\",\"\")","v":""},null,{"$f":"IF(ISNUMBER(AO155),\"1\",\"\")","v":""},null,{"$f":"IF(ISNUMBER(AQ155),\"1\",\"\")","v":""},null,{"$f":"IF(ISNUMBER(AS155),\"1\",\"\")","v":""}]
[null,{"$f":"IF(spreedResult.!B167<>\"\",TEXT(spreedResult.!B167,\"YYYY\")&TEXT(spreedResult.!B167,\"MM\")&TEXT(spreedResult.!B167,\"DD\"),\"\")","v":""},{"$f":"IF(spreedResult.!C167<>\"\",VLOOKUP(spreedResult.!C167,spreedResult.!$AT$2:$AU$12,2,0),\"\")","v":""},{"$nulls":4},{"$f":"IF(spreedResult.!O167<>\"\",VLOOKUP(spreedResult.!O167,Course!$A$2:$B$612,2,0),\"\")","v":""},null,{"$f":"CONCATENATE(TRIM(ASC(spreedResult.!E167)),\" \",TRIM(ASC(spreedResult.!F167)))","v":" "},{"$f":"CONCATENATE(TRIM(spreedResult.!G167),\"　\",TRIM(spreedResult.!H167))","v":"　"},{"$f":"IFERROR(VLOOKUP(spreedResult.!J167,spreedResult.!$AW$4:$AX$5,2,0),\"\")","v":""},{"$f":"IF(spreedResult.!K167<>\"\",TEXT(spreedResult.!K167,\"YYYY\")&TEXT(spreedResult.!K167,\"MM\")&TEXT(spreedResult.!K167,\"DD\"),\"\")","v":""},null,null,{"$f":"IF(spreedResult.!$E167<>\"\",spreedResult.!$C$10,\"\")","v":""},{"$f":"IF(spreedResult.!$E167<>\"\",spreedResult.!$C$9,\"\")","v":""},{"$f":"IF(spreedResult.!L167<>\"\",spreedResult.!L167,\"\")","v":""},{"$f":"IF(spreedResult.!G167<>\"\",IF(spreedResult.!$H$8=\"左記ご住所に送付\",\"2\",\"\"),\"\")","v":""},{"$nulls":8},"",null,"",null,{"$f":"IF(ISNUMBER(AE156),\"1\",\"\")","v":""},null,{"$f":"IF(ISNUMBER(AG156),\"1\",\"\")","v":""},null,{"$f":"IF(ISNUMBER(AI156),\"1\",\"\")","v":""},null,{"$f":"IF(ISNUMBER(AK156),\"1\",\"\")","v":""},null,{"$f":"IF(ISNUMBER(AM156),\"1\",\"\")","v":""},null,{"$f":"IF(ISNUMBER(AO156),\"1\",\"\")","v":""},null,{"$f":"IF(ISNUMBER(AQ156),\"1\",\"\")","v":""},null,{"$f":"IF(ISNUMBER(AS156),\"1\",\"\")","v":""}]
[null,{"$f":"IF(spreedResult.!B168<>\"\",TEXT(spreedResult.!B168,\"YYYY\")&TEXT(spreedResult.!B168,\"MM\")&TEXT(spreedResult.!B168,\"DD\"),\"\")","v":""},{"$f":"IF(spreedResult.!C168<>\"\",VLOOKUP(spreedResult.!C168,spreedResult.!$AT$2:$AU$12,2,0),\"\")","v":""},{"$nulls":4},{"$f":"IF(spreedResult.!O168<>\"\",VLOOKUP(spreedResult.!O168,Course!$A$2:$B$612,2,0),\"\")","v":""},null,{"$f":"CONCATENATE(TRIM(ASC(spreedResult.!E168)),\" \",TRIM(ASC(spreedResult.!F168)))","v":" "},{"$f":"CONCATENATE(TRIM(spreedResult.!G168),\"　\",TRIM(spreedResult.!H168))","v":"　"},{"$f":"IFERROR(VLOOKUP(spreedResult.!J168,spreedResult.!$AW$4:$AX$5,2,0),\"\")","v":""},{"$f":"IF(spreedResult.!K168<>\"\",TEXT(spreedResult.!K168,\"YYYY\")&TEXT(spreedResult.!K168,\"MM\")&TEXT(spreedResult.!K168,\"DD\"),\"\")","v":""},null,null,{"$f":"IF(spreedResult.!$E168<>\"\",spreedResult.!$C$10,\"\")","v":""},{"$f":"IF(spreedResult.!$E168<>\"\",spreedResult.!$C$9,\"\")","v":""},{"$f":"IF(spreedResult.!L168<>\"\",spreedResult.!L168,\"\")","v":""},{"$f":"IF(spreedResult.!G168<>\"\",IF(spreedResult.!$H$8=\"左記ご住所に送付\",\"2\",\"\"),\"\")","v":""},{"$nulls":8},"",null,"",null,{"$f":"IF(ISNUMBER(AE157),\"1\",\"\")","v":""},null,{"$f":"IF(ISNUMBER(AG157),\"1\",\"\")","v":""},null,{"$f":"IF(ISNUMBER(AI157),\"1\",\"\")","v":""},null,{"$f":"IF(ISNUMBER(AK157),\"1\",\"\")","v":""},null,{"$f":"IF(ISNUMBER(AM157),\"1\",\"\")","v":""},null,{"$f":"IF(ISNUMBER(AO157),\"1\",\"\")","v":""},null,{"$f":"IF(ISNUMBER(AQ157),\"1\",\"\")","v":""},null,{"$f":"IF(ISNUMBER(AS157),\"1\",\"\")","v":""}]
[null,{"$f":"IF(spreedResult.!B169<>\"\",TEXT(spreedResult.!B169,\"YYYY\")&TEXT(spreedResult.!B169,\"MM\")&TEXT(spreedResult.!B169,\"DD\"),\"\")","v":""},{"$f":"IF(spreedResult.!C169<>\"\",VLOOKUP(spreedResult.!C169,spreedResult.!$AT$2:$AU$12,2,0),\"\")","v":""},{"$nulls":4},{"$f":"IF(spreedResult.!O169<>\"\",VLOOKUP(spreedResult.!O169,Course!$A$2:$B$612,2,0),\"\")","v":""},null,{"$f":"CONCATENATE(TRIM(ASC(spreedResult.!E169)),\" \",TRIM(ASC(spreedResult.!F169)))","v":" "},{"$f":"CONCATENATE(TRIM(spreedResult.!G169),\"　\",TRIM(spreedResult.!H169))","v":"　"},{"$f":"IFERROR(VLOOKUP(spreedResult.!J169,spreedResult.!$AW$4:$AX$5,2,0),\"\")","v":""},{"$f":"IF(spreedResult.!K169<>\"\",TEXT(spreedResult.!K169,\"YYYY\")&TEXT(spreedResult.!K169,\"MM\")&TEXT(spreedResult.!K169,\"DD\"),\"\")","v":""},null,null,{"$f":"IF(spreedResult.!$E169<>\"\",spreedResult.!$C$10,\"\")","v":""},{"$f":"IF(spreedResult.!$E169<>\"\",spreedResult.!$C$9,\"\")","v":""},{"$f":"IF(spreedResult.!L169<>\"\",spreedResult.!L169,\"\")","v":""},{"$f":"IF(spreedResult.!G169<>\"\",IF(spreedResult.!$H$8=\"左記ご住所に送付\",\"2\",\"\"),\"\")","v":""},{"$nulls":8},"",null,"",null,{"$f":"IF(ISNUMBER(AE158),\"1\",\"\")","v":""},null,{"$f":"IF(ISNUMBER(AG158),\"1\",\"\")","v":""},null,{"$f":"IF(ISNUMBER(AI158),\"1\",\"\")","v":""},null,{"$f":"IF(ISNUMBER(AK158),\"1\",\"\")","v":""},null,{"$f":"IF(ISNUMBER(AM158),\"1\",\"\")","v":""},null,{"$f":"IF(ISNUMBER(AO158),\"1\",\"\")","v":""},null,{"$f":"IF(ISNUMBER(AQ158),\"1\",\"\")","v":""},null,{"$f":"IF(ISNUMBER(AS158),\"1\",\"\")","v":""}]
[null,{"$f":"IF(spreedResult.!B170<>\"\",TEXT(spreedResult.!B170,\"YYYY\")&TEXT(spreedResult.!B170,\"MM\")&TEXT(spreedResult.!B170,\"DD\"),\"\")","v":""},{"$f":"IF(spreedResult.!C170<>\"\",VLOOKUP(spreedResult.!C170,spreedResult.!$AT$2:$AU$12,2,0),\"\")","v":""},{"$nulls":4},{"$f":"IF(spreedResult.!O170<>\"\",VLOOKUP(spreedResult.!O170,Course!$A$2:$B$612,2,0),\"\")","v":""},null,{"$f":"CONCATENATE(TRIM(ASC(spreedResult.!E170)),\" \",TRIM(ASC(spreedResult.!F170)))","v":" "},{"$f":"CONCATENATE(TRIM(spreedResult.!G170),\"　\",TRIM(spreedResult.!H170))","v":"　"},{"$f":"IFERROR(VLOOKUP(spreedResult.!J170,spreedResult.!$AW$4:$AX$5,2,0),\"\")","v":""},{"$f":"IF(spreedResult.!K170<>\"\",TEXT(spreedResult.!K170,\"YYYY\")&TEXT(spreedResult.!K170,\"MM\")&TEXT(spreedResult.!K170,\"DD\"),\"\")","v":""},null,null,{"$f":"IF(spreedResult.!$E170<>\"\",spreedResult.!$C$10,\"\")","v":""},{"$f":"IF(spreedResult.!$E170<>\"\",spreedResult.!$C$9,\"\")","v":""},{"$f":"IF(spreedResult.!L170<>\"\",spreedResult.!L170,\"\")","v":""},{"$f":"IF(spreedResult.!G170<>\"\",IF(spreedResult.!$H$8=\"左記ご住所に送付\",\"2\",\"\"),\"\")","v":""},{"$nulls":8},"",null,"",null,{"$f":"IF(ISNUMBER(AE159),\"1\",\"\")","v":""},null,{"$f":"IF(ISNUMBER(AG159),\"1\",\"\")","v":""},null,{"$f":"IF(ISNUMBER(AI159),\"1\",\"\")","v":""},null,{"$f":"IF(ISNUMBER(AK159),\"1\",\"\")","v":""},null,{"$f":"IF(ISNUMBER(AM159),\"1\",\"\")","v":""},null,{"$f":"IF(ISNUMBER(AO159),\"1\",\"\")","v":""},null,{"$f":"IF(ISNUMBER(AQ159),\"1\",\"\")","v":""},null,{"$f":"IF(ISNUMBER(AS159),\"1\",\"\")","v":""}]
[null,{"$f":"IF(spreedResult.!B171<>\"\",TEXT(spreedResult.!B171,\"YYYY\")&TEXT(spreedResult.!B171,\"MM\")&TEXT(spreedResult.!B171,\"DD\"),\"\")","v":""},{"$f":"IF(spreedResult.!C171<>\"\",VLOOKUP(spreedResult.!C171,spreedResult.!$AT$2:$AU$12,2,0),\"\")","v":""},{"$nulls":4},{"$f":"IF(spreedResult.!O171<>\"\",VLOOKUP(spreedResult.!O171,Course!$A$2:$B$612,2,0),\"\")","v":""},null,{"$f":"CONCATENATE(TRIM(ASC(spreedResult.!E171)),\" \",TRIM(ASC(spreedResult.!F171)))","v":" "},{"$f":"CONCATENATE(TRIM(spreedResult.!G171),\"　\",TRIM(spreedResult.!H171))","v":"　"},{"$f":"IFERROR(VLOOKUP(spreedResult.!J171,spreedResult.!$AW$4:$AX$5,2,0),\"\")","v":""},{"$f":"IF(spreedResult.!K171<>\"\",TEXT(spreedResult.!K171,\"YYYY\")&TEXT(spreedResult.!K171,\"MM\")&TEXT(spreedResult.!K171,\"DD\"),\"\")","v":""},null,null,{"$f":"IF(spreedResult.!$E171<>\"\",spreedResult.!$C$10,\"\")","v":""},{"$f":"IF(spreedResult.!$E171<>\"\",spreedResult.!$C$9,\"\")","v":""},{"$f":"IF(spreedResult.!L171<>\"\",spreedResult.!L171,\"\")","v":""},{"$f":"IF(spreedResult.!G171<>\"\",IF(spreedResult.!$H$8=\"左記ご住所に送付\",\"2\",\"\"),\"\")","v":""},{"$nulls":8},"",null,"",null,{"$f":"IF(ISNUMBER(AE160),\"1\",\"\")","v":""},null,{"$f":"IF(ISNUMBER(AG160),\"1\",\"\")","v":""},null,{"$f":"IF(ISNUMBER(AI160),\"1\",\"\")","v":""},null,{"$f":"IF(ISNUMBER(AK160),\"1\",\"\")","v":""},null,{"$f":"IF(ISNUMBER(AM160),\"1\",\"\")","v":""},null,{"$f":"IF(ISNUMBER(AO160),\"1\",\"\")","v":""},null,{"$f":"IF(ISNUMBER(AQ160),\"1\",\"\")","v":""},null,{"$f":"IF(ISNUMBER(AS160),\"1\",\"\")","v":""}]
[null,{"$f":"IF(spreedResult.!B172<>\"\",TEXT(spreedResult.!B172,\"YYYY\")&TEXT(spreedResult.!B172,\"MM\")&TEXT(spreedResult.!B172,\"DD\"),\"\")","v":""},{"$f":"IF(spreedResult.!C172<>\"\",VLOOKUP(spreedResult.!C172,spreedResult.!$AT$2:$AU$12,2,0),\"\")","v":""},{"$nulls":4},{"$f":"IF(spreedResult.!O172<>\"\",VLOOKUP(spreedResult.!O172,Course!$A$2:$B$612,2,0),\"\")","v":""},null,{"$f":"CONCATENATE(TRIM(ASC(spreedResult.!E172)),\" \",TRIM(ASC(spreedResult.!F172)))","v":" "},{"$f":"CONCATENATE(TRIM(spreedResult.!G172),\"　\",TRIM(spreedResult.!H172))","v":"　"},{"$f":"IFERROR(VLOOKUP(spreedResult.!J172,spreedResult.!$AW$4:$AX$5,2,0),\"\")","v":""},{"$f":"IF(spreedResult.!K172<>\"\",TEXT(spreedResult.!K172,\"YYYY\")&TEXT(spreedResult.!K172,\"MM\")&TEXT(spreedResult.!K172,\"DD\"),\"\")","v":""},null,null,{"$f":"IF(spreedResult.!$E172<>\"\",spreedResult.!$C$10,\"\")","v":""},{"$f":"IF(spreedResult.!$E172<>\"\",spreedResult.!$C$9,\"\")","v":""},{"$f":"IF(spreedResult.!L172<>\"\",spreedResult.!L172,\"\")","v":""},{"$f":"IF(spreedResult.!G172<>\"\",IF(spreedResult.!$H$8=\"左記ご住所に送付\",\"2\",\"\"),\"\")","v":""},{"$nulls":8},"",null,"",null,{"$f":"IF(ISNUMBER(AE161),\"1\",\"\")","v":""},null,{"$f":"IF(ISNUMBER(AG161),\"1\",\"\")","v":""},null,{"$f":"IF(ISNUMBER(AI161),\"1\",\"\")","v":""},null,{"$f":"IF(ISNUMBER(AK161),\"1\",\"\")","v":""},null,{"$f":"IF(ISNUMBER(AM161),\"1\",\"\")","v":""},null,{"$f":"IF(ISNUMBER(AO161),\"1\",\"\")","v":""},null,{"$f":"IF(ISNUMBER(AQ161),\"1\",\"\")","v":""},null,{"$f":"IF(ISNUMBER(AS161),\"1\",\"\")","v":""}]
[null,{"$f":"IF(spreedResult.!B173<>\"\",TEXT(spreedResult.!B173,\"YYYY\")&TEXT(spreedResult.!B173,\"MM\")&TEXT(spreedResult.!B173,\"DD\"),\"\")","v":""},{"$f":"IF(spreedResult.!C173<>\"\",VLOOKUP(spreedResult.!C173,spreedResult.!$AT$2:$AU$12,2,0),\"\")","v":""},{"$nulls":4},{"$f":"IF(spreedResult.!O173<>\"\",VLOOKUP(spreedResult.!O173,Course!$A$2:$B$612,2,0),\"\")","v":""},null,{"$f":"CONCATENATE(TRIM(ASC(spreedResult.!E173)),\" \",TRIM(ASC(spreedResult.!F173)))","v":" "},{"$f":"CONCATENATE(TRIM(spreedResult.!G173),\"　\",TRIM(spreedResult.!H173))","v":"　"},{"$f":"IFERROR(VLOOKUP(spreedResult.!J173,spreedResult.!$AW$4:$AX$5,2,0),\"\")","v":""},{"$f":"IF(spreedResult.!K173<>\"\",TEXT(spreedResult.!K173,\"YYYY\")&TEXT(spreedResult.!K173,\"MM\")&TEXT(spreedResult.!K173,\"DD\"),\"\")","v":""},null,null,{"$f":"IF(spreedResult.!$E173<>\"\",spreedResult.!$C$10,\"\")","v":""},{"$f":"IF(spreedResult.!$E173<>\"\",spreedResult.!$C$9,\"\")","v":""},{"$f":"IF(spreedResult.!L173<>\"\",spreedResult.!L173,\"\")","v":""},{"$f":"IF(spreedResult.!G173<>\"\",IF(spreedResult.!$H$8=\"左記ご住所に送付\",\"2\",\"\"),\"\")","v":""},{"$nulls":8},"",null,"",null,{"$f":"IF(ISNUMBER(AE162),\"1\",\"\")","v":""},null,{"$f":"IF(ISNUMBER(AG162),\"1\",\"\")","v":""},null,{"$f":"IF(ISNUMBER(AI162),\"1\",\"\")","v":""},null,{"$f":"IF(ISNUMBER(AK162),\"1\",\"\")","v":""},null,{"$f":"IF(ISNUMBER(AM162),\"1\",\"\")","v":""},null,{"$f":"IF(ISNUMBER(AO162),\"1\",\"\")","v":""},null,{"$f":"IF(ISNUMBER(AQ162),\"1\",\"\")","v":""},null,{"$f":"IF(ISNUMBER(AS162),\"1\",\"\")","v":""}]
[null,{"$f":"IF(spreedResult.!B174<>\"\",TEXT(spreedResult.!B174,\"YYYY\")&TEXT(spreedResult.!B174,\"MM\")&TEXT(spreedResult.!B174,\"DD\"),\"\")","v":""},{"$f":"IF(spreedResult.!C174<>\"\",VLOOKUP(spreedResult.!C174,spreedResult.!$AT$2:$AU$12,2,0),\"\")","v":""},{"$nulls":4},{"$f":"IF(spreedResult.!O174<>\"\",VLOOKUP(spreedResult.!O174,Course!$A$2:$B$612,2,0),\"\")","v":""},null,{"$f":"CONCATENATE(TRIM(ASC(spreedResult.!E174)),\" \",TRIM(ASC(spreedResult.!F174)))","v":" "},{"$f":"CONCATENATE(TRIM(spreedResult.!G174),\"　\",TRIM(spreedResult.!H174))","v":"　"},{"$f":"IFERROR(VLOOKUP(spreedResult.!J174,spreedResult.!$AW$4:$AX$5,2,0),\"\")","v":""},{"$f":"IF(spreedResult.!K174<>\"\",TEXT(spreedResult.!K174,\"YYYY\")&TEXT(spreedResult.!K174,\"MM\")&TEXT(spreedResult.!K174,\"DD\"),\"\")","v":""},null,null,{"$f":"IF(spreedResult.!$E174<>\"\",spreedResult.!$C$10,\"\")","v":""},{"$f":"IF(spreedResult.!$E174<>\"\",spreedResult.!$C$9,\"\")","v":""},{"$f":"IF(spreedResult.!L174<>\"\",spreedResult.!L174,\"\")","v":""},{"$f":"IF(spreedResult.!G174<>\"\",IF(spreedResult.!$H$8=\"左記ご住所に送付\",\"2\",\"\"),\"\")","v":""},{"$nulls":8},"",null,"",null,{"$f":"IF(ISNUMBER(AE163),\"1\",\"\")","v":""},null,{"$f":"IF(ISNUMBER(AG163),\"1\",\"\")","v":""},null,{"$f":"IF(ISNUMBER(AI163),\"1\",\"\")","v":""},null,{"$f":"IF(ISNUMBER(AK163),\"1\",\"\")","v":""},null,{"$f":"IF(ISNUMBER(AM163),\"1\",\"\")","v":""},null,{"$f":"IF(ISNUMBER(AO163),\"1\",\"\")","v":""},null,{"$f":"IF(ISNUMBER(AQ163),\"1\",\"\")","v":""},null,{"$f":"IF(ISNUMBER(AS163),\"1\",\"\")","v":""}]
[null,{"$f":"IF(spreedResult.!B175<>\"\",TEXT(spreedResult.!B175,\"YYYY\")&TEXT(spreedResult.!B175,\"MM\")&TEXT(spreedResult.!B175,\"DD\"),\"\")","v":""},{"$f":"IF(spreedResult.!C175<>\"\",VLOOKUP(spreedResult.!C175,spreedResult.!$AT$2:$AU$12,2,0),\"\")","v":""},{"$nulls":4},{"$f":"IF(spreedResult.!O175<>\"\",VLOOKUP(spreedResult.!O175,Course!$A$2:$B$612,2,0),\"\")","v":""},null,{"$f":"CONCATENATE(TRIM(ASC(spreedResult.!E175)),\" \",TRIM(ASC(spreedResult.!F175)))","v":" "},{"$f":"CONCATENATE(TRIM(spreedResult.!G175),\"　\",TRIM(spreedResult.!H175))","v":"　"},{"$f":"IFERROR(VLOOKUP(spreedResult.!J175,spreedResult.!$AW$4:$AX$5,2,0),\"\")","v":""},{"$f":"IF(spreedResult.!K175<>\"\",TEXT(spreedResult.!K175,\"YYYY\")&TEXT(spreedResult.!K175,\"MM\")&TEXT(spreedResult.!K175,\"DD\"),\"\")","v":""},null,null,{"$f":"IF(spreedResult.!$E175<>\"\",spreedResult.!$C$10,\"\")","v":""},{"$f":"IF(spreedResult.!$E175<>\"\",spreedResult.!$C$9,\"\")","v":""},{"$f":"IF(spreedResult.!L175<>\"\",spreedResult.!L175,\"\")","v":""},{"$f":"IF(spreedResult.!G175<>\"\",IF(spreedResult.!$H$8=\"左記ご住所に送付\",\"2\",\"\"),\"\")","v":""},{"$nulls":8},"",null,"",null,{"$f":"IF(ISNUMBER(AE164),\"1\",\"\")","v":""},null,{"$f":"IF(ISNUMBER(AG164),\"1\",\"\")","v":""},null,{"$f":"IF(ISNUMBER(AI164),\"1\",\"\")","v":""},null,{"$f":"IF(ISNUMBER(AK164),\"1\",\"\")","v":""},null,{"$f":"IF(ISNUMBER(AM164),\"1\",\"\")","v":""},null,{"$f":"IF(ISNUMBER(AO164),\"1\",\"\")","v":""},null,{"$f":"IF(ISNUMBER(AQ164),\"1\",\"\")","v":""},null,{"$f":"IF(ISNUMBER(AS164),\"1\",\"\")","v":""}]
[null,{"$f":"IF(spreedResult.!B176<>\"\",TEXT(spreedResult.!B176,\"YYYY\")&TEXT(spreedResult.!B176,\"MM\")&TEXT(spreedResult.!B176,\"DD\"),\"\")","v":""},{"$f":"IF(spreedResult.!C176<>\"\",VLOOKUP(spreedResult.!C176,spreedResult.!$AT$2:$AU$12,2,0),\"\")","v":""},{"$nulls":4},{"$f":"IF(spreedResult.!O176<>\"\",VLOOKUP(spreedResult.!O176,Course!$A$2:$B$612,2,0),\"\")","v":""},null,{"$f":"CONCATENATE(TRIM(ASC(spreedResult.!E176)),\" \",TRIM(ASC(spreedResult.!F176)))","v":" "},{"$f":"CONCATENATE(TRIM(spreedResult.!G176),\"　\",TRIM(spreedResult.!H176))","v":"　"},{"$f":"IFERROR(VLOOKUP(spreedResult.!J176,spreedResult.!$AW$4:$AX$5,2,0),\"\")","v":""},{"$f":"IF(spreedResult.!K176<>\"\",TEXT(spreedResult.!K176,\"YYYY\")&TEXT(spreedResult.!K176,\"MM\")&TEXT(spreedResult.!K176,\"DD\"),\"\")","v":""},null,null,{"$f":"IF(spreedResult.!$E176<>\"\",spreedResult.!$C$10,\"\")","v":""},{"$f":"IF(spreedResult.!$E176<>\"\",spreedResult.!$C$9,\"\")","v":""},{"$f":"IF(spreedResult.!L176<>\"\",spreedResult.!L176,\"\")","v":""},{"$f":"IF(spreedResult.!G176<>\"\",IF(spreedResult.!$H$8=\"左記ご住所に送付\",\"2\",\"\"),\"\")","v":""},{"$nulls":8},"",null,"",null,{"$f":"IF(ISNUMBER(AE165),\"1\",\"\")","v":""},null,{"$f":"IF(ISNUMBER(AG165),\"1\",\"\")","v":""},null,{"$f":"IF(ISNUMBER(AI165),\"1\",\"\")","v":""},null,{"$f":"IF(ISNUMBER(AK165),\"1\",\"\")","v":""},null,{"$f":"IF(ISNUMBER(AM165),\"1\",\"\")","v":""},null,{"$f":"IF(ISNUMBER(AO165),\"1\",\"\")","v":""},null,{"$f":"IF(ISNUMBER(AQ165),\"1\",\"\")","v":""},null,{"$f":"IF(ISNUMBER(AS165),\"1\",\"\")","v":""}]
[null,{"$f":"IF(spreedResult.!B177<>\"\",TEXT(spreedResult.!B177,\"YYYY\")&TEXT(spreedResult.!B177,\"MM\")&TEXT(spreedResult.!B177,\"DD\"),\"\")","v":""},{"$f":"IF(spreedResult.!C177<>\"\",VLOOKUP(spreedResult.!C177,spreedResult.!$AT$2:$AU$12,2,0),\"\")","v":""},{"$nulls":4},{"$f":"IF(spreedResult.!O177<>\"\",VLOOKUP(spreedResult.!O177,Course!$A$2:$B$612,2,0),\"\")","v":""},null,{"$f":"CONCATENATE(TRIM(ASC(spreedResult.!E177)),\" \",TRIM(ASC(spreedResult.!F177)))","v":" "},{"$f":"CONCATENATE(TRIM(spreedResult.!G177),\"　\",TRIM(spreedResult.!H177))","v":"　"},{"$f":"IFERROR(VLOOKUP(spreedResult.!J177,spreedResult.!$AW$4:$AX$5,2,0),\"\")","v":""},{"$f":"IF(spreedResult.!K177<>\"\",TEXT(spreedResult.!K177,\"YYYY\")&TEXT(spreedResult.!K177,\"MM\")&TEXT(spreedResult.!K177,\"DD\"),\"\")","v":""},null,null,{"$f":"IF(spreedResult.!$E177<>\"\",spreedResult.!$C$10,\"\")","v":""},{"$f":"IF(spreedResult.!$E177<>\"\",spreedResult.!$C$9,\"\")","v":""},{"$f":"IF(spreedResult.!L177<>\"\",spreedResult.!L177,\"\")","v":""},{"$f":"IF(spreedResult.!G177<>\"\",IF(spreedResult.!$H$8=\"左記ご住所に送付\",\"2\",\"\"),\"\")","v":""},{"$nulls":8},"",null,"",null,{"$f":"IF(ISNUMBER(AE166),\"1\",\"\")","v":""},null,{"$f":"IF(ISNUMBER(AG166),\"1\",\"\")","v":""},null,{"$f":"IF(ISNUMBER(AI166),\"1\",\"\")","v":""},null,{"$f":"IF(ISNUMBER(AK166),\"1\",\"\")","v":""},null,{"$f":"IF(ISNUMBER(AM166),\"1\",\"\")","v":""},null,{"$f":"IF(ISNUMBER(AO166),\"1\",\"\")","v":""},null,{"$f":"IF(ISNUMBER(AQ166),\"1\",\"\")","v":""},null,{"$f":"IF(ISNUMBER(AS166),\"1\",\"\")","v":""}]
[null,{"$f":"IF(spreedResult.!B178<>\"\",TEXT(spreedResult.!B178,\"YYYY\")&TEXT(spreedResult.!B178,\"MM\")&TEXT(spreedResult.!B178,\"DD\"),\"\")","v":""},{"$f":"IF(spreedResult.!C178<>\"\",VLOOKUP(spreedResult.!C178,spreedResult.!$AT$2:$AU$12,2,0),\"\")","v":""},{"$nulls":4},{"$f":"IF(spreedResult.!O178<>\"\",VLOOKUP(spreedResult.!O178,Course!$A$2:$B$612,2,0),\"\")","v":""},null,{"$f":"CONCATENATE(TRIM(ASC(spreedResult.!E178)),\" \",TRIM(ASC(spreedResult.!F178)))","v":" "},{"$f":"CONCATENATE(TRIM(spreedResult.!G178),\"　\",TRIM(spreedResult.!H178))","v":"　"},{"$f":"IFERROR(VLOOKUP(spreedResult.!J178,spreedResult.!$AW$4:$AX$5,2,0),\"\")","v":""},{"$f":"IF(spreedResult.!K178<>\"\",TEXT(spreedResult.!K178,\"YYYY\")&TEXT(spreedResult.!K178,\"MM\")&TEXT(spreedResult.!K178,\"DD\"),\"\")","v":""},null,null,{"$f":"IF(spreedResult.!$E178<>\"\",spreedResult.!$C$10,\"\")","v":""},{"$f":"IF(spreedResult.!$E178<>\"\",spreedResult.!$C$9,\"\")","v":""},{"$f":"IF(spreedResult.!L178<>\"\",spreedResult.!L178,\"\")","v":""},{"$f":"IF(spreedResult.!G178<>\"\",IF(spreedResult.!$H$8=\"左記ご住所に送付\",\"2\",\"\"),\"\")","v":""},{"$nulls":8},"",null,"",null,{"$f":"IF(ISNUMBER(AE167),\"1\",\"\")","v":""},null,{"$f":"IF(ISNUMBER(AG167),\"1\",\"\")","v":""},null,{"$f":"IF(ISNUMBER(AI167),\"1\",\"\")","v":""},null,{"$f":"IF(ISNUMBER(AK167),\"1\",\"\")","v":""},null,{"$f":"IF(ISNUMBER(AM167),\"1\",\"\")","v":""},null,{"$f":"IF(ISNUMBER(AO167),\"1\",\"\")","v":""},null,{"$f":"IF(ISNUMBER(AQ167),\"1\",\"\")","v":""},null,{"$f":"IF(ISNUMBER(AS167),\"1\",\"\")","v":""}]
[null,{"$f":"IF(spreedResult.!B179<>\"\",TEXT(spreedResult.!B179,\"YYYY\")&TEXT(spreedResult.!B179,\"MM\")&TEXT(spreedResult.!B179,\"DD\"),\"\")","v":""},{"$f":"IF(spreedResult.!C179<>\"\",VLOOKUP(spreedResult.!C179,spreedResult.!$AT$2:$AU$12,2,0),\"\")","v":""},{"$nulls":4},{"$f":"IF(spreedResult.!O179<>\"\",VLOOKUP(spreedResult.!O179,Course!$A$2:$B$612,2,0),\"\")","v":""},null,{"$f":"CONCATENATE(TRIM(ASC(spreedResult.!E179)),\" \",TRIM(ASC(spreedResult.!F179)))","v":" "},{"$f":"CONCATENATE(TRIM(spreedResult.!G179),\"　\",TRIM(spreedResult.!H179))","v":"　"},{"$f":"IFERROR(VLOOKUP(spreedResult.!J179,spreedResult.!$AW$4:$AX$5,2,0),\"\")","v":""},{"$f":"IF(spreedResult.!K179<>\"\",TEXT(spreedResult.!K179,\"YYYY\")&TEXT(spreedResult.!K179,\"MM\")&TEXT(spreedResult.!K179,\"DD\"),\"\")","v":""},null,null,{"$f":"IF(spreedResult.!$E179<>\"\",spreedResult.!$C$10,\"\")","v":""},{"$f":"IF(spreedResult.!$E179<>\"\",spreedResult.!$C$9,\"\")","v":""},{"$f":"IF(spreedResult.!L179<>\"\",spreedResult.!L179,\"\")","v":""},{"$f":"IF(spreedResult.!G179<>\"\",IF(spreedResult.!$H$8=\"左記ご住所に送付\",\"2\",\"\"),\"\")","v":""},{"$nulls":8},"",null,"",null,{"$f":"IF(ISNUMBER(AE168),\"1\",\"\")","v":""},null,{"$f":"IF(ISNUMBER(AG168),\"1\",\"\")","v":""},null,{"$f":"IF(ISNUMBER(AI168),\"1\",\"\")","v":""},null,{"$f":"IF(ISNUMBER(AK168),\"1\",\"\")","v":""},null,{"$f":"IF(ISNUMBER(AM168),\"1\",\"\")","v":""},null,{"$f":"IF(ISNUMBER(AO168),\"1\",\"\")","v":""},null,{"$f":"IF(ISNUMBER(AQ168),\"1\",\"\")","v":""},null,{"$f":"IF(ISNUMBER(AS168),\"1\",\"\")","v":""}]
[null,{"$f":"IF(spreedResult.!B180<>\"\",TEXT(spreedResult.!B180,\"YYYY\")&TEXT(spreedResult.!B180,\"MM\")&TEXT(spreedResult.!B180,\"DD\"),\"\")","v":""},{"$f":"IF(spreedResult.!C180<>\"\",VLOOKUP(spreedResult.!C180,spreedResult.!$AT$2:$AU$12,2,0),\"\")","v":""},{"$nulls":4},{"$f":"IF(spreedResult.!O180<>\"\",VLOOKUP(spreedResult.!O180,Course!$A$2:$B$612,2,0),\"\")","v":""},null,{"$f":"CONCATENATE(TRIM(ASC(spreedResult.!E180)),\" \",TRIM(ASC(spreedResult.!F180)))","v":" "},{"$f":"CONCATENATE(TRIM(spreedResult.!G180),\"　\",TRIM(spreedResult.!H180))","v":"　"},{"$f":"IFERROR(VLOOKUP(spreedResult.!J180,spreedResult.!$AW$4:$AX$5,2,0),\"\")","v":""},{"$f":"IF(spreedResult.!K180<>\"\",TEXT(spreedResult.!K180,\"YYYY\")&TEXT(spreedResult.!K180,\"MM\")&TEXT(spreedResult.!K180,\"DD\"),\"\")","v":""},null,null,{"$f":"IF(spreedResult.!$E180<>\"\",spreedResult.!$C$10,\"\")","v":""},{"$f":"IF(spreedResult.!$E180<>\"\",spreedResult.!$C$9,\"\")","v":""},{"$f":"IF(spreedResult.!L180<>\"\",spreedResult.!L180,\"\")","v":""},{"$f":"IF(spreedResult.!G180<>\"\",IF(spreedResult.!$H$8=\"左記ご住所に送付\",\"2\",\"\"),\"\")","v":""},{"$nulls":8},"",null,"",null,{"$f":"IF(ISNUMBER(AE169),\"1\",\"\")","v":""},null,{"$f":"IF(ISNUMBER(AG169),\"1\",\"\")","v":""},null,{"$f":"IF(ISNUMBER(AI169),\"1\",\"\")","v":""},null,{"$f":"IF(ISNUMBER(AK169),\"1\",\"\")","v":""},null,{"$f":"IF(ISNUMBER(AM169),\"1\",\"\")","v":""},null,{"$f":"IF(ISNUMBER(AO169),\"1\",\"\")","v":""},null,{"$f":"IF(ISNUMBER(AQ169),\"1\",\"\")","v":""},null,{"$f":"IF(ISNUMBER(AS169),\"1\",\"\")","v":""}]
[null,{"$f":"IF(spreedResult.!B181<>\"\",TEXT(spreedResult.!B181,\"YYYY\")&TEXT(spreedResult.!B181,\"MM\")&TEXT(spreedResult.!B181,\"DD\"),\"\")","v":""},{"$f":"IF(spreedResult.!C181<>\"\",VLOOKUP(spreedResult.!C181,spreedResult.!$AT$2:$AU$12,2,0),\"\")","v":""},{"$nulls":4},{"$f":"IF(spreedResult.!O181<>\"\",VLOOKUP(spreedResult.!O181,Course!$A$2:$B$612,2,0),\"\")","v":""},null,{"$f":"CONCATENATE(TRIM(ASC(spreedResult.!E181)),\" \",TRIM(ASC(spreedResult.!F181)))","v":" "},{"$f":"CONCATENATE(TRIM(spreedResult.!G181),\"　\",TRIM(spreedResult.!H181))","v":"　"},{"$f":"IFERROR(VLOOKUP(spreedResult.!J181,spreedResult.!$AW$4:$AX$5,2,0),\"\")","v":""},{"$f":"IF(spreedResult.!K181<>\"\",TEXT(spreedResult.!K181,\"YYYY\")&TEXT(spreedResult.!K181,\"MM\")&TEXT(spreedResult.!K181,\"DD\"),\"\")","v":""},null,null,{"$f":"IF(spreedResult.!$E181<>\"\",spreedResult.!$C$10,\"\")","v":""},{"$f":"IF(spreedResult.!$E181<>\"\",spreedResult.!$C$9,\"\")","v":""},{"$f":"IF(spreedResult.!L181<>\"\",spreedResult.!L181,\"\")","v":""},{"$f":"IF(spreedResult.!G181<>\"\",IF(spreedResult.!$H$8=\"左記ご住所に送付\",\"2\",\"\"),\"\")","v":""},{"$nulls":8},"",null,"",null,{"$f":"IF(ISNUMBER(AE170),\"1\",\"\")","v":""},null,{"$f":"IF(ISNUMBER(AG170),\"1\",\"\")","v":""},null,{"$f":"IF(ISNUMBER(AI170),\"1\",\"\")","v":""},null,{"$f":"IF(ISNUMBER(AK170),\"1\",\"\")","v":""},null,{"$f":"IF(ISNUMBER(AM170),\"1\",\"\")","v":""},null,{"$f":"IF(ISNUMBER(AO170),\"1\",\"\")","v":""},null,{"$f":"IF(ISNUMBER(AQ170),\"1\",\"\")","v":""},null,{"$f":"IF(ISNUMBER(AS170),\"1\",\"\")","v":""}]
[null,{"$f":"IF(spreedResult.!B182<>\"\",TEXT(spreedResult.!B182,\"YYYY\")&TEXT(spreedResult.!B182,\"MM\")&TEXT(spreedResult.!B182,\"DD\"),\"\")","v":""},{"$f":"IF(spreedResult.!C182<>\"\",VLOOKUP(spreedResult.!C182,spreedResult.!$AT$2:$AU$12,2,0),\"\")","v":""},{"$nulls":4},{"$f":"IF(spreedResult.!O182<>\"\",VLOOKUP(spreedResult.!O182,Course!$A$2:$B$612,2,0),\"\")","v":""},null,{"$f":"CONCATENATE(TRIM(ASC(spreedResult.!E182)),\" \",TRIM(ASC(spreedResult.!F182)))","v":" "},{"$f":"CONCATENATE(TRIM(spreedResult.!G182),\"　\",TRIM(spreedResult.!H182))","v":"　"},{"$f":"IFERROR(VLOOKUP(spreedResult.!J182,spreedResult.!$AW$4:$AX$5,2,0),\"\")","v":""},{"$f":"IF(spreedResult.!K182<>\"\",TEXT(spreedResult.!K182,\"YYYY\")&TEXT(spreedResult.!K182,\"MM\")&TEXT(spreedResult.!K182,\"DD\"),\"\")","v":""},null,null,{"$f":"IF(spreedResult.!$E182<>\"\",spreedResult.!$C$10,\"\")","v":""},{"$f":"IF(spreedResult.!$E182<>\"\",spreedResult.!$C$9,\"\")","v":""},{"$f":"IF(spreedResult.!L182<>\"\",spreedResult.!L182,\"\")","v":""},{"$f":"IF(spreedResult.!G182<>\"\",IF(spreedResult.!$H$8=\"左記ご住所に送付\",\"2\",\"\"),\"\")","v":""},{"$nulls":8},"",null,"",null,{"$f":"IF(ISNUMBER(AE171),\"1\",\"\")","v":""},null,{"$f":"IF(ISNUMBER(AG171),\"1\",\"\")","v":""},null,{"$f":"IF(ISNUMBER(AI171),\"1\",\"\")","v":""},null,{"$f":"IF(ISNUMBER(AK171),\"1\",\"\")","v":""},null,{"$f":"IF(ISNUMBER(AM171),\"1\",\"\")","v":""},null,{"$f":"IF(ISNUMBER(AO171),\"1\",\"\")","v":""},null,{"$f":"IF(ISNUMBER(AQ171),\"1\",\"\")","v":""},null,{"$f":"IF(ISNUMBER(AS171),\"1\",\"\")","v":""}]
[null,{"$f":"IF(spreedResult.!B183<>\"\",TEXT(spreedResult.!B183,\"YYYY\")&TEXT(spreedResult.!B183,\"MM\")&TEXT(spreedResult.!B183,\"DD\"),\"\")","v":""},{"$f":"IF(spreedResult.!C183<>\"\",VLOOKUP(spreedResult.!C183,spreedResult.!$AT$2:$AU$12,2,0),\"\")","v":""},{"$nulls":4},{"$f":"IF(spreedResult.!O183<>\"\",VLOOKUP(spreedResult.!O183,Course!$A$2:$B$612,2,0),\"\")","v":""},null,{"$f":"CONCATENATE(TRIM(ASC(spreedResult.!E183)),\" \",TRIM(ASC(spreedResult.!F183)))","v":" "},{"$f":"CONCATENATE(TRIM(spreedResult.!G183),\"　\",TRIM(spreedResult.!H183))","v":"　"},{"$f":"IFERROR(VLOOKUP(spreedResult.!J183,spreedResult.!$AW$4:$AX$5,2,0),\"\")","v":""},{"$f":"IF(spreedResult.!K183<>\"\",TEXT(spreedResult.!K183,\"YYYY\")&TEXT(spreedResult.!K183,\"MM\")&TEXT(spreedResult.!K183,\"DD\"),\"\")","v":""},null,null,{"$f":"IF(spreedResult.!$E183<>\"\",spreedResult.!$C$10,\"\")","v":""},{"$f":"IF(spreedResult.!$E183<>\"\",spreedResult.!$C$9,\"\")","v":""},{"$f":"IF(spreedResult.!L183<>\"\",spreedResult.!L183,\"\")","v":""},{"$f":"IF(spreedResult.!G183<>\"\",IF(spreedResult.!$H$8=\"左記ご住所に送付\",\"2\",\"\"),\"\")","v":""},{"$nulls":8},"",null,"",null,{"$f":"IF(ISNUMBER(AE172),\"1\",\"\")","v":""},null,{"$f":"IF(ISNUMBER(AG172),\"1\",\"\")","v":""},null,{"$f":"IF(ISNUMBER(AI172),\"1\",\"\")","v":""},null,{"$f":"IF(ISNUMBER(AK172),\"1\",\"\")","v":""},null,{"$f":"IF(ISNUMBER(AM172),\"1\",\"\")","v":""},null,{"$f":"IF(ISNUMBER(AO172),\"1\",\"\")","v":""},null,{"$f":"IF(ISNUMBER(AQ172),\"1\",\"\")","v":""},null,{"$f":"IF(ISNUMBER(AS172),\"1\",\"\")","v":""}]
[null,{"$f":"IF(spreedResult.!B184<>\"\",TEXT(spreedResult.!B184,\"YYYY\")&TEXT(spreedResult.!B184,\"MM\")&TEXT(spreedResult.!B184,\"DD\"),\"\")","v":""},{"$f":"IF(spreedResult.!C184<>\"\",VLOOKUP(spreedResult.!C184,spreedResult.!$AT$2:$AU$12,2,0),\"\")","v":""},{"$nulls":4},{"$f":"IF(spreedResult.!O184<>\"\",VLOOKUP(spreedResult.!O184,Course!$A$2:$B$612,2,0),\"\")","v":""},null,{"$f":"CONCATENATE(TRIM(ASC(spreedResult.!E184)),\" \",TRIM(ASC(spreedResult.!F184)))","v":" "},{"$f":"CONCATENATE(TRIM(spreedResult.!G184),\"　\",TRIM(spreedResult.!H184))","v":"　"},{"$f":"IFERROR(VLOOKUP(spreedResult.!J184,spreedResult.!$AW$4:$AX$5,2,0),\"\")","v":""},{"$f":"IF(spreedResult.!K184<>\"\",TEXT(spreedResult.!K184,\"YYYY\")&TEXT(spreedResult.!K184,\"MM\")&TEXT(spreedResult.!K184,\"DD\"),\"\")","v":""},null,null,{"$f":"IF(spreedResult.!$E184<>\"\",spreedResult.!$C$10,\"\")","v":""},{"$f":"IF(spreedResult.!$E184<>\"\",spreedResult.!$C$9,\"\")","v":""},{"$f":"IF(spreedResult.!L184<>\"\",spreedResult.!L184,\"\")","v":""},{"$f":"IF(spreedResult.!G184<>\"\",IF(spreedResult.!$H$8=\"左記ご住所に送付\",\"2\",\"\"),\"\")","v":""},{"$nulls":8},"",null,"",null,{"$f":"IF(ISNUMBER(AE173),\"1\",\"\")","v":""},null,{"$f":"IF(ISNUMBER(AG173),\"1\",\"\")","v":""},null,{"$f":"IF(ISNUMBER(AI173),\"1\",\"\")","v":""},null,{"$f":"IF(ISNUMBER(AK173),\"1\",\"\")","v":""},null,{"$f":"IF(ISNUMBER(AM173),\"1\",\"\")","v":""},null,{"$f":"IF(ISNUMBER(AO173),\"1\",\"\")","v":""},null,{"$f":"IF(ISNUMBER(AQ173),\"1\",\"\")","v":""},null,{"$f":"IF(ISNUMBER(AS173),\"1\",\"\")","v":""}]
[null,{"$f":"IF(spreedResult.!B185<>\"\",TEXT(spreedResult.!B185,\"YYYY\")&TEXT(spreedResult.!B185,\"MM\")&TEXT(spreedResult.!B185,\"DD\"),\"\")","v":""},{"$f":"IF(spreedResult.!C185<>\"\",VLOOKUP(spreedResult.!C185,spreedResult.!$AT$2:$AU$12,2,0),\"\")","v":""},{"$nulls":4},{"$f":"IF(spreedResult.!O185<>\"\",VLOOKUP(spreedResult.!O185,Course!$A$2:$B$612,2,0),\"\")","v":""},null,{"$f":"CONCATENATE(TRIM(ASC(spreedResult.!E185)),\" \",TRIM(ASC(spreedResult.!F185)))","v":" "},{"$f":"CONCATENATE(TRIM(spreedResult.!G185),\"　\",TRIM(spreedResult.!H185))","v":"　"},{"$f":"IFERROR(VLOOKUP(spreedResult.!J185,spreedResult.!$AW$4:$AX$5,2,0),\"\")","v":""},{"$f":"IF(spreedResult.!K185<>\"\",TEXT(spreedResult.!K185,\"YYYY\")&TEXT(spreedResult.!K185,\"MM\")&TEXT(spreedResult.!K185,\"DD\"),\"\")","v":""},null,null,{"$f":"IF(spreedResult.!$E185<>\"\",spreedResult.!$C$10,\"\")","v":""},{"$f":"IF(spreedResult.!$E185<>\"\",spreedResult.!$C$9,\"\")","v":""},{"$f":"IF(spreedResult.!L185<>\"\",spreedResult.!L185,\"\")","v":""},{"$f":"IF(spreedResult.!G185<>\"\",IF(spreedResult.!$H$8=\"左記ご住所に送付\",\"2\",\"\"),\"\")","v":""},{"$nulls":8},"",null,"",null,{"$f":"IF(ISNUMBER(AE174),\"1\",\"\")","v":""},null,{"$f":"IF(ISNUMBER(AG174),\"1\",\"\")","v":""},null,{"$f":"IF(ISNUMBER(AI174),\"1\",\"\")","v":""},null,{"$f":"IF(ISNUMBER(AK174),\"1\",\"\")","v":""},null,{"$f":"IF(ISNUMBER(AM174),\"1\",\"\")","v":""},null,{"$f":"IF(ISNUMBER(AO174),\"1\",\"\")","v":""},null,{"$f":"IF(ISNUMBER(AQ174),\"1\",\"\")","v":""},null,{"$f":"IF(ISNUMBER(AS174),\"1\",\"\")","v":""}]
[null,{"$f":"IF(spreedResult.!B186<>\"\",TEXT(spreedResult.!B186,\"YYYY\")&TEXT(spreedResult.!B186,\"MM\")&TEXT(spreedResult.!B186,\"DD\"),\"\")","v":""},{"$f":"IF(spreedResult.!C186<>\"\",VLOOKUP(spreedResult.!C186,spreedResult.!$AT$2:$AU$12,2,0),\"\")","v":""},{"$nulls":4},{"$f":"IF(spreedResult.!O186<>\"\",VLOOKUP(spreedResult.!O186,Course!$A$2:$B$612,2,0),\"\")","v":""},null,{"$f":"CONCATENATE(TRIM(ASC(spreedResult.!E186)),\" \",TRIM(ASC(spreedResult.!F186)))","v":" "},{"$f":"CONCATENATE(TRIM(spreedResult.!G186),\"　\",TRIM(spreedResult.!H186))","v":"　"},{"$f":"IFERROR(VLOOKUP(spreedResult.!J186,spreedResult.!$AW$4:$AX$5,2,0),\"\")","v":""},{"$f":"IF(spreedResult.!K186<>\"\",TEXT(spreedResult.!K186,\"YYYY\")&TEXT(spreedResult.!K186,\"MM\")&TEXT(spreedResult.!K186,\"DD\"),\"\")","v":""},null,null,{"$f":"IF(spreedResult.!$E186<>\"\",spreedResult.!$C$10,\"\")","v":""},{"$f":"IF(spreedResult.!$E186<>\"\",spreedResult.!$C$9,\"\")","v":""},{"$f":"IF(spreedResult.!L186<>\"\",spreedResult.!L186,\"\")","v":""},{"$f":"IF(spreedResult.!G186<>\"\",IF(spreedResult.!$H$8=\"左記ご住所に送付\",\"2\",\"\"),\"\")","v":""},{"$nulls":8},"",null,"",null,{"$f":"IF(ISNUMBER(AE175),\"1\",\"\")","v":""},null,{"$f":"IF(ISNUMBER(AG175),\"1\",\"\")","v":""},null,{"$f":"IF(ISNUMBER(AI175),\"1\",\"\")","v":""},null,{"$f":"IF(ISNUMBER(AK175),\"1\",\"\")","v":""},null,{"$f":"IF(ISNUMBER(AM175),\"1\",\"\")","v":""},null,{"$f":"IF(ISNUMBER(AO175),\"1\",\"\")","v":""},null,{"$f":"IF(ISNUMBER(AQ175),\"1\",\"\")","v":""},null,{"$f":"IF(ISNUMBER(AS175),\"1\",\"\")","v":""}]
[null,{"$f":"IF(spreedResult.!B187<>\"\",TEXT(spreedResult.!B187,\"YYYY\")&TEXT(spreedResult.!B187,\"MM\")&TEXT(spreedResult.!B187,\"DD\"),\"\")","v":""},{"$f":"IF(spreedResult.!C187<>\"\",VLOOKUP(spreedResult.!C187,spreedResult.!$AT$2:$AU$12,2,0),\"\")","v":""},{"$nulls":4},{"$f":"IF(spreedResult.!O187<>\"\",VLOOKUP(spreedResult.!O187,Course!$A$2:$B$612,2,0),\"\")","v":""},null,{"$f":"CONCATENATE(TRIM(ASC(spreedResult.!E187)),\" \",TRIM(ASC(spreedResult.!F187)))","v":" "},{"$f":"CONCATENATE(TRIM(spreedResult.!G187),\"　\",TRIM(spreedResult.!H187))","v":"　"},{"$f":"IFERROR(VLOOKUP(spreedResult.!J187,spreedResult.!$AW$4:$AX$5,2,0),\"\")","v":""},{"$f":"IF(spreedResult.!K187<>\"\",TEXT(spreedResult.!K187,\"YYYY\")&TEXT(spreedResult.!K187,\"MM\")&TEXT(spreedResult.!K187,\"DD\"),\"\")","v":""},null,null,{"$f":"IF(spreedResult.!$E187<>\"\",spreedResult.!$C$10,\"\")","v":""},{"$f":"IF(spreedResult.!$E187<>\"\",spreedResult.!$C$9,\"\")","v":""},{"$f":"IF(spreedResult.!L187<>\"\",spreedResult.!L187,\"\")","v":""},{"$f":"IF(spreedResult.!G187<>\"\",IF(spreedResult.!$H$8=\"左記ご住所に送付\",\"2\",\"\"),\"\")","v":""},{"$nulls":8},"",null,"",null,{"$f":"IF(ISNUMBER(AE176),\"1\",\"\")","v":""},null,{"$f":"IF(ISNUMBER(AG176),\"1\",\"\")","v":""},null,{"$f":"IF(ISNUMBER(AI176),\"1\",\"\")","v":""},null,{"$f":"IF(ISNUMBER(AK176),\"1\",\"\")","v":""},null,{"$f":"IF(ISNUMBER(AM176),\"1\",\"\")","v":""},null,{"$f":"IF(ISNUMBER(AO176),\"1\",\"\")","v":""},null,{"$f":"IF(ISNUMBER(AQ176),\"1\",\"\")","v":""},null,{"$f":"IF(ISNUMBER(AS176),\"1\",\"\")","v":""}]
[null,{"$f":"IF(spreedResult.!B188<>\"\",TEXT(spreedResult.!B188,\"YYYY\")&TEXT(spreedResult.!B188,\"MM\")&TEXT(spreedResult.!B188,\"DD\"),\"\")","v":""},{"$f":"IF(spreedResult.!C188<>\"\",VLOOKUP(spreedResult.!C188,spreedResult.!$AT$2:$AU$12,2,0),\"\")","v":""},{"$nulls":4},{"$f":"IF(spreedResult.!O188<>\"\",VLOOKUP(spreedResult.!O188,Course!$A$2:$B$612,2,0),\"\")","v":""},null,{"$f":"CONCATENATE(TRIM(ASC(spreedResult.!E188)),\" \",TRIM(ASC(spreedResult.!F188)))","v":" "},{"$f":"CONCATENATE(TRIM(spreedResult.!G188),\"　\",TRIM(spreedResult.!H188))","v":"　"},{"$f":"IFERROR(VLOOKUP(spreedResult.!J188,spreedResult.!$AW$4:$AX$5,2,0),\"\")","v":""},{"$f":"IF(spreedResult.!K188<>\"\",TEXT(spreedResult.!K188,\"YYYY\")&TEXT(spreedResult.!K188,\"MM\")&TEXT(spreedResult.!K188,\"DD\"),\"\")","v":""},null,null,{"$f":"IF(spreedResult.!$E188<>\"\",spreedResult.!$C$10,\"\")","v":""},{"$f":"IF(spreedResult.!$E188<>\"\",spreedResult.!$C$9,\"\")","v":""},{"$f":"IF(spreedResult.!L188<>\"\",spreedResult.!L188,\"\")","v":""},{"$f":"IF(spreedResult.!G188<>\"\",IF(spreedResult.!$H$8=\"左記ご住所に送付\",\"2\",\"\"),\"\")","v":""},{"$nulls":8},"",null,"",null,{"$f":"IF(ISNUMBER(AE177),\"1\",\"\")","v":""},null,{"$f":"IF(ISNUMBER(AG177),\"1\",\"\")","v":""},null,{"$f":"IF(ISNUMBER(AI177),\"1\",\"\")","v":""},null,{"$f":"IF(ISNUMBER(AK177),\"1\",\"\")","v":""},null,{"$f":"IF(ISNUMBER(AM177),\"1\",\"\")","v":""},null,{"$f":"IF(ISNUMBER(AO177),\"1\",\"\")","v":""},null,{"$f":"IF(ISNUMBER(AQ177),\"1\",\"\")","v":""},null,{"$f":"IF(ISNUMBER(AS177),\"1\",\"\")","v":""}]
[null,{"$f":"IF(spreedResult.!B189<>\"\",TEXT(spreedResult.!B189,\"YYYY\")&TEXT(spreedResult.!B189,\"MM\")&TEXT(spreedResult.!B189,\"DD\"),\"\")","v":""},{"$f":"IF(spreedResult.!C189<>\"\",VLOOKUP(spreedResult.!C189,spreedResult.!$AT$2:$AU$12,2,0),\"\")","v":""},{"$nulls":4},{"$f":"IF(spreedResult.!O189<>\"\",VLOOKUP(spreedResult.!O189,Course!$A$2:$B$612,2,0),\"\")","v":""},null,{"$f":"CONCATENATE(TRIM(ASC(spreedResult.!E189)),\" \",TRIM(ASC(spreedResult.!F189)))","v":" "},{"$f":"CONCATENATE(TRIM(spreedResult.!G189),\"　\",TRIM(spreedResult.!H189))","v":"　"},{"$f":"IFERROR(VLOOKUP(spreedResult.!J189,spreedResult.!$AW$4:$AX$5,2,0),\"\")","v":""},{"$f":"IF(spreedResult.!K189<>\"\",TEXT(spreedResult.!K189,\"YYYY\")&TEXT(spreedResult.!K189,\"MM\")&TEXT(spreedResult.!K189,\"DD\"),\"\")","v":""},null,null,{"$f":"IF(spreedResult.!$E189<>\"\",spreedResult.!$C$10,\"\")","v":""},{"$f":"IF(spreedResult.!$E189<>\"\",spreedResult.!$C$9,\"\")","v":""},{"$f":"IF(spreedResult.!L189<>\"\",spreedResult.!L189,\"\")","v":""},{"$f":"IF(spreedResult.!G189<>\"\",IF(spreedResult.!$H$8=\"左記ご住所に送付\",\"2\",\"\"),\"\")","v":""},{"$nulls":8},"",null,"",null,{"$f":"IF(ISNUMBER(AE178),\"1\",\"\")","v":""},null,{"$f":"IF(ISNUMBER(AG178),\"1\",\"\")","v":""},null,{"$f":"IF(ISNUMBER(AI178),\"1\",\"\")","v":""},null,{"$f":"IF(ISNUMBER(AK178),\"1\",\"\")","v":""},null,{"$f":"IF(ISNUMBER(AM178),\"1\",\"\")","v":""},null,{"$f":"IF(ISNUMBER(AO178),\"1\",\"\")","v":""},null,{"$f":"IF(ISNUMBER(AQ178),\"1\",\"\")","v":""},null,{"$f":"IF(ISNUMBER(AS178),\"1\",\"\")","v":""}]
[null,{"$f":"IF(spreedResult.!B190<>\"\",TEXT(spreedResult.!B190,\"YYYY\")&TEXT(spreedResult.!B190,\"MM\")&TEXT(spreedResult.!B190,\"DD\"),\"\")","v":""},{"$f":"IF(spreedResult.!C190<>\"\",VLOOKUP(spreedResult.!C190,spreedResult.!$AT$2:$AU$12,2,0),\"\")","v":""},{"$nulls":4},{"$f":"IF(spreedResult.!O190<>\"\",VLOOKUP(spreedResult.!O190,Course!$A$2:$B$612,2,0),\"\")","v":""},null,{"$f":"CONCATENATE(TRIM(ASC(spreedResult.!E190)),\" \",TRIM(ASC(spreedResult.!F190)))","v":" "},{"$f":"CONCATENATE(TRIM(spreedResult.!G190),\"　\",TRIM(spreedResult.!H190))","v":"　"},{"$f":"IFERROR(VLOOKUP(spreedResult.!J190,spreedResult.!$AW$4:$AX$5,2,0),\"\")","v":""},{"$f":"IF(spreedResult.!K190<>\"\",TEXT(spreedResult.!K190,\"YYYY\")&TEXT(spreedResult.!K190,\"MM\")&TEXT(spreedResult.!K190,\"DD\"),\"\")","v":""},null,null,{"$f":"IF(spreedResult.!$E190<>\"\",spreedResult.!$C$10,\"\")","v":""},{"$f":"IF(spreedResult.!$E190<>\"\",spreedResult.!$C$9,\"\")","v":""},{"$f":"IF(spreedResult.!L190<>\"\",spreedResult.!L190,\"\")","v":""},{"$f":"IF(spreedResult.!G190<>\"\",IF(spreedResult.!$H$8=\"左記ご住所に送付\",\"2\",\"\"),\"\")","v":""},{"$nulls":8},"",null,"",null,{"$f":"IF(ISNUMBER(AE179),\"1\",\"\")","v":""},null,{"$f":"IF(ISNUMBER(AG179),\"1\",\"\")","v":""},null,{"$f":"IF(ISNUMBER(AI179),\"1\",\"\")","v":""},null,{"$f":"IF(ISNUMBER(AK179),\"1\",\"\")","v":""},null,{"$f":"IF(ISNUMBER(AM179),\"1\",\"\")","v":""},null,{"$f":"IF(ISNUMBER(AO179),\"1\",\"\")","v":""},null,{"$f":"IF(ISNUMBER(AQ179),\"1\",\"\")","v":""},null,{"$f":"IF(ISNUMBER(AS179),\"1\",\"\")","v":""}]
[null,{"$f":"IF(spreedResult.!B191<>\"\",TEXT(spreedResult.!B191,\"YYYY\")&TEXT(spreedResult.!B191,\"MM\")&TEXT(spreedResult.!B191,\"DD\"),\"\")","v":""},{"$f":"IF(spreedResult.!C191<>\"\",VLOOKUP(spreedResult.!C191,spreedResult.!$AT$2:$AU$12,2,0),\"\")","v":""},{"$nulls":4},{"$f":"IF(spreedResult.!O191<>\"\",VLOOKUP(spreedResult.!O191,Course!$A$2:$B$612,2,0),\"\")","v":""},null,{"$f":"CONCATENATE(TRIM(ASC(spreedResult.!E191)),\" \",TRIM(ASC(spreedResult.!F191)))","v":" "},{"$f":"CONCATENATE(TRIM(spreedResult.!G191),\"　\",TRIM(spreedResult.!H191))","v":"　"},{"$f":"IFERROR(VLOOKUP(spreedResult.!J191,spreedResult.!$AW$4:$AX$5,2,0),\"\")","v":""},{"$f":"IF(spreedResult.!K191<>\"\",TEXT(spreedResult.!K191,\"YYYY\")&TEXT(spreedResult.!K191,\"MM\")&TEXT(spreedResult.!K191,\"DD\"),\"\")","v":""},null,null,{"$f":"IF(spreedResult.!$E191<>\"\",spreedResult.!$C$10,\"\")","v":""},{"$f":"IF(spreedResult.!$E191<>\"\",spreedResult.!$C$9,\"\")","v":""},{"$f":"IF(spreedResult.!L191<>\"\",spreedResult.!L191,\"\")","v":""},{"$f":"IF(spreedResult.!G191<>\"\",IF(spreedResult.!$H$8=\"左記ご住所に送付\",\"2\",\"\"),\"\")","v":""},{"$nulls":8},"",null,"",null,{"$f":"IF(ISNUMBER(AE180),\"1\",\"\")","v":""},null,{"$f":"IF(ISNUMBER(AG180),\"1\",\"\")","v":""},null,{"$f":"IF(ISNUMBER(AI180),\"1\",\"\")","v":""},null,{"$f":"IF(ISNUMBER(AK180),\"1\",\"\")","v":""},null,{"$f":"IF(ISNUMBER(AM180),\"1\",\"\")","v":""},null,{"$f":"IF(ISNUMBER(AO180),\"1\",\"\")","v":""},null,{"$f":"IF(ISNUMBER(AQ180),\"1\",\"\")","v":""},null,{"$f":"IF(ISNUMBER(AS180),\"1\",\"\")","v":""}]
[null,{"$f":"IF(spreedResult.!B192<>\"\",TEXT(spreedResult.!B192,\"YYYY\")&TEXT(spreedResult.!B192,\"MM\")&TEXT(spreedResult.!B192,\"DD\"),\"\")","v":""},{"$f":"IF(spreedResult.!C192<>\"\",VLOOKUP(spreedResult.!C192,spreedResult.!$AT$2:$AU$12,2,0),\"\")","v":""},{"$nulls":4},{"$f":"IF(spreedResult.!O192<>\"\",VLOOKUP(spreedResult.!O192,Course!$A$2:$B$612,2,0),\"\")","v":""},null,{"$f":"CONCATENATE(TRIM(ASC(spreedResult.!E192)),\" \",TRIM(ASC(spreedResult.!F192)))","v":" "},{"$f":"CONCATENATE(TRIM(spreedResult.!G192),\"　\",TRIM(spreedResult.!H192))","v":"　"},{"$f":"IFERROR(VLOOKUP(spreedResult.!J192,spreedResult.!$AW$4:$AX$5,2,0),\"\")","v":""},{"$f":"IF(spreedResult.!K192<>\"\",TEXT(spreedResult.!K192,\"YYYY\")&TEXT(spreedResult.!K192,\"MM\")&TEXT(spreedResult.!K192,\"DD\"),\"\")","v":""},null,null,{"$f":"IF(spreedResult.!$E192<>\"\",spreedResult.!$C$10,\"\")","v":""},{"$f":"IF(spreedResult.!$E192<>\"\",spreedResult.!$C$9,\"\")","v":""},{"$f":"IF(spreedResult.!L192<>\"\",spreedResult.!L192,\"\")","v":""},{"$f":"IF(spreedResult.!G192<>\"\",IF(spreedResult.!$H$8=\"左記ご住所に送付\",\"2\",\"\"),\"\")","v":""},{"$nulls":8},"",null,"",null,{"$f":"IF(ISNUMBER(AE181),\"1\",\"\")","v":""},null,{"$f":"IF(ISNUMBER(AG181),\"1\",\"\")","v":""},null,{"$f":"IF(ISNUMBER(AI181),\"1\",\"\")","v":""},null,{"$f":"IF(ISNUMBER(AK181),\"1\",\"\")","v":""},null,{"$f":"IF(ISNUMBER(AM181),\"1\",\"\")","v":""},null,{"$f":"IF(ISNUMBER(AO181),\"1\",\"\")","v":""},null,{"$f":"IF(ISNUMBER(AQ181),\"1\",\"\")","v":""},null,{"$f":"IF(ISNUMBER(AS181),\"1\",\"\")","v":""}]
[null,{"$f":"IF(spreedResult.!B193<>\"\",TEXT(spreedResult.!B193,\"YYYY\")&TEXT(spreedResult.!B193,\"MM\")&TEXT(spreedResult.!B193,\"DD\"),\"\")","v":""},{"$f":"IF(spreedResult.!C193<>\"\",VLOOKUP(spreedResult.!C193,spreedResult.!$AT$2:$AU$12,2,0),\"\")","v":""},{"$nulls":4},{"$f":"IF(spreedResult.!O193<>\"\",VLOOKUP(spreedResult.!O193,Course!$A$2:$B$612,2,0),\"\")","v":""},null,{"$f":"CONCATENATE(TRIM(ASC(spreedResult.!E193)),\" \",TRIM(ASC(spreedResult.!F193)))","v":" "},{"$f":"CONCATENATE(TRIM(spreedResult.!G193),\"　\",TRIM(spreedResult.!H193))","v":"　"},{"$f":"IFERROR(VLOOKUP(spreedResult.!J193,spreedResult.!$AW$4:$AX$5,2,0),\"\")","v":""},{"$f":"IF(spreedResult.!K193<>\"\",TEXT(spreedResult.!K193,\"YYYY\")&TEXT(spreedResult.!K193,\"MM\")&TEXT(spreedResult.!K193,\"DD\"),\"\")","v":""},null,null,{"$f":"IF(spreedResult.!$E193<>\"\",spreedResult.!$C$10,\"\")","v":""},{"$f":"IF(spreedResult.!$E193<>\"\",spreedResult.!$C$9,\"\")","v":""},{"$f":"IF(spreedResult.!L193<>\"\",spreedResult.!L193,\"\")","v":""},{"$f":"IF(spreedResult.!G193<>\"\",IF(spreedResult.!$H$8=\"左記ご住所に送付\",\"2\",\"\"),\"\")","v":""},{"$nulls":8},"",null,"",null,{"$f":"IF(ISNUMBER(AE182),\"1\",\"\")","v":""},null,{"$f":"IF(ISNUMBER(AG182),\"1\",\"\")","v":""},null,{"$f":"IF(ISNUMBER(AI182),\"1\",\"\")","v":""},null,{"$f":"IF(ISNUMBER(AK182),\"1\",\"\")","v":""},null,{"$f":"IF(ISNUMBER(AM182),\"1\",\"\")","v":""},null,{"$f":"IF(ISNUMBER(AO182),\"1\",\"\")","v":""},null,{"$f":"IF(ISNUMBER(AQ182),\"1\",\"\")","v":""},null,{"$f":"IF(ISNUMBER(AS182),\"1\",\"\")","v":""}]
[null,{"$f":"IF(spreedResult.!B194<>\"\",TEXT(spreedResult.!B194,\"YYYY\")&TEXT(spreedResult.!B194,\"MM\")&TEXT(spreedResult.!B194,\"DD\"),\"\")","v":""},{"$f":"IF(spreedResult.!C194<>\"\",VLOOKUP(spreedResult.!C194,spreedResult.!$AT$2:$AU$12,2,0),\"\")","v":""},{"$nulls":4},{"$f":"IF(spreedResult.!O194<>\"\",VLOOKUP(spreedResult.!O194,Course!$A$2:$B$612,2,0),\"\")","v":""},null,{"$f":"CONCATENATE(TRIM(ASC(spreedResult.!E194)),\" \",TRIM(ASC(spreedResult.!F194)))","v":" "},{"$f":"CONCATENATE(TRIM(spreedResult.!G194),\"　\",TRIM(spreedResult.!H194))","v":"　"},{"$f":"IFERROR(VLOOKUP(spreedResult.!J194,spreedResult.!$AW$4:$AX$5,2,0),\"\")","v":""},{"$f":"IF(spreedResult.!K194<>\"\",TEXT(spreedResult.!K194,\"YYYY\")&TEXT(spreedResult.!K194,\"MM\")&TEXT(spreedResult.!K194,\"DD\"),\"\")","v":""},null,null,{"$f":"IF(spreedResult.!$E194<>\"\",spreedResult.!$C$10,\"\")","v":""},{"$f":"IF(spreedResult.!$E194<>\"\",spreedResult.!$C$9,\"\")","v":""},{"$f":"IF(spreedResult.!L194<>\"\",spreedResult.!L194,\"\")","v":""},{"$f":"IF(spreedResult.!G194<>\"\",IF(spreedResult.!$H$8=\"左記ご住所に送付\",\"2\",\"\"),\"\")","v":""},{"$nulls":8},"",null,"",null,{"$f":"IF(ISNUMBER(AE183),\"1\",\"\")","v":""},null,{"$f":"IF(ISNUMBER(AG183),\"1\",\"\")","v":""},null,{"$f":"IF(ISNUMBER(AI183),\"1\",\"\")","v":""},null,{"$f":"IF(ISNUMBER(AK183),\"1\",\"\")","v":""},null,{"$f":"IF(ISNUMBER(AM183),\"1\",\"\")","v":""},null,{"$f":"IF(ISNUMBER(AO183),\"1\",\"\")","v":""},null,{"$f":"IF(ISNUMBER(AQ183),\"1\",\"\")","v":""},null,{"$f":"IF(ISNUMBER(AS183),\"1\",\"\")","v":""}]
[null,{"$f":"IF(spreedResult.!B195<>\"\",TEXT(spreedResult.!B195,\"YYYY\")&TEXT(spreedResult.!B195,\"MM\")&TEXT(spreedResult.!B195,\"DD\"),\"\")","v":""},{"$f":"IF(spreedResult.!C195<>\"\",VLOOKUP(spreedResult.!C195,spreedResult.!$AT$2:$AU$12,2,0),\"\")","v":""},{"$nulls":4},{"$f":"IF(spreedResult.!O195<>\"\",VLOOKUP(spreedResult.!O195,Course!$A$2:$B$612,2,0),\"\")","v":""},null,{"$f":"CONCATENATE(TRIM(ASC(spreedResult.!E195)),\" \",TRIM(ASC(spreedResult.!F195)))","v":" "},{"$f":"CONCATENATE(TRIM(spreedResult.!G195),\"　\",TRIM(spreedResult.!H195))","v":"　"},{"$f":"IFERROR(VLOOKUP(spreedResult.!J195,spreedResult.!$AW$4:$AX$5,2,0),\"\")","v":""},{"$f":"IF(spreedResult.!K195<>\"\",TEXT(spreedResult.!K195,\"YYYY\")&TEXT(spreedResult.!K195,\"MM\")&TEXT(spreedResult.!K195,\"DD\"),\"\")","v":""},null,null,{"$f":"IF(spreedResult.!$E195<>\"\",spreedResult.!$C$10,\"\")","v":""},{"$f":"IF(spreedResult.!$E195<>\"\",spreedResult.!$C$9,\"\")","v":""},{"$f":"IF(spreedResult.!L195<>\"\",spreedResult.!L195,\"\")","v":""},{"$f":"IF(spreedResult.!G195<>\"\",IF(spreedResult.!$H$8=\"左記ご住所に送付\",\"2\",\"\"),\"\")","v":""},{"$nulls":8},"",null,"",null,{"$f":"IF(ISNUMBER(AE184),\"1\",\"\")","v":""},null,{"$f":"IF(ISNUMBER(AG184),\"1\",\"\")","v":""},null,{"$f":"IF(ISNUMBER(AI184),\"1\",\"\")","v":""},null,{"$f":"IF(ISNUMBER(AK184),\"1\",\"\")","v":""},null,{"$f":"IF(ISNUMBER(AM184),\"1\",\"\")","v":""},null,{"$f":"IF(ISNUMBER(AO184),\"1\",\"\")","v":""},null,{"$f":"IF(ISNUMBER(AQ184),\"1\",\"\")","v":""},null,{"$f":"IF(ISNUMBER(AS184),\"1\",\"\")","v":""}]
[null,{"$f":"IF(spreedResult.!B196<>\"\",TEXT(spreedResult.!B196,\"YYYY\")&TEXT(spreedResult.!B196,\"MM\")&TEXT(spreedResult.!B196,\"DD\"),\"\")","v":""},{"$f":"IF(spreedResult.!C196<>\"\",VLOOKUP(spreedResult.!C196,spreedResult.!$AT$2:$AU$12,2,0),\"\")","v":""},{"$nulls":4},{"$f":"IF(spreedResult.!O196<>\"\",VLOOKUP(spreedResult.!O196,Course!$A$2:$B$612,2,0),\"\")","v":""},null,{"$f":"CONCATENATE(TRIM(ASC(spreedResult.!E196)),\" \",TRIM(ASC(spreedResult.!F196)))","v":" "},{"$f":"CONCATENATE(TRIM(spreedResult.!G196),\"　\",TRIM(spreedResult.!H196))","v":"　"},{"$f":"IFERROR(VLOOKUP(spreedResult.!J196,spreedResult.!$AW$4:$AX$5,2,0),\"\")","v":""},{"$f":"IF(spreedResult.!K196<>\"\",TEXT(spreedResult.!K196,\"YYYY\")&TEXT(spreedResult.!K196,\"MM\")&TEXT(spreedResult.!K196,\"DD\"),\"\")","v":""},null,null,{"$f":"IF(spreedResult.!$E196<>\"\",spreedResult.!$C$10,\"\")","v":""},{"$f":"IF(spreedResult.!$E196<>\"\",spreedResult.!$C$9,\"\")","v":""},{"$f":"IF(spreedResult.!L196<>\"\",spreedResult.!L196,\"\")","v":""},{"$f":"IF(spreedResult.!G196<>\"\",IF(spreedResult.!$H$8=\"左記ご住所に送付\",\"2\",\"\"),\"\")","v":""},{"$nulls":8},"",null,"",null,{"$f":"IF(ISNUMBER(AE185),\"1\",\"\")","v":""},null,{"$f":"IF(ISNUMBER(AG185),\"1\",\"\")","v":""},null,{"$f":"IF(ISNUMBER(AI185),\"1\",\"\")","v":""},null,{"$f":"IF(ISNUMBER(AK185),\"1\",\"\")","v":""},null,{"$f":"IF(ISNUMBER(AM185),\"1\",\"\")","v":""},null,{"$f":"IF(ISNUMBER(AO185),\"1\",\"\")","v":""},null,{"$f":"IF(ISNUMBER(AQ185),\"1\",\"\")","v":""},null,{"$f":"IF(ISNUMBER(AS185),\"1\",\"\")","v":""}]
[null,{"$f":"IF(spreedResult.!B197<>\"\",TEXT(spreedResult.!B197,\"YYYY\")&TEXT(spreedResult.!B197,\"MM\")&TEXT(spreedResult.!B197,\"DD\"),\"\")","v":""},{"$f":"IF(spreedResult.!C197<>\"\",VLOOKUP(spreedResult.!C197,spreedResult.!$AT$2:$AU$12,2,0),\"\")","v":""},{"$nulls":4},{"$f":"IF(spreedResult.!O197<>\"\",VLOOKUP(spreedResult.!O197,Course!$A$2:$B$612,2,0),\"\")","v":""},null,{"$f":"CONCATENATE(TRIM(ASC(spreedResult.!E197)),\" \",TRIM(ASC(spreedResult.!F197)))","v":" "},{"$f":"CONCATENATE(TRIM(spreedResult.!G197),\"　\",TRIM(spreedResult.!H197))","v":"　"},{"$f":"IFERROR(VLOOKUP(spreedResult.!J197,spreedResult.!$AW$4:$AX$5,2,0),\"\")","v":""},{"$f":"IF(spreedResult.!K197<>\"\",TEXT(spreedResult.!K197,\"YYYY\")&TEXT(spreedResult.!K197,\"MM\")&TEXT(spreedResult.!K197,\"DD\"),\"\")","v":""},null,null,{"$f":"IF(spreedResult.!$E197<>\"\",spreedResult.!$C$10,\"\")","v":""},{"$f":"IF(spreedResult.!$E197<>\"\",spreedResult.!$C$9,\"\")","v":""},{"$f":"IF(spreedResult.!L197<>\"\",spreedResult.!L197,\"\")","v":""},{"$f":"IF(spreedResult.!G197<>\"\",IF(spreedResult.!$H$8=\"左記ご住所に送付\",\"2\",\"\"),\"\")","v":""},{"$nulls":8},"",null,"",null,{"$f":"IF(ISNUMBER(AE186),\"1\",\"\")","v":""},null,{"$f":"IF(ISNUMBER(AG186),\"1\",\"\")","v":""},null,{"$f":"IF(ISNUMBER(AI186),\"1\",\"\")","v":""},null,{"$f":"IF(ISNUMBER(AK186),\"1\",\"\")","v":""},null,{"$f":"IF(ISNUMBER(AM186),\"1\",\"\")","v":""},null,{"$f":"IF(ISNUMBER(AO186),\"1\",\"\")","v":""},null,{"$f":"IF(ISNUMBER(AQ186),\"1\",\"\")","v":""},null,{"$f":"IF(ISNUMBER(AS186),\"1\",\"\")","v":""}]
[null,{"$f":"IF(spreedResult.!B198<>\"\",TEXT(spreedResult.!B198,\"YYYY\")&TEXT(spreedResult.!B198,\"MM\")&TEXT(spreedResult.!B198,\"DD\"),\"\")","v":""},{"$f":"IF(spreedResult.!C198<>\"\",VLOOKUP(spreedResult.!C198,spreedResult.!$AT$2:$AU$12,2,0),\"\")","v":""},{"$nulls":4},{"$f":"IF(spreedResult.!O198<>\"\",VLOOKUP(spreedResult.!O198,Course!$A$2:$B$612,2,0),\"\")","v":""},null,{"$f":"CONCATENATE(TRIM(ASC(spreedResult.!E198)),\" \",TRIM(ASC(spreedResult.!F198)))","v":" "},{"$f":"CONCATENATE(TRIM(spreedResult.!G198),\"　\",TRIM(spreedResult.!H198))","v":"　"},{"$f":"IFERROR(VLOOKUP(spreedResult.!J198,spreedResult.!$AW$4:$AX$5,2,0),\"\")","v":""},{"$f":"IF(spreedResult.!K198<>\"\",TEXT(spreedResult.!K198,\"YYYY\")&TEXT(spreedResult.!K198,\"MM\")&TEXT(spreedResult.!K198,\"DD\"),\"\")","v":""},null,null,{"$f":"IF(spreedResult.!$E198<>\"\",spreedResult.!$C$10,\"\")","v":""},{"$f":"IF(spreedResult.!$E198<>\"\",spreedResult.!$C$9,\"\")","v":""},{"$f":"IF(spreedResult.!L198<>\"\",spreedResult.!L198,\"\")","v":""},{"$f":"IF(spreedResult.!G198<>\"\",IF(spreedResult.!$H$8=\"左記ご住所に送付\",\"2\",\"\"),\"\")","v":""},{"$nulls":8},"",null,"",null,{"$f":"IF(ISNUMBER(AE187),\"1\",\"\")","v":""},null,{"$f":"IF(ISNUMBER(AG187),\"1\",\"\")","v":""},null,{"$f":"IF(ISNUMBER(AI187),\"1\",\"\")","v":""},null,{"$f":"IF(ISNUMBER(AK187),\"1\",\"\")","v":""},null,{"$f":"IF(ISNUMBER(AM187),\"1\",\"\")","v":""},null,{"$f":"IF(ISNUMBER(AO187),\"1\",\"\")","v":""},null,{"$f":"IF(ISNUMBER(AQ187),\"1\",\"\")","v":""},null,{"$f":"IF(ISNUMBER(AS187),\"1\",\"\")","v":""}]
[null,{"$f":"IF(spreedResult.!B199<>\"\",TEXT(spreedResult.!B199,\"YYYY\")&TEXT(spreedResult.!B199,\"MM\")&TEXT(spreedResult.!B199,\"DD\"),\"\")","v":""},{"$f":"IF(spreedResult.!C199<>\"\",VLOOKUP(spreedResult.!C199,spreedResult.!$AT$2:$AU$12,2,0),\"\")","v":""},{"$nulls":4},{"$f":"IF(spreedResult.!O199<>\"\",VLOOKUP(spreedResult.!O199,Course!$A$2:$B$612,2,0),\"\")","v":""},null,{"$f":"CONCATENATE(TRIM(ASC(spreedResult.!E199)),\" \",TRIM(ASC(spreedResult.!F199)))","v":" "},{"$f":"CONCATENATE(TRIM(spreedResult.!G199),\"　\",TRIM(spreedResult.!H199))","v":"　"},{"$f":"IFERROR(VLOOKUP(spreedResult.!J199,spreedResult.!$AW$4:$AX$5,2,0),\"\")","v":""},{"$f":"IF(spreedResult.!K199<>\"\",TEXT(spreedResult.!K199,\"YYYY\")&TEXT(spreedResult.!K199,\"MM\")&TEXT(spreedResult.!K199,\"DD\"),\"\")","v":""},null,null,{"$f":"IF(spreedResult.!$E199<>\"\",spreedResult.!$C$10,\"\")","v":""},{"$f":"IF(spreedResult.!$E199<>\"\",spreedResult.!$C$9,\"\")","v":""},{"$f":"IF(spreedResult.!L199<>\"\",spreedResult.!L199,\"\")","v":""},{"$f":"IF(spreedResult.!G199<>\"\",IF(spreedResult.!$H$8=\"左記ご住所に送付\",\"2\",\"\"),\"\")","v":""},{"$nulls":8},"",null,"",null,{"$f":"IF(ISNUMBER(AE188),\"1\",\"\")","v":""},null,{"$f":"IF(ISNUMBER(AG188),\"1\",\"\")","v":""},null,{"$f":"IF(ISNUMBER(AI188),\"1\",\"\")","v":""},null,{"$f":"IF(ISNUMBER(AK188),\"1\",\"\")","v":""},null,{"$f":"IF(ISNUMBER(AM188),\"1\",\"\")","v":""},null,{"$f":"IF(ISNUMBER(AO188),\"1\",\"\")","v":""},null,{"$f":"IF(ISNUMBER(AQ188),\"1\",\"\")","v":""},null,{"$f":"IF(ISNUMBER(AS188),\"1\",\"\")","v":""}]
[null,{"$f":"IF(spreedResult.!B200<>\"\",TEXT(spreedResult.!B200,\"YYYY\")&TEXT(spreedResult.!B200,\"MM\")&TEXT(spreedResult.!B200,\"DD\"),\"\")","v":""},{"$f":"IF(spreedResult.!C200<>\"\",VLOOKUP(spreedResult.!C200,spreedResult.!$AT$2:$AU$12,2,0),\"\")","v":""},{"$nulls":4},{"$f":"IF(spreedResult.!O200<>\"\",VLOOKUP(spreedResult.!O200,Course!$A$2:$B$612,2,0),\"\")","v":""},null,{"$f":"CONCATENATE(TRIM(ASC(spreedResult.!E200)),\" \",TRIM(ASC(spreedResult.!F200)))","v":" "},{"$f":"CONCATENATE(TRIM(spreedResult.!G200),\"　\",TRIM(spreedResult.!H200))","v":"　"},{"$f":"IFERROR(VLOOKUP(spreedResult.!J200,spreedResult.!$AW$4:$AX$5,2,0),\"\")","v":""},{"$f":"IF(spreedResult.!K200<>\"\",TEXT(spreedResult.!K200,\"YYYY\")&TEXT(spreedResult.!K200,\"MM\")&TEXT(spreedResult.!K200,\"DD\"),\"\")","v":""},null,null,{"$f":"IF(spreedResult.!$E200<>\"\",spreedResult.!$C$10,\"\")","v":""},{"$f":"IF(spreedResult.!$E200<>\"\",spreedResult.!$C$9,\"\")","v":""},{"$f":"IF(spreedResult.!L200<>\"\",spreedResult.!L200,\"\")","v":""},{"$f":"IF(spreedResult.!G200<>\"\",IF(spreedResult.!$H$8=\"左記ご住所に送付\",\"2\",\"\"),\"\")","v":""},{"$nulls":8},"",null,"",null,{"$f":"IF(ISNUMBER(AE189),\"1\",\"\")","v":""},null,{"$f":"IF(ISNUMBER(AG189),\"1\",\"\")","v":""},null,{"$f":"IF(ISNUMBER(AI189),\"1\",\"\")","v":""},null,{"$f":"IF(ISNUMBER(AK189),\"1\",\"\")","v":""},null,{"$f":"IF(ISNUMBER(AM189),\"1\",\"\")","v":""},null,{"$f":"IF(ISNUMBER(AO189),\"1\",\"\")","v":""},null,{"$f":"IF(ISNUMBER(AQ189),\"1\",\"\")","v":""},null,{"$f":"IF(ISNUMBER(AS189),\"1\",\"\")","v":""}]
[null,{"$f":"IF(spreedResult.!B201<>\"\",TEXT(spreedResult.!B201,\"YYYY\")&TEXT(spreedResult.!B201,\"MM\")&TEXT(spreedResult.!B201,\"DD\"),\"\")","v":""},{"$f":"IF(spreedResult.!C201<>\"\",VLOOKUP(spreedResult.!C201,spreedResult.!$AT$2:$AU$12,2,0),\"\")","v":""},{"$nulls":4},{"$f":"IF(spreedResult.!O201<>\"\",VLOOKUP(spreedResult.!O201,Course!$A$2:$B$612,2,0),\"\")","v":""},null,{"$f":"CONCATENATE(TRIM(ASC(spreedResult.!E201)),\" \",TRIM(ASC(spreedResult.!F201)))","v":" "},{"$f":"CONCATENATE(TRIM(spreedResult.!G201),\"　\",TRIM(spreedResult.!H201))","v":"　"},{"$f":"IFERROR(VLOOKUP(spreedResult.!J201,spreedResult.!$AW$4:$AX$5,2,0),\"\")","v":""},{"$f":"IF(spreedResult.!K201<>\"\",TEXT(spreedResult.!K201,\"YYYY\")&TEXT(spreedResult.!K201,\"MM\")&TEXT(spreedResult.!K201,\"DD\"),\"\")","v":""},null,null,{"$f":"IF(spreedResult.!$E201<>\"\",spreedResult.!$C$10,\"\")","v":""},{"$f":"IF(spreedResult.!$E201<>\"\",spreedResult.!$C$9,\"\")","v":""},{"$f":"IF(spreedResult.!L201<>\"\",spreedResult.!L201,\"\")","v":""},{"$f":"IF(spreedResult.!G201<>\"\",IF(spreedResult.!$H$8=\"左記ご住所に送付\",\"2\",\"\"),\"\")","v":""},{"$nulls":8},"",null,"",null,{"$f":"IF(ISNUMBER(AE190),\"1\",\"\")","v":""},null,{"$f":"IF(ISNUMBER(AG190),\"1\",\"\")","v":""},null,{"$f":"IF(ISNUMBER(AI190),\"1\",\"\")","v":""},null,{"$f":"IF(ISNUMBER(AK190),\"1\",\"\")","v":""},null,{"$f":"IF(ISNUMBER(AM190),\"1\",\"\")","v":""},null,{"$f":"IF(ISNUMBER(AO190),\"1\",\"\")","v":""},null,{"$f":"IF(ISNUMBER(AQ190),\"1\",\"\")","v":""},null,{"$f":"IF(ISNUMBER(AS190),\"1\",\"\")","v":""}]
[null,{"$f":"IF(spreedResult.!B202<>\"\",TEXT(spreedResult.!B202,\"YYYY\")&TEXT(spreedResult.!B202,\"MM\")&TEXT(spreedResult.!B202,\"DD\"),\"\")","v":""},{"$f":"IF(spreedResult.!C202<>\"\",VLOOKUP(spreedResult.!C202,spreedResult.!$AT$2:$AU$12,2,0),\"\")","v":""},{"$nulls":4},{"$f":"IF(spreedResult.!O202<>\"\",VLOOKUP(spreedResult.!O202,Course!$A$2:$B$612,2,0),\"\")","v":""},null,{"$f":"CONCATENATE(TRIM(ASC(spreedResult.!E202)),\" \",TRIM(ASC(spreedResult.!F202)))","v":" "},{"$f":"CONCATENATE(TRIM(spreedResult.!G202),\"　\",TRIM(spreedResult.!H202))","v":"　"},{"$f":"IFERROR(VLOOKUP(spreedResult.!J202,spreedResult.!$AW$4:$AX$5,2,0),\"\")","v":""},{"$f":"IF(spreedResult.!K202<>\"\",TEXT(spreedResult.!K202,\"YYYY\")&TEXT(spreedResult.!K202,\"MM\")&TEXT(spreedResult.!K202,\"DD\"),\"\")","v":""},null,null,{"$f":"IF(spreedResult.!$E202<>\"\",spreedResult.!$C$10,\"\")","v":""},{"$f":"IF(spreedResult.!$E202<>\"\",spreedResult.!$C$9,\"\")","v":""},{"$f":"IF(spreedResult.!L202<>\"\",spreedResult.!L202,\"\")","v":""},{"$f":"IF(spreedResult.!G202<>\"\",IF(spreedResult.!$H$8=\"左記ご住所に送付\",\"2\",\"\"),\"\")","v":""},{"$nulls":8},"",null,"",null,{"$f":"IF(ISNUMBER(AE191),\"1\",\"\")","v":""},null,{"$f":"IF(ISNUMBER(AG191),\"1\",\"\")","v":""},null,{"$f":"IF(ISNUMBER(AI191),\"1\",\"\")","v":""},null,{"$f":"IF(ISNUMBER(AK191),\"1\",\"\")","v":""},null,{"$f":"IF(ISNUMBER(AM191),\"1\",\"\")","v":""},null,{"$f":"IF(ISNUMBER(AO191),\"1\",\"\")","v":""},null,{"$f":"IF(ISNUMBER(AQ191),\"1\",\"\")","v":""},null,{"$f":"IF(ISNUMBER(AS191),\"1\",\"\")","v":""}]
[null,{"$f":"IF(spreedResult.!B203<>\"\",TEXT(spreedResult.!B203,\"YYYY\")&TEXT(spreedResult.!B203,\"MM\")&TEXT(spreedResult.!B203,\"DD\"),\"\")","v":""},{"$f":"IF(spreedResult.!C203<>\"\",VLOOKUP(spreedResult.!C203,spreedResult.!$AT$2:$AU$12,2,0),\"\")","v":""},{"$nulls":4},{"$f":"IF(spreedResult.!O203<>\"\",VLOOKUP(spreedResult.!O203,Course!$A$2:$B$612,2,0),\"\")","v":""},null,{"$f":"CONCATENATE(TRIM(ASC(spreedResult.!E203)),\" \",TRIM(ASC(spreedResult.!F203)))","v":" "},{"$f":"CONCATENATE(TRIM(spreedResult.!G203),\"　\",TRIM(spreedResult.!H203))","v":"　"},{"$f":"IFERROR(VLOOKUP(spreedResult.!J203,spreedResult.!$AW$4:$AX$5,2,0),\"\")","v":""},{"$f":"IF(spreedResult.!K203<>\"\",TEXT(spreedResult.!K203,\"YYYY\")&TEXT(spreedResult.!K203,\"MM\")&TEXT(spreedResult.!K203,\"DD\"),\"\")","v":""},null,null,{"$f":"IF(spreedResult.!$E203<>\"\",spreedResult.!$C$10,\"\")","v":""},{"$f":"IF(spreedResult.!$E203<>\"\",spreedResult.!$C$9,\"\")","v":""},{"$f":"IF(spreedResult.!L203<>\"\",spreedResult.!L203,\"\")","v":""},{"$f":"IF(spreedResult.!G203<>\"\",IF(spreedResult.!$H$8=\"左記ご住所に送付\",\"2\",\"\"),\"\")","v":""},{"$nulls":8},"",null,"",null,{"$f":"IF(ISNUMBER(AE192),\"1\",\"\")","v":""},null,{"$f":"IF(ISNUMBER(AG192),\"1\",\"\")","v":""},null,{"$f":"IF(ISNUMBER(AI192),\"1\",\"\")","v":""},null,{"$f":"IF(ISNUMBER(AK192),\"1\",\"\")","v":""},null,{"$f":"IF(ISNUMBER(AM192),\"1\",\"\")","v":""},null,{"$f":"IF(ISNUMBER(AO192),\"1\",\"\")","v":""},null,{"$f":"IF(ISNUMBER(AQ192),\"1\",\"\")","v":""},null,{"$f":"IF(ISNUMBER(AS192),\"1\",\"\")","v":""}]
[null,{"$f":"IF(spreedResult.!B204<>\"\",TEXT(spreedResult.!B204,\"YYYY\")&TEXT(spreedResult.!B204,\"MM\")&TEXT(spreedResult.!B204,\"DD\"),\"\")","v":""},{"$f":"IF(spreedResult.!C204<>\"\",VLOOKUP(spreedResult.!C204,spreedResult.!$AT$2:$AU$12,2,0),\"\")","v":""},{"$nulls":4},{"$f":"IF(spreedResult.!O204<>\"\",VLOOKUP(spreedResult.!O204,Course!$A$2:$B$612,2,0),\"\")","v":""},null,{"$f":"CONCATENATE(TRIM(ASC(spreedResult.!E204)),\" \",TRIM(ASC(spreedResult.!F204)))","v":" "},{"$f":"CONCATENATE(TRIM(spreedResult.!G204),\"　\",TRIM(spreedResult.!H204))","v":"　"},{"$f":"IFERROR(VLOOKUP(spreedResult.!J204,spreedResult.!$AW$4:$AX$5,2,0),\"\")","v":""},{"$f":"IF(spreedResult.!K204<>\"\",TEXT(spreedResult.!K204,\"YYYY\")&TEXT(spreedResult.!K204,\"MM\")&TEXT(spreedResult.!K204,\"DD\"),\"\")","v":""},null,null,{"$f":"IF(spreedResult.!$E204<>\"\",spreedResult.!$C$10,\"\")","v":""},{"$f":"IF(spreedResult.!$E204<>\"\",spreedResult.!$C$9,\"\")","v":""},{"$f":"IF(spreedResult.!L204<>\"\",spreedResult.!L204,\"\")","v":""},{"$f":"IF(spreedResult.!G204<>\"\",IF(spreedResult.!$H$8=\"左記ご住所に送付\",\"2\",\"\"),\"\")","v":""},{"$nulls":8},"",null,"",null,{"$f":"IF(ISNUMBER(AE193),\"1\",\"\")","v":""},null,{"$f":"IF(ISNUMBER(AG193),\"1\",\"\")","v":""},null,{"$f":"IF(ISNUMBER(AI193),\"1\",\"\")","v":""},null,{"$f":"IF(ISNUMBER(AK193),\"1\",\"\")","v":""},null,{"$f":"IF(ISNUMBER(AM193),\"1\",\"\")","v":""},null,{"$f":"IF(ISNUMBER(AO193),\"1\",\"\")","v":""},null,{"$f":"IF(ISNUMBER(AQ193),\"1\",\"\")","v":""},null,{"$f":"IF(ISNUMBER(AS193),\"1\",\"\")","v":""}]
[null,{"$f":"IF(spreedResult.!B205<>\"\",TEXT(spreedResult.!B205,\"YYYY\")&TEXT(spreedResult.!B205,\"MM\")&TEXT(spreedResult.!B205,\"DD\"),\"\")","v":""},{"$f":"IF(spreedResult.!C205<>\"\",VLOOKUP(spreedResult.!C205,spreedResult.!$AT$2:$AU$12,2,0),\"\")","v":""},{"$nulls":4},{"$f":"IF(spreedResult.!O205<>\"\",VLOOKUP(spreedResult.!O205,Course!$A$2:$B$612,2,0),\"\")","v":""},null,{"$f":"CONCATENATE(TRIM(ASC(spreedResult.!E205)),\" \",TRIM(ASC(spreedResult.!F205)))","v":" "},{"$f":"CONCATENATE(TRIM(spreedResult.!G205),\"　\",TRIM(spreedResult.!H205))","v":"　"},{"$f":"IFERROR(VLOOKUP(spreedResult.!J205,spreedResult.!$AW$4:$AX$5,2,0),\"\")","v":""},{"$f":"IF(spreedResult.!K205<>\"\",TEXT(spreedResult.!K205,\"YYYY\")&TEXT(spreedResult.!K205,\"MM\")&TEXT(spreedResult.!K205,\"DD\"),\"\")","v":""},null,null,{"$f":"IF(spreedResult.!$E205<>\"\",spreedResult.!$C$10,\"\")","v":""},{"$f":"IF(spreedResult.!$E205<>\"\",spreedResult.!$C$9,\"\")","v":""},{"$f":"IF(spreedResult.!L205<>\"\",spreedResult.!L205,\"\")","v":""},{"$f":"IF(spreedResult.!G205<>\"\",IF(spreedResult.!$H$8=\"左記ご住所に送付\",\"2\",\"\"),\"\")","v":""},{"$nulls":8},"",null,"",null,{"$f":"IF(ISNUMBER(AE194),\"1\",\"\")","v":""},null,{"$f":"IF(ISNUMBER(AG194),\"1\",\"\")","v":""},null,{"$f":"IF(ISNUMBER(AI194),\"1\",\"\")","v":""},null,{"$f":"IF(ISNUMBER(AK194),\"1\",\"\")","v":""},null,{"$f":"IF(ISNUMBER(AM194),\"1\",\"\")","v":""},null,{"$f":"IF(ISNUMBER(AO194),\"1\",\"\")","v":""},null,{"$f":"IF(ISNUMBER(AQ194),\"1\",\"\")","v":""},null,{"$f":"IF(ISNUMBER(AS194),\"1\",\"\")","v":""}]
[null,{"$f":"IF(spreedResult.!B206<>\"\",TEXT(spreedResult.!B206,\"YYYY\")&TEXT(spreedResult.!B206,\"MM\")&TEXT(spreedResult.!B206,\"DD\"),\"\")","v":""},{"$f":"IF(spreedResult.!C206<>\"\",VLOOKUP(spreedResult.!C206,spreedResult.!$AT$2:$AU$12,2,0),\"\")","v":""},{"$nulls":4},{"$f":"IF(spreedResult.!O206<>\"\",VLOOKUP(spreedResult.!O206,Course!$A$2:$B$612,2,0),\"\")","v":""},null,{"$f":"CONCATENATE(TRIM(ASC(spreedResult.!E206)),\" \",TRIM(ASC(spreedResult.!F206)))","v":" "},{"$f":"CONCATENATE(TRIM(spreedResult.!G206),\"　\",TRIM(spreedResult.!H206))","v":"　"},{"$f":"IFERROR(VLOOKUP(spreedResult.!J206,spreedResult.!$AW$4:$AX$5,2,0),\"\")","v":""},{"$f":"IF(spreedResult.!K206<>\"\",TEXT(spreedResult.!K206,\"YYYY\")&TEXT(spreedResult.!K206,\"MM\")&TEXT(spreedResult.!K206,\"DD\"),\"\")","v":""},null,null,{"$f":"IF(spreedResult.!$E206<>\"\",spreedResult.!$C$10,\"\")","v":""},{"$f":"IF(spreedResult.!$E206<>\"\",spreedResult.!$C$9,\"\")","v":""},{"$f":"IF(spreedResult.!L206<>\"\",spreedResult.!L206,\"\")","v":""},{"$f":"IF(spreedResult.!G206<>\"\",IF(spreedResult.!$H$8=\"左記ご住所に送付\",\"2\",\"\"),\"\")","v":""},{"$nulls":8},"",null,"",null,{"$f":"IF(ISNUMBER(AE195),\"1\",\"\")","v":""},null,{"$f":"IF(ISNUMBER(AG195),\"1\",\"\")","v":""},null,{"$f":"IF(ISNUMBER(AI195),\"1\",\"\")","v":""},null,{"$f":"IF(ISNUMBER(AK195),\"1\",\"\")","v":""},null,{"$f":"IF(ISNUMBER(AM195),\"1\",\"\")","v":""},null,{"$f":"IF(ISNUMBER(AO195),\"1\",\"\")","v":""},null,{"$f":"IF(ISNUMBER(AQ195),\"1\",\"\")","v":""},null,{"$f":"IF(ISNUMBER(AS195),\"1\",\"\")","v":""}]
[null,{"$f":"IF(spreedResult.!B207<>\"\",TEXT(spreedResult.!B207,\"YYYY\")&TEXT(spreedResult.!B207,\"MM\")&TEXT(spreedResult.!B207,\"DD\"),\"\")","v":""},{"$f":"IF(spreedResult.!C207<>\"\",VLOOKUP(spreedResult.!C207,spreedResult.!$AT$2:$AU$12,2,0),\"\")","v":""},{"$nulls":4},{"$f":"IF(spreedResult.!O207<>\"\",VLOOKUP(spreedResult.!O207,Course!$A$2:$B$612,2,0),\"\")","v":""},null,{"$f":"CONCATENATE(TRIM(ASC(spreedResult.!E207)),\" \",TRIM(ASC(spreedResult.!F207)))","v":" "},{"$f":"CONCATENATE(TRIM(spreedResult.!G207),\"　\",TRIM(spreedResult.!H207))","v":"　"},{"$f":"IFERROR(VLOOKUP(spreedResult.!J207,spreedResult.!$AW$4:$AX$5,2,0),\"\")","v":""},{"$f":"IF(spreedResult.!K207<>\"\",TEXT(spreedResult.!K207,\"YYYY\")&TEXT(spreedResult.!K207,\"MM\")&TEXT(spreedResult.!K207,\"DD\"),\"\")","v":""},null,null,{"$f":"IF(spreedResult.!$E207<>\"\",spreedResult.!$C$10,\"\")","v":""},{"$f":"IF(spreedResult.!$E207<>\"\",spreedResult.!$C$9,\"\")","v":""},{"$f":"IF(spreedResult.!L207<>\"\",spreedResult.!L207,\"\")","v":""},{"$f":"IF(spreedResult.!G207<>\"\",IF(spreedResult.!$H$8=\"左記ご住所に送付\",\"2\",\"\"),\"\")","v":""},{"$nulls":8},{"$f":"IF(ISNUMBER(AA196),\"1\",\"\")","v":""},null,"",null,{"$f":"IF(ISNUMBER(AE196),\"1\",\"\")","v":""},null,{"$f":"IF(ISNUMBER(AG196),\"1\",\"\")","v":""},null,{"$f":"IF(ISNUMBER(AI196),\"1\",\"\")","v":""},null,{"$f":"IF(ISNUMBER(AK196),\"1\",\"\")","v":""},null,{"$f":"IF(ISNUMBER(AM196),\"1\",\"\")","v":""},null,{"$f":"IF(ISNUMBER(AO196),\"1\",\"\")","v":""},null,{"$f":"IF(ISNUMBER(AQ196),\"1\",\"\")","v":""},null,{"$f":"IF(ISNUMBER(AS196),\"1\",\"\")","v":""}]
[null,{"$f":"IF(spreedResult.!B208<>\"\",TEXT(spreedResult.!B208,\"YYYY\")&TEXT(spreedResult.!B208,\"MM\")&TEXT(spreedResult.!B208,\"DD\"),\"\")","v":""},{"$f":"IF(spreedResult.!C208<>\"\",VLOOKUP(spreedResult.!C208,spreedResult.!$AT$2:$AU$12,2,0),\"\")","v":""},{"$nulls":4},{"$f":"IF(spreedResult.!O208<>\"\",VLOOKUP(spreedResult.!O208,Course!$A$2:$B$612,2,0),\"\")","v":""},null,{"$f":"CONCATENATE(TRIM(ASC(spreedResult.!E208)),\" \",TRIM(ASC(spreedResult.!F208)))","v":" "},{"$f":"CONCATENATE(TRIM(spreedResult.!G208),\"　\",TRIM(spreedResult.!H208))","v":"　"},{"$f":"IFERROR(VLOOKUP(spreedResult.!J208,spreedResult.!$AW$4:$AX$5,2,0),\"\")","v":""},{"$f":"IF(spreedResult.!K208<>\"\",TEXT(spreedResult.!K208,\"YYYY\")&TEXT(spreedResult.!K208,\"MM\")&TEXT(spreedResult.!K208,\"DD\"),\"\")","v":""},null,null,{"$f":"IF(spreedResult.!$E208<>\"\",spreedResult.!$C$10,\"\")","v":""},{"$f":"IF(spreedResult.!$E208<>\"\",spreedResult.!$C$9,\"\")","v":""},{"$f":"IF(spreedResult.!L208<>\"\",spreedResult.!L208,\"\")","v":""},{"$f":"IF(spreedResult.!G208<>\"\",IF(spreedResult.!$H$8=\"左記ご住所に送付\",\"2\",\"\"),\"\")","v":""},{"$nulls":8},"",null,"",null,{"$f":"IF(ISNUMBER(AE197),\"1\",\"\")","v":""},null,{"$f":"IF(ISNUMBER(AG197),\"1\",\"\")","v":""},null,{"$f":"IF(ISNUMBER(AI197),\"1\",\"\")","v":""},null,{"$f":"IF(ISNUMBER(AK197),\"1\",\"\")","v":""},null,{"$f":"IF(ISNUMBER(AM197),\"1\",\"\")","v":""},null,{"$f":"IF(ISNUMBER(AO197),\"1\",\"\")","v":""},null,{"$f":"IF(ISNUMBER(AQ197),\"1\",\"\")","v":""},null,{"$f":"IF(ISNUMBER(AS197),\"1\",\"\")","v":""}]
[null,{"$f":"IF(spreedResult.!B209<>\"\",TEXT(spreedResult.!B209,\"YYYY\")&TEXT(spreedResult.!B209,\"MM\")&TEXT(spreedResult.!B209,\"DD\"),\"\")","v":""},{"$f":"IF(spreedResult.!C209<>\"\",VLOOKUP(spreedResult.!C209,spreedResult.!$AT$2:$AU$12,2,0),\"\")","v":""},{"$nulls":4},{"$f":"IF(spreedResult.!O209<>\"\",VLOOKUP(spreedResult.!O209,Course!$A$2:$B$612,2,0),\"\")","v":""},null,{"$f":"CONCATENATE(TRIM(ASC(spreedResult.!E209)),\" \",TRIM(ASC(spreedResult.!F209)))","v":" "},{"$f":"CONCATENATE(TRIM(spreedResult.!G209),\"　\",TRIM(spreedResult.!H209))","v":"　"},{"$f":"IFERROR(VLOOKUP(spreedResult.!J209,spreedResult.!$AW$4:$AX$5,2,0),\"\")","v":""},{"$f":"IF(spreedResult.!K209<>\"\",TEXT(spreedResult.!K209,\"YYYY\")&TEXT(spreedResult.!K209,\"MM\")&TEXT(spreedResult.!K209,\"DD\"),\"\")","v":""},null,null,{"$f":"IF(spreedResult.!$E209<>\"\",spreedResult.!$C$10,\"\")","v":""},{"$f":"IF(spreedResult.!$E209<>\"\",spreedResult.!$C$9,\"\")","v":""},{"$f":"IF(spreedResult.!L209<>\"\",spreedResult.!L209,\"\")","v":""},{"$f":"IF(spreedResult.!G209<>\"\",IF(spreedResult.!$H$8=\"左記ご住所に送付\",\"2\",\"\"),\"\")","v":""},{"$nulls":8},"",null,"",null,{"$f":"IF(ISNUMBER(AE198),\"1\",\"\")","v":""},null,{"$f":"IF(ISNUMBER(AG198),\"1\",\"\")","v":""},null,{"$f":"IF(ISNUMBER(AI198),\"1\",\"\")","v":""},null,{"$f":"IF(ISNUMBER(AK198),\"1\",\"\")","v":""},null,{"$f":"IF(ISNUMBER(AM198),\"1\",\"\")","v":""},null,{"$f":"IF(ISNUMBER(AO198),\"1\",\"\")","v":""},null,{"$f":"IF(ISNUMBER(AQ198),\"1\",\"\")","v":""},null,{"$f":"IF(ISNUMBER(AS198),\"1\",\"\")","v":""}]
[null,{"$f":"IF(spreedResult.!B210<>\"\",TEXT(spreedResult.!B210,\"YYYY\")&TEXT(spreedResult.!B210,\"MM\")&TEXT(spreedResult.!B210,\"DD\"),\"\")","v":""},{"$f":"IF(spreedResult.!C210<>\"\",VLOOKUP(spreedResult.!C210,spreedResult.!$AT$2:$AU$12,2,0),\"\")","v":""},{"$nulls":4},{"$f":"IF(spreedResult.!O210<>\"\",VLOOKUP(spreedResult.!O210,Course!$A$2:$B$612,2,0),\"\")","v":""},null,{"$f":"CONCATENATE(TRIM(ASC(spreedResult.!E210)),\" \",TRIM(ASC(spreedResult.!F210)))","v":" "},{"$f":"CONCATENATE(TRIM(spreedResult.!G210),\"　\",TRIM(spreedResult.!H210))","v":"　"},{"$f":"IFERROR(VLOOKUP(spreedResult.!J210,spreedResult.!$AW$4:$AX$5,2,0),\"\")","v":""},{"$f":"IF(spreedResult.!K210<>\"\",TEXT(spreedResult.!K210,\"YYYY\")&TEXT(spreedResult.!K210,\"MM\")&TEXT(spreedResult.!K210,\"DD\"),\"\")","v":""},null,null,{"$f":"IF(spreedResult.!$E210<>\"\",spreedResult.!$C$10,\"\")","v":""},{"$f":"IF(spreedResult.!$E210<>\"\",spreedResult.!$C$9,\"\")","v":""},{"$f":"IF(spreedResult.!L210<>\"\",spreedResult.!L210,\"\")","v":""},{"$f":"IF(spreedResult.!G210<>\"\",IF(spreedResult.!$H$8=\"左記ご住所に送付\",\"2\",\"\"),\"\")","v":""},{"$nulls":8},"",null,"",null,{"$f":"IF(ISNUMBER(AE199),\"1\",\"\")","v":""},null,{"$f":"IF(ISNUMBER(AG199),\"1\",\"\")","v":""},null,{"$f":"IF(ISNUMBER(AI199),\"1\",\"\")","v":""},null,{"$f":"IF(ISNUMBER(AK199),\"1\",\"\")","v":""},null,{"$f":"IF(ISNUMBER(AM199),\"1\",\"\")","v":""},null,{"$f":"IF(ISNUMBER(AO199),\"1\",\"\")","v":""},null,{"$f":"IF(ISNUMBER(AQ199),\"1\",\"\")","v":""},null,{"$f":"IF(ISNUMBER(AS199),\"1\",\"\")","v":""}]
[null,{"$f":"IF(spreedResult.!B211<>\"\",TEXT(spreedResult.!B211,\"YYYY\")&TEXT(spreedResult.!B211,\"MM\")&TEXT(spreedResult.!B211,\"DD\"),\"\")","v":""},{"$f":"IF(spreedResult.!C211<>\"\",VLOOKUP(spreedResult.!C211,spreedResult.!$AT$2:$AU$12,2,0),\"\")","v":""},{"$nulls":4},{"$f":"IF(spreedResult.!O211<>\"\",VLOOKUP(spreedResult.!O211,Course!$A$2:$B$612,2,0),\"\")","v":""},null,{"$f":"CONCATENATE(TRIM(ASC(spreedResult.!E211)),\" \",TRIM(ASC(spreedResult.!F211)))","v":" "},{"$f":"CONCATENATE(TRIM(spreedResult.!G211),\"　\",TRIM(spreedResult.!H211))","v":"　"},{"$f":"IFERROR(VLOOKUP(spreedResult.!J211,spreedResult.!$AW$4:$AX$5,2,0),\"\")","v":""},{"$f":"IF(spreedResult.!K211<>\"\",TEXT(spreedResult.!K211,\"YYYY\")&TEXT(spreedResult.!K211,\"MM\")&TEXT(spreedResult.!K211,\"DD\"),\"\")","v":""},null,null,{"$f":"IF(spreedResult.!$E211<>\"\",spreedResult.!$C$10,\"\")","v":""},{"$f":"IF(spreedResult.!$E211<>\"\",spreedResult.!$C$9,\"\")","v":""},{"$f":"IF(spreedResult.!L211<>\"\",spreedResult.!L211,\"\")","v":""},{"$f":"IF(spreedResult.!G211<>\"\",IF(spreedResult.!$H$8=\"左記ご住所に送付\",\"2\",\"\"),\"\")","v":""},{"$nulls":8},"",null,"",null,{"$f":"IF(ISNUMBER(AE200),\"1\",\"\")","v":""},null,{"$f":"IF(ISNUMBER(AG200),\"1\",\"\")","v":""},null,{"$f":"IF(ISNUMBER(AI200),\"1\",\"\")","v":""},null,{"$f":"IF(ISNUMBER(AK200),\"1\",\"\")","v":""},null,{"$f":"IF(ISNUMBER(AM200),\"1\",\"\")","v":""},null,{"$f":"IF(ISNUMBER(AO200),\"1\",\"\")","v":""},null,{"$f":"IF(ISNUMBER(AQ200),\"1\",\"\")","v":""},null,{"$f":"IF(ISNUMBER(AS200),\"1\",\"\")","v":""}]
[null,{"$f":"IF(spreedResult.!B212<>\"\",TEXT(spreedResult.!B212,\"YYYY\")&TEXT(spreedResult.!B212,\"MM\")&TEXT(spreedResult.!B212,\"DD\"),\"\")","v":""},{"$f":"IF(spreedResult.!C212<>\"\",VLOOKUP(spreedResult.!C212,spreedResult.!$AT$2:$AU$12,2,0),\"\")","v":""},{"$nulls":4},{"$f":"IF(spreedResult.!O212<>\"\",VLOOKUP(spreedResult.!O212,Course!$A$2:$B$612,2,0),\"\")","v":""},null,{"$f":"CONCATENATE(TRIM(ASC(spreedResult.!E212)),\" \",TRIM(ASC(spreedResult.!F212)))","v":" "},{"$f":"CONCATENATE(TRIM(spreedResult.!G212),\"　\",TRIM(spreedResult.!H212))","v":"　"},{"$f":"IFERROR(VLOOKUP(spreedResult.!J212,spreedResult.!$AW$4:$AX$5,2,0),\"\")","v":""},{"$f":"IF(spreedResult.!K212<>\"\",TEXT(spreedResult.!K212,\"YYYY\")&TEXT(spreedResult.!K212,\"MM\")&TEXT(spreedResult.!K212,\"DD\"),\"\")","v":""},null,null,{"$f":"IF(spreedResult.!$E212<>\"\",spreedResult.!$C$10,\"\")","v":""},{"$f":"IF(spreedResult.!$E212<>\"\",spreedResult.!$C$9,\"\")","v":""},{"$f":"IF(spreedResult.!L212<>\"\",spreedResult.!L212,\"\")","v":""},{"$f":"IF(spreedResult.!G212<>\"\",IF(spreedResult.!$H$8=\"左記ご住所に送付\",\"2\",\"\"),\"\")","v":""},{"$nulls":8},"",null,"",null,{"$f":"IF(ISNUMBER(AE201),\"1\",\"\")","v":""},null,{"$f":"IF(ISNUMBER(AG201),\"1\",\"\")","v":""},null,{"$f":"IF(ISNUMBER(AI201),\"1\",\"\")","v":""},null,{"$f":"IF(ISNUMBER(AK201),\"1\",\"\")","v":""},null,{"$f":"IF(ISNUMBER(AM201),\"1\",\"\")","v":""},null,{"$f":"IF(ISNUMBER(AO201),\"1\",\"\")","v":""},null,{"$f":"IF(ISNUMBER(AQ201),\"1\",\"\")","v":""},null,{"$f":"IF(ISNUMBER(AS201),\"1\",\"\")","v":""}]
[null,{"$f":"IF(spreedResult.!B213<>\"\",TEXT(spreedResult.!B213,\"YYYY\")&TEXT(spreedResult.!B213,\"MM\")&TEXT(spreedResult.!B213,\"DD\"),\"\")","v":""},{"$f":"IF(spreedResult.!C213<>\"\",VLOOKUP(spreedResult.!C213,spreedResult.!$AT$2:$AU$12,2,0),\"\")","v":""},{"$nulls":4},{"$f":"IF(spreedResult.!O213<>\"\",VLOOKUP(spreedResult.!O213,Course!$A$2:$B$612,2,0),\"\")","v":""},null,{"$f":"CONCATENATE(TRIM(ASC(spreedResult.!E213)),\" \",TRIM(ASC(spreedResult.!F213)))","v":" "},{"$f":"CONCATENATE(TRIM(spreedResult.!G213),\"　\",TRIM(spreedResult.!H213))","v":"　"},{"$f":"IFERROR(VLOOKUP(spreedResult.!J213,spreedResult.!$AW$4:$AX$5,2,0),\"\")","v":""},{"$f":"IF(spreedResult.!K213<>\"\",TEXT(spreedResult.!K213,\"YYYY\")&TEXT(spreedResult.!K213,\"MM\")&TEXT(spreedResult.!K213,\"DD\"),\"\")","v":""},null,null,{"$f":"IF(spreedResult.!$E213<>\"\",spreedResult.!$C$10,\"\")","v":""},{"$f":"IF(spreedResult.!$E213<>\"\",spreedResult.!$C$9,\"\")","v":""},{"$f":"IF(spreedResult.!L213<>\"\",spreedResult.!L213,\"\")","v":""},{"$f":"IF(spreedResult.!G213<>\"\",IF(spreedResult.!$H$8=\"左記ご住所に送付\",\"2\",\"\"),\"\")","v":""},{"$nulls":8},"",null,"",null,{"$f":"IF(ISNUMBER(AE202),\"1\",\"\")","v":""},null,{"$f":"IF(ISNUMBER(AG202),\"1\",\"\")","v":""},null,{"$f":"IF(ISNUMBER(AI202),\"1\",\"\")","v":""},null,{"$f":"IF(ISNUMBER(AK202),\"1\",\"\")","v":""},null,{"$f":"IF(ISNUMBER(AM202),\"1\",\"\")","v":""},null,{"$f":"IF(ISNUMBER(AO202),\"1\",\"\")","v":""},null,{"$f":"IF(ISNUMBER(AQ202),\"1\",\"\")","v":""},null,{"$f":"IF(ISNUMBER(AS202),\"1\",\"\")","v":""}]
[null,{"$f":"IF(spreedResult.!B214<>\"\",TEXT(spreedResult.!B214,\"YYYY\")&TEXT(spreedResult.!B214,\"MM\")&TEXT(spreedResult.!B214,\"DD\"),\"\")","v":""},{"$f":"IF(spreedResult.!C214<>\"\",VLOOKUP(spreedResult.!C214,spreedResult.!$AT$2:$AU$12,2,0),\"\")","v":""},{"$nulls":4},{"$f":"IF(spreedResult.!O214<>\"\",VLOOKUP(spreedResult.!O214,Course!$A$2:$B$612,2,0),\"\")","v":""},null,{"$f":"CONCATENATE(TRIM(ASC(spreedResult.!E214)),\" \",TRIM(ASC(spreedResult.!F214)))","v":" "},{"$f":"CONCATENATE(TRIM(spreedResult.!G214),\"　\",TRIM(spreedResult.!H214))","v":"　"},{"$f":"IFERROR(VLOOKUP(spreedResult.!J214,spreedResult.!$AW$4:$AX$5,2,0),\"\")","v":""},{"$f":"IF(spreedResult.!K214<>\"\",TEXT(spreedResult.!K214,\"YYYY\")&TEXT(spreedResult.!K214,\"MM\")&TEXT(spreedResult.!K214,\"DD\"),\"\")","v":""},null,null,{"$f":"IF(spreedResult.!$E214<>\"\",spreedResult.!$C$10,\"\")","v":""},{"$f":"IF(spreedResult.!$E214<>\"\",spreedResult.!$C$9,\"\")","v":""},{"$f":"IF(spreedResult.!L214<>\"\",spreedResult.!L214,\"\")","v":""},{"$f":"IF(spreedResult.!G214<>\"\",IF(spreedResult.!$H$8=\"左記ご住所に送付\",\"2\",\"\"),\"\")","v":""},{"$nulls":8},"",null,"",null,{"$f":"IF(ISNUMBER(AE203),\"1\",\"\")","v":""},null,{"$f":"IF(ISNUMBER(AG203),\"1\",\"\")","v":""},null,{"$f":"IF(ISNUMBER(AI203),\"1\",\"\")","v":""},null,{"$f":"IF(ISNUMBER(AK203),\"1\",\"\")","v":""},null,{"$f":"IF(ISNUMBER(AM203),\"1\",\"\")","v":""},null,{"$f":"IF(ISNUMBER(AO203),\"1\",\"\")","v":""},null,{"$f":"IF(ISNUMBER(AQ203),\"1\",\"\")","v":""},null,{"$f":"IF(ISNUMBER(AS203),\"1\",\"\")","v":""}]
[null,{"$f":"IF(spreedResult.!B215<>\"\",TEXT(spreedResult.!B215,\"YYYY\")&TEXT(spreedResult.!B215,\"MM\")&TEXT(spreedResult.!B215,\"DD\"),\"\")","v":""},{"$f":"IF(spreedResult.!C215<>\"\",VLOOKUP(spreedResult.!C215,spreedResult.!$AT$2:$AU$12,2,0),\"\")","v":""},{"$nulls":4},{"$f":"IF(spreedResult.!O215<>\"\",VLOOKUP(spreedResult.!O215,Course!$A$2:$B$612,2,0),\"\")","v":""},null,{"$f":"CONCATENATE(TRIM(ASC(spreedResult.!E215)),\" \",TRIM(ASC(spreedResult.!F215)))","v":" "},{"$f":"CONCATENATE(TRIM(spreedResult.!G215),\"　\",TRIM(spreedResult.!H215))","v":"　"},{"$f":"IFERROR(VLOOKUP(spreedResult.!J215,spreedResult.!$AW$4:$AX$5,2,0),\"\")","v":""},{"$f":"IF(spreedResult.!K215<>\"\",TEXT(spreedResult.!K215,\"YYYY\")&TEXT(spreedResult.!K215,\"MM\")&TEXT(spreedResult.!K215,\"DD\"),\"\")","v":""},null,null,{"$f":"IF(spreedResult.!$E215<>\"\",spreedResult.!$C$10,\"\")","v":""},{"$f":"IF(spreedResult.!$E215<>\"\",spreedResult.!$C$9,\"\")","v":""},{"$f":"IF(spreedResult.!L215<>\"\",spreedResult.!L215,\"\")","v":""},{"$f":"IF(spreedResult.!G215<>\"\",IF(spreedResult.!$H$8=\"左記ご住所に送付\",\"2\",\"\"),\"\")","v":""},{"$nulls":8},"",null,"",null,{"$f":"IF(ISNUMBER(AE204),\"1\",\"\")","v":""},null,{"$f":"IF(ISNUMBER(AG204),\"1\",\"\")","v":""},null,{"$f":"IF(ISNUMBER(AI204),\"1\",\"\")","v":""},null,{"$f":"IF(ISNUMBER(AK204),\"1\",\"\")","v":""},null,{"$f":"IF(ISNUMBER(AM204),\"1\",\"\")","v":""},null,{"$f":"IF(ISNUMBER(AO204),\"1\",\"\")","v":""},null,{"$f":"IF(ISNUMBER(AQ204),\"1\",\"\")","v":""},null,{"$f":"IF(ISNUMBER(AS204),\"1\",\"\")","v":""}]
[null,{"$f":"IF(spreedResult.!B216<>\"\",TEXT(spreedResult.!B216,\"YYYY\")&TEXT(spreedResult.!B216,\"MM\")&TEXT(spreedResult.!B216,\"DD\"),\"\")","v":""},{"$f":"IF(spreedResult.!C216<>\"\",VLOOKUP(spreedResult.!C216,spreedResult.!$AT$2:$AU$12,2,0),\"\")","v":""},{"$nulls":4},{"$f":"IF(spreedResult.!O216<>\"\",VLOOKUP(spreedResult.!O216,Course!$A$2:$B$612,2,0),\"\")","v":""},null,{"$f":"CONCATENATE(TRIM(ASC(spreedResult.!E216)),\" \",TRIM(ASC(spreedResult.!F216)))","v":" "},{"$f":"CONCATENATE(TRIM(spreedResult.!G216),\"　\",TRIM(spreedResult.!H216))","v":"　"},{"$f":"IFERROR(VLOOKUP(spreedResult.!J216,spreedResult.!$AW$4:$AX$5,2,0),\"\")","v":""},{"$f":"IF(spreedResult.!K216<>\"\",TEXT(spreedResult.!K216,\"YYYY\")&TEXT(spreedResult.!K216,\"MM\")&TEXT(spreedResult.!K216,\"DD\"),\"\")","v":""},null,null,{"$f":"IF(spreedResult.!$E216<>\"\",spreedResult.!$C$10,\"\")","v":""},{"$f":"IF(spreedResult.!$E216<>\"\",spreedResult.!$C$9,\"\")","v":""},{"$f":"IF(spreedResult.!L216<>\"\",spreedResult.!L216,\"\")","v":""},{"$f":"IF(spreedResult.!G216<>\"\",IF(spreedResult.!$H$8=\"左記ご住所に送付\",\"2\",\"\"),\"\")","v":""},{"$nulls":8},"",null,"",null,{"$f":"IF(ISNUMBER(AE205),\"1\",\"\")","v":""},null,{"$f":"IF(ISNUMBER(AG205),\"1\",\"\")","v":""},null,{"$f":"IF(ISNUMBER(AI205),\"1\",\"\")","v":""},null,{"$f":"IF(ISNUMBER(AK205),\"1\",\"\")","v":""},null,{"$f":"IF(ISNUMBER(AM205),\"1\",\"\")","v":""},null,{"$f":"IF(ISNUMBER(AO205),\"1\",\"\")","v":""},null,{"$f":"IF(ISNUMBER(AQ205),\"1\",\"\")","v":""},null,{"$f":"IF(ISNUMBER(AS205),\"1\",\"\")","v":""}]
[null,{"$f":"IF(spreedResult.!B217<>\"\",TEXT(spreedResult.!B217,\"YYYY\")&TEXT(spreedResult.!B217,\"MM\")&TEXT(spreedResult.!B217,\"DD\"),\"\")","v":""},{"$f":"IF(spreedResult.!C217<>\"\",VLOOKUP(spreedResult.!C217,spreedResult.!$AT$2:$AU$12,2,0),\"\")","v":""},{"$nulls":4},{"$f":"IF(spreedResult.!O217<>\"\",VLOOKUP(spreedResult.!O217,Course!$A$2:$B$612,2,0),\"\")","v":""},null,{"$f":"CONCATENATE(TRIM(ASC(spreedResult.!E217)),\" \",TRIM(ASC(spreedResult.!F217)))","v":" "},{"$f":"CONCATENATE(TRIM(spreedResult.!G217),\"　\",TRIM(spreedResult.!H217))","v":"　"},{"$f":"IFERROR(VLOOKUP(spreedResult.!J217,spreedResult.!$AW$4:$AX$5,2,0),\"\")","v":""},{"$f":"IF(spreedResult.!K217<>\"\",TEXT(spreedResult.!K217,\"YYYY\")&TEXT(spreedResult.!K217,\"MM\")&TEXT(spreedResult.!K217,\"DD\"),\"\")","v":""},null,null,{"$f":"IF(spreedResult.!$E217<>\"\",spreedResult.!$C$10,\"\")","v":""},{"$f":"IF(spreedResult.!$E217<>\"\",spreedResult.!$C$9,\"\")","v":""},{"$f":"IF(spreedResult.!L217<>\"\",spreedResult.!L217,\"\")","v":""},{"$f":"IF(spreedResult.!G217<>\"\",IF(spreedResult.!$H$8=\"左記ご住所に送付\",\"2\",\"\"),\"\")","v":""},{"$nulls":8},"",null,"",null,{"$f":"IF(ISNUMBER(AE206),\"1\",\"\")","v":""},null,{"$f":"IF(ISNUMBER(AG206),\"1\",\"\")","v":""},null,{"$f":"IF(ISNUMBER(AI206),\"1\",\"\")","v":""},null,{"$f":"IF(ISNUMBER(AK206),\"1\",\"\")","v":""},null,{"$f":"IF(ISNUMBER(AM206),\"1\",\"\")","v":""},null,{"$f":"IF(ISNUMBER(AO206),\"1\",\"\")","v":""},null,{"$f":"IF(ISNUMBER(AQ206),\"1\",\"\")","v":""},null,{"$f":"IF(ISNUMBER(AS206),\"1\",\"\")","v":""}]
[null,{"$f":"IF(spreedResult.!B218<>\"\",TEXT(spreedResult.!B218,\"YYYY\")&TEXT(spreedResult.!B218,\"MM\")&TEXT(spreedResult.!B218,\"DD\"),\"\")","v":""},{"$f":"IF(spreedResult.!C218<>\"\",VLOOKUP(spreedResult.!C218,spreedResult.!$AT$2:$AU$12,2,0),\"\")","v":""},{"$nulls":4},{"$f":"IF(spreedResult.!O218<>\"\",VLOOKUP(spreedResult.!O218,Course!$A$2:$B$612,2,0),\"\")","v":""},null,{"$f":"CONCATENATE(TRIM(ASC(spreedResult.!E218)),\" \",TRIM(ASC(spreedResult.!F218)))","v":" "},{"$f":"CONCATENATE(TRIM(spreedResult.!G218),\"　\",TRIM(spreedResult.!H218))","v":"　"},{"$f":"IFERROR(VLOOKUP(spreedResult.!J218,spreedResult.!$AW$4:$AX$5,2,0),\"\")","v":""},{"$f":"IF(spreedResult.!K218<>\"\",TEXT(spreedResult.!K218,\"YYYY\")&TEXT(spreedResult.!K218,\"MM\")&TEXT(spreedResult.!K218,\"DD\"),\"\")","v":""},null,null,{"$f":"IF(spreedResult.!$E218<>\"\",spreedResult.!$C$10,\"\")","v":""},{"$f":"IF(spreedResult.!$E218<>\"\",spreedResult.!$C$9,\"\")","v":""},{"$f":"IF(spreedResult.!L218<>\"\",spreedResult.!L218,\"\")","v":""},{"$f":"IF(spreedResult.!G218<>\"\",IF(spreedResult.!$H$8=\"左記ご住所に送付\",\"2\",\"\"),\"\")","v":""},{"$nulls":8},"",null,"",null,{"$f":"IF(ISNUMBER(AE207),\"1\",\"\")","v":""},null,{"$f":"IF(ISNUMBER(AG207),\"1\",\"\")","v":""},null,{"$f":"IF(ISNUMBER(AI207),\"1\",\"\")","v":""},null,{"$f":"IF(ISNUMBER(AK207),\"1\",\"\")","v":""},null,{"$f":"IF(ISNUMBER(AM207),\"1\",\"\")","v":""},null,{"$f":"IF(ISNUMBER(AO207),\"1\",\"\")","v":""},null,{"$f":"IF(ISNUMBER(AQ207),\"1\",\"\")","v":""},null,{"$f":"IF(ISNUMBER(AS207),\"1\",\"\")","v":""}]
[null,{"$f":"IF(spreedResult.!B219<>\"\",TEXT(spreedResult.!B219,\"YYYY\")&TEXT(spreedResult.!B219,\"MM\")&TEXT(spreedResult.!B219,\"DD\"),\"\")","v":""},{"$f":"IF(spreedResult.!C219<>\"\",VLOOKUP(spreedResult.!C219,spreedResult.!$AT$2:$AU$12,2,0),\"\")","v":""},{"$nulls":4},{"$f":"IF(spreedResult.!O219<>\"\",VLOOKUP(spreedResult.!O219,Course!$A$2:$B$612,2,0),\"\")","v":""},null,{"$f":"CONCATENATE(TRIM(ASC(spreedResult.!E219)),\" \",TRIM(ASC(spreedResult.!F219)))","v":" "},{"$f":"CONCATENATE(TRIM(spreedResult.!G219),\"　\",TRIM(spreedResult.!H219))","v":"　"},{"$f":"IFERROR(VLOOKUP(spreedResult.!J219,spreedResult.!$AW$4:$AX$5,2,0),\"\")","v":""},{"$f":"IF(spreedResult.!K219<>\"\",TEXT(spreedResult.!K219,\"YYYY\")&TEXT(spreedResult.!K219,\"MM\")&TEXT(spreedResult.!K219,\"DD\"),\"\")","v":""},null,null,{"$f":"IF(spreedResult.!$E219<>\"\",spreedResult.!$C$10,\"\")","v":""},{"$f":"IF(spreedResult.!$E219<>\"\",spreedResult.!$C$9,\"\")","v":""},{"$f":"IF(spreedResult.!L219<>\"\",spreedResult.!L219,\"\")","v":""},{"$f":"IF(spreedResult.!G219<>\"\",IF(spreedResult.!$H$8=\"左記ご住所に送付\",\"2\",\"\"),\"\")","v":""},{"$nulls":8},"",null,"",null,{"$f":"IF(ISNUMBER(AE208),\"1\",\"\")","v":""},null,{"$f":"IF(ISNUMBER(AG208),\"1\",\"\")","v":""},null,{"$f":"IF(ISNUMBER(AI208),\"1\",\"\")","v":""},null,{"$f":"IF(ISNUMBER(AK208),\"1\",\"\")","v":""},null,{"$f":"IF(ISNUMBER(AM208),\"1\",\"\")","v":""},null,{"$f":"IF(ISNUMBER(AO208),\"1\",\"\")","v":""},null,{"$f":"IF(ISNUMBER(AQ208),\"1\",\"\")","v":""},null,{"$f":"IF(ISNUMBER(AS208),\"1\",\"\")","v":""}]
[null,{"$f":"IF(spreedResult.!B220<>\"\",TEXT(spreedResult.!B220,\"YYYY\")&TEXT(spreedResult.!B220,\"MM\")&TEXT(spreedResult.!B220,\"DD\"),\"\")","v":""},{"$f":"IF(spreedResult.!C220<>\"\",VLOOKUP(spreedResult.!C220,spreedResult.!$AT$2:$AU$12,2,0),\"\")","v":""},{"$nulls":4},{"$f":"IF(spreedResult.!O220<>\"\",VLOOKUP(spreedResult.!O220,Course!$A$2:$B$612,2,0),\"\")","v":""},null,{"$f":"CONCATENATE(TRIM(ASC(spreedResult.!E220)),\" \",TRIM(ASC(spreedResult.!F220)))","v":" "},{"$f":"CONCATENATE(TRIM(spreedResult.!G220),\"　\",TRIM(spreedResult.!H220))","v":"　"},{"$f":"IFERROR(VLOOKUP(spreedResult.!J220,spreedResult.!$AW$4:$AX$5,2,0),\"\")","v":""},{"$f":"IF(spreedResult.!K220<>\"\",TEXT(spreedResult.!K220,\"YYYY\")&TEXT(spreedResult.!K220,\"MM\")&TEXT(spreedResult.!K220,\"DD\"),\"\")","v":""},null,null,{"$f":"IF(spreedResult.!$E220<>\"\",spreedResult.!$C$10,\"\")","v":""},{"$f":"IF(spreedResult.!$E220<>\"\",spreedResult.!$C$9,\"\")","v":""},{"$f":"IF(spreedResult.!L220<>\"\",spreedResult.!L220,\"\")","v":""},{"$f":"IF(spreedResult.!G220<>\"\",IF(spreedResult.!$H$8=\"左記ご住所に送付\",\"2\",\"\"),\"\")","v":""},{"$nulls":8},"",null,"",null,{"$f":"IF(ISNUMBER(AE209),\"1\",\"\")","v":""},null,{"$f":"IF(ISNUMBER(AG209),\"1\",\"\")","v":""},null,{"$f":"IF(ISNUMBER(AI209),\"1\",\"\")","v":""},null,{"$f":"IF(ISNUMBER(AK209),\"1\",\"\")","v":""},null,{"$f":"IF(ISNUMBER(AM209),\"1\",\"\")","v":""},null,{"$f":"IF(ISNUMBER(AO209),\"1\",\"\")","v":""},null,{"$f":"IF(ISNUMBER(AQ209),\"1\",\"\")","v":""},null,{"$f":"IF(ISNUMBER(AS209),\"1\",\"\")","v":""}]
[null,{"$f":"IF(spreedResult.!B221<>\"\",TEXT(spreedResult.!B221,\"YYYY\")&TEXT(spreedResult.!B221,\"MM\")&TEXT(spreedResult.!B221,\"DD\"),\"\")","v":""},{"$f":"IF(spreedResult.!C221<>\"\",VLOOKUP(spreedResult.!C221,spreedResult.!$AT$2:$AU$12,2,0),\"\")","v":""},{"$nulls":4},{"$f":"IF(spreedResult.!O221<>\"\",VLOOKUP(spreedResult.!O221,Course!$A$2:$B$612,2,0),\"\")","v":""},null,{"$f":"CONCATENATE(TRIM(ASC(spreedResult.!E221)),\" \",TRIM(ASC(spreedResult.!F221)))","v":" "},{"$f":"CONCATENATE(TRIM(spreedResult.!G221),\"　\",TRIM(spreedResult.!H221))","v":"　"},{"$f":"IFERROR(VLOOKUP(spreedResult.!J221,spreedResult.!$AW$4:$AX$5,2,0),\"\")","v":""},{"$f":"IF(spreedResult.!K221<>\"\",TEXT(spreedResult.!K221,\"YYYY\")&TEXT(spreedResult.!K221,\"MM\")&TEXT(spreedResult.!K221,\"DD\"),\"\")","v":""},null,null,{"$f":"IF(spreedResult.!$E221<>\"\",spreedResult.!$C$10,\"\")","v":""},{"$f":"IF(spreedResult.!$E221<>\"\",spreedResult.!$C$9,\"\")","v":""},{"$f":"IF(spreedResult.!L221<>\"\",spreedResult.!L221,\"\")","v":""},{"$f":"IF(spreedResult.!G221<>\"\",IF(spreedResult.!$H$8=\"左記ご住所に送付\",\"2\",\"\"),\"\")","v":""},{"$nulls":8},"",null,"",null,{"$f":"IF(ISNUMBER(AE210),\"1\",\"\")","v":""},null,{"$f":"IF(ISNUMBER(AG210),\"1\",\"\")","v":""},null,{"$f":"IF(ISNUMBER(AI210),\"1\",\"\")","v":""},null,{"$f":"IF(ISNUMBER(AK210),\"1\",\"\")","v":""},null,{"$f":"IF(ISNUMBER(AM210),\"1\",\"\")","v":""},null,{"$f":"IF(ISNUMBER(AO210),\"1\",\"\")","v":""},null,{"$f":"IF(ISNUMBER(AQ210),\"1\",\"\")","v":""},null,{"$f":"IF(ISNUMBER(AS210),\"1\",\"\")","v":""}]
[null,{"$f":"IF(spreedResult.!B222<>\"\",TEXT(spreedResult.!B222,\"YYYY\")&TEXT(spreedResult.!B222,\"MM\")&TEXT(spreedResult.!B222,\"DD\"),\"\")","v":""},{"$f":"IF(spreedResult.!C222<>\"\",VLOOKUP(spreedResult.!C222,spreedResult.!$AT$2:$AU$12,2,0),\"\")","v":""},{"$nulls":4},{"$f":"IF(spreedResult.!O222<>\"\",VLOOKUP(spreedResult.!O222,Course!$A$2:$B$612,2,0),\"\")","v":""},null,{"$f":"CONCATENATE(TRIM(ASC(spreedResult.!E222)),\" \",TRIM(ASC(spreedResult.!F222)))","v":" "},{"$f":"CONCATENATE(TRIM(spreedResult.!G222),\"　\",TRIM(spreedResult.!H222))","v":"　"},{"$f":"IFERROR(VLOOKUP(spreedResult.!J222,spreedResult.!$AW$4:$AX$5,2,0),\"\")","v":""},{"$f":"IF(spreedResult.!K222<>\"\",TEXT(spreedResult.!K222,\"YYYY\")&TEXT(spreedResult.!K222,\"MM\")&TEXT(spreedResult.!K222,\"DD\"),\"\")","v":""},null,null,{"$f":"IF(spreedResult.!$E222<>\"\",spreedResult.!$C$10,\"\")","v":""},{"$f":"IF(spreedResult.!$E222<>\"\",spreedResult.!$C$9,\"\")","v":""},{"$f":"IF(spreedResult.!L222<>\"\",spreedResult.!L222,\"\")","v":""},{"$f":"IF(spreedResult.!G222<>\"\",IF(spreedResult.!$H$8=\"左記ご住所に送付\",\"2\",\"\"),\"\")","v":""},{"$nulls":8},"",null,"",null,{"$f":"IF(ISNUMBER(AE211),\"1\",\"\")","v":""},null,{"$f":"IF(ISNUMBER(AG211),\"1\",\"\")","v":""},null,{"$f":"IF(ISNUMBER(AI211),\"1\",\"\")","v":""},null,{"$f":"IF(ISNUMBER(AK211),\"1\",\"\")","v":""},null,{"$f":"IF(ISNUMBER(AM211),\"1\",\"\")","v":""},null,{"$f":"IF(ISNUMBER(AO211),\"1\",\"\")","v":""},null,{"$f":"IF(ISNUMBER(AQ211),\"1\",\"\")","v":""},null,{"$f":"IF(ISNUMBER(AS211),\"1\",\"\")","v":""}]
[null,{"$f":"IF(spreedResult.!B223<>\"\",TEXT(spreedResult.!B223,\"YYYY\")&TEXT(spreedResult.!B223,\"MM\")&TEXT(spreedResult.!B223,\"DD\"),\"\")","v":""},{"$f":"IF(spreedResult.!C223<>\"\",VLOOKUP(spreedResult.!C223,spreedResult.!$AT$2:$AU$12,2,0),\"\")","v":""},{"$nulls":4},{"$f":"IF(spreedResult.!O223<>\"\",VLOOKUP(spreedResult.!O223,Course!$A$2:$B$612,2,0),\"\")","v":""},null,{"$f":"CONCATENATE(TRIM(ASC(spreedResult.!E223)),\" \",TRIM(ASC(spreedResult.!F223)))","v":" "},{"$f":"CONCATENATE(TRIM(spreedResult.!G223),\"　\",TRIM(spreedResult.!H223))","v":"　"},{"$f":"IFERROR(VLOOKUP(spreedResult.!J223,spreedResult.!$AW$4:$AX$5,2,0),\"\")","v":""},{"$f":"IF(spreedResult.!K223<>\"\",TEXT(spreedResult.!K223,\"YYYY\")&TEXT(spreedResult.!K223,\"MM\")&TEXT(spreedResult.!K223,\"DD\"),\"\")","v":""},null,null,{"$f":"IF(spreedResult.!$E223<>\"\",spreedResult.!$C$10,\"\")","v":""},{"$f":"IF(spreedResult.!$E223<>\"\",spreedResult.!$C$9,\"\")","v":""},{"$f":"IF(spreedResult.!L223<>\"\",spreedResult.!L223,\"\")","v":""},{"$f":"IF(spreedResult.!G223<>\"\",IF(spreedResult.!$H$8=\"左記ご住所に送付\",\"2\",\"\"),\"\")","v":""},{"$nulls":8},"",null,"",null,{"$f":"IF(ISNUMBER(AE212),\"1\",\"\")","v":""},null,{"$f":"IF(ISNUMBER(AG212),\"1\",\"\")","v":""},null,{"$f":"IF(ISNUMBER(AI212),\"1\",\"\")","v":""},null,{"$f":"IF(ISNUMBER(AK212),\"1\",\"\")","v":""},null,{"$f":"IF(ISNUMBER(AM212),\"1\",\"\")","v":""},null,{"$f":"IF(ISNUMBER(AO212),\"1\",\"\")","v":""},null,{"$f":"IF(ISNUMBER(AQ212),\"1\",\"\")","v":""},null,{"$f":"IF(ISNUMBER(AS212),\"1\",\"\")","v":""}]
[null,{"$f":"IF(spreedResult.!B224<>\"\",TEXT(spreedResult.!B224,\"YYYY\")&TEXT(spreedResult.!B224,\"MM\")&TEXT(spreedResult.!B224,\"DD\"),\"\")","v":""},{"$f":"IF(spreedResult.!C224<>\"\",VLOOKUP(spreedResult.!C224,spreedResult.!$AT$2:$AU$12,2,0),\"\")","v":""},{"$nulls":4},{"$f":"IF(spreedResult.!O224<>\"\",VLOOKUP(spreedResult.!O224,Course!$A$2:$B$612,2,0),\"\")","v":""},null,{"$f":"CONCATENATE(TRIM(ASC(spreedResult.!E224)),\" \",TRIM(ASC(spreedResult.!F224)))","v":" "},{"$f":"CONCATENATE(TRIM(spreedResult.!G224),\"　\",TRIM(spreedResult.!H224))","v":"　"},{"$f":"IFERROR(VLOOKUP(spreedResult.!J224,spreedResult.!$AW$4:$AX$5,2,0),\"\")","v":""},{"$f":"IF(spreedResult.!K224<>\"\",TEXT(spreedResult.!K224,\"YYYY\")&TEXT(spreedResult.!K224,\"MM\")&TEXT(spreedResult.!K224,\"DD\"),\"\")","v":""},null,null,{"$f":"IF(spreedResult.!$E224<>\"\",spreedResult.!$C$10,\"\")","v":""},{"$f":"IF(spreedResult.!$E224<>\"\",spreedResult.!$C$9,\"\")","v":""},{"$f":"IF(spreedResult.!L224<>\"\",spreedResult.!L224,\"\")","v":""},{"$f":"IF(spreedResult.!G224<>\"\",IF(spreedResult.!$H$8=\"左記ご住所に送付\",\"2\",\"\"),\"\")","v":""},{"$nulls":8},"",null,"",null,{"$f":"IF(ISNUMBER(AE213),\"1\",\"\")","v":""},null,{"$f":"IF(ISNUMBER(AG213),\"1\",\"\")","v":""},null,{"$f":"IF(ISNUMBER(AI213),\"1\",\"\")","v":""},null,{"$f":"IF(ISNUMBER(AK213),\"1\",\"\")","v":""},null,{"$f":"IF(ISNUMBER(AM213),\"1\",\"\")","v":""},null,{"$f":"IF(ISNUMBER(AO213),\"1\",\"\")","v":""},null,{"$f":"IF(ISNUMBER(AQ213),\"1\",\"\")","v":""},null,{"$f":"IF(ISNUMBER(AS213),\"1\",\"\")","v":""}]
[null,{"$f":"IF(spreedResult.!B225<>\"\",TEXT(spreedResult.!B225,\"YYYY\")&TEXT(spreedResult.!B225,\"MM\")&TEXT(spreedResult.!B225,\"DD\"),\"\")","v":""},{"$f":"IF(spreedResult.!C225<>\"\",VLOOKUP(spreedResult.!C225,spreedResult.!$AT$2:$AU$12,2,0),\"\")","v":""},{"$nulls":4},{"$f":"IF(spreedResult.!O225<>\"\",VLOOKUP(spreedResult.!O225,Course!$A$2:$B$612,2,0),\"\")","v":""},null,{"$f":"CONCATENATE(TRIM(ASC(spreedResult.!E225)),\" \",TRIM(ASC(spreedResult.!F225)))","v":" "},{"$f":"CONCATENATE(TRIM(spreedResult.!G225),\"　\",TRIM(spreedResult.!H225))","v":"　"},{"$f":"IFERROR(VLOOKUP(spreedResult.!J225,spreedResult.!$AW$4:$AX$5,2,0),\"\")","v":""},{"$f":"IF(spreedResult.!K225<>\"\",TEXT(spreedResult.!K225,\"YYYY\")&TEXT(spreedResult.!K225,\"MM\")&TEXT(spreedResult.!K225,\"DD\"),\"\")","v":""},null,null,{"$f":"IF(spreedResult.!$E225<>\"\",spreedResult.!$C$10,\"\")","v":""},{"$f":"IF(spreedResult.!$E225<>\"\",spreedResult.!$C$9,\"\")","v":""},{"$f":"IF(spreedResult.!L225<>\"\",spreedResult.!L225,\"\")","v":""},{"$f":"IF(spreedResult.!G225<>\"\",IF(spreedResult.!$H$8=\"左記ご住所に送付\",\"2\",\"\"),\"\")","v":""},{"$nulls":8},"",null,"",null,{"$f":"IF(ISNUMBER(AE214),\"1\",\"\")","v":""},null,{"$f":"IF(ISNUMBER(AG214),\"1\",\"\")","v":""},null,{"$f":"IF(ISNUMBER(AI214),\"1\",\"\")","v":""},null,{"$f":"IF(ISNUMBER(AK214),\"1\",\"\")","v":""},null,{"$f":"IF(ISNUMBER(AM214),\"1\",\"\")","v":""},null,{"$f":"IF(ISNUMBER(AO214),\"1\",\"\")","v":""},null,{"$f":"IF(ISNUMBER(AQ214),\"1\",\"\")","v":""},null,{"$f":"IF(ISNUMBER(AS214),\"1\",\"\")","v":""}]
[null,{"$f":"IF(spreedResult.!B226<>\"\",TEXT(spreedResult.!B226,\"YYYY\")&TEXT(spreedResult.!B226,\"MM\")&TEXT(spreedResult.!B226,\"DD\"),\"\")","v":""},{"$f":"IF(spreedResult.!C226<>\"\",VLOOKUP(spreedResult.!C226,spreedResult.!$AT$2:$AU$12,2,0),\"\")","v":""},{"$nulls":4},{"$f":"IF(spreedResult.!O226<>\"\",VLOOKUP(spreedResult.!O226,Course!$A$2:$B$612,2,0),\"\")","v":""},null,{"$f":"CONCATENATE(TRIM(ASC(spreedResult.!E226)),\" \",TRIM(ASC(spreedResult.!F226)))","v":" "},{"$f":"CONCATENATE(TRIM(spreedResult.!G226),\"　\",TRIM(spreedResult.!H226))","v":"　"},{"$f":"IFERROR(VLOOKUP(spreedResult.!J226,spreedResult.!$AW$4:$AX$5,2,0),\"\")","v":""},{"$f":"IF(spreedResult.!K226<>\"\",TEXT(spreedResult.!K226,\"YYYY\")&TEXT(spreedResult.!K226,\"MM\")&TEXT(spreedResult.!K226,\"DD\"),\"\")","v":""},null,null,{"$f":"IF(spreedResult.!$E226<>\"\",spreedResult.!$C$10,\"\")","v":""},{"$f":"IF(spreedResult.!$E226<>\"\",spreedResult.!$C$9,\"\")","v":""},{"$f":"IF(spreedResult.!L226<>\"\",spreedResult.!L226,\"\")","v":""},{"$f":"IF(spreedResult.!G226<>\"\",IF(spreedResult.!$H$8=\"左記ご住所に送付\",\"2\",\"\"),\"\")","v":""},{"$nulls":8},"",null,"",null,{"$f":"IF(ISNUMBER(AE215),\"1\",\"\")","v":""},null,{"$f":"IF(ISNUMBER(AG215),\"1\",\"\")","v":""},null,{"$f":"IF(ISNUMBER(AI215),\"1\",\"\")","v":""},null,{"$f":"IF(ISNUMBER(AK215),\"1\",\"\")","v":""},null,{"$f":"IF(ISNUMBER(AM215),\"1\",\"\")","v":""},null,{"$f":"IF(ISNUMBER(AO215),\"1\",\"\")","v":""},null,{"$f":"IF(ISNUMBER(AQ215),\"1\",\"\")","v":""},null,{"$f":"IF(ISNUMBER(AS215),\"1\",\"\")","v":""}]
[null,{"$f":"IF(spreedResult.!B227<>\"\",TEXT(spreedResult.!B227,\"YYYY\")&TEXT(spreedResult.!B227,\"MM\")&TEXT(spreedResult.!B227,\"DD\"),\"\")","v":""},{"$f":"IF(spreedResult.!C227<>\"\",VLOOKUP(spreedResult.!C227,spreedResult.!$AT$2:$AU$12,2,0),\"\")","v":""},{"$nulls":4},{"$f":"IF(spreedResult.!O227<>\"\",VLOOKUP(spreedResult.!O227,Course!$A$2:$B$612,2,0),\"\")","v":""},null,{"$f":"CONCATENATE(TRIM(ASC(spreedResult.!E227)),\" \",TRIM(ASC(spreedResult.!F227)))","v":" "},{"$f":"CONCATENATE(TRIM(spreedResult.!G227),\"　\",TRIM(spreedResult.!H227))","v":"　"},{"$f":"IFERROR(VLOOKUP(spreedResult.!J227,spreedResult.!$AW$4:$AX$5,2,0),\"\")","v":""},{"$f":"IF(spreedResult.!K227<>\"\",TEXT(spreedResult.!K227,\"YYYY\")&TEXT(spreedResult.!K227,\"MM\")&TEXT(spreedResult.!K227,\"DD\"),\"\")","v":""},null,null,{"$f":"IF(spreedResult.!$E227<>\"\",spreedResult.!$C$10,\"\")","v":""},{"$f":"IF(spreedResult.!$E227<>\"\",spreedResult.!$C$9,\"\")","v":""},{"$f":"IF(spreedResult.!L227<>\"\",spreedResult.!L227,\"\")","v":""},{"$f":"IF(spreedResult.!G227<>\"\",IF(spreedResult.!$H$8=\"左記ご住所に送付\",\"2\",\"\"),\"\")","v":""},{"$nulls":8},"",null,"",null,{"$f":"IF(ISNUMBER(AE216),\"1\",\"\")","v":""},null,{"$f":"IF(ISNUMBER(AG216),\"1\",\"\")","v":""},null,{"$f":"IF(ISNUMBER(AI216),\"1\",\"\")","v":""},null,{"$f":"IF(ISNUMBER(AK216),\"1\",\"\")","v":""},null,{"$f":"IF(ISNUMBER(AM216),\"1\",\"\")","v":""},null,{"$f":"IF(ISNUMBER(AO216),\"1\",\"\")","v":""},null,{"$f":"IF(ISNUMBER(AQ216),\"1\",\"\")","v":""},null,{"$f":"IF(ISNUMBER(AS216),\"1\",\"\")","v":""}]
[null,{"$f":"IF(spreedResult.!B228<>\"\",TEXT(spreedResult.!B228,\"YYYY\")&TEXT(spreedResult.!B228,\"MM\")&TEXT(spreedResult.!B228,\"DD\"),\"\")","v":""},{"$f":"IF(spreedResult.!C228<>\"\",VLOOKUP(spreedResult.!C228,spreedResult.!$AT$2:$AU$12,2,0),\"\")","v":""},{"$nulls":4},{"$f":"IF(spreedResult.!O228<>\"\",VLOOKUP(spreedResult.!O228,Course!$A$2:$B$612,2,0),\"\")","v":""},null,{"$f":"CONCATENATE(TRIM(ASC(spreedResult.!E228)),\" \",TRIM(ASC(spreedResult.!F228)))","v":" "},{"$f":"CONCATENATE(TRIM(spreedResult.!G228),\"　\",TRIM(spreedResult.!H228))","v":"　"},{"$f":"IFERROR(VLOOKUP(spreedResult.!J228,spreedResult.!$AW$4:$AX$5,2,0),\"\")","v":""},{"$f":"IF(spreedResult.!K228<>\"\",TEXT(spreedResult.!K228,\"YYYY\")&TEXT(spreedResult.!K228,\"MM\")&TEXT(spreedResult.!K228,\"DD\"),\"\")","v":""},null,null,{"$f":"IF(spreedResult.!$E228<>\"\",spreedResult.!$C$10,\"\")","v":""},{"$f":"IF(spreedResult.!$E228<>\"\",spreedResult.!$C$9,\"\")","v":""},{"$f":"IF(spreedResult.!L228<>\"\",spreedResult.!L228,\"\")","v":""},{"$f":"IF(spreedResult.!G228<>\"\",IF(spreedResult.!$H$8=\"左記ご住所に送付\",\"2\",\"\"),\"\")","v":""},{"$nulls":8},"",null,"",null,{"$f":"IF(ISNUMBER(AE217),\"1\",\"\")","v":""},null,{"$f":"IF(ISNUMBER(AG217),\"1\",\"\")","v":""},null,{"$f":"IF(ISNUMBER(AI217),\"1\",\"\")","v":""},null,{"$f":"IF(ISNUMBER(AK217),\"1\",\"\")","v":""},null,{"$f":"IF(ISNUMBER(AM217),\"1\",\"\")","v":""},null,{"$f":"IF(ISNUMBER(AO217),\"1\",\"\")","v":""},null,{"$f":"IF(ISNUMBER(AQ217),\"1\",\"\")","v":""},null,{"$f":"IF(ISNUMBER(AS217),\"1\",\"\")","v":""}]
[null,{"$f":"IF(spreedResult.!B229<>\"\",TEXT(spreedResult.!B229,\"YYYY\")&TEXT(spreedResult.!B229,\"MM\")&TEXT(spreedResult.!B229,\"DD\"),\"\")","v":""},{"$f":"IF(spreedResult.!C229<>\"\",VLOOKUP(spreedResult.!C229,spreedResult.!$AT$2:$AU$12,2,0),\"\")","v":""},{"$nulls":4},{"$f":"IF(spreedResult.!O229<>\"\",VLOOKUP(spreedResult.!O229,Course!$A$2:$B$612,2,0),\"\")","v":""},null,{"$f":"CONCATENATE(TRIM(ASC(spreedResult.!E229)),\" \",TRIM(ASC(spreedResult.!F229)))","v":" "},{"$f":"CONCATENATE(TRIM(spreedResult.!G229),\"　\",TRIM(spreedResult.!H229))","v":"　"},{"$f":"IFERROR(VLOOKUP(spreedResult.!J229,spreedResult.!$AW$4:$AX$5,2,0),\"\")","v":""},{"$f":"IF(spreedResult.!K229<>\"\",TEXT(spreedResult.!K229,\"YYYY\")&TEXT(spreedResult.!K229,\"MM\")&TEXT(spreedResult.!K229,\"DD\"),\"\")","v":""},null,null,{"$f":"IF(spreedResult.!$E229<>\"\",spreedResult.!$C$10,\"\")","v":""},{"$f":"IF(spreedResult.!$E229<>\"\",spreedResult.!$C$9,\"\")","v":""},{"$f":"IF(spreedResult.!L229<>\"\",spreedResult.!L229,\"\")","v":""},{"$f":"IF(spreedResult.!G229<>\"\",IF(spreedResult.!$H$8=\"左記ご住所に送付\",\"2\",\"\"),\"\")","v":""},{"$nulls":8},"",null,"",null,{"$f":"IF(ISNUMBER(AE218),\"1\",\"\")","v":""},null,{"$f":"IF(ISNUMBER(AG218),\"1\",\"\")","v":""},null,{"$f":"IF(ISNUMBER(AI218),\"1\",\"\")","v":""},null,{"$f":"IF(ISNUMBER(AK218),\"1\",\"\")","v":""},null,{"$f":"IF(ISNUMBER(AM218),\"1\",\"\")","v":""},null,{"$f":"IF(ISNUMBER(AO218),\"1\",\"\")","v":""},null,{"$f":"IF(ISNUMBER(AQ218),\"1\",\"\")","v":""},null,{"$f":"IF(ISNUMBER(AS218),\"1\",\"\")","v":""}]
[null,{"$f":"IF(spreedResult.!B230<>\"\",TEXT(spreedResult.!B230,\"YYYY\")&TEXT(spreedResult.!B230,\"MM\")&TEXT(spreedResult.!B230,\"DD\"),\"\")","v":""},{"$f":"IF(spreedResult.!C230<>\"\",VLOOKUP(spreedResult.!C230,spreedResult.!$AT$2:$AU$12,2,0),\"\")","v":""},{"$nulls":4},{"$f":"IF(spreedResult.!O230<>\"\",VLOOKUP(spreedResult.!O230,Course!$A$2:$B$612,2,0),\"\")","v":""},null,{"$f":"CONCATENATE(TRIM(ASC(spreedResult.!E230)),\" \",TRIM(ASC(spreedResult.!F230)))","v":" "},{"$f":"CONCATENATE(TRIM(spreedResult.!G230),\"　\",TRIM(spreedResult.!H230))","v":"　"},{"$f":"IFERROR(VLOOKUP(spreedResult.!J230,spreedResult.!$AW$4:$AX$5,2,0),\"\")","v":""},{"$f":"IF(spreedResult.!K230<>\"\",TEXT(spreedResult.!K230,\"YYYY\")&TEXT(spreedResult.!K230,\"MM\")&TEXT(spreedResult.!K230,\"DD\"),\"\")","v":""},null,null,{"$f":"IF(spreedResult.!$E230<>\"\",spreedResult.!$C$10,\"\")","v":""},{"$f":"IF(spreedResult.!$E230<>\"\",spreedResult.!$C$9,\"\")","v":""},{"$f":"IF(spreedResult.!L230<>\"\",spreedResult.!L230,\"\")","v":""},{"$f":"IF(spreedResult.!G230<>\"\",IF(spreedResult.!$H$8=\"左記ご住所に送付\",\"2\",\"\"),\"\")","v":""},{"$nulls":8},"",null,"",null,{"$f":"IF(ISNUMBER(AE219),\"1\",\"\")","v":""},null,{"$f":"IF(ISNUMBER(AG219),\"1\",\"\")","v":""},null,{"$f":"IF(ISNUMBER(AI219),\"1\",\"\")","v":""},null,{"$f":"IF(ISNUMBER(AK219),\"1\",\"\")","v":""},null,{"$f":"IF(ISNUMBER(AM219),\"1\",\"\")","v":""},null,{"$f":"IF(ISNUMBER(AO219),\"1\",\"\")","v":""},null,{"$f":"IF(ISNUMBER(AQ219),\"1\",\"\")","v":""},null,{"$f":"IF(ISNUMBER(AS219),\"1\",\"\")","v":""}]
[null,{"$f":"IF(spreedResult.!B231<>\"\",TEXT(spreedResult.!B231,\"YYYY\")&TEXT(spreedResult.!B231,\"MM\")&TEXT(spreedResult.!B231,\"DD\"),\"\")","v":""},{"$f":"IF(spreedResult.!C231<>\"\",VLOOKUP(spreedResult.!C231,spreedResult.!$AT$2:$AU$12,2,0),\"\")","v":""},{"$nulls":4},{"$f":"IF(spreedResult.!O231<>\"\",VLOOKUP(spreedResult.!O231,Course!$A$2:$B$612,2,0),\"\")","v":""},null,{"$f":"CONCATENATE(TRIM(ASC(spreedResult.!E231)),\" \",TRIM(ASC(spreedResult.!F231)))","v":" "},{"$f":"CONCATENATE(TRIM(spreedResult.!G231),\"　\",TRIM(spreedResult.!H231))","v":"　"},{"$f":"IFERROR(VLOOKUP(spreedResult.!J231,spreedResult.!$AW$4:$AX$5,2,0),\"\")","v":""},{"$f":"IF(spreedResult.!K231<>\"\",TEXT(spreedResult.!K231,\"YYYY\")&TEXT(spreedResult.!K231,\"MM\")&TEXT(spreedResult.!K231,\"DD\"),\"\")","v":""},null,null,{"$f":"IF(spreedResult.!$E231<>\"\",spreedResult.!$C$10,\"\")","v":""},{"$f":"IF(spreedResult.!$E231<>\"\",spreedResult.!$C$9,\"\")","v":""},{"$f":"IF(spreedResult.!L231<>\"\",spreedResult.!L231,\"\")","v":""},{"$f":"IF(spreedResult.!G231<>\"\",IF(spreedResult.!$H$8=\"左記ご住所に送付\",\"2\",\"\"),\"\")","v":""},{"$nulls":8},"",null,"",null,{"$f":"IF(ISNUMBER(AE220),\"1\",\"\")","v":""},null,{"$f":"IF(ISNUMBER(AG220),\"1\",\"\")","v":""},null,{"$f":"IF(ISNUMBER(AI220),\"1\",\"\")","v":""},null,{"$f":"IF(ISNUMBER(AK220),\"1\",\"\")","v":""},null,{"$f":"IF(ISNUMBER(AM220),\"1\",\"\")","v":""},null,{"$f":"IF(ISNUMBER(AO220),\"1\",\"\")","v":""},null,{"$f":"IF(ISNUMBER(AQ220),\"1\",\"\")","v":""},null,{"$f":"IF(ISNUMBER(AS220),\"1\",\"\")","v":""}]
[null,{"$f":"IF(spreedResult.!B232<>\"\",TEXT(spreedResult.!B232,\"YYYY\")&TEXT(spreedResult.!B232,\"MM\")&TEXT(spreedResult.!B232,\"DD\"),\"\")","v":""},{"$f":"IF(spreedResult.!C232<>\"\",VLOOKUP(spreedResult.!C232,spreedResult.!$AT$2:$AU$12,2,0),\"\")","v":""},{"$nulls":4},{"$f":"IF(spreedResult.!O232<>\"\",VLOOKUP(spreedResult.!O232,Course!$A$2:$B$612,2,0),\"\")","v":""},null,{"$f":"CONCATENATE(TRIM(ASC(spreedResult.!E232)),\" \",TRIM(ASC(spreedResult.!F232)))","v":" "},{"$f":"CONCATENATE(TRIM(spreedResult.!G232),\"　\",TRIM(spreedResult.!H232))","v":"　"},{"$f":"IFERROR(VLOOKUP(spreedResult.!J232,spreedResult.!$AW$4:$AX$5,2,0),\"\")","v":""},{"$f":"IF(spreedResult.!K232<>\"\",TEXT(spreedResult.!K232,\"YYYY\")&TEXT(spreedResult.!K232,\"MM\")&TEXT(spreedResult.!K232,\"DD\"),\"\")","v":""},null,null,{"$f":"IF(spreedResult.!$E232<>\"\",spreedResult.!$C$10,\"\")","v":""},{"$f":"IF(spreedResult.!$E232<>\"\",spreedResult.!$C$9,\"\")","v":""},{"$f":"IF(spreedResult.!L232<>\"\",spreedResult.!L232,\"\")","v":""},{"$f":"IF(spreedResult.!G232<>\"\",IF(spreedResult.!$H$8=\"左記ご住所に送付\",\"2\",\"\"),\"\")","v":""},{"$nulls":8},"",null,"",null,{"$f":"IF(ISNUMBER(AE221),\"1\",\"\")","v":""},null,{"$f":"IF(ISNUMBER(AG221),\"1\",\"\")","v":""},null,{"$f":"IF(ISNUMBER(AI221),\"1\",\"\")","v":""},null,{"$f":"IF(ISNUMBER(AK221),\"1\",\"\")","v":""},null,{"$f":"IF(ISNUMBER(AM221),\"1\",\"\")","v":""},null,{"$f":"IF(ISNUMBER(AO221),\"1\",\"\")","v":""},null,{"$f":"IF(ISNUMBER(AQ221),\"1\",\"\")","v":""},null,{"$f":"IF(ISNUMBER(AS221),\"1\",\"\")","v":""}]
[null,{"$f":"IF(spreedResult.!B233<>\"\",TEXT(spreedResult.!B233,\"YYYY\")&TEXT(spreedResult.!B233,\"MM\")&TEXT(spreedResult.!B233,\"DD\"),\"\")","v":""},{"$f":"IF(spreedResult.!C233<>\"\",VLOOKUP(spreedResult.!C233,spreedResult.!$AT$2:$AU$12,2,0),\"\")","v":""},{"$nulls":4},{"$f":"IF(spreedResult.!O233<>\"\",VLOOKUP(spreedResult.!O233,Course!$A$2:$B$612,2,0),\"\")","v":""},null,{"$f":"CONCATENATE(TRIM(ASC(spreedResult.!E233)),\" \",TRIM(ASC(spreedResult.!F233)))","v":" "},{"$f":"CONCATENATE(TRIM(spreedResult.!G233),\"　\",TRIM(spreedResult.!H233))","v":"　"},{"$f":"IFERROR(VLOOKUP(spreedResult.!J233,spreedResult.!$AW$4:$AX$5,2,0),\"\")","v":""},{"$f":"IF(spreedResult.!K233<>\"\",TEXT(spreedResult.!K233,\"YYYY\")&TEXT(spreedResult.!K233,\"MM\")&TEXT(spreedResult.!K233,\"DD\"),\"\")","v":""},null,null,{"$f":"IF(spreedResult.!$E233<>\"\",spreedResult.!$C$10,\"\")","v":""},{"$f":"IF(spreedResult.!$E233<>\"\",spreedResult.!$C$9,\"\")","v":""},{"$f":"IF(spreedResult.!L233<>\"\",spreedResult.!L233,\"\")","v":""},{"$f":"IF(spreedResult.!G233<>\"\",IF(spreedResult.!$H$8=\"左記ご住所に送付\",\"2\",\"\"),\"\")","v":""},{"$nulls":8},"",null,"",null,{"$f":"IF(ISNUMBER(AE222),\"1\",\"\")","v":""},null,{"$f":"IF(ISNUMBER(AG222),\"1\",\"\")","v":""},null,{"$f":"IF(ISNUMBER(AI222),\"1\",\"\")","v":""},null,{"$f":"IF(ISNUMBER(AK222),\"1\",\"\")","v":""},null,{"$f":"IF(ISNUMBER(AM222),\"1\",\"\")","v":""},null,{"$f":"IF(ISNUMBER(AO222),\"1\",\"\")","v":""},null,{"$f":"IF(ISNUMBER(AQ222),\"1\",\"\")","v":""},null,{"$f":"IF(ISNUMBER(AS222),\"1\",\"\")","v":""}]
[null,{"$f":"IF(spreedResult.!B234<>\"\",TEXT(spreedResult.!B234,\"YYYY\")&TEXT(spreedResult.!B234,\"MM\")&TEXT(spreedResult.!B234,\"DD\"),\"\")","v":""},{"$f":"IF(spreedResult.!C234<>\"\",VLOOKUP(spreedResult.!C234,spreedResult.!$AT$2:$AU$12,2,0),\"\")","v":""},{"$nulls":4},{"$f":"IF(spreedResult.!O234<>\"\",VLOOKUP(spreedResult.!O234,Course!$A$2:$B$612,2,0),\"\")","v":""},null,{"$f":"CONCATENATE(TRIM(ASC(spreedResult.!E234)),\" \",TRIM(ASC(spreedResult.!F234)))","v":" "},{"$f":"CONCATENATE(TRIM(spreedResult.!G234),\"　\",TRIM(spreedResult.!H234))","v":"　"},{"$f":"IFERROR(VLOOKUP(spreedResult.!J234,spreedResult.!$AW$4:$AX$5,2,0),\"\")","v":""},{"$f":"IF(spreedResult.!K234<>\"\",TEXT(spreedResult.!K234,\"YYYY\")&TEXT(spreedResult.!K234,\"MM\")&TEXT(spreedResult.!K234,\"DD\"),\"\")","v":""},null,null,{"$f":"IF(spreedResult.!$E234<>\"\",spreedResult.!$C$10,\"\")","v":""},{"$f":"IF(spreedResult.!$E234<>\"\",spreedResult.!$C$9,\"\")","v":""},{"$f":"IF(spreedResult.!L234<>\"\",spreedResult.!L234,\"\")","v":""},{"$f":"IF(spreedResult.!G234<>\"\",IF(spreedResult.!$H$8=\"左記ご住所に送付\",\"2\",\"\"),\"\")","v":""},{"$nulls":8},"",null,"",null,{"$f":"IF(ISNUMBER(AE223),\"1\",\"\")","v":""},null,{"$f":"IF(ISNUMBER(AG223),\"1\",\"\")","v":""},null,{"$f":"IF(ISNUMBER(AI223),\"1\",\"\")","v":""},null,{"$f":"IF(ISNUMBER(AK223),\"1\",\"\")","v":""},null,{"$f":"IF(ISNUMBER(AM223),\"1\",\"\")","v":""},null,{"$f":"IF(ISNUMBER(AO223),\"1\",\"\")","v":""},null,{"$f":"IF(ISNUMBER(AQ223),\"1\",\"\")","v":""},null,{"$f":"IF(ISNUMBER(AS223),\"1\",\"\")","v":""}]
[null,{"$f":"IF(spreedResult.!B235<>\"\",TEXT(spreedResult.!B235,\"YYYY\")&TEXT(spreedResult.!B235,\"MM\")&TEXT(spreedResult.!B235,\"DD\"),\"\")","v":""},{"$f":"IF(spreedResult.!C235<>\"\",VLOOKUP(spreedResult.!C235,spreedResult.!$AT$2:$AU$12,2,0),\"\")","v":""},{"$nulls":4},{"$f":"IF(spreedResult.!O235<>\"\",VLOOKUP(spreedResult.!O235,Course!$A$2:$B$612,2,0),\"\")","v":""},null,{"$f":"CONCATENATE(TRIM(ASC(spreedResult.!E235)),\" \",TRIM(ASC(spreedResult.!F235)))","v":" "},{"$f":"CONCATENATE(TRIM(spreedResult.!G235),\"　\",TRIM(spreedResult.!H235))","v":"　"},{"$f":"IFERROR(VLOOKUP(spreedResult.!J235,spreedResult.!$AW$4:$AX$5,2,0),\"\")","v":""},{"$f":"IF(spreedResult.!K235<>\"\",TEXT(spreedResult.!K235,\"YYYY\")&TEXT(spreedResult.!K235,\"MM\")&TEXT(spreedResult.!K235,\"DD\"),\"\")","v":""},null,null,{"$f":"IF(spreedResult.!$E235<>\"\",spreedResult.!$C$10,\"\")","v":""},{"$f":"IF(spreedResult.!$E235<>\"\",spreedResult.!$C$9,\"\")","v":""},{"$f":"IF(spreedResult.!L235<>\"\",spreedResult.!L235,\"\")","v":""},{"$f":"IF(spreedResult.!G235<>\"\",IF(spreedResult.!$H$8=\"左記ご住所に送付\",\"2\",\"\"),\"\")","v":""},{"$nulls":8},"",null,"",null,{"$f":"IF(ISNUMBER(AE224),\"1\",\"\")","v":""},null,{"$f":"IF(ISNUMBER(AG224),\"1\",\"\")","v":""},null,{"$f":"IF(ISNUMBER(AI224),\"1\",\"\")","v":""},null,{"$f":"IF(ISNUMBER(AK224),\"1\",\"\")","v":""},null,{"$f":"IF(ISNUMBER(AM224),\"1\",\"\")","v":""},null,{"$f":"IF(ISNUMBER(AO224),\"1\",\"\")","v":""},null,{"$f":"IF(ISNUMBER(AQ224),\"1\",\"\")","v":""},null,{"$f":"IF(ISNUMBER(AS224),\"1\",\"\")","v":""}]
[null,{"$f":"IF(spreedResult.!B236<>\"\",TEXT(spreedResult.!B236,\"YYYY\")&TEXT(spreedResult.!B236,\"MM\")&TEXT(spreedResult.!B236,\"DD\"),\"\")","v":""},{"$f":"IF(spreedResult.!C236<>\"\",VLOOKUP(spreedResult.!C236,spreedResult.!$AT$2:$AU$12,2,0),\"\")","v":""},{"$nulls":4},{"$f":"IF(spreedResult.!O236<>\"\",VLOOKUP(spreedResult.!O236,Course!$A$2:$B$612,2,0),\"\")","v":""},null,{"$f":"CONCATENATE(TRIM(ASC(spreedResult.!E236)),\" \",TRIM(ASC(spreedResult.!F236)))","v":" "},{"$f":"CONCATENATE(TRIM(spreedResult.!G236),\"　\",TRIM(spreedResult.!H236))","v":"　"},{"$f":"IFERROR(VLOOKUP(spreedResult.!J236,spreedResult.!$AW$4:$AX$5,2,0),\"\")","v":""},{"$f":"IF(spreedResult.!K236<>\"\",TEXT(spreedResult.!K236,\"YYYY\")&TEXT(spreedResult.!K236,\"MM\")&TEXT(spreedResult.!K236,\"DD\"),\"\")","v":""},null,null,{"$f":"IF(spreedResult.!$E236<>\"\",spreedResult.!$C$10,\"\")","v":""},{"$f":"IF(spreedResult.!$E236<>\"\",spreedResult.!$C$9,\"\")","v":""},{"$f":"IF(spreedResult.!L236<>\"\",spreedResult.!L236,\"\")","v":""},{"$f":"IF(spreedResult.!G236<>\"\",IF(spreedResult.!$H$8=\"左記ご住所に送付\",\"2\",\"\"),\"\")","v":""},{"$nulls":8},"",null,"",null,{"$f":"IF(ISNUMBER(AE225),\"1\",\"\")","v":""},null,{"$f":"IF(ISNUMBER(AG225),\"1\",\"\")","v":""},null,{"$f":"IF(ISNUMBER(AI225),\"1\",\"\")","v":""},null,{"$f":"IF(ISNUMBER(AK225),\"1\",\"\")","v":""},null,{"$f":"IF(ISNUMBER(AM225),\"1\",\"\")","v":""},null,{"$f":"IF(ISNUMBER(AO225),\"1\",\"\")","v":""},null,{"$f":"IF(ISNUMBER(AQ225),\"1\",\"\")","v":""},null,{"$f":"IF(ISNUMBER(AS225),\"1\",\"\")","v":""}]
[null,{"$f":"IF(spreedResult.!B237<>\"\",TEXT(spreedResult.!B237,\"YYYY\")&TEXT(spreedResult.!B237,\"MM\")&TEXT(spreedResult.!B237,\"DD\"),\"\")","v":""},{"$f":"IF(spreedResult.!C237<>\"\",VLOOKUP(spreedResult.!C237,spreedResult.!$AT$2:$AU$12,2,0),\"\")","v":""},{"$nulls":4},{"$f":"IF(spreedResult.!O237<>\"\",VLOOKUP(spreedResult.!O237,Course!$A$2:$B$612,2,0),\"\")","v":""},null,{"$f":"CONCATENATE(TRIM(ASC(spreedResult.!E237)),\" \",TRIM(ASC(spreedResult.!F237)))","v":" "},{"$f":"CONCATENATE(TRIM(spreedResult.!G237),\"　\",TRIM(spreedResult.!H237))","v":"　"},{"$f":"IFERROR(VLOOKUP(spreedResult.!J237,spreedResult.!$AW$4:$AX$5,2,0),\"\")","v":""},{"$f":"IF(spreedResult.!K237<>\"\",TEXT(spreedResult.!K237,\"YYYY\")&TEXT(spreedResult.!K237,\"MM\")&TEXT(spreedResult.!K237,\"DD\"),\"\")","v":""},null,null,{"$f":"IF(spreedResult.!$E237<>\"\",spreedResult.!$C$10,\"\")","v":""},{"$f":"IF(spreedResult.!$E237<>\"\",spreedResult.!$C$9,\"\")","v":""},{"$f":"IF(spreedResult.!L237<>\"\",spreedResult.!L237,\"\")","v":""},{"$f":"IF(spreedResult.!G237<>\"\",IF(spreedResult.!$H$8=\"左記ご住所に送付\",\"2\",\"\"),\"\")","v":""},{"$nulls":8},"",null,"",null,{"$f":"IF(ISNUMBER(AE226),\"1\",\"\")","v":""},null,{"$f":"IF(ISNUMBER(AG226),\"1\",\"\")","v":""},null,{"$f":"IF(ISNUMBER(AI226),\"1\",\"\")","v":""},null,{"$f":"IF(ISNUMBER(AK226),\"1\",\"\")","v":""},null,{"$f":"IF(ISNUMBER(AM226),\"1\",\"\")","v":""},null,{"$f":"IF(ISNUMBER(AO226),\"1\",\"\")","v":""},null,{"$f":"IF(ISNUMBER(AQ226),\"1\",\"\")","v":""},null,{"$f":"IF(ISNUMBER(AS226),\"1\",\"\")","v":""}]
[null,{"$f":"IF(spreedResult.!B238<>\"\",TEXT(spreedResult.!B238,\"YYYY\")&TEXT(spreedResult.!B238,\"MM\")&TEXT(spreedResult.!B238,\"DD\"),\"\")","v":""},{"$f":"IF(spreedResult.!C238<>\"\",VLOOKUP(spreedResult.!C238,spreedResult.!$AT$2:$AU$12,2,0),\"\")","v":""},{"$nulls":4},{"$f":"IF(spreedResult.!O238<>\"\",VLOOKUP(spreedResult.!O238,Course!$A$2:$B$612,2,0),\"\")","v":""},null,{"$f":"CONCATENATE(TRIM(ASC(spreedResult.!E238)),\" \",TRIM(ASC(spreedResult.!F238)))","v":" "},{"$f":"CONCATENATE(TRIM(spreedResult.!G238),\"　\",TRIM(spreedResult.!H238))","v":"　"},{"$f":"IFERROR(VLOOKUP(spreedResult.!J238,spreedResult.!$AW$4:$AX$5,2,0),\"\")","v":""},{"$f":"IF(spreedResult.!K238<>\"\",TEXT(spreedResult.!K238,\"YYYY\")&TEXT(spreedResult.!K238,\"MM\")&TEXT(spreedResult.!K238,\"DD\"),\"\")","v":""},null,null,{"$f":"IF(spreedResult.!$E238<>\"\",spreedResult.!$C$10,\"\")","v":""},{"$f":"IF(spreedResult.!$E238<>\"\",spreedResult.!$C$9,\"\")","v":""},{"$f":"IF(spreedResult.!L238<>\"\",spreedResult.!L238,\"\")","v":""},{"$f":"IF(spreedResult.!G238<>\"\",IF(spreedResult.!$H$8=\"左記ご住所に送付\",\"2\",\"\"),\"\")","v":""},{"$nulls":8},"",null,"",null,{"$f":"IF(ISNUMBER(AE227),\"1\",\"\")","v":""},null,{"$f":"IF(ISNUMBER(AG227),\"1\",\"\")","v":""},null,{"$f":"IF(ISNUMBER(AI227),\"1\",\"\")","v":""},null,{"$f":"IF(ISNUMBER(AK227),\"1\",\"\")","v":""},null,{"$f":"IF(ISNUMBER(AM227),\"1\",\"\")","v":""},null,{"$f":"IF(ISNUMBER(AO227),\"1\",\"\")","v":""},null,{"$f":"IF(ISNUMBER(AQ227),\"1\",\"\")","v":""},null,{"$f":"IF(ISNUMBER(AS227),\"1\",\"\")","v":""}]
[null,{"$f":"IF(spreedResult.!B239<>\"\",TEXT(spreedResult.!B239,\"YYYY\")&TEXT(spreedResult.!B239,\"MM\")&TEXT(spreedResult.!B239,\"DD\"),\"\")","v":""},{"$f":"IF(spreedResult.!C239<>\"\",VLOOKUP(spreedResult.!C239,spreedResult.!$AT$2:$AU$12,2,0),\"\")","v":""},{"$nulls":4},{"$f":"IF(spreedResult.!O239<>\"\",VLOOKUP(spreedResult.!O239,Course!$A$2:$B$612,2,0),\"\")","v":""},null,{"$f":"CONCATENATE(TRIM(ASC(spreedResult.!E239)),\" \",TRIM(ASC(spreedResult.!F239)))","v":" "},{"$f":"CONCATENATE(TRIM(spreedResult.!G239),\"　\",TRIM(spreedResult.!H239))","v":"　"},{"$f":"IFERROR(VLOOKUP(spreedResult.!J239,spreedResult.!$AW$4:$AX$5,2,0),\"\")","v":""},{"$f":"IF(spreedResult.!K239<>\"\",TEXT(spreedResult.!K239,\"YYYY\")&TEXT(spreedResult.!K239,\"MM\")&TEXT(spreedResult.!K239,\"DD\"),\"\")","v":""},null,null,{"$f":"IF(spreedResult.!$E239<>\"\",spreedResult.!$C$10,\"\")","v":""},{"$f":"IF(spreedResult.!$E239<>\"\",spreedResult.!$C$9,\"\")","v":""},{"$f":"IF(spreedResult.!L239<>\"\",spreedResult.!L239,\"\")","v":""},{"$f":"IF(spreedResult.!G239<>\"\",IF(spreedResult.!$H$8=\"左記ご住所に送付\",\"2\",\"\"),\"\")","v":""},{"$nulls":8},"",null,"",null,{"$f":"IF(ISNUMBER(AE228),\"1\",\"\")","v":""},null,{"$f":"IF(ISNUMBER(AG228),\"1\",\"\")","v":""},null,{"$f":"IF(ISNUMBER(AI228),\"1\",\"\")","v":""},null,{"$f":"IF(ISNUMBER(AK228),\"1\",\"\")","v":""},null,{"$f":"IF(ISNUMBER(AM228),\"1\",\"\")","v":""},null,{"$f":"IF(ISNUMBER(AO228),\"1\",\"\")","v":""},null,{"$f":"IF(ISNUMBER(AQ228),\"1\",\"\")","v":""},null,{"$f":"IF(ISNUMBER(AS228),\"1\",\"\")","v":""}]
[null,{"$f":"IF(spreedResult.!B240<>\"\",TEXT(spreedResult.!B240,\"YYYY\")&TEXT(spreedResult.!B240,\"MM\")&TEXT(spreedResult.!B240,\"DD\"),\"\")","v":""},{"$f":"IF(spreedResult.!C240<>\"\",VLOOKUP(spreedResult.!C240,spreedResult.!$AT$2:$AU$12,2,0),\"\")","v":""},{"$nulls":4},{"$f":"IF(spreedResult.!O240<>\"\",VLOOKUP(spreedResult.!O240,Course!$A$2:$B$612,2,0),\"\")","v":""},null,{"$f":"CONCATENATE(TRIM(ASC(spreedResult.!E240)),\" \",TRIM(ASC(spreedResult.!F240)))","v":" "},{"$f":"CONCATENATE(TRIM(spreedResult.!G240),\"　\",TRIM(spreedResult.!H240))","v":"　"},{"$f":"IFERROR(VLOOKUP(spreedResult.!J240,spreedResult.!$AW$4:$AX$5,2,0),\"\")","v":""},{"$f":"IF(spreedResult.!K240<>\"\",TEXT(spreedResult.!K240,\"YYYY\")&TEXT(spreedResult.!K240,\"MM\")&TEXT(spreedResult.!K240,\"DD\"),\"\")","v":""},null,null,{"$f":"IF(spreedResult.!$E240<>\"\",spreedResult.!$C$10,\"\")","v":""},{"$f":"IF(spreedResult.!$E240<>\"\",spreedResult.!$C$9,\"\")","v":""},{"$f":"IF(spreedResult.!L240<>\"\",spreedResult.!L240,\"\")","v":""},{"$f":"IF(spreedResult.!G240<>\"\",IF(spreedResult.!$H$8=\"左記ご住所に送付\",\"2\",\"\"),\"\")","v":""},{"$nulls":8},"",null,"",null,{"$f":"IF(ISNUMBER(AE229),\"1\",\"\")","v":""},null,{"$f":"IF(ISNUMBER(AG229),\"1\",\"\")","v":""},null,{"$f":"IF(ISNUMBER(AI229),\"1\",\"\")","v":""},null,{"$f":"IF(ISNUMBER(AK229),\"1\",\"\")","v":""},null,{"$f":"IF(ISNUMBER(AM229),\"1\",\"\")","v":""},null,{"$f":"IF(ISNUMBER(AO229),\"1\",\"\")","v":""},null,{"$f":"IF(ISNUMBER(AQ229),\"1\",\"\")","v":""},null,{"$f":"IF(ISNUMBER(AS229),\"1\",\"\")","v":""}]
[null,{"$f":"IF(spreedResult.!B241<>\"\",TEXT(spreedResult.!B241,\"YYYY\")&TEXT(spreedResult.!B241,\"MM\")&TEXT(spreedResult.!B241,\"DD\"),\"\")","v":""},{"$f":"IF(spreedResult.!C241<>\"\",VLOOKUP(spreedResult.!C241,spreedResult.!$AT$2:$AU$12,2,0),\"\")","v":""},{"$nulls":4},{"$f":"IF(spreedResult.!O241<>\"\",VLOOKUP(spreedResult.!O241,Course!$A$2:$B$612,2,0),\"\")","v":""},null,{"$f":"CONCATENATE(TRIM(ASC(spreedResult.!E241)),\" \",TRIM(ASC(spreedResult.!F241)))","v":" "},{"$f":"CONCATENATE(TRIM(spreedResult.!G241),\"　\",TRIM(spreedResult.!H241))","v":"　"},{"$f":"IFERROR(VLOOKUP(spreedResult.!J241,spreedResult.!$AW$4:$AX$5,2,0),\"\")","v":""},{"$f":"IF(spreedResult.!K241<>\"\",TEXT(spreedResult.!K241,\"YYYY\")&TEXT(spreedResult.!K241,\"MM\")&TEXT(spreedResult.!K241,\"DD\"),\"\")","v":""},null,null,{"$f":"IF(spreedResult.!$E241<>\"\",spreedResult.!$C$10,\"\")","v":""},{"$f":"IF(spreedResult.!$E241<>\"\",spreedResult.!$C$9,\"\")","v":""},{"$f":"IF(spreedResult.!L241<>\"\",spreedResult.!L241,\"\")","v":""},{"$f":"IF(spreedResult.!G241<>\"\",IF(spreedResult.!$H$8=\"左記ご住所に送付\",\"2\",\"\"),\"\")","v":""},{"$nulls":8},"",null,"",null,{"$f":"IF(ISNUMBER(AE230),\"1\",\"\")","v":""},null,{"$f":"IF(ISNUMBER(AG230),\"1\",\"\")","v":""},null,{"$f":"IF(ISNUMBER(AI230),\"1\",\"\")","v":""},null,{"$f":"IF(ISNUMBER(AK230),\"1\",\"\")","v":""},null,{"$f":"IF(ISNUMBER(AM230),\"1\",\"\")","v":""},null,{"$f":"IF(ISNUMBER(AO230),\"1\",\"\")","v":""},null,{"$f":"IF(ISNUMBER(AQ230),\"1\",\"\")","v":""},null,{"$f":"IF(ISNUMBER(AS230),\"1\",\"\")","v":""}]
[null,{"$f":"IF(spreedResult.!B242<>\"\",TEXT(spreedResult.!B242,\"YYYY\")&TEXT(spreedResult.!B242,\"MM\")&TEXT(spreedResult.!B242,\"DD\"),\"\")","v":""},{"$f":"IF(spreedResult.!C242<>\"\",VLOOKUP(spreedResult.!C242,spreedResult.!$AT$2:$AU$12,2,0),\"\")","v":""},{"$nulls":4},{"$f":"IF(spreedResult.!O242<>\"\",VLOOKUP(spreedResult.!O242,Course!$A$2:$B$612,2,0),\"\")","v":""},null,{"$f":"CONCATENATE(TRIM(ASC(spreedResult.!E242)),\" \",TRIM(ASC(spreedResult.!F242)))","v":" "},{"$f":"CONCATENATE(TRIM(spreedResult.!G242),\"　\",TRIM(spreedResult.!H242))","v":"　"},{"$f":"IFERROR(VLOOKUP(spreedResult.!J242,spreedResult.!$AW$4:$AX$5,2,0),\"\")","v":""},{"$f":"IF(spreedResult.!K242<>\"\",TEXT(spreedResult.!K242,\"YYYY\")&TEXT(spreedResult.!K242,\"MM\")&TEXT(spreedResult.!K242,\"DD\"),\"\")","v":""},null,null,{"$f":"IF(spreedResult.!$E242<>\"\",spreedResult.!$C$10,\"\")","v":""},{"$f":"IF(spreedResult.!$E242<>\"\",spreedResult.!$C$9,\"\")","v":""},{"$f":"IF(spreedResult.!L242<>\"\",spreedResult.!L242,\"\")","v":""},{"$f":"IF(spreedResult.!G242<>\"\",IF(spreedResult.!$H$8=\"左記ご住所に送付\",\"2\",\"\"),\"\")","v":""},{"$nulls":8},"",null,"",null,{"$f":"IF(ISNUMBER(AE231),\"1\",\"\")","v":""},null,{"$f":"IF(ISNUMBER(AG231),\"1\",\"\")","v":""},null,{"$f":"IF(ISNUMBER(AI231),\"1\",\"\")","v":""},null,{"$f":"IF(ISNUMBER(AK231),\"1\",\"\")","v":""},null,{"$f":"IF(ISNUMBER(AM231),\"1\",\"\")","v":""},null,{"$f":"IF(ISNUMBER(AO231),\"1\",\"\")","v":""},null,{"$f":"IF(ISNUMBER(AQ231),\"1\",\"\")","v":""},null,{"$f":"IF(ISNUMBER(AS231),\"1\",\"\")","v":""}]
[null,{"$f":"IF(spreedResult.!B243<>\"\",TEXT(spreedResult.!B243,\"YYYY\")&TEXT(spreedResult.!B243,\"MM\")&TEXT(spreedResult.!B243,\"DD\"),\"\")","v":""},{"$f":"IF(spreedResult.!C243<>\"\",VLOOKUP(spreedResult.!C243,spreedResult.!$AT$2:$AU$12,2,0),\"\")","v":""},{"$nulls":4},{"$f":"IF(spreedResult.!O243<>\"\",VLOOKUP(spreedResult.!O243,Course!$A$2:$B$612,2,0),\"\")","v":""},null,{"$f":"CONCATENATE(TRIM(ASC(spreedResult.!E243)),\" \",TRIM(ASC(spreedResult.!F243)))","v":" "},{"$f":"CONCATENATE(TRIM(spreedResult.!G243),\"　\",TRIM(spreedResult.!H243))","v":"　"},{"$f":"IFERROR(VLOOKUP(spreedResult.!J243,spreedResult.!$AW$4:$AX$5,2,0),\"\")","v":""},{"$f":"IF(spreedResult.!K243<>\"\",TEXT(spreedResult.!K243,\"YYYY\")&TEXT(spreedResult.!K243,\"MM\")&TEXT(spreedResult.!K243,\"DD\"),\"\")","v":""},null,null,{"$f":"IF(spreedResult.!$E243<>\"\",spreedResult.!$C$10,\"\")","v":""},{"$f":"IF(spreedResult.!$E243<>\"\",spreedResult.!$C$9,\"\")","v":""},{"$f":"IF(spreedResult.!L243<>\"\",spreedResult.!L243,\"\")","v":""},{"$f":"IF(spreedResult.!G243<>\"\",IF(spreedResult.!$H$8=\"左記ご住所に送付\",\"2\",\"\"),\"\")","v":""},{"$nulls":8},"",null,"",null,{"$f":"IF(ISNUMBER(AE232),\"1\",\"\")","v":""},null,{"$f":"IF(ISNUMBER(AG232),\"1\",\"\")","v":""},null,{"$f":"IF(ISNUMBER(AI232),\"1\",\"\")","v":""},null,{"$f":"IF(ISNUMBER(AK232),\"1\",\"\")","v":""},null,{"$f":"IF(ISNUMBER(AM232),\"1\",\"\")","v":""},null,{"$f":"IF(ISNUMBER(AO232),\"1\",\"\")","v":""},null,{"$f":"IF(ISNUMBER(AQ232),\"1\",\"\")","v":""},null,{"$f":"IF(ISNUMBER(AS232),\"1\",\"\")","v":""}]
[null,{"$f":"IF(spreedResult.!B244<>\"\",TEXT(spreedResult.!B244,\"YYYY\")&TEXT(spreedResult.!B244,\"MM\")&TEXT(spreedResult.!B244,\"DD\"),\"\")","v":""},{"$f":"IF(spreedResult.!C244<>\"\",VLOOKUP(spreedResult.!C244,spreedResult.!$AT$2:$AU$12,2,0),\"\")","v":""},{"$nulls":4},{"$f":"IF(spreedResult.!O244<>\"\",VLOOKUP(spreedResult.!O244,Course!$A$2:$B$612,2,0),\"\")","v":""},null,{"$f":"CONCATENATE(TRIM(ASC(spreedResult.!E244)),\" \",TRIM(ASC(spreedResult.!F244)))","v":" "},{"$f":"CONCATENATE(TRIM(spreedResult.!G244),\"　\",TRIM(spreedResult.!H244))","v":"　"},{"$f":"IFERROR(VLOOKUP(spreedResult.!J244,spreedResult.!$AW$4:$AX$5,2,0),\"\")","v":""},{"$f":"IF(spreedResult.!K244<>\"\",TEXT(spreedResult.!K244,\"YYYY\")&TEXT(spreedResult.!K244,\"MM\")&TEXT(spreedResult.!K244,\"DD\"),\"\")","v":""},null,null,{"$f":"IF(spreedResult.!$E244<>\"\",spreedResult.!$C$10,\"\")","v":""},{"$f":"IF(spreedResult.!$E244<>\"\",spreedResult.!$C$9,\"\")","v":""},{"$f":"IF(spreedResult.!L244<>\"\",spreedResult.!L244,\"\")","v":""},{"$f":"IF(spreedResult.!G244<>\"\",IF(spreedResult.!$H$8=\"左記ご住所に送付\",\"2\",\"\"),\"\")","v":""},{"$nulls":8},"",null,"",null,{"$f":"IF(ISNUMBER(AE233),\"1\",\"\")","v":""},null,{"$f":"IF(ISNUMBER(AG233),\"1\",\"\")","v":""},null,{"$f":"IF(ISNUMBER(AI233),\"1\",\"\")","v":""},null,{"$f":"IF(ISNUMBER(AK233),\"1\",\"\")","v":""},null,{"$f":"IF(ISNUMBER(AM233),\"1\",\"\")","v":""},null,{"$f":"IF(ISNUMBER(AO233),\"1\",\"\")","v":""},null,{"$f":"IF(ISNUMBER(AQ233),\"1\",\"\")","v":""},null,{"$f":"IF(ISNUMBER(AS233),\"1\",\"\")","v":""}]
[null,{"$f":"IF(spreedResult.!B245<>\"\",TEXT(spreedResult.!B245,\"YYYY\")&TEXT(spreedResult.!B245,\"MM\")&TEXT(spreedResult.!B245,\"DD\"),\"\")","v":""},{"$f":"IF(spreedResult.!C245<>\"\",VLOOKUP(spreedResult.!C245,spreedResult.!$AT$2:$AU$12,2,0),\"\")","v":""},{"$nulls":4},{"$f":"IF(spreedResult.!O245<>\"\",VLOOKUP(spreedResult.!O245,Course!$A$2:$B$612,2,0),\"\")","v":""},null,{"$f":"CONCATENATE(TRIM(ASC(spreedResult.!E245)),\" \",TRIM(ASC(spreedResult.!F245)))","v":" "},{"$f":"CONCATENATE(TRIM(spreedResult.!G245),\"　\",TRIM(spreedResult.!H245))","v":"　"},{"$f":"IFERROR(VLOOKUP(spreedResult.!J245,spreedResult.!$AW$4:$AX$5,2,0),\"\")","v":""},{"$f":"IF(spreedResult.!K245<>\"\",TEXT(spreedResult.!K245,\"YYYY\")&TEXT(spreedResult.!K245,\"MM\")&TEXT(spreedResult.!K245,\"DD\"),\"\")","v":""},null,null,{"$f":"IF(spreedResult.!$E245<>\"\",spreedResult.!$C$10,\"\")","v":""},{"$f":"IF(spreedResult.!$E245<>\"\",spreedResult.!$C$9,\"\")","v":""},{"$f":"IF(spreedResult.!L245<>\"\",spreedResult.!L245,\"\")","v":""},{"$f":"IF(spreedResult.!G245<>\"\",IF(spreedResult.!$H$8=\"左記ご住所に送付\",\"2\",\"\"),\"\")","v":""},{"$nulls":8},"",null,"",null,{"$f":"IF(ISNUMBER(AE234),\"1\",\"\")","v":""},null,{"$f":"IF(ISNUMBER(AG234),\"1\",\"\")","v":""},null,{"$f":"IF(ISNUMBER(AI234),\"1\",\"\")","v":""},null,{"$f":"IF(ISNUMBER(AK234),\"1\",\"\")","v":""},null,{"$f":"IF(ISNUMBER(AM234),\"1\",\"\")","v":""},null,{"$f":"IF(ISNUMBER(AO234),\"1\",\"\")","v":""},null,{"$f":"IF(ISNUMBER(AQ234),\"1\",\"\")","v":""},null,{"$f":"IF(ISNUMBER(AS234),\"1\",\"\")","v":""}]
[null,{"$f":"IF(spreedResult.!B246<>\"\",TEXT(spreedResult.!B246,\"YYYY\")&TEXT(spreedResult.!B246,\"MM\")&TEXT(spreedResult.!B246,\"DD\"),\"\")","v":""},{"$f":"IF(spreedResult.!C246<>\"\",VLOOKUP(spreedResult.!C246,spreedResult.!$AT$2:$AU$12,2,0),\"\")","v":""},{"$nulls":4},{"$f":"IF(spreedResult.!O246<>\"\",VLOOKUP(spreedResult.!O246,Course!$A$2:$B$612,2,0),\"\")","v":""},null,{"$f":"CONCATENATE(TRIM(ASC(spreedResult.!E246)),\" \",TRIM(ASC(spreedResult.!F246)))","v":" "},{"$f":"CONCATENATE(TRIM(spreedResult.!G246),\"　\",TRIM(spreedResult.!H246))","v":"　"},{"$f":"IFERROR(VLOOKUP(spreedResult.!J246,spreedResult.!$AW$4:$AX$5,2,0),\"\")","v":""},{"$f":"IF(spreedResult.!K246<>\"\",TEXT(spreedResult.!K246,\"YYYY\")&TEXT(spreedResult.!K246,\"MM\")&TEXT(spreedResult.!K246,\"DD\"),\"\")","v":""},null,null,{"$f":"IF(spreedResult.!$E246<>\"\",spreedResult.!$C$10,\"\")","v":""},{"$f":"IF(spreedResult.!$E246<>\"\",spreedResult.!$C$9,\"\")","v":""},{"$f":"IF(spreedResult.!L246<>\"\",spreedResult.!L246,\"\")","v":""},{"$f":"IF(spreedResult.!G246<>\"\",IF(spreedResult.!$H$8=\"左記ご住所に送付\",\"2\",\"\"),\"\")","v":""},{"$nulls":8},"",null,"",null,{"$f":"IF(ISNUMBER(AE235),\"1\",\"\")","v":""},null,{"$f":"IF(ISNUMBER(AG235),\"1\",\"\")","v":""},null,{"$f":"IF(ISNUMBER(AI235),\"1\",\"\")","v":""},null,{"$f":"IF(ISNUMBER(AK235),\"1\",\"\")","v":""},null,{"$f":"IF(ISNUMBER(AM235),\"1\",\"\")","v":""},null,{"$f":"IF(ISNUMBER(AO235),\"1\",\"\")","v":""},null,{"$f":"IF(ISNUMBER(AQ235),\"1\",\"\")","v":""},null,{"$f":"IF(ISNUMBER(AS235),\"1\",\"\")","v":""}]
[null,{"$f":"IF(spreedResult.!B247<>\"\",TEXT(spreedResult.!B247,\"YYYY\")&TEXT(spreedResult.!B247,\"MM\")&TEXT(spreedResult.!B247,\"DD\"),\"\")","v":""},{"$f":"IF(spreedResult.!C247<>\"\",VLOOKUP(spreedResult.!C247,spreedResult.!$AT$2:$AU$12,2,0),\"\")","v":""},{"$nulls":4},{"$f":"IF(spreedResult.!O247<>\"\",VLOOKUP(spreedResult.!O247,Course!$A$2:$B$612,2,0),\"\")","v":""},null,{"$f":"CONCATENATE(TRIM(ASC(spreedResult.!E247)),\" \",TRIM(ASC(spreedResult.!F247)))","v":" "},{"$f":"CONCATENATE(TRIM(spreedResult.!G247),\"　\",TRIM(spreedResult.!H247))","v":"　"},{"$f":"IFERROR(VLOOKUP(spreedResult.!J247,spreedResult.!$AW$4:$AX$5,2,0),\"\")","v":""},{"$f":"IF(spreedResult.!K247<>\"\",TEXT(spreedResult.!K247,\"YYYY\")&TEXT(spreedResult.!K247,\"MM\")&TEXT(spreedResult.!K247,\"DD\"),\"\")","v":""},null,null,{"$f":"IF(spreedResult.!$E247<>\"\",spreedResult.!$C$10,\"\")","v":""},{"$f":"IF(spreedResult.!$E247<>\"\",spreedResult.!$C$9,\"\")","v":""},{"$f":"IF(spreedResult.!L247<>\"\",spreedResult.!L247,\"\")","v":""},{"$f":"IF(spreedResult.!G247<>\"\",IF(spreedResult.!$H$8=\"左記ご住所に送付\",\"2\",\"\"),\"\")","v":""},{"$nulls":8},"",null,"",null,{"$f":"IF(ISNUMBER(AE236),\"1\",\"\")","v":""},null,{"$f":"IF(ISNUMBER(AG236),\"1\",\"\")","v":""},null,{"$f":"IF(ISNUMBER(AI236),\"1\",\"\")","v":""},null,{"$f":"IF(ISNUMBER(AK236),\"1\",\"\")","v":""},null,{"$f":"IF(ISNUMBER(AM236),\"1\",\"\")","v":""},null,{"$f":"IF(ISNUMBER(AO236),\"1\",\"\")","v":""},null,{"$f":"IF(ISNUMBER(AQ236),\"1\",\"\")","v":""},null,{"$f":"IF(ISNUMBER(AS236),\"1\",\"\")","v":""}]
[null,{"$f":"IF(spreedResult.!B248<>\"\",TEXT(spreedResult.!B248,\"YYYY\")&TEXT(spreedResult.!B248,\"MM\")&TEXT(spreedResult.!B248,\"DD\"),\"\")","v":""},{"$f":"IF(spreedResult.!C248<>\"\",VLOOKUP(spreedResult.!C248,spreedResult.!$AT$2:$AU$12,2,0),\"\")","v":""},{"$nulls":4},{"$f":"IF(spreedResult.!O248<>\"\",VLOOKUP(spreedResult.!O248,Course!$A$2:$B$612,2,0),\"\")","v":""},null,{"$f":"CONCATENATE(TRIM(ASC(spreedResult.!E248)),\" \",TRIM(ASC(spreedResult.!F248)))","v":" "},{"$f":"CONCATENATE(TRIM(spreedResult.!G248),\"　\",TRIM(spreedResult.!H248))","v":"　"},{"$f":"IFERROR(VLOOKUP(spreedResult.!J248,spreedResult.!$AW$4:$AX$5,2,0),\"\")","v":""},{"$f":"IF(spreedResult.!K248<>\"\",TEXT(spreedResult.!K248,\"YYYY\")&TEXT(spreedResult.!K248,\"MM\")&TEXT(spreedResult.!K248,\"DD\"),\"\")","v":""},null,null,{"$f":"IF(spreedResult.!$E248<>\"\",spreedResult.!$C$10,\"\")","v":""},{"$f":"IF(spreedResult.!$E248<>\"\",spreedResult.!$C$9,\"\")","v":""},{"$f":"IF(spreedResult.!L248<>\"\",spreedResult.!L248,\"\")","v":""},{"$f":"IF(spreedResult.!G248<>\"\",IF(spreedResult.!$H$8=\"左記ご住所に送付\",\"2\",\"\"),\"\")","v":""},{"$nulls":8},"",null,"",null,{"$f":"IF(ISNUMBER(AE237),\"1\",\"\")","v":""},null,{"$f":"IF(ISNUMBER(AG237),\"1\",\"\")","v":""},null,{"$f":"IF(ISNUMBER(AI237),\"1\",\"\")","v":""},null,{"$f":"IF(ISNUMBER(AK237),\"1\",\"\")","v":""},null,{"$f":"IF(ISNUMBER(AM237),\"1\",\"\")","v":""},null,{"$f":"IF(ISNUMBER(AO237),\"1\",\"\")","v":""},null,{"$f":"IF(ISNUMBER(AQ237),\"1\",\"\")","v":""},null,{"$f":"IF(ISNUMBER(AS237),\"1\",\"\")","v":""}]
[null,{"$f":"IF(spreedResult.!B249<>\"\",TEXT(spreedResult.!B249,\"YYYY\")&TEXT(spreedResult.!B249,\"MM\")&TEXT(spreedResult.!B249,\"DD\"),\"\")","v":""},{"$f":"IF(spreedResult.!C249<>\"\",VLOOKUP(spreedResult.!C249,spreedResult.!$AT$2:$AU$12,2,0),\"\")","v":""},{"$nulls":4},{"$f":"IF(spreedResult.!O249<>\"\",VLOOKUP(spreedResult.!O249,Course!$A$2:$B$612,2,0),\"\")","v":""},null,{"$f":"CONCATENATE(TRIM(ASC(spreedResult.!E249)),\" \",TRIM(ASC(spreedResult.!F249)))","v":" "},{"$f":"CONCATENATE(TRIM(spreedResult.!G249),\"　\",TRIM(spreedResult.!H249))","v":"　"},{"$f":"IFERROR(VLOOKUP(spreedResult.!J249,spreedResult.!$AW$4:$AX$5,2,0),\"\")","v":""},{"$f":"IF(spreedResult.!K249<>\"\",TEXT(spreedResult.!K249,\"YYYY\")&TEXT(spreedResult.!K249,\"MM\")&TEXT(spreedResult.!K249,\"DD\"),\"\")","v":""},null,null,{"$f":"IF(spreedResult.!$E249<>\"\",spreedResult.!$C$10,\"\")","v":""},{"$f":"IF(spreedResult.!$E249<>\"\",spreedResult.!$C$9,\"\")","v":""},{"$f":"IF(spreedResult.!L249<>\"\",spreedResult.!L249,\"\")","v":""},{"$f":"IF(spreedResult.!G249<>\"\",IF(spreedResult.!$H$8=\"左記ご住所に送付\",\"2\",\"\"),\"\")","v":""},{"$nulls":8},"",null,"",null,{"$f":"IF(ISNUMBER(AE238),\"1\",\"\")","v":""},null,{"$f":"IF(ISNUMBER(AG238),\"1\",\"\")","v":""},null,{"$f":"IF(ISNUMBER(AI238),\"1\",\"\")","v":""},null,{"$f":"IF(ISNUMBER(AK238),\"1\",\"\")","v":""},null,{"$f":"IF(ISNUMBER(AM238),\"1\",\"\")","v":""},null,{"$f":"IF(ISNUMBER(AO238),\"1\",\"\")","v":""},null,{"$f":"IF(ISNUMBER(AQ238),\"1\",\"\")","v":""},null,{"$f":"IF(ISNUMBER(AS238),\"1\",\"\")","v":""}]
[null,{"$f":"IF(spreedResult.!B250<>\"\",TEXT(spreedResult.!B250,\"YYYY\")&TEXT(spreedResult.!B250,\"MM\")&TEXT(spreedResult.!B250,\"DD\"),\"\")","v":""},{"$f":"IF(spreedResult.!C250<>\"\",VLOOKUP(spreedResult.!C250,spreedResult.!$AT$2:$AU$12,2,0),\"\")","v":""},{"$nulls":4},{"$f":"IF(spreedResult.!O250<>\"\",VLOOKUP(spreedResult.!O250,Course!$A$2:$B$612,2,0),\"\")","v":""},null,{"$f":"CONCATENATE(TRIM(ASC(spreedResult.!E250)),\" \",TRIM(ASC(spreedResult.!F250)))","v":" "},{"$f":"CONCATENATE(TRIM(spreedResult.!G250),\"　\",TRIM(spreedResult.!H250))","v":"　"},{"$f":"IFERROR(VLOOKUP(spreedResult.!J250,spreedResult.!$AW$4:$AX$5,2,0),\"\")","v":""},{"$f":"IF(spreedResult.!K250<>\"\",TEXT(spreedResult.!K250,\"YYYY\")&TEXT(spreedResult.!K250,\"MM\")&TEXT(spreedResult.!K250,\"DD\"),\"\")","v":""},null,null,{"$f":"IF(spreedResult.!$E250<>\"\",spreedResult.!$C$10,\"\")","v":""},{"$f":"IF(spreedResult.!$E250<>\"\",spreedResult.!$C$9,\"\")","v":""},{"$f":"IF(spreedResult.!L250<>\"\",spreedResult.!L250,\"\")","v":""},{"$f":"IF(spreedResult.!G250<>\"\",IF(spreedResult.!$H$8=\"左記ご住所に送付\",\"2\",\"\"),\"\")","v":""},{"$nulls":8},"",null,"",null,{"$f":"IF(ISNUMBER(AE239),\"1\",\"\")","v":""},null,{"$f":"IF(ISNUMBER(AG239),\"1\",\"\")","v":""},null,{"$f":"IF(ISNUMBER(AI239),\"1\",\"\")","v":""},null,{"$f":"IF(ISNUMBER(AK239),\"1\",\"\")","v":""},null,{"$f":"IF(ISNUMBER(AM239),\"1\",\"\")","v":""},null,{"$f":"IF(ISNUMBER(AO239),\"1\",\"\")","v":""},null,{"$f":"IF(ISNUMBER(AQ239),\"1\",\"\")","v":""},null,{"$f":"IF(ISNUMBER(AS239),\"1\",\"\")","v":""}]
[null,{"$f":"IF(spreedResult.!B251<>\"\",TEXT(spreedResult.!B251,\"YYYY\")&TEXT(spreedResult.!B251,\"MM\")&TEXT(spreedResult.!B251,\"DD\"),\"\")","v":""},{"$f":"IF(spreedResult.!C251<>\"\",VLOOKUP(spreedResult.!C251,spreedResult.!$AT$2:$AU$12,2,0),\"\")","v":""},{"$nulls":4},{"$f":"IF(spreedResult.!O251<>\"\",VLOOKUP(spreedResult.!O251,Course!$A$2:$B$612,2,0),\"\")","v":""},null,{"$f":"CONCATENATE(TRIM(ASC(spreedResult.!E251)),\" \",TRIM(ASC(spreedResult.!F251)))","v":" "},{"$f":"CONCATENATE(TRIM(spreedResult.!G251),\"　\",TRIM(spreedResult.!H251))","v":"　"},{"$f":"IFERROR(VLOOKUP(spreedResult.!J251,spreedResult.!$AW$4:$AX$5,2,0),\"\")","v":""},{"$f":"IF(spreedResult.!K251<>\"\",TEXT(spreedResult.!K251,\"YYYY\")&TEXT(spreedResult.!K251,\"MM\")&TEXT(spreedResult.!K251,\"DD\"),\"\")","v":""},null,null,{"$f":"IF(spreedResult.!$E251<>\"\",spreedResult.!$C$10,\"\")","v":""},{"$f":"IF(spreedResult.!$E251<>\"\",spreedResult.!$C$9,\"\")","v":""},{"$f":"IF(spreedResult.!L251<>\"\",spreedResult.!L251,\"\")","v":""},{"$f":"IF(spreedResult.!G251<>\"\",IF(spreedResult.!$H$8=\"左記ご住所に送付\",\"2\",\"\"),\"\")","v":""},{"$nulls":8},"",null,"",null,{"$f":"IF(ISNUMBER(AE240),\"1\",\"\")","v":""},null,{"$f":"IF(ISNUMBER(AG240),\"1\",\"\")","v":""},null,{"$f":"IF(ISNUMBER(AI240),\"1\",\"\")","v":""},null,{"$f":"IF(ISNUMBER(AK240),\"1\",\"\")","v":""},null,{"$f":"IF(ISNUMBER(AM240),\"1\",\"\")","v":""},null,{"$f":"IF(ISNUMBER(AO240),\"1\",\"\")","v":""},null,{"$f":"IF(ISNUMBER(AQ240),\"1\",\"\")","v":""},null,{"$f":"IF(ISNUMBER(AS240),\"1\",\"\")","v":""}]
[null,{"$f":"IF(spreedResult.!B252<>\"\",TEXT(spreedResult.!B252,\"YYYY\")&TEXT(spreedResult.!B252,\"MM\")&TEXT(spreedResult.!B252,\"DD\"),\"\")","v":""},{"$f":"IF(spreedResult.!C252<>\"\",VLOOKUP(spreedResult.!C252,spreedResult.!$AT$2:$AU$12,2,0),\"\")","v":""},{"$nulls":4},{"$f":"IF(spreedResult.!O252<>\"\",VLOOKUP(spreedResult.!O252,Course!$A$2:$B$612,2,0),\"\")","v":""},null,{"$f":"CONCATENATE(TRIM(ASC(spreedResult.!E252)),\" \",TRIM(ASC(spreedResult.!F252)))","v":" "},{"$f":"CONCATENATE(TRIM(spreedResult.!G252),\"　\",TRIM(spreedResult.!H252))","v":"　"},{"$f":"IFERROR(VLOOKUP(spreedResult.!J252,spreedResult.!$AW$4:$AX$5,2,0),\"\")","v":""},{"$f":"IF(spreedResult.!K252<>\"\",TEXT(spreedResult.!K252,\"YYYY\")&TEXT(spreedResult.!K252,\"MM\")&TEXT(spreedResult.!K252,\"DD\"),\"\")","v":""},null,null,{"$f":"IF(spreedResult.!$E252<>\"\",spreedResult.!$C$10,\"\")","v":""},{"$f":"IF(spreedResult.!$E252<>\"\",spreedResult.!$C$9,\"\")","v":""},{"$f":"IF(spreedResult.!L252<>\"\",spreedResult.!L252,\"\")","v":""},{"$f":"IF(spreedResult.!G252<>\"\",IF(spreedResult.!$H$8=\"左記ご住所に送付\",\"2\",\"\"),\"\")","v":""},{"$nulls":8},"",null,"",null,{"$f":"IF(ISNUMBER(AE241),\"1\",\"\")","v":""},null,{"$f":"IF(ISNUMBER(AG241),\"1\",\"\")","v":""},null,{"$f":"IF(ISNUMBER(AI241),\"1\",\"\")","v":""},null,{"$f":"IF(ISNUMBER(AK241),\"1\",\"\")","v":""},null,{"$f":"IF(ISNUMBER(AM241),\"1\",\"\")","v":""},null,{"$f":"IF(ISNUMBER(AO241),\"1\",\"\")","v":""},null,{"$f":"IF(ISNUMBER(AQ241),\"1\",\"\")","v":""},null,{"$f":"IF(ISNUMBER(AS241),\"1\",\"\")","v":""}]
[null,{"$f":"IF(spreedResult.!B253<>\"\",TEXT(spreedResult.!B253,\"YYYY\")&TEXT(spreedResult.!B253,\"MM\")&TEXT(spreedResult.!B253,\"DD\"),\"\")","v":""},{"$f":"IF(spreedResult.!C253<>\"\",VLOOKUP(spreedResult.!C253,spreedResult.!$AT$2:$AU$12,2,0),\"\")","v":""},{"$nulls":4},{"$f":"IF(spreedResult.!O253<>\"\",VLOOKUP(spreedResult.!O253,Course!$A$2:$B$612,2,0),\"\")","v":""},null,{"$f":"CONCATENATE(TRIM(ASC(spreedResult.!E253)),\" \",TRIM(ASC(spreedResult.!F253)))","v":" "},{"$f":"CONCATENATE(TRIM(spreedResult.!G253),\"　\",TRIM(spreedResult.!H253))","v":"　"},{"$f":"IFERROR(VLOOKUP(spreedResult.!J253,spreedResult.!$AW$4:$AX$5,2,0),\"\")","v":""},{"$f":"IF(spreedResult.!K253<>\"\",TEXT(spreedResult.!K253,\"YYYY\")&TEXT(spreedResult.!K253,\"MM\")&TEXT(spreedResult.!K253,\"DD\"),\"\")","v":""},null,null,{"$f":"IF(spreedResult.!$E253<>\"\",spreedResult.!$C$10,\"\")","v":""},{"$f":"IF(spreedResult.!$E253<>\"\",spreedResult.!$C$9,\"\")","v":""},{"$f":"IF(spreedResult.!L253<>\"\",spreedResult.!L253,\"\")","v":""},{"$f":"IF(spreedResult.!G253<>\"\",IF(spreedResult.!$H$8=\"左記ご住所に送付\",\"2\",\"\"),\"\")","v":""},{"$nulls":8},"",null,"",null,{"$f":"IF(ISNUMBER(AE242),\"1\",\"\")","v":""},null,{"$f":"IF(ISNUMBER(AG242),\"1\",\"\")","v":""},null,{"$f":"IF(ISNUMBER(AI242),\"1\",\"\")","v":""},null,{"$f":"IF(ISNUMBER(AK242),\"1\",\"\")","v":""},null,{"$f":"IF(ISNUMBER(AM242),\"1\",\"\")","v":""},null,{"$f":"IF(ISNUMBER(AO242),\"1\",\"\")","v":""},null,{"$f":"IF(ISNUMBER(AQ242),\"1\",\"\")","v":""},null,{"$f":"IF(ISNUMBER(AS242),\"1\",\"\")","v":""}]
[null,{"$f":"IF(spreedResult.!B254<>\"\",TEXT(spreedResult.!B254,\"YYYY\")&TEXT(spreedResult.!B254,\"MM\")&TEXT(spreedResult.!B254,\"DD\"),\"\")","v":""},{"$f":"IF(spreedResult.!C254<>\"\",VLOOKUP(spreedResult.!C254,spreedResult.!$AT$2:$AU$12,2,0),\"\")","v":""},{"$nulls":4},{"$f":"IF(spreedResult.!O254<>\"\",VLOOKUP(spreedResult.!O254,Course!$A$2:$B$612,2,0),\"\")","v":""},null,{"$f":"CONCATENATE(TRIM(ASC(spreedResult.!E254)),\" \",TRIM(ASC(spreedResult.!F254)))","v":" "},{"$f":"CONCATENATE(TRIM(spreedResult.!G254),\"　\",TRIM(spreedResult.!H254))","v":"　"},{"$f":"IFERROR(VLOOKUP(spreedResult.!J254,spreedResult.!$AW$4:$AX$5,2,0),\"\")","v":""},{"$f":"IF(spreedResult.!K254<>\"\",TEXT(spreedResult.!K254,\"YYYY\")&TEXT(spreedResult.!K254,\"MM\")&TEXT(spreedResult.!K254,\"DD\"),\"\")","v":""},null,null,{"$f":"IF(spreedResult.!$E254<>\"\",spreedResult.!$C$10,\"\")","v":""},{"$f":"IF(spreedResult.!$E254<>\"\",spreedResult.!$C$9,\"\")","v":""},{"$f":"IF(spreedResult.!L254<>\"\",spreedResult.!L254,\"\")","v":""},{"$f":"IF(spreedResult.!G254<>\"\",IF(spreedResult.!$H$8=\"左記ご住所に送付\",\"2\",\"\"),\"\")","v":""},{"$nulls":8},"",null,"",null,{"$f":"IF(ISNUMBER(AE243),\"1\",\"\")","v":""},null,{"$f":"IF(ISNUMBER(AG243),\"1\",\"\")","v":""},null,{"$f":"IF(ISNUMBER(AI243),\"1\",\"\")","v":""},null,{"$f":"IF(ISNUMBER(AK243),\"1\",\"\")","v":""},null,{"$f":"IF(ISNUMBER(AM243),\"1\",\"\")","v":""},null,{"$f":"IF(ISNUMBER(AO243),\"1\",\"\")","v":""},null,{"$f":"IF(ISNUMBER(AQ243),\"1\",\"\")","v":""},null,{"$f":"IF(ISNUMBER(AS243),\"1\",\"\")","v":""}]
[null,{"$f":"IF(spreedResult.!B255<>\"\",TEXT(spreedResult.!B255,\"YYYY\")&TEXT(spreedResult.!B255,\"MM\")&TEXT(spreedResult.!B255,\"DD\"),\"\")","v":""},{"$f":"IF(spreedResult.!C255<>\"\",VLOOKUP(spreedResult.!C255,spreedResult.!$AT$2:$AU$12,2,0),\"\")","v":""},{"$nulls":4},{"$f":"IF(spreedResult.!O255<>\"\",VLOOKUP(spreedResult.!O255,Course!$A$2:$B$612,2,0),\"\")","v":""},null,{"$f":"CONCATENATE(TRIM(ASC(spreedResult.!E255)),\" \",TRIM(ASC(spreedResult.!F255)))","v":" "},{"$f":"CONCATENATE(TRIM(spreedResult.!G255),\"　\",TRIM(spreedResult.!H255))","v":"　"},{"$f":"IFERROR(VLOOKUP(spreedResult.!J255,spreedResult.!$AW$4:$AX$5,2,0),\"\")","v":""},{"$f":"IF(spreedResult.!K255<>\"\",TEXT(spreedResult.!K255,\"YYYY\")&TEXT(spreedResult.!K255,\"MM\")&TEXT(spreedResult.!K255,\"DD\"),\"\")","v":""},null,null,{"$f":"IF(spreedResult.!$E255<>\"\",spreedResult.!$C$10,\"\")","v":""},{"$f":"IF(spreedResult.!$E255<>\"\",spreedResult.!$C$9,\"\")","v":""},{"$f":"IF(spreedResult.!L255<>\"\",spreedResult.!L255,\"\")","v":""},{"$f":"IF(spreedResult.!G255<>\"\",IF(spreedResult.!$H$8=\"左記ご住所に送付\",\"2\",\"\"),\"\")","v":""},{"$nulls":8},"",null,"",null,{"$f":"IF(ISNUMBER(AE244),\"1\",\"\")","v":""},null,{"$f":"IF(ISNUMBER(AG244),\"1\",\"\")","v":""},null,{"$f":"IF(ISNUMBER(AI244),\"1\",\"\")","v":""},null,{"$f":"IF(ISNUMBER(AK244),\"1\",\"\")","v":""},null,{"$f":"IF(ISNUMBER(AM244),\"1\",\"\")","v":""},null,{"$f":"IF(ISNUMBER(AO244),\"1\",\"\")","v":""},null,{"$f":"IF(ISNUMBER(AQ244),\"1\",\"\")","v":""},null,{"$f":"IF(ISNUMBER(AS244),\"1\",\"\")","v":""}]
[null,{"$f":"IF(spreedResult.!B256<>\"\",TEXT(spreedResult.!B256,\"YYYY\")&TEXT(spreedResult.!B256,\"MM\")&TEXT(spreedResult.!B256,\"DD\"),\"\")","v":""},{"$f":"IF(spreedResult.!C256<>\"\",VLOOKUP(spreedResult.!C256,spreedResult.!$AT$2:$AU$12,2,0),\"\")","v":""},{"$nulls":4},{"$f":"IF(spreedResult.!O256<>\"\",VLOOKUP(spreedResult.!O256,Course!$A$2:$B$612,2,0),\"\")","v":""},null,{"$f":"CONCATENATE(TRIM(ASC(spreedResult.!E256)),\" \",TRIM(ASC(spreedResult.!F256)))","v":" "},{"$f":"CONCATENATE(TRIM(spreedResult.!G256),\"　\",TRIM(spreedResult.!H256))","v":"　"},{"$f":"IFERROR(VLOOKUP(spreedResult.!J256,spreedResult.!$AW$4:$AX$5,2,0),\"\")","v":""},{"$f":"IF(spreedResult.!K256<>\"\",TEXT(spreedResult.!K256,\"YYYY\")&TEXT(spreedResult.!K256,\"MM\")&TEXT(spreedResult.!K256,\"DD\"),\"\")","v":""},null,null,{"$f":"IF(spreedResult.!$E256<>\"\",spreedResult.!$C$10,\"\")","v":""},{"$f":"IF(spreedResult.!$E256<>\"\",spreedResult.!$C$9,\"\")","v":""},{"$f":"IF(spreedResult.!L256<>\"\",spreedResult.!L256,\"\")","v":""},{"$f":"IF(spreedResult.!G256<>\"\",IF(spreedResult.!$H$8=\"左記ご住所に送付\",\"2\",\"\"),\"\")","v":""},{"$nulls":8},"",null,"",null,{"$f":"IF(ISNUMBER(AE245),\"1\",\"\")","v":""},null,{"$f":"IF(ISNUMBER(AG245),\"1\",\"\")","v":""},null,{"$f":"IF(ISNUMBER(AI245),\"1\",\"\")","v":""},null,{"$f":"IF(ISNUMBER(AK245),\"1\",\"\")","v":""},null,{"$f":"IF(ISNUMBER(AM245),\"1\",\"\")","v":""},null,{"$f":"IF(ISNUMBER(AO245),\"1\",\"\")","v":""},null,{"$f":"IF(ISNUMBER(AQ245),\"1\",\"\")","v":""},null,{"$f":"IF(ISNUMBER(AS245),\"1\",\"\")","v":""}]
[null,{"$f":"IF(spreedResult.!B257<>\"\",TEXT(spreedResult.!B257,\"YYYY\")&TEXT(spreedResult.!B257,\"MM\")&TEXT(spreedResult.!B257,\"DD\"),\"\")","v":""},{"$f":"IF(spreedResult.!C257<>\"\",VLOOKUP(spreedResult.!C257,spreedResult.!$AT$2:$AU$12,2,0),\"\")","v":""},{"$nulls":4},{"$f":"IF(spreedResult.!O257<>\"\",VLOOKUP(spreedResult.!O257,Course!$A$2:$B$612,2,0),\"\")","v":""},null,{"$f":"CONCATENATE(TRIM(ASC(spreedResult.!E257)),\" \",TRIM(ASC(spreedResult.!F257)))","v":" "},{"$f":"CONCATENATE(TRIM(spreedResult.!G257),\"　\",TRIM(spreedResult.!H257))","v":"　"},{"$f":"IFERROR(VLOOKUP(spreedResult.!J257,spreedResult.!$AW$4:$AX$5,2,0),\"\")","v":""},{"$f":"IF(spreedResult.!K257<>\"\",TEXT(spreedResult.!K257,\"YYYY\")&TEXT(spreedResult.!K257,\"MM\")&TEXT(spreedResult.!K257,\"DD\"),\"\")","v":""},null,null,{"$f":"IF(spreedResult.!$E257<>\"\",spreedResult.!$C$10,\"\")","v":""},{"$f":"IF(spreedResult.!$E257<>\"\",spreedResult.!$C$9,\"\")","v":""},{"$f":"IF(spreedResult.!L257<>\"\",spreedResult.!L257,\"\")","v":""},{"$f":"IF(spreedResult.!G257<>\"\",IF(spreedResult.!$H$8=\"左記ご住所に送付\",\"2\",\"\"),\"\")","v":""},{"$nulls":8},"",null,"",null,{"$f":"IF(ISNUMBER(AE246),\"1\",\"\")","v":""},null,{"$f":"IF(ISNUMBER(AG246),\"1\",\"\")","v":""},null,{"$f":"IF(ISNUMBER(AI246),\"1\",\"\")","v":""},null,{"$f":"IF(ISNUMBER(AK246),\"1\",\"\")","v":""},null,{"$f":"IF(ISNUMBER(AM246),\"1\",\"\")","v":""},null,{"$f":"IF(ISNUMBER(AO246),\"1\",\"\")","v":""},null,{"$f":"IF(ISNUMBER(AQ246),\"1\",\"\")","v":""},null,{"$f":"IF(ISNUMBER(AS246),\"1\",\"\")","v":""}]
[null,{"$f":"IF(spreedResult.!B258<>\"\",TEXT(spreedResult.!B258,\"YYYY\")&TEXT(spreedResult.!B258,\"MM\")&TEXT(spreedResult.!B258,\"DD\"),\"\")","v":""},{"$f":"IF(spreedResult.!C258<>\"\",VLOOKUP(spreedResult.!C258,spreedResult.!$AT$2:$AU$12,2,0),\"\")","v":""},{"$nulls":4},{"$f":"IF(spreedResult.!O258<>\"\",VLOOKUP(spreedResult.!O258,Course!$A$2:$B$612,2,0),\"\")","v":""},null,{"$f":"CONCATENATE(TRIM(ASC(spreedResult.!E258)),\" \",TRIM(ASC(spreedResult.!F258)))","v":" "},{"$f":"CONCATENATE(TRIM(spreedResult.!G258),\"　\",TRIM(spreedResult.!H258))","v":"　"},{"$f":"IFERROR(VLOOKUP(spreedResult.!J258,spreedResult.!$AW$4:$AX$5,2,0),\"\")","v":""},{"$f":"IF(spreedResult.!K258<>\"\",TEXT(spreedResult.!K258,\"YYYY\")&TEXT(spreedResult.!K258,\"MM\")&TEXT(spreedResult.!K258,\"DD\"),\"\")","v":""},null,null,{"$f":"IF(spreedResult.!$E258<>\"\",spreedResult.!$C$10,\"\")","v":""},{"$f":"IF(spreedResult.!$E258<>\"\",spreedResult.!$C$9,\"\")","v":""},{"$f":"IF(spreedResult.!L258<>\"\",spreedResult.!L258,\"\")","v":""},{"$f":"IF(spreedResult.!G258<>\"\",IF(spreedResult.!$H$8=\"左記ご住所に送付\",\"2\",\"\"),\"\")","v":""},{"$nulls":8},"",null,"",null,{"$f":"IF(ISNUMBER(AE247),\"1\",\"\")","v":""},null,{"$f":"IF(ISNUMBER(AG247),\"1\",\"\")","v":""},null,{"$f":"IF(ISNUMBER(AI247),\"1\",\"\")","v":""},null,{"$f":"IF(ISNUMBER(AK247),\"1\",\"\")","v":""},null,{"$f":"IF(ISNUMBER(AM247),\"1\",\"\")","v":""},null,{"$f":"IF(ISNUMBER(AO247),\"1\",\"\")","v":""},null,{"$f":"IF(ISNUMBER(AQ247),\"1\",\"\")","v":""},null,{"$f":"IF(ISNUMBER(AS247),\"1\",\"\")","v":""}]
[null,{"$f":"IF(spreedResult.!B259<>\"\",TEXT(spreedResult.!B259,\"YYYY\")&TEXT(spreedResult.!B259,\"MM\")&TEXT(spreedResult.!B259,\"DD\"),\"\")","v":""},{"$f":"IF(spreedResult.!C259<>\"\",VLOOKUP(spreedResult.!C259,spreedResult.!$AT$2:$AU$12,2,0),\"\")","v":""},{"$nulls":4},{"$f":"IF(spreedResult.!O259<>\"\",VLOOKUP(spreedResult.!O259,Course!$A$2:$B$612,2,0),\"\")","v":""},null,{"$f":"CONCATENATE(TRIM(ASC(spreedResult.!E259)),\" \",TRIM(ASC(spreedResult.!F259)))","v":" "},{"$f":"CONCATENATE(TRIM(spreedResult.!G259),\"　\",TRIM(spreedResult.!H259))","v":"　"},{"$f":"IFERROR(VLOOKUP(spreedResult.!J259,spreedResult.!$AW$4:$AX$5,2,0),\"\")","v":""},{"$f":"IF(spreedResult.!K259<>\"\",TEXT(spreedResult.!K259,\"YYYY\")&TEXT(spreedResult.!K259,\"MM\")&TEXT(spreedResult.!K259,\"DD\"),\"\")","v":""},null,null,{"$f":"IF(spreedResult.!$E259<>\"\",spreedResult.!$C$10,\"\")","v":""},{"$f":"IF(spreedResult.!$E259<>\"\",spreedResult.!$C$9,\"\")","v":""},{"$f":"IF(spreedResult.!L259<>\"\",spreedResult.!L259,\"\")","v":""},{"$f":"IF(spreedResult.!G259<>\"\",IF(spreedResult.!$H$8=\"左記ご住所に送付\",\"2\",\"\"),\"\")","v":""},{"$nulls":8},"",null,"",null,{"$f":"IF(ISNUMBER(AE248),\"1\",\"\")","v":""},null,{"$f":"IF(ISNUMBER(AG248),\"1\",\"\")","v":""},null,{"$f":"IF(ISNUMBER(AI248),\"1\",\"\")","v":""},null,{"$f":"IF(ISNUMBER(AK248),\"1\",\"\")","v":""},null,{"$f":"IF(ISNUMBER(AM248),\"1\",\"\")","v":""},null,{"$f":"IF(ISNUMBER(AO248),\"1\",\"\")","v":""},null,{"$f":"IF(ISNUMBER(AQ248),\"1\",\"\")","v":""},null,{"$f":"IF(ISNUMBER(AS248),\"1\",\"\")","v":""}]
[null,{"$f":"IF(spreedResult.!B260<>\"\",TEXT(spreedResult.!B260,\"YYYY\")&TEXT(spreedResult.!B260,\"MM\")&TEXT(spreedResult.!B260,\"DD\"),\"\")","v":""},{"$f":"IF(spreedResult.!C260<>\"\",VLOOKUP(spreedResult.!C260,spreedResult.!$AT$2:$AU$12,2,0),\"\")","v":""},{"$nulls":4},{"$f":"IF(spreedResult.!O260<>\"\",VLOOKUP(spreedResult.!O260,Course!$A$2:$B$612,2,0),\"\")","v":""},null,{"$f":"CONCATENATE(TRIM(ASC(spreedResult.!E260)),\" \",TRIM(ASC(spreedResult.!F260)))","v":" "},{"$f":"CONCATENATE(TRIM(spreedResult.!G260),\"　\",TRIM(spreedResult.!H260))","v":"　"},{"$f":"IFERROR(VLOOKUP(spreedResult.!J260,spreedResult.!$AW$4:$AX$5,2,0),\"\")","v":""},{"$f":"IF(spreedResult.!K260<>\"\",TEXT(spreedResult.!K260,\"YYYY\")&TEXT(spreedResult.!K260,\"MM\")&TEXT(spreedResult.!K260,\"DD\"),\"\")","v":""},null,null,{"$f":"IF(spreedResult.!$E260<>\"\",spreedResult.!$C$10,\"\")","v":""},{"$f":"IF(spreedResult.!$E260<>\"\",spreedResult.!$C$9,\"\")","v":""},{"$f":"IF(spreedResult.!L260<>\"\",spreedResult.!L260,\"\")","v":""},{"$f":"IF(spreedResult.!G260<>\"\",IF(spreedResult.!$H$8=\"左記ご住所に送付\",\"2\",\"\"),\"\")","v":""},{"$nulls":8},"",null,"",null,{"$f":"IF(ISNUMBER(AE249),\"1\",\"\")","v":""},null,{"$f":"IF(ISNUMBER(AG249),\"1\",\"\")","v":""},null,{"$f":"IF(ISNUMBER(AI249),\"1\",\"\")","v":""},null,{"$f":"IF(ISNUMBER(AK249),\"1\",\"\")","v":""},null,{"$f":"IF(ISNUMBER(AM249),\"1\",\"\")","v":""},null,{"$f":"IF(ISNUMBER(AO249),\"1\",\"\")","v":""},null,{"$f":"IF(ISNUMBER(AQ249),\"1\",\"\")","v":""},null,{"$f":"IF(ISNUMBER(AS249),\"1\",\"\")","v":""}]
[null,{"$f":"IF(spreedResult.!B261<>\"\",TEXT(spreedResult.!B261,\"YYYY\")&TEXT(spreedResult.!B261,\"MM\")&TEXT(spreedResult.!B261,\"DD\"),\"\")","v":""},{"$f":"IF(spreedResult.!C261<>\"\",VLOOKUP(spreedResult.!C261,spreedResult.!$AT$2:$AU$12,2,0),\"\")","v":""},{"$nulls":4},{"$f":"IF(spreedResult.!O261<>\"\",VLOOKUP(spreedResult.!O261,Course!$A$2:$B$612,2,0),\"\")","v":""},null,{"$f":"CONCATENATE(TRIM(ASC(spreedResult.!E261)),\" \",TRIM(ASC(spreedResult.!F261)))","v":" "},{"$f":"CONCATENATE(TRIM(spreedResult.!G261),\"　\",TRIM(spreedResult.!H261))","v":"　"},{"$f":"IFERROR(VLOOKUP(spreedResult.!J261,spreedResult.!$AW$4:$AX$5,2,0),\"\")","v":""},{"$f":"IF(spreedResult.!K261<>\"\",TEXT(spreedResult.!K261,\"YYYY\")&TEXT(spreedResult.!K261,\"MM\")&TEXT(spreedResult.!K261,\"DD\"),\"\")","v":""},null,null,{"$f":"IF(spreedResult.!$E261<>\"\",spreedResult.!$C$10,\"\")","v":""},{"$f":"IF(spreedResult.!$E261<>\"\",spreedResult.!$C$9,\"\")","v":""},{"$f":"IF(spreedResult.!L261<>\"\",spreedResult.!L261,\"\")","v":""},{"$f":"IF(spreedResult.!G261<>\"\",IF(spreedResult.!$H$8=\"左記ご住所に送付\",\"2\",\"\"),\"\")","v":""},{"$nulls":8},"",null,"",null,{"$f":"IF(ISNUMBER(AE250),\"1\",\"\")","v":""},null,{"$f":"IF(ISNUMBER(AG250),\"1\",\"\")","v":""},null,{"$f":"IF(ISNUMBER(AI250),\"1\",\"\")","v":""},null,{"$f":"IF(ISNUMBER(AK250),\"1\",\"\")","v":""},null,{"$f":"IF(ISNUMBER(AM250),\"1\",\"\")","v":""},null,{"$f":"IF(ISNUMBER(AO250),\"1\",\"\")","v":""},null,{"$f":"IF(ISNUMBER(AQ250),\"1\",\"\")","v":""},null,{"$f":"IF(ISNUMBER(AS250),\"1\",\"\")","v":""}]
[null,{"$f":"IF(spreedResult.!B262<>\"\",TEXT(spreedResult.!B262,\"YYYY\")&TEXT(spreedResult.!B262,\"MM\")&TEXT(spreedResult.!B262,\"DD\"),\"\")","v":""},{"$f":"IF(spreedResult.!C262<>\"\",VLOOKUP(spreedResult.!C262,spreedResult.!$AT$2:$AU$12,2,0),\"\")","v":""},{"$nulls":4},{"$f":"IF(spreedResult.!O262<>\"\",VLOOKUP(spreedResult.!O262,Course!$A$2:$B$612,2,0),\"\")","v":""},null,{"$f":"CONCATENATE(TRIM(ASC(spreedResult.!E262)),\" \",TRIM(ASC(spreedResult.!F262)))","v":" "},{"$f":"CONCATENATE(TRIM(spreedResult.!G262),\"　\",TRIM(spreedResult.!H262))","v":"　"},{"$f":"IFERROR(VLOOKUP(spreedResult.!J262,spreedResult.!$AW$4:$AX$5,2,0),\"\")","v":""},{"$f":"IF(spreedResult.!K262<>\"\",TEXT(spreedResult.!K262,\"YYYY\")&TEXT(spreedResult.!K262,\"MM\")&TEXT(spreedResult.!K262,\"DD\"),\"\")","v":""},null,null,{"$f":"IF(spreedResult.!$E262<>\"\",spreedResult.!$C$10,\"\")","v":""},{"$f":"IF(spreedResult.!$E262<>\"\",spreedResult.!$C$9,\"\")","v":""},{"$f":"IF(spreedResult.!L262<>\"\",spreedResult.!L262,\"\")","v":""},{"$f":"IF(spreedResult.!G262<>\"\",IF(spreedResult.!$H$8=\"左記ご住所に送付\",\"2\",\"\"),\"\")","v":""},{"$nulls":8},"",null,"",null,{"$f":"IF(ISNUMBER(AE251),\"1\",\"\")","v":""},null,{"$f":"IF(ISNUMBER(AG251),\"1\",\"\")","v":""},null,{"$f":"IF(ISNUMBER(AI251),\"1\",\"\")","v":""},null,{"$f":"IF(ISNUMBER(AK251),\"1\",\"\")","v":""},null,{"$f":"IF(ISNUMBER(AM251),\"1\",\"\")","v":""},null,{"$f":"IF(ISNUMBER(AO251),\"1\",\"\")","v":""},null,{"$f":"IF(ISNUMBER(AQ251),\"1\",\"\")","v":""},null,{"$f":"IF(ISNUMBER(AS251),\"1\",\"\")","v":""}]
[null,{"$f":"IF(spreedResult.!B263<>\"\",TEXT(spreedResult.!B263,\"YYYY\")&TEXT(spreedResult.!B263,\"MM\")&TEXT(spreedResult.!B263,\"DD\"),\"\")","v":""},{"$f":"IF(spreedResult.!C263<>\"\",VLOOKUP(spreedResult.!C263,spreedResult.!$AT$2:$AU$12,2,0),\"\")","v":""},{"$nulls":4},{"$f":"IF(spreedResult.!O263<>\"\",VLOOKUP(spreedResult.!O263,Course!$A$2:$B$612,2,0),\"\")","v":""},null,{"$f":"CONCATENATE(TRIM(ASC(spreedResult.!E263)),\" \",TRIM(ASC(spreedResult.!F263)))","v":" "},{"$f":"CONCATENATE(TRIM(spreedResult.!G263),\"　\",TRIM(spreedResult.!H263))","v":"　"},{"$f":"IFERROR(VLOOKUP(spreedResult.!J263,spreedResult.!$AW$4:$AX$5,2,0),\"\")","v":""},{"$f":"IF(spreedResult.!K263<>\"\",TEXT(spreedResult.!K263,\"YYYY\")&TEXT(spreedResult.!K263,\"MM\")&TEXT(spreedResult.!K263,\"DD\"),\"\")","v":""},null,null,{"$f":"IF(spreedResult.!$E263<>\"\",spreedResult.!$C$10,\"\")","v":""},{"$f":"IF(spreedResult.!$E263<>\"\",spreedResult.!$C$9,\"\")","v":""},{"$f":"IF(spreedResult.!L263<>\"\",spreedResult.!L263,\"\")","v":""},{"$f":"IF(spreedResult.!G263<>\"\",IF(spreedResult.!$H$8=\"左記ご住所に送付\",\"2\",\"\"),\"\")","v":""},{"$nulls":8},"",null,"",null,{"$f":"IF(ISNUMBER(AE252),\"1\",\"\")","v":""},null,{"$f":"IF(ISNUMBER(AG252),\"1\",\"\")","v":""},null,{"$f":"IF(ISNUMBER(AI252),\"1\",\"\")","v":""},null,{"$f":"IF(ISNUMBER(AK252),\"1\",\"\")","v":""},null,{"$f":"IF(ISNUMBER(AM252),\"1\",\"\")","v":""},null,{"$f":"IF(ISNUMBER(AO252),\"1\",\"\")","v":""},null,{"$f":"IF(ISNUMBER(AQ252),\"1\",\"\")","v":""},null,{"$f":"IF(ISNUMBER(AS252),\"1\",\"\")","v":""}]
[null,{"$f":"IF(spreedResult.!B264<>\"\",TEXT(spreedResult.!B264,\"YYYY\")&TEXT(spreedResult.!B264,\"MM\")&TEXT(spreedResult.!B264,\"DD\"),\"\")","v":""},{"$f":"IF(spreedResult.!C264<>\"\",VLOOKUP(spreedResult.!C264,spreedResult.!$AT$2:$AU$12,2,0),\"\")","v":""},{"$nulls":4},{"$f":"IF(spreedResult.!O264<>\"\",VLOOKUP(spreedResult.!O264,Course!$A$2:$B$612,2,0),\"\")","v":""},null,{"$f":"CONCATENATE(TRIM(ASC(spreedResult.!E264)),\" \",TRIM(ASC(spreedResult.!F264)))","v":" "},{"$f":"CONCATENATE(TRIM(spreedResult.!G264),\"　\",TRIM(spreedResult.!H264))","v":"　"},{"$f":"IFERROR(VLOOKUP(spreedResult.!J264,spreedResult.!$AW$4:$AX$5,2,0),\"\")","v":""},{"$f":"IF(spreedResult.!K264<>\"\",TEXT(spreedResult.!K264,\"YYYY\")&TEXT(spreedResult.!K264,\"MM\")&TEXT(spreedResult.!K264,\"DD\"),\"\")","v":""},null,null,{"$f":"IF(spreedResult.!$E264<>\"\",spreedResult.!$C$10,\"\")","v":""},{"$f":"IF(spreedResult.!$E264<>\"\",spreedResult.!$C$9,\"\")","v":""},{"$f":"IF(spreedResult.!L264<>\"\",spreedResult.!L264,\"\")","v":""},{"$f":"IF(spreedResult.!G264<>\"\",IF(spreedResult.!$H$8=\"左記ご住所に送付\",\"2\",\"\"),\"\")","v":""},{"$nulls":8},"",null,"",null,{"$f":"IF(ISNUMBER(AE253),\"1\",\"\")","v":""},null,{"$f":"IF(ISNUMBER(AG253),\"1\",\"\")","v":""},null,{"$f":"IF(ISNUMBER(AI253),\"1\",\"\")","v":""},null,{"$f":"IF(ISNUMBER(AK253),\"1\",\"\")","v":""},null,{"$f":"IF(ISNUMBER(AM253),\"1\",\"\")","v":""},null,{"$f":"IF(ISNUMBER(AO253),\"1\",\"\")","v":""},null,{"$f":"IF(ISNUMBER(AQ253),\"1\",\"\")","v":""},null,{"$f":"IF(ISNUMBER(AS253),\"1\",\"\")","v":""}]
[null,{"$f":"IF(spreedResult.!B265<>\"\",TEXT(spreedResult.!B265,\"YYYY\")&TEXT(spreedResult.!B265,\"MM\")&TEXT(spreedResult.!B265,\"DD\"),\"\")","v":""},{"$f":"IF(spreedResult.!C265<>\"\",VLOOKUP(spreedResult.!C265,spreedResult.!$AT$2:$AU$12,2,0),\"\")","v":""},{"$nulls":4},{"$f":"IF(spreedResult.!O265<>\"\",VLOOKUP(spreedResult.!O265,Course!$A$2:$B$612,2,0),\"\")","v":""},null,{"$f":"CONCATENATE(TRIM(ASC(spreedResult.!E265)),\" \",TRIM(ASC(spreedResult.!F265)))","v":" "},{"$f":"CONCATENATE(TRIM(spreedResult.!G265),\"　\",TRIM(spreedResult.!H265))","v":"　"},{"$f":"IFERROR(VLOOKUP(spreedResult.!J265,spreedResult.!$AW$4:$AX$5,2,0),\"\")","v":""},{"$f":"IF(spreedResult.!K265<>\"\",TEXT(spreedResult.!K265,\"YYYY\")&TEXT(spreedResult.!K265,\"MM\")&TEXT(spreedResult.!K265,\"DD\"),\"\")","v":""},null,null,{"$f":"IF(spreedResult.!$E265<>\"\",spreedResult.!$C$10,\"\")","v":""},{"$f":"IF(spreedResult.!$E265<>\"\",spreedResult.!$C$9,\"\")","v":""},{"$f":"IF(spreedResult.!L265<>\"\",spreedResult.!L265,\"\")","v":""},{"$f":"IF(spreedResult.!G265<>\"\",IF(spreedResult.!$H$8=\"左記ご住所に送付\",\"2\",\"\"),\"\")","v":""},{"$nulls":8},"",null,"",null,{"$f":"IF(ISNUMBER(AE254),\"1\",\"\")","v":""},null,{"$f":"IF(ISNUMBER(AG254),\"1\",\"\")","v":""},null,{"$f":"IF(ISNUMBER(AI254),\"1\",\"\")","v":""},null,{"$f":"IF(ISNUMBER(AK254),\"1\",\"\")","v":""},null,{"$f":"IF(ISNUMBER(AM254),\"1\",\"\")","v":""},null,{"$f":"IF(ISNUMBER(AO254),\"1\",\"\")","v":""},null,{"$f":"IF(ISNUMBER(AQ254),\"1\",\"\")","v":""},null,{"$f":"IF(ISNUMBER(AS254),\"1\",\"\")","v":""}]
[null,{"$f":"IF(spreedResult.!B266<>\"\",TEXT(spreedResult.!B266,\"YYYY\")&TEXT(spreedResult.!B266,\"MM\")&TEXT(spreedResult.!B266,\"DD\"),\"\")","v":""},{"$f":"IF(spreedResult.!C266<>\"\",VLOOKUP(spreedResult.!C266,spreedResult.!$AT$2:$AU$12,2,0),\"\")","v":""},{"$nulls":4},{"$f":"IF(spreedResult.!O266<>\"\",VLOOKUP(spreedResult.!O266,Course!$A$2:$B$612,2,0),\"\")","v":""},null,{"$f":"CONCATENATE(TRIM(ASC(spreedResult.!E266)),\" \",TRIM(ASC(spreedResult.!F266)))","v":" "},{"$f":"CONCATENATE(TRIM(spreedResult.!G266),\"　\",TRIM(spreedResult.!H266))","v":"　"},{"$f":"IFERROR(VLOOKUP(spreedResult.!J266,spreedResult.!$AW$4:$AX$5,2,0),\"\")","v":""},{"$f":"IF(spreedResult.!K266<>\"\",TEXT(spreedResult.!K266,\"YYYY\")&TEXT(spreedResult.!K266,\"MM\")&TEXT(spreedResult.!K266,\"DD\"),\"\")","v":""},null,null,{"$f":"IF(spreedResult.!$E266<>\"\",spreedResult.!$C$10,\"\")","v":""},{"$f":"IF(spreedResult.!$E266<>\"\",spreedResult.!$C$9,\"\")","v":""},{"$f":"IF(spreedResult.!L266<>\"\",spreedResult.!L266,\"\")","v":""},{"$f":"IF(spreedResult.!G266<>\"\",IF(spreedResult.!$H$8=\"左記ご住所に送付\",\"2\",\"\"),\"\")","v":""},{"$nulls":8},"",null,"",null,{"$f":"IF(ISNUMBER(AE255),\"1\",\"\")","v":""},null,{"$f":"IF(ISNUMBER(AG255),\"1\",\"\")","v":""},null,{"$f":"IF(ISNUMBER(AI255),\"1\",\"\")","v":""},null,{"$f":"IF(ISNUMBER(AK255),\"1\",\"\")","v":""},null,{"$f":"IF(ISNUMBER(AM255),\"1\",\"\")","v":""},null,{"$f":"IF(ISNUMBER(AO255),\"1\",\"\")","v":""},null,{"$f":"IF(ISNUMBER(AQ255),\"1\",\"\")","v":""},null,{"$f":"IF(ISNUMBER(AS255),\"1\",\"\")","v":""}]
[null,{"$f":"IF(spreedResult.!B267<>\"\",TEXT(spreedResult.!B267,\"YYYY\")&TEXT(spreedResult.!B267,\"MM\")&TEXT(spreedResult.!B267,\"DD\"),\"\")","v":""},{"$f":"IF(spreedResult.!C267<>\"\",VLOOKUP(spreedResult.!C267,spreedResult.!$AT$2:$AU$12,2,0),\"\")","v":""},{"$nulls":4},{"$f":"IF(spreedResult.!O267<>\"\",VLOOKUP(spreedResult.!O267,Course!$A$2:$B$612,2,0),\"\")","v":""},null,{"$f":"CONCATENATE(TRIM(ASC(spreedResult.!E267)),\" \",TRIM(ASC(spreedResult.!F267)))","v":" "},{"$f":"CONCATENATE(TRIM(spreedResult.!G267),\"　\",TRIM(spreedResult.!H267))","v":"　"},{"$f":"IFERROR(VLOOKUP(spreedResult.!J267,spreedResult.!$AW$4:$AX$5,2,0),\"\")","v":""},{"$f":"IF(spreedResult.!K267<>\"\",TEXT(spreedResult.!K267,\"YYYY\")&TEXT(spreedResult.!K267,\"MM\")&TEXT(spreedResult.!K267,\"DD\"),\"\")","v":""},null,null,{"$f":"IF(spreedResult.!$E267<>\"\",spreedResult.!$C$10,\"\")","v":""},{"$f":"IF(spreedResult.!$E267<>\"\",spreedResult.!$C$9,\"\")","v":""},{"$f":"IF(spreedResult.!L267<>\"\",spreedResult.!L267,\"\")","v":""},{"$f":"IF(spreedResult.!G267<>\"\",IF(spreedResult.!$H$8=\"左記ご住所に送付\",\"2\",\"\"),\"\")","v":""},{"$nulls":8},"",null,"",null,{"$f":"IF(ISNUMBER(AE256),\"1\",\"\")","v":""},null,{"$f":"IF(ISNUMBER(AG256),\"1\",\"\")","v":""},null,{"$f":"IF(ISNUMBER(AI256),\"1\",\"\")","v":""},null,{"$f":"IF(ISNUMBER(AK256),\"1\",\"\")","v":""},null,{"$f":"IF(ISNUMBER(AM256),\"1\",\"\")","v":""},null,{"$f":"IF(ISNUMBER(AO256),\"1\",\"\")","v":""},null,{"$f":"IF(ISNUMBER(AQ256),\"1\",\"\")","v":""},null,{"$f":"IF(ISNUMBER(AS256),\"1\",\"\")","v":""}]
[null,{"$f":"IF(spreedResult.!B268<>\"\",TEXT(spreedResult.!B268,\"YYYY\")&TEXT(spreedResult.!B268,\"MM\")&TEXT(spreedResult.!B268,\"DD\"),\"\")","v":""},{"$f":"IF(spreedResult.!C268<>\"\",VLOOKUP(spreedResult.!C268,spreedResult.!$AT$2:$AU$12,2,0),\"\")","v":""},{"$nulls":4},{"$f":"IF(spreedResult.!O268<>\"\",VLOOKUP(spreedResult.!O268,Course!$A$2:$B$612,2,0),\"\")","v":""},null,{"$f":"CONCATENATE(TRIM(ASC(spreedResult.!E268)),\" \",TRIM(ASC(spreedResult.!F268)))","v":" "},{"$f":"CONCATENATE(TRIM(spreedResult.!G268),\"　\",TRIM(spreedResult.!H268))","v":"　"},{"$f":"IFERROR(VLOOKUP(spreedResult.!J268,spreedResult.!$AW$4:$AX$5,2,0),\"\")","v":""},{"$f":"IF(spreedResult.!K268<>\"\",TEXT(spreedResult.!K268,\"YYYY\")&TEXT(spreedResult.!K268,\"MM\")&TEXT(spreedResult.!K268,\"DD\"),\"\")","v":""},null,null,{"$f":"IF(spreedResult.!$E268<>\"\",spreedResult.!$C$10,\"\")","v":""},{"$f":"IF(spreedResult.!$E268<>\"\",spreedResult.!$C$9,\"\")","v":""},{"$f":"IF(spreedResult.!L268<>\"\",spreedResult.!L268,\"\")","v":""},{"$f":"IF(spreedResult.!G268<>\"\",IF(spreedResult.!$H$8=\"左記ご住所に送付\",\"2\",\"\"),\"\")","v":""},{"$nulls":8},"",null,"",null,{"$f":"IF(ISNUMBER(AE257),\"1\",\"\")","v":""},null,{"$f":"IF(ISNUMBER(AG257),\"1\",\"\")","v":""},null,{"$f":"IF(ISNUMBER(AI257),\"1\",\"\")","v":""},null,{"$f":"IF(ISNUMBER(AK257),\"1\",\"\")","v":""},null,{"$f":"IF(ISNUMBER(AM257),\"1\",\"\")","v":""},null,{"$f":"IF(ISNUMBER(AO257),\"1\",\"\")","v":""},null,{"$f":"IF(ISNUMBER(AQ257),\"1\",\"\")","v":""},null,{"$f":"IF(ISNUMBER(AS257),\"1\",\"\")","v":""}]
[null,{"$f":"IF(spreedResult.!B269<>\"\",TEXT(spreedResult.!B269,\"YYYY\")&TEXT(spreedResult.!B269,\"MM\")&TEXT(spreedResult.!B269,\"DD\"),\"\")","v":""},{"$f":"IF(spreedResult.!C269<>\"\",VLOOKUP(spreedResult.!C269,spreedResult.!$AT$2:$AU$12,2,0),\"\")","v":""},{"$nulls":4},{"$f":"IF(spreedResult.!O269<>\"\",VLOOKUP(spreedResult.!O269,Course!$A$2:$B$612,2,0),\"\")","v":""},null,{"$f":"CONCATENATE(TRIM(ASC(spreedResult.!E269)),\" \",TRIM(ASC(spreedResult.!F269)))","v":" "},{"$f":"CONCATENATE(TRIM(spreedResult.!G269),\"　\",TRIM(spreedResult.!H269))","v":"　"},{"$f":"IFERROR(VLOOKUP(spreedResult.!J269,spreedResult.!$AW$4:$AX$5,2,0),\"\")","v":""},{"$f":"IF(spreedResult.!K269<>\"\",TEXT(spreedResult.!K269,\"YYYY\")&TEXT(spreedResult.!K269,\"MM\")&TEXT(spreedResult.!K269,\"DD\"),\"\")","v":""},null,null,{"$f":"IF(spreedResult.!$E269<>\"\",spreedResult.!$C$10,\"\")","v":""},{"$f":"IF(spreedResult.!$E269<>\"\",spreedResult.!$C$9,\"\")","v":""},{"$f":"IF(spreedResult.!L269<>\"\",spreedResult.!L269,\"\")","v":""},{"$f":"IF(spreedResult.!G269<>\"\",IF(spreedResult.!$H$8=\"左記ご住所に送付\",\"2\",\"\"),\"\")","v":""},{"$nulls":8},"",null,"",null,{"$f":"IF(ISNUMBER(AE258),\"1\",\"\")","v":""},null,{"$f":"IF(ISNUMBER(AG258),\"1\",\"\")","v":""},null,{"$f":"IF(ISNUMBER(AI258),\"1\",\"\")","v":""},null,{"$f":"IF(ISNUMBER(AK258),\"1\",\"\")","v":""},null,{"$f":"IF(ISNUMBER(AM258),\"1\",\"\")","v":""},null,{"$f":"IF(ISNUMBER(AO258),\"1\",\"\")","v":""},null,{"$f":"IF(ISNUMBER(AQ258),\"1\",\"\")","v":""},null,{"$f":"IF(ISNUMBER(AS258),\"1\",\"\")","v":""}]
[null,{"$f":"IF(spreedResult.!B270<>\"\",TEXT(spreedResult.!B270,\"YYYY\")&TEXT(spreedResult.!B270,\"MM\")&TEXT(spreedResult.!B270,\"DD\"),\"\")","v":""},{"$f":"IF(spreedResult.!C270<>\"\",VLOOKUP(spreedResult.!C270,spreedResult.!$AT$2:$AU$12,2,0),\"\")","v":""},{"$nulls":4},{"$f":"IF(spreedResult.!O270<>\"\",VLOOKUP(spreedResult.!O270,Course!$A$2:$B$612,2,0),\"\")","v":""},null,{"$f":"CONCATENATE(TRIM(ASC(spreedResult.!E270)),\" \",TRIM(ASC(spreedResult.!F270)))","v":" "},{"$f":"CONCATENATE(TRIM(spreedResult.!G270),\"　\",TRIM(spreedResult.!H270))","v":"　"},{"$f":"IFERROR(VLOOKUP(spreedResult.!J270,spreedResult.!$AW$4:$AX$5,2,0),\"\")","v":""},{"$f":"IF(spreedResult.!K270<>\"\",TEXT(spreedResult.!K270,\"YYYY\")&TEXT(spreedResult.!K270,\"MM\")&TEXT(spreedResult.!K270,\"DD\"),\"\")","v":""},null,null,{"$f":"IF(spreedResult.!$E270<>\"\",spreedResult.!$C$10,\"\")","v":""},{"$f":"IF(spreedResult.!$E270<>\"\",spreedResult.!$C$9,\"\")","v":""},{"$f":"IF(spreedResult.!L270<>\"\",spreedResult.!L270,\"\")","v":""},{"$f":"IF(spreedResult.!G270<>\"\",IF(spreedResult.!$H$8=\"左記ご住所に送付\",\"2\",\"\"),\"\")","v":""},{"$nulls":8},"",null,"",null,{"$f":"IF(ISNUMBER(AE259),\"1\",\"\")","v":""},null,{"$f":"IF(ISNUMBER(AG259),\"1\",\"\")","v":""},null,{"$f":"IF(ISNUMBER(AI259),\"1\",\"\")","v":""},null,{"$f":"IF(ISNUMBER(AK259),\"1\",\"\")","v":""},null,{"$f":"IF(ISNUMBER(AM259),\"1\",\"\")","v":""},null,{"$f":"IF(ISNUMBER(AO259),\"1\",\"\")","v":""},null,{"$f":"IF(ISNUMBER(AQ259),\"1\",\"\")","v":""},null,{"$f":"IF(ISNUMBER(AS259),\"1\",\"\")","v":""}]
[null,{"$f":"IF(spreedResult.!B271<>\"\",TEXT(spreedResult.!B271,\"YYYY\")&TEXT(spreedResult.!B271,\"MM\")&TEXT(spreedResult.!B271,\"DD\"),\"\")","v":""},{"$f":"IF(spreedResult.!C271<>\"\",VLOOKUP(spreedResult.!C271,spreedResult.!$AT$2:$AU$12,2,0),\"\")","v":""},{"$nulls":4},{"$f":"IF(spreedResult.!O271<>\"\",VLOOKUP(spreedResult.!O271,Course!$A$2:$B$612,2,0),\"\")","v":""},null,{"$f":"CONCATENATE(TRIM(ASC(spreedResult.!E271)),\" \",TRIM(ASC(spreedResult.!F271)))","v":" "},{"$f":"CONCATENATE(TRIM(spreedResult.!G271),\"　\",TRIM(spreedResult.!H271))","v":"　"},{"$f":"IFERROR(VLOOKUP(spreedResult.!J271,spreedResult.!$AW$4:$AX$5,2,0),\"\")","v":""},{"$f":"IF(spreedResult.!K271<>\"\",TEXT(spreedResult.!K271,\"YYYY\")&TEXT(spreedResult.!K271,\"MM\")&TEXT(spreedResult.!K271,\"DD\"),\"\")","v":""},null,null,{"$f":"IF(spreedResult.!$E271<>\"\",spreedResult.!$C$10,\"\")","v":""},{"$f":"IF(spreedResult.!$E271<>\"\",spreedResult.!$C$9,\"\")","v":""},{"$f":"IF(spreedResult.!L271<>\"\",spreedResult.!L271,\"\")","v":""},{"$f":"IF(spreedResult.!G271<>\"\",IF(spreedResult.!$H$8=\"左記ご住所に送付\",\"2\",\"\"),\"\")","v":""},{"$nulls":8},{"$f":"IF(ISNUMBER(AA260),\"1\",\"\")","v":""},null,"",null,{"$f":"IF(ISNUMBER(AE260),\"1\",\"\")","v":""},null,{"$f":"IF(ISNUMBER(AG260),\"1\",\"\")","v":""},null,{"$f":"IF(ISNUMBER(AI260),\"1\",\"\")","v":""},null,{"$f":"IF(ISNUMBER(AK260),\"1\",\"\")","v":""},null,{"$f":"IF(ISNUMBER(AM260),\"1\",\"\")","v":""},null,{"$f":"IF(ISNUMBER(AO260),\"1\",\"\")","v":""},null,{"$f":"IF(ISNUMBER(AQ260),\"1\",\"\")","v":""},null,{"$f":"IF(ISNUMBER(AS260),\"1\",\"\")","v":""}]
[null,{"$f":"IF(spreedResult.!B272<>\"\",TEXT(spreedResult.!B272,\"YYYY\")&TEXT(spreedResult.!B272,\"MM\")&TEXT(spreedResult.!B272,\"DD\"),\"\")","v":""},{"$f":"IF(spreedResult.!C272<>\"\",VLOOKUP(spreedResult.!C272,spreedResult.!$AT$2:$AU$12,2,0),\"\")","v":""},{"$nulls":4},{"$f":"IF(spreedResult.!O272<>\"\",VLOOKUP(spreedResult.!O272,Course!$A$2:$B$612,2,0),\"\")","v":""},null,{"$f":"CONCATENATE(TRIM(ASC(spreedResult.!E272)),\" \",TRIM(ASC(spreedResult.!F272)))","v":" "},{"$f":"CONCATENATE(TRIM(spreedResult.!G272),\"　\",TRIM(spreedResult.!H272))","v":"　"},{"$f":"IFERROR(VLOOKUP(spreedResult.!J272,spreedResult.!$AW$4:$AX$5,2,0),\"\")","v":""},{"$f":"IF(spreedResult.!K272<>\"\",TEXT(spreedResult.!K272,\"YYYY\")&TEXT(spreedResult.!K272,\"MM\")&TEXT(spreedResult.!K272,\"DD\"),\"\")","v":""},null,null,{"$f":"IF(spreedResult.!$E272<>\"\",spreedResult.!$C$10,\"\")","v":""},{"$f":"IF(spreedResult.!$E272<>\"\",spreedResult.!$C$9,\"\")","v":""},{"$f":"IF(spreedResult.!L272<>\"\",spreedResult.!L272,\"\")","v":""},{"$f":"IF(spreedResult.!G272<>\"\",IF(spreedResult.!$H$8=\"左記ご住所に送付\",\"2\",\"\"),\"\")","v":""},{"$nulls":8},"",null,"",null,{"$f":"IF(ISNUMBER(AE261),\"1\",\"\")","v":""},null,{"$f":"IF(ISNUMBER(AG261),\"1\",\"\")","v":""},null,{"$f":"IF(ISNUMBER(AI261),\"1\",\"\")","v":""},null,{"$f":"IF(ISNUMBER(AK261),\"1\",\"\")","v":""},null,{"$f":"IF(ISNUMBER(AM261),\"1\",\"\")","v":""},null,{"$f":"IF(ISNUMBER(AO261),\"1\",\"\")","v":""},null,{"$f":"IF(ISNUMBER(AQ261),\"1\",\"\")","v":""},null,{"$f":"IF(ISNUMBER(AS261),\"1\",\"\")","v":""}]
[null,{"$f":"IF(spreedResult.!B273<>\"\",TEXT(spreedResult.!B273,\"YYYY\")&TEXT(spreedResult.!B273,\"MM\")&TEXT(spreedResult.!B273,\"DD\"),\"\")","v":""},{"$f":"IF(spreedResult.!C273<>\"\",VLOOKUP(spreedResult.!C273,spreedResult.!$AT$2:$AU$12,2,0),\"\")","v":""},{"$nulls":4},{"$f":"IF(spreedResult.!O273<>\"\",VLOOKUP(spreedResult.!O273,Course!$A$2:$B$612,2,0),\"\")","v":""},null,{"$f":"CONCATENATE(TRIM(ASC(spreedResult.!E273)),\" \",TRIM(ASC(spreedResult.!F273)))","v":" "},{"$f":"CONCATENATE(TRIM(spreedResult.!G273),\"　\",TRIM(spreedResult.!H273))","v":"　"},{"$f":"IFERROR(VLOOKUP(spreedResult.!J273,spreedResult.!$AW$4:$AX$5,2,0),\"\")","v":""},{"$f":"IF(spreedResult.!K273<>\"\",TEXT(spreedResult.!K273,\"YYYY\")&TEXT(spreedResult.!K273,\"MM\")&TEXT(spreedResult.!K273,\"DD\"),\"\")","v":""},null,null,{"$f":"IF(spreedResult.!$E273<>\"\",spreedResult.!$C$10,\"\")","v":""},{"$f":"IF(spreedResult.!$E273<>\"\",spreedResult.!$C$9,\"\")","v":""},{"$f":"IF(spreedResult.!L273<>\"\",spreedResult.!L273,\"\")","v":""},{"$f":"IF(spreedResult.!G273<>\"\",IF(spreedResult.!$H$8=\"左記ご住所に送付\",\"2\",\"\"),\"\")","v":""},{"$nulls":8},"",null,"",null,{"$f":"IF(ISNUMBER(AE262),\"1\",\"\")","v":""},null,{"$f":"IF(ISNUMBER(AG262),\"1\",\"\")","v":""},null,{"$f":"IF(ISNUMBER(AI262),\"1\",\"\")","v":""},null,{"$f":"IF(ISNUMBER(AK262),\"1\",\"\")","v":""},null,{"$f":"IF(ISNUMBER(AM262),\"1\",\"\")","v":""},null,{"$f":"IF(ISNUMBER(AO262),\"1\",\"\")","v":""},null,{"$f":"IF(ISNUMBER(AQ262),\"1\",\"\")","v":""},null,{"$f":"IF(ISNUMBER(AS262),\"1\",\"\")","v":""}]

{"sheet":"Course","index":2,"n_rows":612,"n_cols":2,"rows_kept":612,"hidden":true}
["コース","コースID"]
["*ｺｰﾌﾟﾈｯﾄ深夜業健診（34才以下）",9589]
["*ｺｰﾌﾟﾈｯﾄ深夜業健診（35才以上）",9586]
["13AIA生活習慣病(胃直接)",10208]
["13ｶﾈｶ健保(35才.40才以上)",10206]
["13ｶﾈｶ健保(36才～39才)",10207]
["13大阪菓子(生活習慣病)",10203]
["13大阪菓子(婦人健診)ﾏﾝﾓ",10250]
["13大阪菓子(婦人健診)乳腺ｴｺｰ",10205]
["13大阪産業機械(生活習慣病)",10204]
["13大阪産業機械(生活習慣病)胃ｶﾒﾗ",10218]
["13大阪産業機械(生活習慣病)胃なし",10219]
["13大阪鉄商生活習慣病",10201]
["13大阪鉄商生活習慣病(胃ｶﾒﾗ)",10211]
["13大阪鉄商生活習慣病(年令対象外)",10202]
["13大阪鉄商生活習慣病健診（胃なし）",9696]
["13浜松ﾎﾄﾆｸｽ(35才以上)",10255]
["14東芝ITｻｰﾋﾞｽ34歳以下",10261]
["14東芝ITｻｰﾋﾞｽ35歳",10259]
["14東芝ITｻｰﾋﾞｽ36～39歳",10262]
["14東芝ITｻｰﾋﾞｽ40歳以上",10260]
["14東都協議会(その他)",10293]
["14東都協議会(医業健保)",10294]
["14入社（協議会）",10292]
["14北海道CPU関連産業健保ﾄﾞｯｸA",10297]
["14北海道CPU関連産業健保ﾄﾞｯｸA胃なし",10299]
["14北海道CPU関連産業健保ﾄﾞｯｸB",10298]
["AIA一般健診",9918]
["AIA人間ドック",9917]
["AIA人間ドック(胃ｶﾒﾗ)",9951]
["AIA人間ドック(胃なし)",9927]
["AIA生活習慣病(胃ｶﾒﾗ)",10095]
["AIA生活習慣病(胃なし)",10022]
["AIA生活習慣病(胃直接)",10085]
["B型肝炎訴訟",10073]
["GWA人間ﾄﾞｯｸ",10277]
["GWA人間ﾄﾞｯｸ(胃ｶﾒﾗ)",10279]
["GWA人間ﾄﾞｯｸ(胃なし)",10278]
["IBM家族健診A",10317]
["IBM家族健診B",10318]
["IBM家族健診B+血液",10319]
["JNES一般定期(35才のみ)",10107]
["JNES一般定期(35才未満)",10109]
["JNES一般定期(36才～39才)",10108]
["JNES一般定期(40才以上)",10106]
["JNES一般定期健診(35才のみ)",9822]
["JNES一般定期健診(35才未満)",9825]
["JNES一般定期健診(36才～39才)",9824]
["JNES一般定期健診(40才以上)",9823]
["JNES生活習慣病(35才のみ)",10103]
["JNES生活習慣病(36才～39才)",10105]
["JNES生活習慣病(40才以上)",10104]
["JNES生活習慣病健診(35才のみ）",9819]
["JNES生活習慣病健診(36才～39才）",9821]
["JNES生活習慣病健診(40才以上）",9820]
["JNES特定業務健診",10139]
["JNES特定業務健診(35才・40才以上）",10140]
["JTBﾍﾞﾈﾌｨｯﾄ生活習慣病A",10170]
["JTBﾍﾞﾈﾌｨｯﾄ生活習慣病B",10171]
["JTBﾍﾞﾈﾌｨｯﾄ生活習慣病C",10178]
["KCCSｷｬﾘｱﾃｯｸ(生活習慣病)",9980]
["KCCSｷｬﾘｱﾃｯｸ(生活習慣病)胃なし",9987]
["KYOSO(34才以下)",10031]
["KYOSO(35才以上)",10032]
["KYOSO(35才以上)胃なし",10044]
["ＴＨＰ健診",9454]
["TJK(A健診）35才.40才以上",10225]
["TJK(A健診）35才未満.36才～39才",10226]
["ＶＤＴ精密健診",238]
["ｱｽｸﾄﾗﾝｽﾎﾟｰﾄ出張Ｂｺｰｽ",490]
["ｱｽｸﾄﾗﾝｽﾎﾟｰﾄ出張Ｄｺｰｽ",489]
["ｲｰｽﾀﾝﾓｰﾀｰｽ（春）来院",9323]
["ｲｰｽﾀﾝﾓｰﾀｰｽ秋",10243]
["ｲｰｽﾀﾝﾓｰﾀｰｽ春",10258]
["ｲﾝﾌﾙｴﾝｻﾞ接種",10126]
["おあしす基本",9486]
["オースビー定期",9522]
["カーディフ生命健診",9400]
["ｶﾈｶ(34才以下)",10077]
["ｶﾈｶ健保(35才.40才以上)",10075]
["ｶﾈｶ健保(36才～39才)",10076]
["ｶﾝﾀﾞｺｰﾎﾟ東金出張Ｂｺｰｽ",507]
["ｶﾝﾀﾞｺｰﾎﾟ東金出張Ｄｺｰｽ",506]
["コープネット一般健診",9554]
["ｺｰﾌﾟﾈｯﾄ深夜業(34才以下)",10009]
["ｺｰﾌﾟﾈｯﾄ深夜業(35才以上)",10008]
["コープネット深夜業健診",9557]
["コープネット入社",9944]
["シーエスイーソフト（ドック）",9089]
["ｼｰｴｽｲｰｿﾌﾄ(ﾄﾞｯｸ)36才～39才",10099]
["ｼｰｴｽｲｰｿﾌﾄ(ﾄﾞｯｸ)胃なし",10049]
["シーエスイーソフト（定期）",9088]
["ｼﾆｱ海外ﾎﾞﾗﾝﾃｨｱ(2012)",10160]
["シニア海外ボランティア健診（女）",9330]
["シニア海外ボランティア健診（男）",9329]
["じん肺（国保未加入）",432]
["じん肺・石綿健診",9313]
["じん肺健診(出張)",9910]
["じん肺健診(来院)",205]
["じん肺健診読影",498]
["じん肺健診読影（結果付き）",499]
["じん肺読影",496]
["センコー（生活習慣病）",9102]
["センコー（生活習慣病）　胃なし",9168]
["センコー（生活習慣病）胃カメラ",9449]
["センコー（定期）",9103]
["ソルコム（ドック）",9223]
["ソルコム（ドック）胃カメラ",9433]
["ソルコム（ドック）胃なし",9452]
["ﾀﾞｲﾔﾓﾝﾄﾞﾄﾞｯｸ(胃ｶﾒﾗ)",10042]
["ダイヤモンドドック(胃なし)08",10047]
["ダイヤモンドドック08",9705]
["ツベルクリン接種",9287]
["ドック（関東ＩＴｿﾌﾄｳｪｱ健保）",9479]
["ナチュラルコープ出張成人",9158]
["ナチュラルコープ出張成人胃なし",9159]
["ﾆﾁﾚｲ･ｱｲｽﾄﾞｯｸ",10272]
["ﾆﾁﾚｲ･ｱｲｽﾄﾞｯｸ(ｶﾒﾗ)",10328]
["パルシステム定期",9176]
["ﾋﾄHb便潜血2回",9243]
["ﾍﾞﾈﾌｨｯﾄﾜﾝ生活習慣病B(胃ﾅｼ便ｱﾘ)",10331]
["ﾍﾞﾈﾌｨｯﾄﾜﾝ生活習慣病C(胃ｱﾘ便ｱﾘ)",10332]
["ﾗﾍﾞﾙｼﾞｬﾊﾟﾝ若年健診",10033]
["ﾚﾃﾞｨｰｽドック(ﾏﾝﾓ)",9668]
["ﾚﾃﾞｨｰｽドック(ﾏﾝﾓ)胃ｶﾒﾗ",10059]
["ﾚﾃﾞｨｰｽドック(ﾏﾝﾓ)胃なし",10004]
["ﾚﾃﾞｨｰｽドック(乳腺ｴｺｰ)",9667]
["ﾚﾃﾞｨｰｽドック(乳腺ｴｺｰ)胃ｶﾒﾗ",9693]
["ﾚﾃﾞｨｰｽドック(乳腺ｴｺｰ)胃なし",9921]
["愛隣保育園Ｂ型肝炎",510]
["愛隣保育園コース",509]
["胃XP(直･7枚)",9308]
["胃カメラ",9272]
["胃部X線間接",616]
["胃部X線直接7枚",9549]
["胃部X線直接8枚",9208]
["医療適正診断",447]
["一之江A",10015]
["一之江定期",9758]
["一般健診A1(ｲｰｳｪﾙ）",9929]
["一般健診A2(ｲｰｳｪﾙ）",9931]
["一般健診B1(ｲｰｳｪﾙ）",9989]
["鉛健診",9062]
["横浜エレベータ（Ａ健診）",608]
["横浜エレベータ（Ｂ健診）",611]
["横浜エレベータ（Ｃ健診）",612]
["横浜ｺﾞﾑ一時帰国35歳以上",10308]
["横浜ｺﾞﾑ一時帰国35歳未満",10307]
["横浜ｺﾞﾑ海外帰国35歳以上",10306]
["横浜ｺﾞﾑ海外帰国35歳未満",10305]
["横浜ｺﾞﾑ海外赴任35歳以上",10304]
["横浜ｺﾞﾑ海外赴任35歳未満",10303]
["化研ﾏﾃﾘｱﾙ(若年)",10101]
["化研ﾏﾃﾘｱﾙ(成人)",10102]
["学生健診",239]
["学生健診（出張）",9242]
["学生健診（未来大学）",9476]
["学生健診ﾊﾞﾝﾄﾞﾓﾓ用",9436]
["葛西Bコース",9875]
["葛西省略健診",9683]
["葛西生活習慣病",571]
["葛西定期Ｄ",446]
["葛西特定健診",9808]
["簡易ＶＤＴ",595]
["簡易健診",9749]
["関西文紙健保(生活習慣病)",10000]
["関西文紙健保(生活習慣病)50才以上",10001]
["関西文紙健保(生活習慣病)胃ｶﾒﾗ",10138]
["関西文紙健保(生活習慣病)胃ｶﾒﾗ50才以上",10190]
["関西文紙健保(生活習慣病)胃なし",10056]
["関西文紙健保(生活習慣病)胃なし50才以上",10005]
["基本健診Ａ(LSIﾒﾃﾞｨｴﾝｽ）",9744]
["基本健診なし",10227]
["帰国時Ｂコース",9157]
["協栄流通",9133]
["協会一般",9615]
["協会一般(胃ｶﾒﾗ)",9618]
["協会一般(胃ｶﾒﾗ)胸なし",9114]
["協会一般(胃なし)",9653]
["協会一般(胃間接)",9913]
["協会一般(胸･胃なし)",9670]
["協会一般(胸なし)",9669]
["協会一般(胸間･胃なし)",9900]
["協会一般＋付加",9617]
["協会一般＋付加(胃ｶﾒﾗ)",9655]
["協会一般＋付加(胃ｶﾒﾗ)胸なし",9598]
["協会一般＋付加(胃なし)",9666]
["協会一般＋付加(胸･胃なし)",9714]
["協会一般＋付加(胸なし)",9541]
["協会子宮癌(ｺｰｽ)",9659]
["協会自費(他院)",10135]
["胸部X線(直接)読影なし",9752]
["胸部X線直接",9112]
["刑務生活習慣病A(胸･胃･便ﾅｼ)",10333]
["刑務生活習慣病B(胸ｱﾘ･胃ﾅｼ･便ﾅｼ)",10334]
["刑務生活習慣病C(胸･胃･便ｱﾘ)",10335]
["芸能人ﾄﾞｯｸ(被扶養者・都外)",9768]
["芸能人ﾄﾞｯｸ(被扶養者・都内)",9769]
["芸能人ﾄﾞｯｸ(被保険者・都外)",9767]
["芸能人ﾄﾞｯｸ(被保険者・都内)",9761]
["芸能人ﾄﾞｯｸ胃ｶﾒﾗ(被保険者・都内)",10074]
["血液型",9295]
["健愛ドック一般",9977]
["健愛一般",10100]
["健愛大塚ドック",10014]
["健愛定期A",9979]
["健愛定期B",9955]
["原子力安全基盤機構(34才以下)",9818]
["広島ガスコース",9068]
["江戸川建設業",10336]
["江東A",10098]
["江東Dコース",9876]
["江東Ｅコース",560]
["江東のびのび",9748]
["港 区 採用前健康診断",10230]
["港区成人(64歳以下)",231]
["港区成人(64歳以下)肺癌付",9105]
["港区成人(65歳以上)",9166]
["港区成人(65歳以上)肺癌付",9167]
["港区成人(基本なし)",9784]
["港区成人(訪問64歳以下)",9970]
["港区成人(訪問65歳以上)",9971]
["港成人健診(自費)",10339]
["甲状腺検査",10195]
["高気圧健診",9446]
["骨密度検査",9412]
["埼玉県建設組合",10060]
["埼玉土建Ａ(08国保未加入)",9676]
["埼玉土建Ａ(08補助対象外）",9882]
["埼玉土建Ａ2014",10263]
["埼玉土建Ａ2014補助対象外",10265]
["埼玉土建Ｂ(08国保未加入)",9691]
["埼玉土建Ｂ(08補助対象外)",9881]
["埼玉土建Ｂ2014",10264]
["埼玉土建Ｂ2014補助対象外",10266]
["埼玉土建Ｃ(08)",9690]
["埼玉土建人間ﾄﾞｯｸ",9672]
["埼玉土建人間ﾄﾞｯｸ(ｶﾒﾗ）",9872]
["埼玉土建人間ﾄﾞｯｸ(胃なし)",10116]
["埼玉土建人間ﾄﾞｯｸ(国保対象外)",9776]
["埼玉土建人間ﾄﾞｯｸ(女性ﾏﾝﾓ）",9673]
["埼玉土建人間ﾄﾞｯｸ(女性ﾏﾝﾓ･ｶﾒﾗ)",10312]
["埼玉土建人間ﾄﾞｯｸ(女性乳腺エコー）",9674]
["埼玉土建人間ﾄﾞｯｸ胃なし(国保対象外)",10175]
["子宮細胞診",9972]
["自費(協会一般＋付加)胃ｶﾒﾗ",9915]
["自費(協会一般＋付加)胃なし",9713]
["自費（日生協ドック）",385]
["自費（日生協ドック）胃ｶﾒﾗ",10234]
["自費（日生協ドック）胃なし",9983]
["自費協会一般(胃なし)",9697]
["自費日生協生活習慣病(胃なし)",9399]
["自費日生協生活習慣病(胃直接)",9461]
["芝消防署健診",397]
["若年健診(ふれあい早稲田)",9726]
["若年健診(尿4,ｵｰｼﾞｵ)",9409]
["若年省略健診(胸間)",9743]
["若年省略健診(胸直)",9924]
["秋季病体生理",9567]
["出張コスモ交通定期Ｂ",563]
["春季病体生理",9044]
["女性検診",10128]
["女性検診補助対象外",10129]
["除染等電離放射線",10169]
["小型船舶操縦士健康診断",597]
["小原工業出張定期Ｄ",9041]
["新小岩一般Aコース",440]
["新小岩一般Bコース",441]
["新小岩成人Aコース",442]
["新小岩成人Bコース",443]
["新小岩被爆",565]
["深夜業務従事者健診",9883]
["神奈川県機器ﾄﾞｯｸ",10143]
["神奈川県機器ﾄﾞｯｸ(胃なし)",10295]
["神奈川県機器ﾄﾞｯｸﾏﾝﾓ",10145]
["神奈川県機器ﾄﾞｯｸﾏﾝﾓ,胃ｶﾒﾗ",10147]
["神奈川県機器ﾄﾞｯｸ胃ｶﾒﾗ",10144]
["神奈川県機器ﾄﾞｯｸ乳ｴｺｰ",10146]
["神奈川県機器ﾄﾞｯｸ乳ｴｺｰ,胃ｶﾒﾗ",10148]
["神奈川土建(08)",9627]
["神奈川土建未加入(08)",9861]
["人間ﾄﾞｯｸ(LSIﾒﾃﾞｨｴﾝｽ)",9814]
["人間ﾄﾞｯｸ(LSIﾒﾃﾞｨｴﾝｽ)胃ｶﾒﾗ",9996]
["人間ﾄﾞｯｸ(LSIﾒﾃﾞｨｴﾝｽ)胃なし",9993]
["人間ドック（ｲｰｳｪﾙ）",9812]
["人間ドック（ｲｰｳｪﾙ）胃ｶﾒﾗ",10198]
["人間ドック(日本健康文化振興会)",9836]
["人間ドック(日本健康文化振興会)胃ｶﾒﾗ",9839]
["人間ドック(日本健康文化振興会)胃なし",10181]
["人間ﾄﾞｯｸA(ﾊﾋﾟﾙｽ)",10362]
["人間ドックＡ（胃カメラ）08",9720]
["人間ドックＡ（胃なし）08",9679]
["人間ドックＡ08",9643]
["人間ドックB(08)",9651]
["人間ﾄﾞｯｸB(ﾊﾋﾟﾙｽ)",10363]
["人間ドックB(胃ｶﾒﾗ)08",9156]
["人間ドックB(胃なし)08",9204]
["人間ﾄﾞｯｸD1 胃ｶﾒﾗ(東振協)",10287]
["人間ﾄﾞｯｸD1 胃なし(東振協)",10288]
["人間ﾄﾞｯｸD1(東振協)",10286]
["人間ドックS（胃ｶﾒﾗ)08",9642]
["人間ドックＳ（胃なし）08",9886]
["人間ドックＳ08",9641]
["人間ﾄﾞｯｸV(女:ﾏﾝﾓ)",9891]
["人間ﾄﾞｯｸV(女:ﾏﾝﾓ:胃ｶﾒﾗ)",9892]
["人間ﾄﾞｯｸV(女:ﾏﾝﾓ胃なし)",10136]
["人間ﾄﾞｯｸv(女:乳腺ｴｺｰ)",9729]
["人間ﾄﾞｯｸv(女:乳腺ｴｺｰ:胃ｶﾒﾗ)",10080]
["人間ﾄﾞｯｸV(男)",9661]
["人間ﾄﾞｯｸV(男:胃ｶﾒﾗ)",9687]
["人間ﾄﾞｯｸV(男:胃なし)",9896]
["人間ﾄﾞｯｸ土建(08)",9650]
["人間ﾄﾞｯｸ土建(胃ｶﾒﾗ)08",9809]
["人間ﾄﾞｯｸ土建(国保対象外)08",9688]
["人間ﾄﾞｯｸ土建(国保対象外:胃ｶﾒﾗ)08",9671]
["人間ﾄﾞｯｸ土建(国保対象外:胃ｶﾒﾗ)08",9692]
["人間ﾄﾞｯｸ土建(国保対象外:胃なし)08",9800]
["人間ドック土建すみだ",9582]
["杉並建設労働組合(中建国保)",9572]
["杉並建設労働組合(東建国保)",9988]
["成人Ｆ(08)",9605]
["成人Ｆ(胃・胸なし)08",9750]
["成人Ｆ(胃ｶﾒﾗ08)",9612]
["成人Ｆ(胃なし08)",9611]
["成人Ｇ(08)",9607]
["成人Ｇ(胃・便なし）",9840]
["成人Ｇ(胃ｶﾒﾗ08)",9614]
["成人Ｇ(胃なし08)",9613]
["成人Ｇ（胃直接）",9358]
["成人健診（プロギア）",9061]
["成人健診（プロギア）胃なし",9403]
["成人健診（プロギア）便なし",9407]
["成人病（ｿﾙｺﾑ）胃ｶﾒﾗ",10249]
["成人病（ｿﾙｺﾑ）胃なし",10245]
["成人病（ｿﾙｺﾑ）胃直接",10244]
["正則高校学生（尿）",399]
["正則高校職員定期",9173]
["生活習慣病(胃ｶﾒﾗ)",9610]
["生活習慣病(胃なし)",9609]
["生活習慣病(胃直接)",9616]
["生活習慣病A1(東振協）",10289]
["生活習慣病A2(東振協）",10290]
["生活習慣病B ｶﾒﾗ(東振協)",10284]
["生活習慣病B 胃なし(東振協)",10285]
["生活習慣病B(東振協)",10283]
["生活習慣病健診(ｴｱ・ｳｫｰﾀｰ）胃なし",10199]
["生活習慣病健診(ｴｱ・ｳｫｰﾀｰ健保）",10168]
["生活習慣病健診(ｴｱ・ｳｫｰﾀｰ健保）ｶﾒﾗ",10300]
["生活習慣病健診(ｴｱ・ｳｫｰﾀｰ炭酸）",9838]
["生活習慣病健診(ｴｱ・ｳｫｰﾀｰ炭酸)ﾍﾟﾌﾟｼ",10210]
["生活習慣病健診(ｴｱｳｫｰﾀｰ炭酸)胃ｶﾒﾗ",10029]
["生活習慣病健診(ｴｱｳｫｰﾀｰ炭酸)胃なし",9895]
["生活習慣病健診（関東ＩＴソフト健保",9312]
["生活習慣病健診(東京美容国保)",9889]
["生活習慣病健診(日本健康文化振興会)",9832]
["生活習慣病健診1ｺｰｽ　ｶﾒﾗ(ｲｰｳｪﾙ)",9937]
["生活習慣病健診1ｺｰｽ(ｲｰｳｪﾙ)",9936]
["生活習慣病健診A(ﾊﾋﾟﾙｽ)",10359]
["生活習慣病健診B(ﾊﾋﾟﾙｽ)",10360]
["生活習慣病健診C(ﾊﾋﾟﾙｽ)",10361]
["生活習慣病予防健診(胃なし)ﾄｯﾊﾟﾝｸﾞﾙｰﾌﾟ健保",10237]
["生活習慣病予防健診(胃なし)都職員共済組合",10240]
["青果ﾄﾞｯｸ",10156]
["青果ﾄﾞｯｸ(胃ｶﾒﾗ）",10253]
["青果ﾄﾞｯｸ(胃なし）",10166]
["青果ﾄﾞｯｸ(家族）",10159]
["青果ﾄﾞｯｸ(家族)胃なし",10167]
["青果ﾄﾞｯｸ(補助対象外）",10158]
["青果大腸ｶﾞﾝ2日法（未加入）",9220]
["青果大腸ｶﾞﾝ2日法検査",9219]
["青年海外協力隊(2011年春)",9923]
["青年海外協力隊(2013年春)",10133]
["青年海外協力隊(2015年秋)",10350]
["石綿健診",9283]
["石綿健診（二次）",9447]
["千葉土建",384]
["千葉土建(千葉支部)",9531]
["千葉土建(補助対象外)",9868]
["千葉土建08",9224]
["千葉土建市川支部",9570]
["千葉土建成人Ｂ",9236]
["扇橋Aコース",583]
["扇橋Bコース",9050]
["扇橋Cコース",9948]
["扇橋旧コース",9746]
["扇橋若年",10222]
["洗心保育園定期冬季",9232]
["全国建設工事業国保健診",9942]
["全国硝子業健保･簡易生活習慣病",9859]
["全国硝子業健保･人間ﾄﾞｯｸ",9853]
["全国硝子業健保･人間ﾄﾞｯｸ胃なし",9878]
["全国硝子業健保･生活習慣病",9857]
["全国硝子業健保･生活習慣病胃なし",9999]
["全国硝子業健保･生活習慣病女性",9858]
["全国硝子業健保･生活習慣病女性胃ｶﾒﾗ",10242]
["全国硝子業健保･生活習慣病女性胃なし",10006]
["他院・土建統一",9699]
["他院・土建統一(自費",9700]
["他院・土建統一(詳細眼底)",9587]
["他院・土建統一40歳以上",10330]
["他院・薬業ドック",10194]
["大阪菓子健保(簡易生活習慣病)",10061]
["大阪菓子健保(生活習慣病)",9953]
["大阪菓子健保(生活習慣病)胃なし",10142]
["大阪菓子健保(婦人健診)乳腺ｴｺｰ",9864]
["大阪産業機械(25歳時健診)",10087]
["大阪産業機械(人間ﾄﾞｯｸ)",9716]
["大阪産業機械(生活習慣病)",9715]
["大阪産業機械(生活習慣病)胃なし",9717]
["大阪鉄商一般健診(B）",10182]
["大阪鉄商一般健診(C）",10184]
["大阪鉄商一般健診(D）",10183]
["大阪鉄商生活習慣病健診",9681]
["大阪鉄商生活習慣病健診(年令対象外）",9682]
["大阪府貨物運送健保(生活習慣病)",10112]
["大阪府電設工業健保生活習慣病",10120]
["大東学園高校・若年",9056]
["大東学園高校・成人",9055]
["大同信号基本@",10337]
["大同信号基本A",10338]
["単独検査",10162]
["団地診療所定期",9324]
["築地青果",9072]
["中央ﾗｼﾞｵ･ﾃﾚﾋﾞﾄﾞｯｸ女",10276]
["中央ﾗｼﾞｵ･ﾃﾚﾋﾞﾄﾞｯｸ女(ｶﾒﾗ)",10316]
["中央ﾗｼﾞｵ･ﾃﾚﾋﾞﾄﾞｯｸ男",10273]
["中央ﾗｼﾞｵ･ﾃﾚﾋﾞﾄﾞｯｸ男(ｶﾒﾗ)",10274]
["中央労金基本健診A",209]
["中央労金基本健診B",208]
["中央労金生活習慣病A",574]
["中央労金生活習慣病A胃ｶﾒﾗ",572]
["中央労金生活習慣病A胃なし",602]
["中央労金生活習慣病B",9721]
["中央労金生活習慣病BPSA付",9723]
["中央労金生活習慣病B胃ｶﾒﾗ",9722]
["中央労金生活習慣病B胃なし",10045]
["中央労金生活習慣病B胃なしPSA付",9946]
["中央労金役員健診",10326]
["中央労金役員健診胃ｶﾒﾗ",10327]
["中建基本+胸XP",10034]
["聴力オージオ",9914]
["定期（ソルコム）",9197]
["定期Ａ(08)",9600]
["定期A(08)胸なし",9237]
["定期Ａ(08胸間)",9686]
["定期Ｂ(08)",9601]
["定期Ｂ(08)胸なし",9754]
["定期Ｂ(08胸間)",9685]
["定期Ｂ胸部間接",593]
["定期Ｃ",9662]
["定期Ｃ(聴力ｵｰｼﾞｵ)",10296]
["定期健康診断(35歳未満)",9560]
["定期健診（30歳）",9359]
["定期健診（34歳以下）",9361]
["定期健診（35才以上胃(間接)Ｘ線）",9363]
["定期健診（35才以上胃なし）",9362]
["定期健診(ｶﾚｯｼﾞ)",9201]
["定期健診(ｶﾚｯｼﾞ)胸部直接",10270]
["定期健診(ふれあい早稲田)",9725]
["定期健診(胸間)成人",9259]
["定期健診（住宅公社34歳以下）",9960]
["定期健診（住宅公社35歳以上）",9958]
["定期健診（住宅公社40歳以上）",9959]
["定期健診（全日本民医連）",9252]
["定期健診（東京リスマチック）",9255]
["定期健診（病体）",9238]
["定期健診（民商）",9239]
["定期健診Ｄａ",9305]
["定健A(日本健康文化振興会)",9835]
["鉄鋼建設業協同Ｄ出張",9042]
["電離放射線",176]
["電離放射線08",9660]
["渡航前Ａコース",9047]
["渡航前Ａコース（胃）",9049]
["土建節目(すみだ)",9786]
["土建節目(すみだ)胃ｶﾒﾗ",10347]
["土建節目(すみだ・自費)",9815]
["土建節目(葛西)",439]
["土建節目(葛西)胃ｶﾒﾗ",10344]
["土建節目(葛西・自費)",9279]
["土建節目(蒲原)胃ｶﾒﾗ",9804]
["土建節目(江東)",9270]
["土建節目(江東・自費)",9711]
["土建節目(四ツ木)",9775]
["土建節目(四ツ木)胃ｶﾒﾗ",10346]
["土建節目(扇橋)",9309]
["土建節目(扇橋・自費)",9709]
["土建節目(柳原)",9966]
["土建節目(柳原)胃ｶﾒﾗ",10345]
["土建節目(柳原・自費)",9956]
["土建統一(詳細眼底)",10046]
["土建統一(組合員)",9620]
["土建統一(組合員)個人",9731]
["土建統一(補助対象外)",9625]
["土建統一(補助対象外)個人",9734]
["土建統一40歳以上",10329]
["土建統一40歳以上個人",10321]
["東京機器人間ドック(08)",9634]
["東京機器人間ドック(ｶﾒﾗ)08",9635]
["東京機器人間ドック(胃なし)08",9636]
["東京機器生活習慣病(08）",9630]
["東京機器生活習慣病(08)胃ｶﾒﾗ",10185]
["東京機器生活習慣病(胃なし)08",9632]
["東京機器生活習慣病(胸・胃なし)08",9949]
["東京機器生活習慣病(胸なし)08",9633]
["東京機器定期女性08",9638]
["東京機器定期男性08",9637]
["東京建設業(補助対象外)",9978]
["東京都医業健保(基本+追加)",9939]
["東京都建設組合(その他)",9847]
["東京都建設組合(中建国保)",9845]
["東京都建設組合(東建国保)",9816]
["東建従組合基本(女)",10215]
["東建従組合基本(女)補助対象外",10239]
["東建従組合基本(男)",10214]
["東建従組合基本(男)補助対象外",10238]
["東芝ITｻｰﾋﾞｽ34歳以下",9602]
["東芝ITｻｰﾋﾞｽ35歳",9599]
["東芝ITｻｰﾋﾞｽ36～39歳",9604]
["東芝ITｻｰﾋﾞｽ40歳以上",9606]
["東都協議会(基本なし)",10055]
["頭部ＣＴ検査",9207]
["特定業務健診",9707]
["特定業務健診(35才・40才以上）",9708]
["特定業務健診(35才未満・36才～39才）",10196]
["特定業務健診ｲｰｶﾞｰﾃﾞｨｱﾝ(35才･40才以上)",10197]
["特定業務従事者健診(協議会)",9884]
["特定健診",9765]
["特定健診(LSIﾒﾃﾞｨｴﾝｽ）",10247]
["特定健診(ﾊﾋﾟﾙｽ)",10356]
["特定健診(協会家族)",9976]
["特定健診(窓口負担有)",9990]
["特定健診（中建国保）",9755]
["特定健診（東京美容国保）",9985]
["特定健診+任意詳細",9794]
["内臓脂肪面積",9852]
["南部建設技能組合",9677]
["日生協人間ドック",201]
["日生協人間ドック（カメラ）",9142]
["日生協人間ドック（胃・胸なし）",9462]
["日生協人間ドック（胃なし）",9183]
["日生協生活習慣病（被扶養者）",9728]
["日生協生活習慣病（被扶養者）胃ｶﾒﾗ",9730]
["日生協生活習慣病(補助対象外）胃ｶﾒﾗ",9829]
["日生協生活習慣病健診(カメラ)",9143]
["日生協生活習慣病健診(胃・胸なし)",9558]
["日生協生活習慣病健診(胃なし)",9181]
["日生協生活習慣病健診(胃間接)",9352]
["日生協生活習慣病健診(胃直接)",200]
["日野交通(省略)",9530]
["日野交通(定期)",9742]
["乳+ﾏﾝﾓ1(補助対象外）",10068]
["乳癌(ﾏﾝﾓ1方向+触診)",557]
["乳癌(ﾏﾝﾓ1方向+触診)未加入",9797]
["乳房触診",10083]
["乳房触診+ﾏﾝﾓ1方向",9969]
["乳房触診+ﾏﾝﾓ1方向+子宮細胞診",9964]
["乳房触診+ﾏﾝﾓ2方向",9435]
["乳房触診+乳腺ｴｺｰ",9170]
["入社(住宅供給公社)",9954]
["入社健診(08)",9603]
["肺がんドック",206]
["配偶者健診(富士通健保)",9778]
["配偶者健診(富士通健保)ｶﾒﾗ",10079]
["配偶者健診(富士通健保定期)",10187]
["被爆健診（胸なし）",9577]
["被爆健診（胸部２方向）08",9648]
["被爆健診08",9649]
["被爆子宮癌",9885]
["被爆乳がん（マンモ）",9371]
["被爆肺がん",9389]
["浜松ﾎﾄﾆｸｽ(24以下)",10007]
["浜松ﾎﾄﾆｸｽ(25才～34才)",9293]
["浜松ﾎﾄﾆｸｽ(29才以下)",9292]
["浜松ﾎﾄﾆｸｽ(35才以上)胃ｶﾒﾗ",10141]
["浜松ﾎﾄﾆｸｽ(35才以上)胃なし",9294]
["富士ゼロックス34以下",10340]
["富士ゼロックス35以上",10341]
["便培養",9320]
["法定健診A(ﾊﾋﾟﾙｽ)",10357]
["法定健診B(ｲｰｳｪﾙ)",10349]
["法定健診B(ﾊﾋﾟﾙｽ)",10358]
["法定健診C(ｲｰｳｪﾙ)",10315]
["法令健診",9580]
["法令健診(胸間)",9675]
["法令健診(血糖)",9928]
["法令健診(血糖)胸間",9919]
["法令健診(血糖)心電図なし",9984]
["法令健診(心電図なし)",9827]
["法令省略(京セラ)胸間",10024]
["法令省略(京セラ)胸直",10027]
["北海道CPU関連産業健保(成人病)",9080]
["麻疹(HI)",9571]
["麻疹(IｇM)",9934]
["麻薬健診",9155]
["薬業成人",10192]
["薬業成人(胃ｶﾒﾗ）",10193]
["薬業定期",10191]
["有機溶剤(2.5－ﾍｷｻﾝｼﾞｵﾝ)",9593]
["有機溶剤（総三塩化物）",9982]
["有機溶剤(代謝物なし)",9894]
["有機溶剤(馬尿酸,2.5-ﾍｷｻﾝｼﾞｵﾝ)",9925]
["有機溶剤健診(マンデル酸)",10232]
["有機溶剤健診（メチル馬尿酸）",313]
["有機溶剤健診(土建ﾒﾁﾙ馬尿酸）",9310]
["有機溶剤健診（馬尿酸）",604]
["有機溶剤健診（馬尿酸）土建",9124]
["予防医学・生活習慣病A",10271]
["予防医学・生活習慣病A(胃ｶﾒﾗ)",10172]
["予防医学・生活習慣病C",10291]
["喀痰検査",9590]
["頸肩腕障害健診",233]

{"sheet":"PD","index":3,"n_rows":0,"n_cols":0,"rows_kept":0,"hidden":true}

{"sheet":"CD","index":4,"n_rows":0,"n_cols":0,"rows_kept":0,"hidden":true}